{"text_format":"2","workbook":"xlsx","n_sheets":4,"sheets":["treatment","classification","notinexperiment","ABTestDate"],"not_rendered":{"charts":0,"images":0,"macros":0,"external_links":0,"defined_names":0,"comments":2,"pivot_tables":0},"unopened":[],"bounds":{"document_bytes":16777216,"sheet_cells":100000,"run_cost":"one","rows_first":2000,"rows_last":500,"rows_between":2000,"halvings":0,"cell_chars":16384,"cell_head_chars":4096},"cells_cut":0,"cells_raw":0,"read":"whole","date_system":"1900"}

{"sheet":"treatment","index":0,"n_rows":625,"n_cols":14,"rows_kept":625,"cut":false,"hidden":false,"merged":[]}
["Job-ID","Treated Version - Job Description","Baseline / Control Version - Job Description","Parameters to add to treated URL","Parameters to add to control URL","Lisa Notes ","Job Title","ABTestDate","ExpiredDate","RemovedDate","RecruiterEditDate","DuplicateLongReqidDate","DateTrackersUpdated","Notes"]
["https://www.uber.com/careers/list/45570/","What You’ll Need\n \n• Must have a BS/BA with at least 3+ years of relevant experience\n• Experience with project management and asset management tools (e.g., JIRA, Confluence, Box, Google Drive, etc.)\n• Self-directed and takes initiative in addressing problems big and small\n• Team player with experience working cross-collaboratively with multiple stakeholders\n• Written, verbal, and visual communication skills\n• Organizational, time management, and prioritization skills\n• Experience with learning management systems (LMS) or similar systems","What You’ll Need\n \n• Must have a BS/BA with at least 3+ years of relevant experience\n• Proficiency with project management and asset management tools (e.g., JIRA, Confluence, Box, Google Drive, etc.)\n• Self-directed and takes initiative in tackling problems big and small\n• Excellent team player with experience working cross-collaboratively with multiple stakeholders\n• Clear and effective written, verbal, and visual communication skills\n• Superior organizational, time management, and prioritization skills\n• Experience in education, learning & development, training, instructional design desired\n• Experience with learning management systems (LMS) or similar systems\n \nBonus points if\n \n• Experience working in a content or information architecture team\n• Experience with elearning content authoring tools (e.g., Captivate, Articulate, etc.)\n• Experience working in a customer service environment (business process outsourcing, call centers, etc.)\n• Experience on global teams\n","?iisp=he-6594079","?iisp=he-6584079",null,"Learning Content Management Specialist","2018-12-10T08:23:00","2019-01-23T06:05:00",null,null,null,"2018-12-14T06:46:00"]
["https://www.uber.com/careers/list/45520/","What You’ll Need\n• 2+ years of AWS experience (EC2, S3, IAM, Lambda, GuardDuty, SageMaker, EFS, Config, CloudFront, RDS, DynamoDB, Auto Scaling, ALB/ELB, etc.)\n• 3+ years of Python, bash, Go or Ruby scripting experience\n• Experience with Microsoft Azure\n• Understanding of networking fundamentals (VLANs, firewalls, OSI model)\n• Understanding of security fundamentals, including the principle of least privilege\n• 2+ years of Terraform, CloudFormation, Salt, Puppet and/or Ansible experience\n","What You’ll Need\n• 2+ years of advanced AWS experience (EC2, S3, IAM, Lambda, GuardDuty, SageMaker, EFS, Config, CloudFront, RDS, DynamoDB, Auto Scaling, ALB/ELB, etc.)\n• 3+ years of Python, bash, Go or Ruby scripting experience\n• Experience with Microsoft Azure\n• Good understanding of networking fundamentals (VLANs, firewalls, OSI model)\n• Good understanding of security fundamentals, including the principle of least privilege\n• 2+ years of Terraform, CloudFormation, Salt, Puppet and/or Ansible experience\n• Nice to have:\no 1+ years of experience with Cisco UCS C-series and/or B-series blades\no Experience with GCP\no Cloud Management Platform (CMP) experience (RightScale, Scalr, VMware, Cisco)\n","?iisp=he-6594079","?iisp=he-6584079",null,"Sr Cloud Engineer","2018-12-10T08:23:00","2019-01-08T07:15:00",null,null,null,"2018-12-14T06:46:00"]
["https://www.uber.com/careers/list/44019/","What You’ll Need\n• A minimum of 7 years of finance, business operations, and/or strategy consulting experience\n• Knowledge of the P&L and top/bottom line drivers\n• Knowledge in Excel and experience with modeling and analytics\n• Experience in data visualization and building scalable reporting tools\n• Structured thinking, with experience framing and solving problems\n• Interpersonal experience with PowerPoint presentation experience\n• Experience building relationships across all levels of an organization and presenting to anyone from executive leadership to project teams\n• Experience leading cross-functional teams and managing projects\n ","What You’ll Need\n• A minimum of 7 years of finance, business operations, and/or strategy consulting experience\n• Knowledge of the P&L and top/bottom line drivers\n• Knowledge in Excel and experience with modeling and analytics\n• Experience in data visualization and building scalable reporting tools\n• Structured thinking, with experience framing and solving problems\n• Interpersonal experience with PowerPoint presentation experience\n• Experience building relationships across all levels of an organization and presenting to anyone from executive leadership to project teams\n• Experience leading cross-functional teams and managing projects\n \nBonus Points if you have\n• MBA\n• Accounting qualifications\n• SQL proficiency\n• Experience with Hive & Presto is a plus.\n• Consulting or Accounting experience\n• Experience with startup / high-growth operations\n","?iisp=he-6594079","?iisp=he-6584079",null,"Marketing FP&A Manager","2018-12-10T08:23:00","2019-03-07T13:45:00",null,null,null,"2018-12-14T06:46:00"]
["https://www.uber.com/careers/list/45455/","What You’ll Need\n• 3+ years of operations and/or project management experience\n• Experience working remotely with distributed teams\n• Experience working with and holding vendor teams accountable for delivery\n• Experience building teams, especially teams that combine both full-time and vendor labor\n• Planning, analytic, and budgeting skills\n• Must be able to execute in highly stressful and ambiguous situations\n• Creative, solutions-driven mindset, with a get stuff done attitude\n• Organizational agility, meaning that the right candidate can navigate the Uber organization and find the right contacts with customers and other key teams\n• Must be a good communicator, both written and spoken, and must be capable of speaking in front of the team, customers, and large groups","What You’ll Need\n• 3+ years of operations and/or project management experience\n• Demonstrated experience working remotely with distributed teams\n• Experience working with and holding vendor teams accountable for delivery\n• Experience building teams, especially teams that combine both full-time and vendor labor\n• Strong planning, analytic, and budgeting skills\n• Must excel in executing in highly stressful and ambiguous situations\n• Creative, solutions-driven mindset, with a get shit done attitude\n• Excellent organizational agility, meaning that the right candidate can navigate the Uber organization and find the right contacts with customers and other key teams\n• Must be an excellent communicator, both written and spoken, and must be capable of/comfortable with speaking in front of the team, customers, and large groups\n\nBonus Points If\n• Background in GIS, spatial analysis, SQL\n• Background in Android and/or iOS app development\n• Experience working as a business consultant\n• Multi-lingual - especially European or LatAm languages\n","?iisp=he-6594079","?iisp=he-6584079",null,"Field Operations Regional Lead - US West","2018-12-10T08:23:00","2019-01-24T07:10:00",null,null,null,"2018-12-14T06:46:00"]
["https://www.uber.com/careers/list/45447/","What You’ll Need\n \nMinimum Qualifications:\n• 8+ years experience in operations consulting / strategy / stakeholder and project management or related experience\n• Organized, detail-oriented, strategic, and process driven\n• Interpersonal skills: ability to communicate, present, influence, and explain across multiple cross-functional stakeholders and management levels\n• Ability to define metrics for success and track KPIs towards those metrics\n• Verbal and written communication skills\n• Entrepreneurial: you’re a self-starter who enjoys owning things from start to completion. You make things happen and don’t need to ask for permission first.\n• Integrity, presence, and confidence. Ability to influence at all levels in the organization. Flexibility in a dynamic, ever changing environment. Competence in making timely, effective, principles-based decisions.","What You’ll Need\n \nMinimum Qualifications:\n• 8+ years experience in operations consulting / strategy / stakeholder and project management or related experience; some high-growth operations or startup experience is strongly preferred \n• Organized, detail-oriented, strategic, and process driven\n• Top caliber interpersonal skills: ability to communicate, present, influence, and explain across multiple cross-functional stakeholders and management levels\n• Ability to define metrics for success and track KPIs towards those metrics\n• Exceptional verbal and written communication skills\n• Entrepreneurial: you’re a self-starter who loves to own things from start to completion. You make things happen and don’t need to ask for permission first.\n• Complete integrity, presence, and confidence. Ability to influence at all levels in the organization. Flexibility in a dynamic, ever changing environment. Competence in making timely, effective, principles-based decisions.\n \nPreferred additional qualifications:\n• MBA and/or graduate degree\n• Effective program management skills, with demonstrated ability to lead complex strategic and operational initiatives\n• Strong business acumen with the ability to identify strategic needs, lead all aspects of planning with sound business recommendations, and generate alignment with key business partners\n• History of working across multiple business lines and functions - including operations, product, engineering, hardware, supply chain, marketing, finance, policy, legal, HR, recruiting, communications, and S&P\n• Previous experience as a Chief of Staff or COO within technology/high-growth company","?iisp=he-6594079","?iisp=he-6584079",null,"Chief of Staff, New Mobility","2018-12-10T08:23:00","2019-03-02T10:45:00",null,null,null,"2018-12-14T06:46:00"]
["https://www.uber.com/careers/list/45441/","What You’ll Need\n• Bachelor’s Degree in Business/Economics, Statistics, STEM (Science, Technology, Engineering, Mathematics) Degrees or similar fields\n• Minimum 2 years of investment banking / consulting / business intelligence / strategy or related experience\n• Be able to self-serve, investigate and get the data\n• Experience presenting data visually\n• Excel skills\n• Experience with SQL ","What You’ll Need\n• Bachelor’s Degree in Business/Economics, Statistics, STEM (Science, Technology, Engineering, Mathematics) Degrees or similar fields\n• Minimum 2 years of investment banking / consulting / business intelligence / strategy or related experience\n• Be able to self-serve, investigate and get the data\n• Experience presenting data visually\n• Advanced Excel skills\n• SQL proficiency\n\nBonus Points If\n• Experience in service-industry, customer support, manufacturing or distribution in a high-volume environment\n• Skill with programming languages such as Python and/or R\n• Knowledge of Hadoop related technologies such as HDFS, Hive, and Presto\n• Statistics and AB testing experience or knowledge\n","?iisp=he-6594079","?iisp=he-6584079",null,"Business Analyst - Chicago COE","2018-12-10T08:23:00","2019-01-29T06:50:00",null,null,null,"2018-12-14T06:46:00"]
["https://www.uber.com/careers/list/45193/","What You’ll Need\n• Hands-on management of functions across digital and offline media\n• BA/BS in Marketing, Economics, Applied Statistics or other Quantitative field required\n• Analytical skills with the ability to promptly establish priorities and communicate expectations.\n• Energy and motivational leadership driven by personal influence and example with direct staff, peers, and senior leaders across all company functions.\n• Ability to work closely and communicate effectively with US and international leadership in an ever-changing environment with tight deadlines.\n","What You’ll Need\n• Hands-on management of functions across digital and offline media\n• BA/BS in Marketing, Economics, Applied Statistics or other Quantitative field required; MA or MBA preferred.\n• Unparalleled analytical skills with the ability to promptly establish priorities and communicate expectations.\n• Quantitative Data Analysis, Deep Actionable Insights, Modeling, Algorithm Design and Advanced Test Plan Design and Analysis a plus.\n• High energy and motivational leadership driven by personal influence and example with direct staff, peers, and senior leaders across all company functions.\n• Ability to work closely and communicate effectively with US and international leadership in an ever-changing environment with tight deadlines.\n","?iisp=he-6594079","?iisp=he-6584079",null,"Global Head of Performance Marketing","2018-12-10T08:23:00","2019-04-22T11:51:00",null,null,null,"2018-12-14T06:46:00"]
["https://www.uber.com/careers/list/45142/","What You’ll Need\n• 5-7 years of operations management experience; 3+ of those years in consulting / strategy or related field\n• Team leadership skills with 2+ years of management experience\n• Operational mindset and experience with process optimization & execution \n• Entrepreneurial spirit, bias for action and ability to handle ambiguity\n• Able to balance short-term needs and long-term investments\n• Written and verbal communication skills as well as stakeholder management and project management\n• Excel / Tableau / data management skills \n• Bachelor’s degree ","What You’ll Need\n• 5-7 years of operations management experience; 3+ of those years in consulting / strategy or related field; some high-growth operations or startup experience is strongly preferred\n• Superior team leadership skills with 2+ years of management experience\n• Deeply operational mindset and proven track record in process optimization & execution - Past experience with business process outsourcing highly preferred\n• Entrepreneurial spirit, bias for action and comfort with ambiguity\n• Skilled at balancing between short-term needs and long-term investments\n• Excellent written and verbal communication skills as well as stakeholder management and project management\n• Exceptional Excel / Tableau / data management skills - SQL proficiency and/or ability to pick it up highly preferred\n• Bachelor’s degree (preferably in a quantitative field such as math, statistics, physics, engineering, economics, computer science, operational research); MBA degree highly desired, but not required\n","?iisp=he-6594079","?iisp=he-6584079",null,"Uber Eats Regional Operations Lead - Marketplace Operations US&CAN","2018-12-10T08:23:00",{"$nulls":4},"2018-12-14T06:46:00"]
["https://www.uber.com/careers/list/44940/","What You’ll Need\n• Bachelor's degree\n• Interest and willingness to learn in a challenging and continuously evolving environment\n• At least 2 years audit or controls experience with execution & documentation of IPO readiness reviews and implementation of internal controls.\n• Working technical knowledge of US GAAP, SEC reporting requirements, COSO, SOX requirements, including PCAOB Auditing Standards, IIA standards and audit processes and procedures.\n• Ability and willingness to travel (up to 25 percent).\n ","What You’ll Need\n• Bachelor's degree in Information Systems, Computer Science or Accounting preferred\n• Passionate and willingness to learn in a challenging and continuously evolving environment\n• At least 2 years audit or controls experience with execution & documentation of IPO readiness reviews and implementation of internal controls.\n• Working technical knowledge of US GAAP, SEC reporting requirements, COSO, SOX requirements, including PCAOB Auditing Standards, IIA standards and audit processes and procedures.\n• Ability and willingness to travel (up to 25 percent).\n \nBonus Points if\n• Have or pursuing certification in 1 or more of the following: CPA, CISA, CISSP, or CIA\n• Knowledge of SQL and Python/R\n• Public accounting and/or high growth company experience\n• Experience with Oracle ERP solutions and ability to review SOC reports\n• Multi-industry experience a plus, including technology, agile software development, service-oriented architecture / micro-services or insurance\n","?iisp=he-6594079","?iisp=he-6584079",null,"Internal Audit Analyst, Technology","2018-12-10T08:23:00","2019-01-29T06:50:00",null,null,null,"2018-12-14T06:46:00"]
["https://www.uber.com/careers/list/44756/","What you'll need\n \n• Bachelor’s degree in Accounting.\n• CPA/CA or equivalent.\n• 8+ years of relevant work experience and expertise in public accounting and/or a high tech organization managing large scale cash operations and accounting.  \n• Leadership skills, with the ability to manage and develop people, along with collaborative working style and ability to work with vendors and international teams. \n• Record of increased responsibilities and scope.\n• Knowledge of accounting policies/procedures and financial statements.\n• Organization skills with an ability to plan and perform multiple tasks.\n• Ability to independently resolve complex problems where analysis requires the in-depth evaluation of numerous factors.","What you'll need\n \n• Bachelor’s degree in Accounting.\n• CPA/CA or equivalent.\n• 8+ years of relevant work experience and expertise in public accounting and/or a high tech organization managing large scale cash operations and accounting.  \n• Excellent leadership skills, with the ability to manage and develop people, along with collaborative working style and ability to work with vendors and international teams. \n• Proven track record of increased responsibilities and scope.\n• Solid knowledge of accounting policies/procedures and financial statements.\n• Strong organization skills with an ability to plan and perform multiple tasks.\n• Ability to independently resolve complex problems where analysis requires the in-depth evaluation of numerous factors.\n• Experience with Oracle R12 or another large scale ERP is preferred.\n• International accounting experience is a plus.\n \nBonus points if you have\n \n• Partner Service Provider (PSP) reconciliation experience\n• International banking / FX knowledge\n","?iisp=he-6594079","?iisp=he-6584079",null,"Cash Accounting Manager","2018-12-10T08:23:00","2019-04-16T20:55:00",null,null,null,"2018-12-14T06:46:00"]
["https://www.uber.com/careers/list/42649/","What You’ll Need:\n• Architecture & Problem Solving skills. You should have experience constructing full-stack software systems and solutions, from data infrastructure through microservices.\n• Programming and algorithmic skills (we mainly use Java & Python)\n• Highly collaborative. Your team will interface with both core infrastructure teams and researchers, leveraging existing platforms at the company and extending or composing them to support Uber AI.\n","What You’ll Need:\n• Architecture & Problem Solving chops. You should have experience constructing full-stack software systems and solutions, from data infrastructure through microservices.\n• Strong programming and algorithmic skills (we mainly use Java & Python)\n• Highly collaborative. Your team will interface with both core infrastructure teams and researchers, leveraging existing platforms at the company and extending or composing them to support Uber AI.\n\nBonus points if:\n• Strong experience in HDFS, S3, Kafka, Storm, Samza, Spark, EMR, Java, Python, Javascript, mobile\n","?iisp=he-6594079","?iisp=he-6584079",null,"Technical Lead Manager - HEXML","2018-12-10T08:23:00","2019-03-07T13:45:00",null,null,null,"2018-12-14T06:46:00"]
["https://www.uber.com/careers/list/45004/","What You'll Need\n \n• Minimum of 4 years of professional experience\n• Experience managing cross-functional projects and stakeholders, powered by data-driven insight\n• Self-motivated with experience strategically problem solving and facilitating action\n• Written and verbal communication skills across diverse functions and teams\n• Experience with process optimization, program management, customer support strategy or quality assurance\n• Excel / data management skills\n• Able to handle ambiguity; the ability to structure ideas into actionable plans\n","What You'll Need\n \n• Minimum of 4 years of professional experience\n• Experience managing cross-functional projects and stakeholders, powered by data-driven insight\n• Self-motivated with a strong affinity for strategic problem solving and driving action\n• Persuasive written and verbal communication skills across diverse functions and teams\n• Experience with process optimization, program management, customer support strategy or quality assurance\n• Exceptional Excel / data management skills\n• Comfortable with ambiguity; the ability to structure ideas into actionable plans\n \nBonus Points if\n \n• Yellow/Green Belt Six Sigma (Green Belt strongly preferred)\n• PMP, SCRUM, Agile project management certification\n","?iisp=he-6594079","?iisp=he-6584079",null,"Program Manager - Global Safety Support","2018-12-10T08:23:00",{"$nulls":4},"2018-12-14T06:46:00"]
["https://www.uber.com/careers/list/44858/","What You’ll Need\n• 8+ years of experience in talent management, talent development, organizational development, professional development, adult learning, or other related field\n• Experience managing strategic L&D / talent-related initiatives with HR Partners and/or business leaders\n• Experience owning ROI and business outcomes for L&D initiatives\n• Experience establishing and owning budgets for L&D initiatives and/or teams\n• Experience building and managing teams\n• a graduate degree in adult learning, organizational development, organizational behavior, Industrial-organizational psychology, human resources, or additional equivalent experience","What You’ll Need\n• 8+ years of experience in talent management, talent development, organizational development, professional development, adult learning, or other related field\n• Experience managing strategic L&D / talent-related initiatives with HR Partners and/or business leaders\n• Experience owning ROI and business outcomes for L&D initiatives\n• Experience establishing and owning budgets for L&D initiatives and/or teams\n• Experience building and managing teams\n• a graduate degree in adult learning, organizational development, organizational behavior, Industrial-organizational psychology, human resources, or additional equivalent experience\n \nBonus Points\n• Are experienced with talent and organizational assessment tools, methods and frameworks\n• have designed large-scale talent development or talent management initiatives e.g. HiPo, leader development lifecycle, performance management, succession planning\n• have innovated and implemented learning initiatives for global businesses\n• have built and managed regional or global learning teams\n• are certified in psychometric assessments (specifically Hogan, DiSC, Insights, or SDI) or development programs (e.g. Situational Leadership)\n","?iisp=he-6594079","?iisp=he-6584079",null,"People Development Manager - US and Canada","2018-12-10T08:23:00","2019-01-04T07:40:00",null,null,null,"2018-12-14T06:46:00"]
["https://www.uber.com/careers/list/44959/","What You’ll Need\n \n• BA/BS in an area of specialty (ex. urban planning, geo-sciences, geography) or minimum 3 years of equivalent work experience\n• Experience analyzing, evaluating, ingesting public transit data (GTFS)\n• Experience developing and supporting efficient and reliable ETL pipelines to move large amounts of data\n• Ability to understand, and develop spatial and temporal data models\n• Experience developing conflation logic for different datasets.\n• Written and verbal communication skills and emotional intelligence. Ability to influence and motivate people across a broad variety of job functions through your relationships.\n• Experience with GIS software & tools: SSMS, FME, ArcGIS, QGIS, bash (other Shells)\n• Experience with SQL, SQL Spatial (data types, functions and methods, indexing) and other scripting languages (Python, JavaScript, etc)\n ","What You’ll Need\n \n• BA/BS in an area of specialty (ex. urban planning, geo-sciences, geography) or minimum 3 years of equivalent work experience\n• Experience analyzing, evaluating, ingesting public transit data (GTFS)\n• Experience developing and supporting efficient and reliable ETL pipelines to move large amounts of data\n• Ability to understand, and develop spatial and temporal data models\n• Experience developing conflation logic for different datasets.\n• Excellent written and verbal communication skills and exceptional emotional intelligence. Ability to influence and motivate people across a broad variety of job functions through your relationships.\n• Proficiency with GIS software & tools: SSMS, FME, ArcGIS, QGIS, bash (other Shells)\n• Proficiency with SQL (ideally T-SQL or pgSQL), SQL Spatial (data types, functions and methods, indexing) and other scripting languages (Python, JavaScript, etc)\n \nBonus Points If\n• Solid technical aptitude and an ability to understand technical designs.\n• Experience with programming languages: Python, JavaScript, .Net (C#, vb.net) \n• Analytical, quantitative and data visualization skills with the ability to use data and metrics to back up assumptions, recommendations and drive decisions\n","?iisp=he-6594079","?iisp=he-6584079",null,"Geospatial Technical Program Manager - Transit","2018-12-10T08:23:00","2019-01-04T07:40:00",null,null,null,"2018-12-14T06:46:00"]
["https://www.uber.com/careers/list/44920/","What you'll need\n• BA/BS/Masters in Economics, Business, Engineering, Operations Research, or other quantitative focus\n• Minimum 2 years of experience using data to facilitate business decisions; high growth, technology, management consulting, business intelligence, or investment banking/private equity background\n• Experience with SQL and Excel (and / or google spreadsheets)\n• Ability to present complex analyses to leaders in a clear, digestible manner to sell your ideas\n• Self-starter attitude, and ability to exercise judgment and resolve difficult problems without supervision\n• Analytical thinking and attention to detail - you connect the dots between the data and operations and sense check every number you see\n• Highly collaborative: interested in working with several key stakeholders and many different teams.","What you'll need\n• BA/BS/Masters in Economics, Business, Engineering, Operations Research, or other quantitative focus\n• Minimum 2 years of experience using data to facilitate business decisions; high growth, technology, management consulting, business intelligence, or investment banking/private equity background\n• Expertise in SQL and Excel (and / or google spreadsheets)\n• Passion for presenting complex analyses to leaders in a clear, digestible manner to sell your ideas\n• Self-starter attitude, and ability to exercise judgment and resolve difficult problems without supervision\n• Excellent analytical thinking and attention to detail - you connect the dots between the data and operations and gut check every number you see\n• Highly collaborative: excited to work with several key stakeholders and many different teams.\n\nBonus Points if\n• Experience with Salesforce (preferred) or similar CRM\n• Expertise, solid proficiency or desire to learn R and/or Python\n• Experience working with sales data, support data, or contact management\n","?iisp=he-6594079","?iisp=he-6584079",null,"Business Analyst, Uber for Business Sales","2018-12-10T08:23:00","2019-02-21T06:45:00",null,null,null,"2018-12-14T06:46:00"]
["https://www.uber.com/careers/list/44916/","What You’ll Need\n \n• At least one year of relevant experience\n• Background in solving complex customer problems\n• Team leadership experience in a fast-paced environment\n\n ","What You’ll Need\n \n• At least one year of relevant experience\n• Demonstrated background in solving complex customer problems\n• Team leadership experience in a fast-paced environment\n\n \nBonus Points if\n \n• You have previous sales experience\n• You have previous customer support team management experience\n• You have a Bachelor’s Degree\n","?iisp=he-6594079","?iisp=he-6584079",null,"Team Lead, Greenlight Operations - Secaucus","2018-12-04T07:08:00","2019-01-08T07:15:00",null,null,null,"2018-12-14T06:46:00"]
["https://www.uber.com/careers/list/44914/","What You’ll Need\n \n• A minimum of 5 years of paralegal experience in either a defense firm or insurance company\n• B.A./B.S. required\n• Clear and concise written and verbal communication skills\n• Self-motivation and the ability to work both on a team and independently\n• Technical know-how with an intermediate level of computer skills, including a working knowledge of Google suite, Excel, Word, Adobe, Box and other web-based applications\n• Experience working in a high-pressure, fast-paced environment\n• Flexibility and willingness to help out wherever needed\n• Interest in Uber\n ","What You’ll Need\n \n• A minimum of 5 years of paralegal experience in either a defense firm or insurance company\n• B.A./B.S. required, paralegal certificate preferred\n• Clear and concise written and verbal communication skills\n• Self-motivation and the ability to work both on a team and independently\n• Technical know-how with at least an intermediate level of computer skills, including a working knowledge of Google suite, Excel, Word, Adobe, Box and other web-based applications\n• Experience working in a high-pressure, fast-paced environment\n• Flexibility and willingness to help out wherever needed\n• Enthusiasm about Uber!\n \nBonus Points If\n \n• E-Discovery background \n• Experience with Salesforce\n• Querying skills using SQL\n","?iisp=he-6594079","?iisp=he-6584079",null,"Paralegal, Insurance Litigation","2018-12-04T07:08:00","2019-04-04T20:15:00",null,null,null,"2018-12-14T06:46:00"]
["https://www.uber.com/careers/list/44912/","What You’ll Need\n \n• MS/PhD in an area of specialty (ex. geo-sciences, geography or allied disciplines ) or minimum 10 years of equivalent work experience\n• Experience analyzing, evaluating, and efficiently bulk processing, updating, transforming, re-formatting large quantities of geospatial data.\n• Ability to lead the development of geospatial and temporal data models.\n• Understanding of geospatial domain concepts (graph theory, topology, networking, linear referencing, map-matching, coordinate systems, mapping datums, etc), implementation strategies, process scaling.\n• Experience with GIS and allied software & tools: SSMS, FME, ArcGIS, QGIS, bash (other Shells), version control and task management software. \n• Experience with SQL, SQL spatial (data types, functions and methods, indexing), and other scripting languages (Python, JavaScript, etc)\n• Written and verbal communication skills and emotional intelligence. Ability to influence and motivate people across a broad variety of job functions through your relationships.\n","What You’ll Need\n \n• MS/PhD in an area of specialty (ex. geo-sciences, geography or allied disciplines ) or minimum 10 years of equivalent work experience\n• Experience analyzing, evaluating, and efficiently bulk processing, updating, transforming, re-formatting large quantities of geospatial data.\n• Ability to lead the development of geospatial and temporal data models.\n• Deep expertise in geospatial domain concepts (graph theory, topology, networking, linear referencing, map-matching, coordinate systems, mapping datums, etc), implementation strategies, process scaling.\n• High proficiency with GIS and allied software & tools: SSMS, FME, ArcGIS, QGIS, bash (other Shells), version control and task management software. \n• High proficiency with SQL (ideally T-SQL or pgSQL), SQL spatial (data types, functions and methods, indexing), and other scripting languages (Python, JavaScript, etc)\n• Excellent written and verbal communication skills and exceptional emotional intelligence. Ability to influence and motivate people across a broad variety of job functions through your relationships.\n\n\nBonus Points If\n• Experience working with large scale distributed infrastructure (Hive, HDFS, etc).\n• Experience working with various cloud technologies (AWS, Azure).\n• Analytical, quantitative and data visualization skills with the ability to use data and metrics to back up assumptions, recommendations and drive decisions.\n","?iisp=he-6594079","?iisp=he-6584079",null,"Sr Geospatial Technical Program Manager","2018-12-04T07:08:00","2019-03-01T08:51:00",null,null,null,"2018-12-14T06:46:00"]
["https://www.uber.com/careers/list/44811/","What You'll Need\n• Minimum 5 years experience in operations, business consulting, finance or similar analytical role\n• Leadership experience\n• Communication, the ability to engage internal and external customers\n• Understanding of the user experience\n• Ability to leverage data to inform and support critical decisions\n• Strategic alignment, able to bring key stakeholders across functions together\n• A desire to learn, motivated self-starter, with an interest in learning and growing\n• Ability to foster collaboration and facilitate teamwork\n• Effective prioritization\n ","What You'll Need\n• Minimum 5 years experience in operations, business consulting, finance or similar analytical role\n• Leadership experience\n• Excellent communication, the ability to engage internal and external customers\n• Deep understanding of the user experience\n• Ability to leverage data to inform and support critical decisions\n• Strategic alignment, able to bring key stakeholders across functions together\n• A desire to learn, highly motivated self-starter, with an eagerness to learn and grow\n• Ability to foster collaboration and facilitate teamwork\n• Effective prioritization\n \nBonus Points for\n• SQL proficiency\n• Deep analytical expertise\n• People management experience\n• Prior experience working in or with marketing technologies\n• Prior experience working on global projects, or in an international setting\n","?iisp=he-6594079","?iisp=he-6584079",null,"Senior Team Manager, Maps","2018-12-04T07:08:00","2018-12-11T08:50:00",null,null,null,"2018-12-14T06:46:00"]
["https://www.uber.com/careers/list/44693/","What You'll Need\n• Minimum 3 years experience in operations, business consulting, finance or similar analytical role\n• Project leadership experience\n• Communication, the ability to engage internal and external customers\n• Understanding of the Uber user experience\n• Ability to leverage data to inform and support critical decisions\n• Strategic alignment, able to bring key stakeholders across functions together\n• A desire to learn, motivated self-starter, with an interest in learning and growing\n• Ability to foster collaboration and facilitate teamwork\n• Effective prioritization\n ","What You'll Need\n• Minimum 3 years experience in operations, business consulting, finance or similar analytical role\n• Project leadership experience\n• Excellent communication, the ability to engage internal and external customers\n• Deep understanding of the Uber user experience\n• Ability to leverage data to inform and support critical decisions\n• Strategic alignment, able to bring key stakeholders across functions together\n• A desire to learn, highly motivated self-starter, with an eagerness to learn and grow\n• Ability to foster collaboration and facilitate teamwork\n• Effective prioritization\n \nBonus Points for\n• SQL proficiency and deep analytical expertise\n• Prior experience working on global projects, or in an international setting\n• Experience building mapping and location based products\n• Experience building “data products”\n• Experience building products that leverage crowdsourcing\n• People management experience\n","?iisp=he-6594079","?iisp=he-6584079",null,"Product Operations Manager, Maps User Experience (Search, Routing & Navigation)","2018-12-04T07:08:00","2019-02-13T19:10:00",null,null,null,"2018-12-14T06:46:00"]
["https://www.uber.com/careers/list/44678/","What You’ll Need\n \n• BS degree in Computer Science or related engineering field or equivalent work experience. \n• 5+ years of relevant network engineering experience.\n• Experience with network design and implementation in one or more areas, including: datacenter, backbone, edge, transport and/or cloud networking.\n• Written and verbal communication skills and the ability to write detailed design documents.\n","What You’ll Need\n \n• BS degree in Computer Science or related engineering field or equivalent work experience. \n• 5+ years of relevant network engineering experience.\n• Extensive experience with network design and implementation in one or more areas, including: datacenter, backbone, edge, transport and/or cloud networking.\n• Experience with software-based network automation technologies a plus.\n• Experience with SDN technologies and open networking ecosystem a plus.\n• Excellent written and verbal communication skills and the ability to write detailed design documents.\n\nBonus Points If\n• Masters/Ph.D. preferred in Computer Science or related engineering field.\n","?iisp=he-6594079","?iisp=he-6584079",null,"Senior Network Engineer","2018-12-04T07:08:00","2019-02-12T10:55:00",null,null,null,"2018-12-14T06:46:00"]
["https://www.uber.com/careers/list/44729/","What You’ll Need\n• Degree in Finance or Accounting\n• 8+ years of direct experience in finance and accounting\n•  \n• Corporate finance /operational Finance BP experience at a high-growth company, with experience operating at Business Unit Finance Manager or Plant Controller or Similar\n• Excel skills - You strive for best practices, your models are efficient, scalable, and intuitive\n• Communication and interpersonal skills - be able to challenge and align with the key stakeholders \n• Self-starter - You will take initiative, be dedicated, set and work toward goals\n• Systems - working knowledge of enterprise-level ERP systems (Oracle)\n• Compliances - internal audit experience, with exposure to Sox/ICS\n• You possess  analytical skill of business modeling and scenario analysis\n• Be able to deep dive into the details while not losing the big picture\n \n","What You’ll Need\n• Degree in Finance or Accounting; preferably MBA and/or CMA or CPA certification\n• 8+ years of direct experience in finance and accounting, preferably with leadership experience within a large, professionally managed global company\n•  \n• Corporate finance /operational Finance BP experience at a high-growth company, with success track record of operating at Business Unit Finance Manager or Plant Controller or Similar\n• Elite Excel skills - Best practices are second-nature, your models are efficient, scalable, and intuitive\n• Excellent communication and exceptional interpersonal skills - be able to challenge and align with the key stakeholders \n• Self-starter - You will take initiative, be dedicated, set and drive toward goals\n• Systems - working knowledge of enterprise-level ERP systems (Oracle)\n• Compliances - internal audit experience, with exposure to Sox/ICS\n• You possess a strong analytical skill of business modeling and scenario analysis\n• Be able to deep dive into the details while not losing the big picture\n \nBonus Points If\n• Manufacturing background is prefered, with in-depth knowledge of GAAP\n","?iisp=he-6594079","?iisp=he-6584079",null,"ATG Finance Business Partner","2018-12-04T07:08:00","2019-04-11T14:00:00",null,null,null,"2018-12-14T06:46:00"]
["https://www.uber.com/careers/list/44703/","What You'll Need\n• 2-4 years experience in a role requiring analytical, data-driven problem solving, quantitative analysis, and communicating findings to management\n• Data-driven decision making mentality, business judgment, and the ability to back your analysis up with analytical thinking\n• Microsoft Excel/Google Sheets knowledge\n• SQL knowledge \n• Communication skills; able to distill complex data sets into simple and digestible takeaways for senior leaders and managers.\n• Ability to take initiative in a constantly-changing and ambiguous work environment\n","What You'll Need\n• 2-4 years experience in a role requiring rigorous analytical, data-driven problem solving, quantitative analysis, and communicating findings to management\n• Data-driven decision making mentality, sound business judgment, and the ability to back your analysis up with meaningful analytical thinking\n• Advanced to Expert Microsoft Excel/Google Sheets knowledge\n• Advanced to Expert SQL knowledge \n• Prefered experience in Python / Advanced R experience (Visualization, Data Wrangling, Statistical Modelling, A/B testing etc.)\n• Strong communication skills; able to distill complex data sets into simple and digestible takeaways for senior leaders and managers.\n• Ability to take initiative in a constantly-changing and ambiguous work environment\n\nBonus Points If\n• Experience in a high-growth analytics team or startup businesses\n• Experience in data science\n• Experience in business and financial modelling\n• Passion about bikeshare and urban mobility\n","?iisp=he-6594079","?iisp=he-6584079",null,"Operations Manager - Analytics, JUMP","2018-11-29T10:16:00","2019-02-05T11:16:00",null,null,null,"2018-12-14T06:46:00"]
["https://www.uber.com/careers/list/36258/","What You’ll Need\n \n• Creative problem solving\n• Prototype testing experience\n• Experience with reliability tests (thermal, shock, vib, UV, EMC, etc)\n• Broad general mechanical and electrical engineering knowledge\n• Familiarity with circuits and software control of instruments\n• Data gathering and analytical skills\n• BS in Physics, ME, EE, or a related field and 5 years of work experience or\n• Advanced degree (Masters, Ph.D.) in a relevant technical field and 3 years of relevant work experience.","What You’ll Need\n \n• Creative problem solving\n• Prototype testing experience\n• Detailed experience with reliability tests (thermal, shock, vib, UV, EMC, etc)\n• Broad general mechanical and electrical engineering knowledge\n• Familiarity with circuits and software control of instruments\n• Great data gathering and analytical skills\n• BS in Physics, ME, EE, or a related field and 5 years of work experience or\n• Advanced degree (Masters, Ph.D.) in a relevant technical field and 3 years of relevant work experience.\n \nBonus Points If\n \n• Experience with safety-critical hardware systems and components\n• Understanding of automotive applications and standards\n• Experience in agile project environments\n• CAN bus vehicle standard familiarity\n• Lab management experience\n","?iisp=he-6594079","?iisp=he-6584079",null,"Reliability Engineer","2018-11-29T10:16:00","2019-03-07T13:45:00",null,null,null,"2018-12-14T06:46:00"]
["https://www.uber.com/careers/list/44645/","What You’ll Need\n \n• Work with Perf/Promo and engineering community to manage day to day questions and answers during the promotion cycle\n• Bootstrap and manage the Engineering Promotions content portal providing direction and critical information to thousands of engineers on the engineering promotion process.\n• Improve and iterate on existing content to direct people's questions to self service answers\n• Identify gaps in our training materials and work with our training developers to fill those gaps.\n• Coordinate and set up focus groups as we iterate on process revisions; \n• Author and aggregate survey information to better understand opportunities for improvement or pain points in the process.\n• Follow up on key items to build better understanding and clarity on feedback\n• Must be willing coordinate rooms, coordinate post-cycle celebration, and help with catering, etc. No job can be too big or too small.\n \n","What You’ll Need\n \n• Work with Perf/Promo and engineering community to manage day to day questions and answers during the promotion cycle\n• Bootstrap and manage the Engineering Promotions content portal providing direction and critical information to thousands of engineers on the engineering promotion process.\n• Improve and iterate on existing content to direct people's questions to self service answers\n• Identify gaps in our training materials and work with our training developers to fill those gaps.\n• Coordinate and set up focus groups as we iterate on process revisions; \n• Author and aggregate survey information to better understand opportunities for improvement or pain points in the process.\n• Follow up on key items to build better understanding and clarity on feedback\n• Must be willing coordinate rooms, coordinate post-cycle celebration, and help with catering, etc. No job can be too big or too small.\n \nBonus Points If\n \n• Analytics background.  He/she has collected, structured and analyzed data to drive key insights.  Then experience using those using data insights can drive decisions and solutions through the organization.\n• Design background. Creating visualizations to help provide more clarity and/or increase engagement through beautifully laid out content.\n• Experience working in Technology organization and/or Engineering team.\n• Experience with Human Resources and Perf/Promo Process \n• Experience at the Global scale.  \n• Experience with Confluence\n","?iisp=he-6594079","?iisp=he-6584079",null,"Associate Program Manager, Community Relationship Manager","2018-11-29T10:16:00","2019-02-12T10:55:00",null,null,null,"2018-12-14T06:46:00"]
["https://www.uber.com/careers/list/44478/","WHO YOU ARE\n \n• Minimum 8+ years of experience in private practice, government service, and/or in-house roles.\n• Law degree from an accredited institution and membership in good standing in at least one state bar is required\n• Experience with the Foreign Corrupt Practices Act and comparable anti-corruption laws and regulations; international competition laws and regulations; global data privacy laws; and familiarity with political contribution and government pay to play rules;  \n• Experience counseling business leaders to navigate Compliance risks\n• Analytical and legal skills, mature judgment and innovative thinking\n• Dynamic and resilient individual with the ability to make decisions and influence, persuade and build consensus in a fast paced environment\n• Effectiveness operating in complex organizational environments and self-starter qualities\n• Familiarity with the global framework affecting the technology industry, such as  international laws governing technology, interactions with government institutions and government officials, antitrust and competition issues \n• Integrity and ethics in business and personal conduct                                                                            \n• Oral communication and interpersonal skills to inspire and influence employees at every level to embrace compliance initiatives\n• Able and willing to travel internationally\n• Fluency in English is required\n","WHO YOU ARE\n \n• Minimum 8+ years of experience in private practice, government service, and/or in-house roles. Technology and international experience strongly preferred.  Experience in a regulated industry, while not required, is helpful \n• Law degree from an accredited institution and membership in good standing in at least one state bar is required\n• Substantial experience with the Foreign Corrupt Practices Act and comparable anti-corruption laws and regulations; international competition laws and regulations; global data privacy laws; and familiarity with political contribution and government pay to play rules;  \n• Experience counseling business leaders to navigate Compliance risks\n• Superior analytical and legal skills, mature judgment and innovative thinking\n• Dynamic and resilient individual with the demonstrated ability to make decisions and influence, persuade and build consensus in a fast paced environment\n• Demonstrated effectiveness operating in complex organizational environments and self-starter qualities\n• Familiarity with the global framework affecting the technology industry, such as  international laws governing technology, interactions with government institutions and government officials, antitrust and competition issues \n• Unquestioned integrity and ethics in business and personal conduct                                                                            \n• Excellent oral communication and interpersonal skills to inspire and influence employees at every level to embrace compliance initiatives\n• Able and willing to travel internationally\n• Fluency in English is required (secondary language skills are highly preferred)\n","?iisp=he-6594079","?iisp=he-6584079",null,"Senior Counsel, Compliance","2018-11-29T10:16:00","2019-02-12T10:55:00",null,null,null,"2018-12-14T06:46:00"]
["https://www.uber.com/careers/list/44417/","What You’ll Need\n• Minimum 6 years of experience in business development and strategic partnerships\n• Business development record and experience negotiating complex deals\n• Experience with leading cross-functional teams and collaborate deeply with product, marketing, engineering, and operations\n• Creativity, analytical thinking, and abiliity to use data insights to structure high impact partnerships and deals\n• Analytical mindset and use of data-driven decision making  \n• Communication and interpersonal skills\n• Interest in Uber’s mission and ability to work in fast-paced, unstructured environment\n• Proactive, self-starter with project management and execution skills","What You’ll Need\n• Minimum 6 years of experience in business development and strategic partnerships\n• Proven business development track record and experience negotiating complex deals\n• Experience with leading cross-functional teams and collaborate deeply with product, marketing, engineering, and operations\n• Creativity, analytical thinking, and abiliity to use data insights to structure high impact partnerships and deals\n• Analytical mindset and strong use of data-driven decision making  \n• Exceptional communication and interpersonal skills\n• Passion for Uber’s mission and ability to thrive in fast-paced, unstructured environment\n• Extremely proactive, self-starter with strong project management and execution skills\n• MBA is a plus\n","?iisp=he-6594079","?iisp=he-6584079",null,"Business Development Manager, Rider Partnerships","2018-11-29T10:16:00","2018-12-15T08:50:00",null,null,null,"2018-12-14T06:46:00"]
["https://www.uber.com/careers/list/44481/","What you'll need\n• Minimum 3 years of relevant experience in sales operations or consulting\n• Experience in data mining and analysis\n• Experience with Excel and Salesforce\n• Written and verbal communication skills\n• Desire to build partnerships across the organization\n• Desire to take initiative. Ability to handle change and ambiguity\n• A positive outlook and an engaged attitude","What you'll need\n• Minimum 3 years of relevant experience in sales operations or consulting\n• Experience in data mining and analysis\n• Proficiency with Excel and Salesforce\n• Excellent written and verbal communication skills\n• Strong desire to build partnerships across the organization\n• Strong desire to take initiative. Thrive on change and comfortable with ambiguity\n• A positive outlook and a roll-up-your-sleeve attitude\n \nBonus Points If\n• You have familiarity with SQL, Tableau and/or Marketo \n• You have experience in territory alignment, target setting, and/or commission modeling\n• You have programming language experience such as R or Python\n• You have sales operations experience at a high-growth tech company\n• You have experience in project management \n","?iisp=he-6594079","?iisp=he-6584079",null,"Sales Operations Associate","2018-11-29T10:16:00",{"$nulls":4},"2018-12-14T06:46:00"]
["https://www.uber.com/careers/list/44488/","What You’ll Need\n• 7+ years of operations management experience; 3+ of those years in investment banking / consulting / business intelligence / strategy or related experience\n• People management skills and track record\n• Self starter with an analytical orientation; empathetic and leans in and embraces engaging with your team; skilled at balancing between short-term needs and long-term investments; able to handle change and comfortable with ambiguity\n• Bias toward action and striving for clarity and execution\n• Written and verbal communication skills as well as stakeholder management, consensus building and project management\n• Excel / data management skills\n• Bachelor’s degree ","What You’ll Need\n• 7+ years of operations management experience; 3+ of those years in investment banking / consulting / business intelligence / strategy or related experience; some high-growth operations or startup experience is strongly preferred\n• Strong people management skills and proven track record\n• Self starter with an analytical orientation; empathetic and leans in and embraces rolling up your sleeves with your team; skilled at balancing between short-term needs and long-term investments; thrives on change and comfortable with ambiguity\n• Bias toward action and constant push for clarity and execution\n• Excellent written and verbal communication skills as well as stakeholder management, consensus building and project management\n• Exceptional Excel / data management skills\n• SQL proficiency strongly preferred\n• Bachelor’s degree (preferably in a quantitative field such as math, statistics, physics, chemistry, engineering, economics, computer science, operational research); MBA degree highly desired, but not required\n","?iisp=he-6594079","?iisp=he-6584079",null,"Uber Eats Regional Operations Lead, Marketplace Operations","2018-11-29T10:16:00",null,"2018-12-10T08:23:00","2018-12-04T07:15:00",null,"2018-12-14T06:46:00"]
["https://www.uber.com/careers/list/40376/","What You’ll Need\n• An optimistic, team-player mindset, with the ability to go the distance to build disruptive solutions\n• Interest in solving the challenges detailed above to build a world-class networking stack\n• Mobile development experience in Android.\n• B.S. in Computer Science or related field (or, experience in software development)\n• 2+ experience in working on performance-critical distributed systems.\n• Understanding of large-scale systems architecture, multi datacenter designs and common performance tradeoffs.\n• Understanding of all aspects of the network call anatomy such as DNS lookup, TCP and TLS connection establishment, HTTP/1.1, SPDY, HTTP/2.","What You’ll Need\n• An optimistic, team-player mindset, with no qualms about going the distance to build disruptive solutions\n• Unbridled passion for solving the challenges detailed above to build a world-class networking stack\n• Mobile development experience in Android.\n• B.S. in Computer Science or related field (or, a proven track record in software development)\n• 2+ experience in working on performance-critical distributed systems.\n• Solid understanding of large-scale systems architecture, multi datacenter designs and common performance tradeoffs.\n• Solid understanding of all aspects of the network call anatomy such as DNS lookup, TCP and TLS connection establishment, HTTP/1.1, SPDY, HTTP/2.\n \nBonus Points If\n• Data Engineering and analysis at massive scale for the global mobile network performance metrics, visualization and alerting on detecting trends.\n• Understanding of end to end network flow: Mobile, Radio Access Network, Core Network to POP’s and frontend proxies.\n• Knowledge of UDP based protocols such as QUIC.\n• Understanding of RPC layers, transport protocols, MAC protocols, Protobuf/Thrift protocols and Cross-WAN replication.\n• Direct experience with TCP/IP (deep tuning/trace analysis) or Wireless media (WiFi, Cellular etc)\n","?iisp=he-6594079","?iisp=he-6584079",null,"Android Engineer - Mobile Networking","2018-11-29T10:16:00","2019-05-20T22:00:00",null,null,null,"2018-12-14T06:46:00"]
["https://www.uber.com/careers/list/44424/","What You’ll Need\n• 8-10 years of relevant experience.\n• Bachelor’s degree in Finance, Accounting, or similar.\n• An understanding of ASC 740, and experience applying ASC 740 concepts to day-to-day tax compliance related tasks.\n• International tax operations knowledge and familiarity of tax issues for a multinational company operating globally.\n• Organizational, technical, analytical, problem solving skills and attention to detail.\n• Ability to manage and inspire a team.\n• Written and verbal communication and interpersonal skills.\n• Experience with Microsoft Excel and Word, ONESOURCE Tax Provision and Income Tax, and research programs (i.e. CCH).\n• Ability to manage multiple priorities and meet deadlines.\n","What You’ll Need\n• 8-10 years of relevant experience.\n• Bachelor’s degree in Finance, Accounting, or similar.\n• CPA and/or Master’s in Taxation preferred.\n• A detailed understanding of ASC 740, and seasoned experience applying ASC 740 concepts to day-to-day tax compliance related tasks.\n• Strong international tax operations knowledge and familiarity of tax issues for a multinational company operating globally.\n• Strong organizational, technical, analytical, problem solving skills and attention to detail.\n• Ability to effectively manage and inspire a team.\n• Excellent written and verbal communication and interpersonal skills.\n• Proficiency in Microsoft Excel and Word, ONESOURCE Tax Provision and Income Tax, and research programs (i.e. CCH).\n• Ability to manage multiple priorities and meet deadlines.\n","?iisp=he-6594079","?iisp=he-6584079",null,"Manager, Global Tax Provision","2018-11-29T10:16:00","2019-02-14T19:10:00",null,null,null,"2018-12-14T06:46:00"]
["https://www.uber.com/careers/list/44319/","What You’ll Need\n• Bachelor’s degree required\n• 5-8 years relative experience \n• Have a record of being a problem solver\n• A bias for action; ability to collect buy in for an idea and then carry it forward through execution\n• Interpersonal skills; participate in a team environment and build strong working relationships\n• Communication skills both internally and externally \n• Attention to detail \n• A positive thinker, and self-motivated individual \n• An understanding of all levers of the business and experience delivering results\n• A risk taker - Sometimes you fail, but you get back up, make the next bet, and move forward\n","What You’ll Need\n• Bachelor’s degree required, Master’s degree preferred\n• 5-8 years relative experience \n• Have a track record of being a problem solver\n• A bias for action; ability to collect buy in for an idea and then carry it forward through execution\n• Strong interpersonal skills; participate in a team environment and build strong working relationships\n• Effective communication skills both internally and externally \n• Exceptional attention to detail \n• A natural positive thinker, and self-motivated individual \n• An understanding of all levers of the business and a proven history of delivering results\n• A risk taker - Sometimes you fail, but you get back up, make the next bet, and GO!\n","?iisp=he-6594079","?iisp=he-6584079",null,"Senior Account Manager, Freight","2018-11-29T10:16:00","2019-04-02T21:06:00",null,null,null,"2018-12-14T06:46:00"]
["https://www.uber.com/careers/list/44313/","WHO YOU ARE\n \n• Minimum 8+ years of experience in private practice, government service, and/or in-house role.\n• Law degree from an accredited institution and membership in good standing in at least one state bar is required\n• Experience with the Foreign Corrupt Practices Act and comparable anti-corruption laws and regulations; international competition laws and regulations; global data privacy laws; and familiarity with political contribution and government pay to play rules  \n• Experience counseling business leaders to navigate Compliance risks\n• Analytical and legal skills, mature judgment and innovative thinking\n• Dynamic and resilient individual with the ability to make decisions and influence, persuade and build consensus in a fast paced environment\n• Effectiveness operating in complex organizational environments and self-starter qualities\n• Familiarity with the global framework affecting the technology industry, such as  international laws governing technology, interactions with government institutions and government officials, antitrust and competition issues\n• Integrity and ethics in business and personal conduct                                                                            \n• Oral communication and interpersonal skills to inspire and influence employees at every level to embrace compliance initiatives\n• Able and willing to travel internationally\n• Fluency in English is required \n","WHO YOU ARE\n \n• Minimum 8+ years of experience in private practice, government service, and/or in-house role. Technology and international experience strongly preferred.  Experience in a regulated industry, while not required, is helpful \n• Law degree from an accredited institution and membership in good standing in at least one state bar is required\n• Substantial experience with the Foreign Corrupt Practices Act and comparable anti-corruption laws and regulations; international competition laws and regulations; global data privacy laws; and familiarity with political contribution and government pay to play rules  \n• Experience counseling business leaders to navigate Compliance risks\n• Superior analytical and legal skills, mature judgment and innovative thinking\n• Dynamic and resilient individual with the demonstrated ability to make decisions and influence, persuade and build consensus in a fast paced environment\n• Demonstrated effectiveness operating in complex organizational environments and self-starter qualities\n• Familiarity with the global framework affecting the technology industry, such as  international laws governing technology, interactions with government institutions and government officials, antitrust and competition issues\n• Unquestioned integrity and ethics in business and personal conduct                                                                            \n• Excellent oral communication and interpersonal skills to inspire and influence employees at every level to embrace compliance initiatives\n• Able and willing to travel internationally\n• Fluency in English is required (secondary language skills are highly preferred)\n","?iisp=he-6594079","?iisp=he-6584079",null,"Senior Counsel, Global Compliance","2018-11-29T10:16:00","2018-11-30T15:50:00","2018-12-04T07:08:00","2018-11-15T17:00:00",null,"2018-12-14T06:46:00"]
["https://www.uber.com/careers/list/34350/","What You’ll Need\n• Experience with Java\n• Working understanding of the Android platform\n• Debugging skills\n• Experience with developing complex software systems scaling to millions of users with production quality deployment, monitoring and reliability.\n• Ability to collaborate and communicate with other teams to help discover gaps in our tooling and infrastructure and help facilitate solutions\n","What You’ll Need\n• Expertise in Java\n• Good working understanding of the Android platform\n• Good debugging skills\n• Experience with developing complex software systems scaling to millions of users with production quality deployment, monitoring and reliability.\n• Ability to collaborate and communicate with other teams to help discover gaps in our tooling and infrastructure and help drive solutions\n\nBonus Points If\n• Experience in one or more object oriented programming language (e.g. Python, Kotlin, etc) or the eagerness to learn\n• Experience in distributed systems\n\n","?iisp=he-6594079","?iisp=he-6584079",null,"Android Engineer - Mobile Reliability Infrastructure","2018-11-29T10:16:00","2019-03-16T08:35:00",null,null,null,"2018-12-14T06:46:00"]
["https://www.uber.com/careers/list/44255/","What You’ll Need\n• Minimum of 5+ years of legal compliance project management/operations/controls experience.\n• Ability to independently manage a diverse and complex workload while maintaining priorities and proactively anticipating issues.\n• Proactive approach to identifying opportunities, inefficiencies and issues across department operations, and ability to recommend and implement the approach to resolve them.\n• Good judgment and ability to apply knowledge to help create practical solutions to operational and process issues and opportunities.\n• Flexibility, a positive attitude, a sense of humor and ability to constructively manage change.\n• Verbal and written communication skills.","What You’ll Need\n• Minimum of 5+ years of legal compliance project management/operations/controls experience; 3+ years in the privacy and data security field preferred.\n• Demonstrated ability to independently manage a diverse and complex workload while maintaining priorities and proactively anticipating issues.\n• Proactive approach to identifying opportunities, inefficiencies and issues across department operations, and proven ability to recommend and implement the approach to resolve them.\n• Consistent good judgment and ability to apply knowledge to help create practical solutions to operational and process issues and opportunities.\n• Flexibility, a positive attitude, a sense of humor and ability to constructively manage change.\n• Excellent verbal and written communication skills.\n• In-house experience preferred, particularly in connection with technology platforms. \n• CIPP certification preferred.\n","?iisp=he-6594079","?iisp=he-6584079",null,"Privacy Ops Manager","2018-11-29T10:16:00","2019-01-23T06:05:00",null,null,null,"2018-12-14T06:46:00"]
["https://www.uber.com/careers/list/44213/","About you\n \n• You have experience in one or more object-oriented languages,including Python, Go, Java, or C++, and a desire to learn more\n• You have experience with both machine learning and building scalable production services\n• You have experience with distributed storage and database systems, including SQL or NoSQL, MySQL, or Cassandra\n• You have experience using machine learning libraries or platforms, including Tensorflow, Caffe, Theano, Scikit-Learn, or Spark ML for production or commercial products\n• Machine learning domain knowledge—bias-variance tradeoff, exploration/exploitation—and understanding of various model families such as decision trees, bayesian models, and deep learning.\n• You have an ability to communicate insights from complex “black-box” models to C-level and working level peers, and the ability to articulate algorithm choices to industry experts\n• You have the ability to solve complex business problems and apply machine learning to optimize critical business metrics\n• You follow an adherence to metrics driven development, with a disciplined and analytical approach to product development.\n ","About you\n \n• You have expertise in one or more object-oriented languages,including Python, Go, Java, or C++, and an eagerness to learn more\n• You have experience with both machine learning and building scalable production services\n• You have experience with distributed storage and database systems, including SQL or NoSQL, MySQL, or Cassandra\n• You have experience using machine learning libraries or platforms, including Tensorflow, Caffe, Theano, Scikit-Learn, or Spark ML for production or commercial products\n• Machine learning domain knowledge—bias-variance tradeoff, exploration/exploitation—and understanding of various model families such as decision trees, bayesian models, and deep learning.\n• You have a rock-star-like ability to communicate insights from complex “black-box” models to C-level and working level peers, and the ability to defend algorithm choices to industry experts\n• You have the ability to solve complex business problems and apply machine learning to optimize critical business metrics\n• You follow a strong adherence to metrics driven development, with a disciplined and analytical approach to product development.\n \nBonus points if\n \n• You have experience in statistics\n• You enjoy reading academic papers and implementing experimental systems\n• Experience developing complex software systems scaling to millions of users with production quality deployment, monitoring and reliability\n• You have experience presenting at industry recognized ML conferences as well as being published in the field.\n• You have experience in stream processing—Storm, Spark, Flink etc.— and graph processing technologies.\n","?iisp=he-6594079","?iisp=he-6584079",null,"Software Engineer - Machine Learning, Uber Eats","2018-11-29T10:16:00",{"$nulls":4},"2018-12-14T06:46:00"]
["https://www.uber.com/careers/list/44077/","What You'll Need\n• BS/BA \n• 5+ years of business operations experience and direct management experience in a high-growth environment\n• Effective cross functional project management experience\n• Critical thinking and problem solving abilities\n• Clear communications skills at all levels\n• Record of success in a metrics driven environment\n• Record of developing and retaining key talent throughout the organization\n• Desire to evolve and take initiative\n","What You'll Need\n• BS/BA in Finance or Business, preferred\n• 5+ years of business operations experience and direct management experience in a high-growth environment\n• Start-up experience a plus\n• Effective cross functional project management experience\n• Exceptional critical thinking and problem solving abilities\n• Excellent, clear communications skills at all levels\n• Strong track record of success in a metrics driven environment\n• Financial and banking systems knowledge preferred\n• Proven track record of developing and retaining key talent throughout the organization\n• Meaningful desire to evolve and take initiative\n• Basic SQL knowledge a plus\n\n","?iisp=he-6594079","?iisp=he-6584079",null,"Global Payments Manager, Americas","2018-11-29T10:16:00","2019-02-12T10:55:00",null,null,null,"2018-12-14T06:46:00"]
["https://www.uber.com/careers/list/44126/","What You’ll Need\n \n• A BS in machine learning, computer vision, robotics, or related field\n• A quantitative background\n• Software development skills in one or more of C, C++, Java, or Python\n• Presentation and communication skills\n• Two years of experience in software design and development\n ","What You’ll Need\n \n• A BS in machine learning, computer vision, robotics, or related field\n• A strong quantitative background\n• Excellent software development skills in one or more of C, C++, Java, or Python\n• Excellent presentation and communication skills\n• Two years of experience in software design and development\n \nBonus Points If\n \n• An MS or PhD in machine learning, computer vision or robotics\n• Experience with MapReduce and Streaming paradigms such as Spark, Hadoop, or Pig\n• Experience with scalable data and analytics infrastructure such as NOSQL, DynamoDB, Kafka, BigTable, Lucene, Elasticsearch, RDBMS and Presto\n• Experience in designing and building infrastructure and web services at large scale\n• Track record of building and shipping machine learning features in products\n• Five years of experience in software design and development\n• Prior work in automotive applications\n","?iisp=he-6594079","?iisp=he-6584079",null,"Systems Engineer - Machine Learning, Self Driving","2018-11-07T11:33:00","2019-03-07T13:45:00",null,null,null,"2018-12-14T06:46:00"]
["https://www.uber.com/careers/list/44109/","What You’ll Need\n• J. D. with a minimum of 3 + years of legal experience, including experience with privacy and data protection law\n• Active membership in at least one U. S. state bar\n• Ability to independently manage a diverse and complex workload while maintaining priorities and proactively anticipating issues.\n• Good judgment and ability to apply legal knowledge to help create practical business solutions\n• Flexibility, a positive attitude, a sense of humor and ability to constructively manage change.\n• Verbal and written communication skills\n• Working knowledge of international privacy laws, particularly in the EU.\n","What You’ll Need\n• J. D. with a minimum of 3 + years of legal experience, including experience with privacy and data protection law\n• Active membership in at least one U. S. state bar\n• Demonstrated ability to independently manage a diverse and complex workload while maintaining priorities and proactively anticipating issues.\n• Consistent good judgment and ability to apply legal knowledge to help create practical business solutions\n• Flexibility, a positive attitude, a sense of humor and ability to constructively manage change.\n• Excellent verbal and written communication skills\n• Working knowledge of international privacy laws, particularly in the EU.\n• In-house legal experience preferred, particularly in connection with technology platforms \n• CIPP certification preferred\n","?iisp=he-6594079","?iisp=he-6584079",null,"Associate Counsel, Privacy","2018-11-07T11:33:00","2019-01-26T07:05:00",null,null,null,"2018-12-14T06:46:00"]
["https://www.uber.com/careers/list/44105/","What You’ll Need\n• J. D. with a minimum of 5 + years of legal experience, including 3+ years experience with privacy and data protection law\n• Active membership in at least one U. S. state bar\n• Ability to independently manage a diverse and complex workload while maintaining priorities and proactively anticipating issues.\n• Good judgment and ability to apply legal knowledge to help create practical business solutions\n• Flexibility, a positive attitude, a sense of humor and ability to constructively manage change.\n• Verbal and written communication skills\n• Working knowledge of international privacy laws, particularly in the EU.\n","What You’ll Need\n• J. D. with a minimum of 5 + years of legal experience, including 3+ years experience with privacy and data protection law\n• Active membership in at least one U. S. state bar\n• Demonstrated ability to independently manage a diverse and complex workload while maintaining priorities and proactively anticipating issues.\n• Consistent good judgment and ability to apply legal knowledge to help create practical business solutions\n• Flexibility, a positive attitude, a sense of humor and ability to constructively manage change.\n• Excellent verbal and written communication skills\n• Working knowledge of international privacy laws, particularly in the EU.\n• In-house legal experience preferred, particularly in connection with technology platforms \n• CIPP certification preferred\n","?iisp=he-6594079","?iisp=he-6584079",null,"Counsel, Privacy","2018-11-07T11:33:00","2019-03-02T10:45:00",null,null,null,"2018-12-14T06:46:00"]
["https://www.uber.com/careers/list/44082/","What You’ll Need\n \n• BS/MS/Phd in Computer Science or related field\n• Native iOS development (swift or Objective C) \n• Algorithm and CS skills.\n• Written/verbal communication and team player.\n• Experience delivering customer facing iOS application.\n• Understanding of common design patterns like MVC/MVP\n• 5+ Years Full-Time, Professional Software Development\n• 3 Years Full-Time, Professional iOS Application Development Experience in Objective C and Swift in any combination\n• Experience in working with agile methodology.","What You’ll Need\n \n• BS/MS/Phd in Computer Science or related field\n• Native iOS development (swift and/or Objective C) and, ideally, Cocoa Touch Frameworks.\n• Strong algorithm and CS skills.\n• Excellent written/verbal communication and great team player.\n• Good track record of delivering customer facing iOS application (ideally used by millions of people).\n• Solid understanding of common design patterns like MVC/MVP\n• 5+ Years Full-Time, Professional Software Development\n• 3 Years Full-Time, Professional iOS Application Development Experience in Objective C and Swift in any combination\n• Experience in working with agile methodology.\n \nBonus Points If\n• Knowledge of RESTful Architecture/Networking, Application Health Monitoring and Analytics tools such as Sentry, Grafana, ELK\n","?iisp=he-6594079","?iisp=he-6584079",null,"Sr iOS Engineer- Vehicle Solutions Team (Seattle)","2018-11-07T11:33:00",{"$nulls":4},"2018-12-14T06:46:00"]
["https://www.uber.com/careers/list/44080/","What You’ll Need\n \n• 5+ years experience delivering innovative consumer Internet or platform products \n• A computer science degree or equivalent. \n• Technical skills - ability to speak knowledgeably and provide perspective on highly technical projects.\n• Analytical, experience leveraging data to facilitate strategy, priority, and execution\n• Communication skills that build and foster cross-team collaboration and alignment on key outcomes and objectives.\n","What You’ll Need\n \n• 5+ years experience delivering highly successful and innovative consumer Internet or platform products with your fingerprints all over them - you’re extremely proud of what you’ve accomplished.\n• A computer science degree or equivalent, preferably including hands-on software engineering experience. Technical understanding must go from the highest abstractions down to the metal.\n• Experience building robust APIs/Gateways is a huge plus. \n• Strong technical competence - ability to speak knowledgeably and provide perspective on highly technical projects.\n• Extremely analytical, experience leveraging data to drive strategy, priority, and execution\n• Strong communication skills that build and foster cross-team collaboration and alignment on key outcomes and objectives.\n","?iisp=he-6594079","?iisp=he-6584079",null,"Product Manager - Core Services","2018-11-07T11:33:00","2019-03-08T18:45:00",null,null,null,"2018-12-14T06:46:00"]
["https://www.uber.com/careers/list/43985/","What You Will Need\n• J. D. with a minimum of 8+ years of legal experience, including 5+ years experience with privacy and/or cybersecurity law.\n• Active membership in at least one U.S. state bar.\n• Ability to independently manage a diverse and complex workload while maintaining priorities and proactively anticipating issues.\n• Good judgment and ability to apply legal knowledge to help create practical business solutions.\n• Flexibility, a positive attitude, a sense of humor and ability to constructively manage change.\n• Verbal and written communication skills.\n• Working knowledge of international cybersecurity and privacy laws, particularly in the US and EU.\n","What You Will Need\n• J. D. with a minimum of 8+ years of legal experience, including 5+ years experience with privacy and/or cybersecurity law.\n• Active membership in at least one U.S. state bar.\n• Demonstrated ability to independently manage a diverse and complex workload while maintaining priorities and proactively anticipating issues.\n• Consistent good judgment and ability to apply legal knowledge to help create practical business solutions.\n• Flexibility, a positive attitude, a sense of humor and ability to constructively manage change.\n• Excellent verbal and written communication skills.\n• Working knowledge of international cybersecurity and privacy laws, particularly in the US and EU.\n• In-house legal experience preferred, particularly in connection with technology platforms. \n• CIPP certification preferred.\n","?iisp=he-6594079","?iisp=he-6584079",null,"Senior Counsel, Privacy & Security","2018-11-07T11:33:00","2018-11-13T20:52:00","2018-12-04T07:08:00",null,null,"2018-12-14T06:46:00"]
["https://www.uber.com/careers/list/43969/","What you'll need\n• Minimum 3 years of relevant experience in sales operations or consulting\n• Experience in data mining and analysis\n• Experience with Excel and Salesforce\n• Written and verbal communication skills\n• Desire to build partnerships across the organization\n• Desire to take initiative. Able to handle change and ambiguity\n• A positive outlook and engaged attitude \n ","What you'll need\n• Minimum 3 years of relevant experience in sales operations or consulting\n• Experience in data mining and analysis\n• Proficiency with Excel and Salesforce\n• Excellent written and verbal communication skills\n• Strong desire to build partnerships across the organization\n• Strong desire to take initiative. Thrive on change and comfortable with ambiguity\n• A positive outlook and a roll-up-your-sleeve attitude \n \nBonus Points If\n• You have familiarity with SQL, Tableau and/or Marketo \n• You have experience in territory alignment, target setting, and/or commission modeling \n• You have programming language experience such as R or Python\n• You have sales operations experience at a high-growth tech company\n• You have experience in project management \n","?iisp=he-6594079","?iisp=he-6584079",null,"Sales Operations Associate, Uber Freight","2018-11-07T11:33:00",{"$nulls":4},"2018-12-14T06:46:00"]
["https://www.uber.com/careers/list/44039/","What You’ll Need\n• Bachelor's degree\n• Have or pursuing certification in 1 of the following: CPA, CISA, CISSP, or CIA\n• Interest and willingness to learn in a challenging and continuously evolving environment\n• At least 4-6 years audit or controls experience with analytics & automation of execution & documentation of IPO readiness reviews and implementation of internal controls\n• Experience using SQL, Python, or R for data normalization, ETLs and automation \n• Use of open source analytical packages like pandas\n• Ability and willingness to travel (up to 25 percent)\n","What You’ll Need\n• Bachelor's degree in Information Systems, Computer Science or Accounting preferred\n• Have or pursuing certification in 1 or more of the following: CPA, CISA, CISSP, or CIA\n• Passionate and willingness to learn in a challenging and continuously evolving environment\n• At least 4-6 years audit or controls experience with analytics & automation of execution & documentation of IPO readiness reviews and implementation of internal controls\n• Demonstrated experience using SQL, Python, or R for data normalization, ETLs and automation \n• Use of open source analytical packages like pandas\n• Experience with DevOps technology such as build automation, automated testing, CACMs is a plus\n• Working knowledge of US GAAP, SEC reporting requirements, COSO, SOX requirements, including PCAOB Auditing Standards, IIA  standards and audit processes and procedures is a plus\n• Ability and willingness to travel (up to 25 percent)\n","?iisp=he-6594079","?iisp=he-6584079",null,"Sr IT Internal Audit Analyst, Data","2018-11-07T11:33:00","2019-04-09T21:45:00",null,null,null,"2018-12-14T06:46:00"]
["https://www.uber.com/careers/list/43984/","What You Will Need\n• J. D. with a minimum of 5+ years of legal experience, including 3+ years experience with privacy and/or cybersecurity law.\n• Active membership in at least one U.S. state bar.\n• Ability to independently manage a diverse and complex workload while maintaining priorities and proactively anticipating issues.\n• Good judgment and ability to apply legal knowledge to help create practical business solutions.\n• Flexibility, a positive attitude, a sense of humor and ability to constructively manage change.\n• Verbal and written communication skills.\n• Working knowledge of international cybersecurity and privacy laws, particularly in the US and EU.","What You Will Need\n• J. D. with a minimum of 5+ years of legal experience, including 3+ years experience with privacy and/or cybersecurity law.\n• Active membership in at least one U.S. state bar.\n• Demonstrated ability to independently manage a diverse and complex workload while maintaining priorities and proactively anticipating issues.\n• Consistent good judgment and ability to apply legal knowledge to help create practical business solutions.\n• Flexibility, a positive attitude, a sense of humor and ability to constructively manage change.\n• Excellent verbal and written communication skills.\n• Working knowledge of international cybersecurity and privacy laws, particularly in the US and EU.\n• In-house legal experience preferred, particularly in connection with technology platforms. \n• CIPP certification preferred.\n","?iisp=he-6594079","?iisp=he-6584079",null,"Counsel, Privacy & Security","2018-11-07T11:33:00","2019-03-06T08:05:00",null,null,null,"2018-12-14T06:46:00"]
["https://www.uber.com/careers/list/43981/","What You’ll Need\n \n• Listening, communication and organizational skills\n• Ability to multi-task and follow through while paying attention to detail\n• Coachability, interest in implementing feedback, and dedication to improvement of your craft\n• Curiosity about people and business and an interest in Uber Eats and food\n• A positive attitude and desire to win; a self-starter attitude and determination\n","What You’ll Need\n \n• Extraordinary listening, communication and organizational skills\n• Demonstrated ability to multi-task and follow through while paying strict attention to detail\n• Coachability, interest in implementing feedback, and dedication to improvement of your craft\n• Genuine curiosity about people and business and a passion for Uber Eats and food\n• An infectiously positive attitude and drive to win; a self-starter attitude and determination\n• Bachelor's Degree preferred\n","?iisp=he-6594079","?iisp=he-6584079",null,"Account Representative, Uber Eats- New York","2018-11-07T11:33:00","2019-01-11T17:20:00",null,null,null,"2018-12-14T06:46:00"]
["https://www.uber.com/careers/list/43979/","What You’ll Need\n \n• Listening, communication and organizational skills\n• Ability to multi-task and follow through while paying attention to detail\n• Coachability, interest in implementing feedback, and dedication to improvement of your craft\n• Curiosity about people and business and an interest in Uber Eats and food\n• A positive attitude and desire to win; a self-starter attitude and determination\n","What You’ll Need\n \n• Extraordinary listening, communication and organizational skills\n• Demonstrated ability to multi-task and follow through while paying strict attention to detail\n• Coachability, interest in implementing feedback, and dedication to improvement of your craft\n• Genuine curiosity about people and business and a passion for Uber Eats and food\n• An infectiously positive attitude and drive to win; a self-starter attitude and determination\n• Bachelor's Degree preferred\n","?iisp=he-6594079","?iisp=he-6584079",null,"Account Representative, Uber Eats- Atlanta","2018-11-07T11:33:00","2018-12-18T12:45:00",null,null,null,"2018-12-14T06:46:00"]
["https://www.uber.com/careers/list/43977/","What You’ll Need\n \n• Listening, communication and organizational skills\n• Ability to multi-task and follow through while paying attention to detail\n• Coachability, interest in implementing feedback, and dedication to improvement of your craft\n• Curiosity about people and business and an interest in Uber Eats and food\n• A positive attitude and desire to win; a self-starter attitude and determination\n","What You’ll Need\n \n• Extraordinary listening, communication and organizational skills\n• Demonstrated ability to multi-task and follow through while paying strict attention to detail\n• Coachability, interest in implementing feedback, and dedication to improvement of your craft\n• Genuine curiosity about people and business and a passion for Uber Eats and food\n• An infectiously positive attitude and drive to win; a self-starter attitude and determination\n• Bachelor's Degree preferred\n","?iisp=he-6594079","?iisp=he-6584079",null,"Account Representative, Uber Eats- San Francisco","2018-11-07T11:33:00","2019-01-04T07:40:00",null,null,null,"2018-12-14T06:46:00"]
["https://www.uber.com/careers/list/43976/","What You’ll Need\n \n• Listening, communication and organizational skills\n• Ability to multi-task and follow through while paying attention to detail\n• Coachability, interest in implementing feedback, and dedication to improvement of your craft\n• Curiosity about people and business and an interest in Uber Eats and food\n• A positive attitude and desire to win; a self-starter attitude and determination\n","What You’ll Need\n \n• Extraordinary listening, communication and organizational skills\n• Demonstrated ability to multi-task and follow through while paying strict attention to detail\n• Coachability, interest in implementing feedback, and dedication to improvement of your craft\n• Genuine curiosity about people and business and a passion for Uber Eats and food\n• An infectiously positive attitude and drive to win; a self-starter attitude and determination\n• Bachelor's Degree preferred\n","?iisp=he-6594079","?iisp=he-6584079",null,"Account Representative, Uber Eats -Austin","2018-11-07T11:33:00","2019-01-04T07:40:00",null,null,null,"2018-12-14T06:46:00"]
["https://www.uber.com/careers/list/43973/","What You’ll Need\n• Minimum of 2 years of relevant experience.\n• Experience solving complex problems, exercising judgement in ambiguous circumstances, and communicating across a diverse team.\n• Able to learn and use new software tools.\n• Interpersonal skills. Ability to build relationships, lead a team, manage employees, and create a hard-working but fun workplace\n• Self-motivated, self-directed, and desire to take ownership of tasks to ensure solution.\n• Problem-solving skills.\n• Organization and time management systems for yourself and your team.\n• Valid driver’s license and ability to pass MVR check required (No more than 2 minor violations, and no major violations, in past 3 years)\n","What You’ll Need\n• Minimum of 2 years of relevant experience. The ideal candidate will have leadership experience in a fast-paced work environment.\n• Experience solving complex problems, exercising good judgement in ambiguous circumstances, and effectively communicating across a diverse team.\n• Comfortable learning and using new software tools.\n• Strong interpersonal skills. Ability to build relationships, lead a team, manage employees, and create a hard-working but fun workplace\n• Proven to be self-motivated, self-directed, and eager to take ownership of tasks to ensure solution.\n• Black belt in problem-solving.\n• Excellent organization and time management systems for yourself and your team.\n• Valid driver’s license and ability to pass MVR check required (No more than 2 minor violations, and no major violations, in past 3 years)\n• Knowledge or passion for any of the following a plus: local markets, bikeshare, bike mechanics, mobility, and data/analytics.\n","?iisp=he-6594079","?iisp=he-6584079",null,"Operations Manager (Scooters) - SoCal","2018-11-07T11:33:00","2018-12-12T07:30:00",null,null,null,"2018-12-14T06:46:00"]
["https://www.uber.com/careers/list/42244/","The qualifications for this position are:\n• You haveJavaScript knowledge and have worked with Node.js\n• You have experience with core and emerging web technologies and APIs (HTTP2, TCP/IP, CSS/HTML, Browser JS APIs)\n• You have an understanding of Web and Information Security concepts and concerns, such as CORS, CSP, CSRF, XSS, etc.\n• You have experience debugging and profiling Browsers and Node.js, and understand ways to decrease page load speed and runtime slowdowns\n• You are knowledgeable in modern web tools (npm/Yarn, Babel, Browserify/Webpack/Rollup, etc.)\n• You are knowledgeable in modern web frameworks (React, Angular, Vue, etc.)\n• You are able to communicate and collaborate with others, promoting your ideas as well as being humble when you may be wrong\n• You are interested in learning from and teaching others and are interested in creating tools, products and providing support for your fellow engineers\n","The qualifications for this position are:\n• You have deep JavaScript knowledge and have worked with Node.js\n• You are an expert in core and emerging web technologies and APIs (HTTP2, TCP/IP, CSS/HTML, Browser JS APIs)\n• You have deep understanding of Web and Information Security concepts and concerns, such as CORS, CSP, CSRF, XSS, etc.\n• You are an expert in debugging and profiling Browsers and Node.js, and understand ways to decrease page load speed and runtime slowdowns\n• You are knowledgeable in modern web tools (npm/Yarn, Babel, Browserify/Webpack/Rollup, etc.)\n• You are knowledgeable in modern web frameworks (React, Angular, Vue, etc.)\n• You are adept at communicating and collaborating effectively with others, promoting your ideas as well as being humble when you may be wrong\n• You are excited to learn from and teach others and are passionate about creating tools, products and providing support for your fellow engineers\n\nThe bonus qualifications for this position are:\n• You are knowledgeable in Javascript typing languages/linters (Flow/TypeScript)\n• You are knowledgeable in data access/modeling (GraphQL/Falcor, RPC/Thrift)\n• You are knowledgeable in WebSockets, Server Sent Events, or HTTP/2 Server Push\n• You are familiar with service-oriented architecture, microservices, and distributed systems\n• You have Web/Visual Design, UI/UX, and other relevant HCI experience\n","?iisp=he-6594079","?iisp=he-6584079",null,"Software Engineer - Web Frontend Platform","2018-11-07T11:33:00","2019-03-11T22:20:00",null,null,null,"2018-12-14T06:46:00"]
["https://www.uber.com/careers/list/43946/","WHAT YOU'LL NEED\n• A minimum of 4 years of litigation experience in either big firm or in-house legal department.\n• A./B.S. or paralegal certificate.\n• Legal research skills with Lexis or WL.\n• Able to create and execute searches across vast repositories of data; you’ve got an understanding of how databases work and are able to put that to use on unfamiliar systems and platforms.\n• Communication skills. You know how to communicate clearly in writing, and in speech.\n• Motivated, efficient, organized, and detail focused; able to hande multiple projects at a time in a fast-paced environment, both collaborating as a team to stay in sync and working independently to get the job done.\n• Calm in deadline-driven and high-pressure situations; self-reliant and able to prioritize workload.\n• A utility player. You're willing to help out wherever needed.\n","WHAT YOU'LL NEED\n• A minimum of 4 years of litigation experience in either big firm or in-house legal department; some in-house experience preferred.\n• A./B.S. or paralegal certificate.\n• Experience with in-depth research and discovery preferred.\n• Legal research skills with Lexis or WL.\n• Trial/arbitration experience preferred.\n• Experience with dealing with and/or responding to agency charges a plus.\n• Technical Savvy – experience with Excel and Google Drive and Box is highly preferred; SQL knowledge is a plus.\n• Adept at creating and executing searches across vast repositories of data; you’ve got a strong understanding of how databases work and are agile enough to put that to use on unfamiliar systems and platforms.\n• Excellent communication skills. You know how to communicate clearly in writing, and in speech.\n• Highly motivated, efficient, organized, and detail focused; able to juggle multiple projects at a time in a fast-paced environment, both collaborating as a team to stay in sync and working independently to get the job done.\n• Calm in deadline-driven and high-pressure situations; self-reliant and able to prioritize workload.\n• A utility player. You're willing to help out wherever needed.\n","?iisp=he-6594079","?iisp=he-6584079",null,"Paralegal, Employment","2018-10-30T07:19:00","2018-11-15T17:00:00","2018-12-04T07:08:00",null,null,"2018-12-14T06:46:00"]
["https://www.uber.com/careers/list/43908/","What You’ll Need\n• Minimum 5 years of product management experience.\n• Academic background in computer science, statistics, or engineering.\n• An interest in applying technology and data to change how humanity moves.\n• Customer empathy, with an ability to transform complex data and customer insights into positive user experiences.\n• Experience delivering creative products.\n• Experience working in a metrics and experimentation driven organization.\n• Experience partnering with cross-functional teams of engineers, data scientists, and designers to deliver products.\n• Finger-tippiness with data: you get the data you need and can turn it into a story. You know how to use data to make decisions without getting stuck in analysis paralysis.\n• Communication skills, both within your team and with leadership and stakeholders.\n• A desire to grow and learn.\n\n","What You’ll Need\n• Minimum 5 years of product management experience.\n• Academic background in computer science, statistics, or engineering.\n• A passion to apply technology and data to change how humanity moves.\n• Strong customer empathy, with an ability to transform complex data and customer insights into delightful user experiences.\n• Experience delivering highly successful and creative products with your fingerprints all over them - you’re proud of what you’ve accomplished.\n• Experience working in a metrics and experimentation driven organization.\n• Experience partnering with cross-functional teams of engineers, data scientists, and designers to deliver world-class products.\n• Finger-tippiness with data: you get the data you need and can whip it into an insightful story with no help. You know how to use data to make decisions without getting stuck in analysis paralysis.\n• Expert communication skills, both within your team and with leadership and stakeholders.\n• A never-ending desire to grow and learn.\n\nBonus Points If\n• Advanced degree or MBA\n• Experience managing direct reports\n","?iisp=he-6594079","?iisp=he-6584079",null,"Sr Product Manager - Marketplace Fares","2018-10-30T07:19:00","2019-02-13T19:10:00",null,null,null,"2018-12-14T06:46:00"]
["https://www.uber.com/careers/list/43921/","What You’ll Need\n \n• At least one year of relevant experience\n• Background in solving complex customer problems\n• Team leadership experience in a fast-paced environment\n ","What You’ll Need\n \n• At least one year of relevant experience\n• Demonstrated background in solving complex customer problems\n• Team leadership experience in a fast-paced environment\n \nBonus Points if\n \n• You have previous sales experience\n• You have previous customer support team management experience\n• You have a Bachelor’s Degree\n","?iisp=he-6594079","?iisp=he-6584079",null,"Team Lead, Greenlight Operations - Chicago (Rogers Park)","2018-10-30T07:19:00","2019-02-01T06:20:00",null,null,null,"2018-12-14T06:46:00"]
["https://www.uber.com/careers/list/43909/","What You’ll Need\n• BS degree in Computer Science or related engineering field. \n• 10+ years of relevant network engineering experience.\n• Experience with network design and implementation in one or more areas, including: datacenter, backbone, edge, transport and/or cloud networking.\n• Experience with software-based network automation technologies.\n• Experience with SDN technologies and open networking ecosystem.\n• Written and verbal communication skills and the ability to write detailed design documents.\n• Experience mentoring network engineers.\n","What You’ll Need\n• BS degree in Computer Science or related engineering field. \n• 10+ years of relevant network engineering experience.\n• Extensive experience with network design and implementation in one or more areas, including: datacenter, backbone, edge, transport and/or cloud networking.\n• Experience with software-based network automation technologies.\n• Experience with SDN technologies and open networking ecosystem.\n• Excellent written and verbal communication skills and the ability to write detailed design documents.\n• Experience mentoring network engineers.\n\nBonus Points If\n• Masters/Ph.D. preferred in Computer Science or related engineering field.\n","?iisp=he-6594079","?iisp=he-6584079",null,"Staff Network Engineer","2018-10-30T07:19:00","2019-02-12T10:55:00",null,null,null,"2018-12-14T06:46:00"]
["https://www.uber.com/careers/list/43906/","What You’ll Need\n• 2-5 years experience in a role requiring analytical, data-driven problem solving, quantitative analysis, and communicating findings to management\n• Data-driven decision making mentality, business judgment, and the ability to back your analysis up with analytical thinking\n• SQL knowledge with experience using Business Intelligence Tools (Tableau, Looker, etc.)\n• Communication skills; able to distill complex data sets into simple and digestible takeaways for senior leaders and managers.\n• Ability to take initiative in a constantly-changing and ambiguous work environment\n ","What You’ll Need\n• 2-5 years experience in a role requiring rigorous analytical, data-driven problem solving, quantitative analysis, and communicating findings to management\n• Data-driven decision making mentality, sound business judgment, and the ability to back your analysis up with meaningful analytical thinking\n• Expert SQL knowledge with advanced proficiency using Business Intelligence Tools (Tableau, Looker, etc.)\n• Prefered experience in Python / Advanced R experience (Visualization, Data Wrangling, Statistical Modelling, A/B testing etc.)\n• Strong communication skills; able to distill complex data sets into simple and digestible takeaways for senior leaders and managers.\n• Ability to take initiative in a constantly-changing and ambiguous work environment\n \nBonus Points If\n• Experience in a high-growth analytics team or startup businesses\n• Experience in data science\n• Experience in business and financial modelling\n• Passion about the food and the local restaurant scene\n","?iisp=he-6594079","?iisp=he-6584079",null,"Operations Manager - Strategy & Analytics, Uber Eats","2018-10-30T07:19:00","2018-11-13T20:52:00","2018-12-04T07:08:00",null,null,"2018-12-14T06:46:00"]
["https://www.uber.com/careers/list/43898/","What You’ll Need\n• M.A., B.A. or B.S. \n• 2 to 5 years of experience working as a specialist/analyst in Supplier Management (not Sourcing)\n• Experience with supplier portals for supplier-set and maintenance\n• Vendor management, influence, and expediting capabilities\n• Experience working with Oracle, I-Supplier, or any E-procurement tool \n• Embracing a culture of continuous improvement across the supplier lifecycle process, pinpointing opportunities for process improvement by thinking out of the box and looking for innovative ways to facilitate efficiency and effectiveness. \n ","What You’ll Need\n• M.A., B.A. or B.S. (MBA a plus)\n• 2 to 5 years of experience working as a specialist/analyst in Supplier Management (not Sourcing)\n• Experience with supplier portals for supplier-set and maintenance\n• Excellent vendor management, influence, and expediting capabilities\n• Experience working with Oracle, I-Supplier, or any E-procurement tool \n• Embracing a culture of continuous improvement across the supplier lifecycle process, always pinpointing opportunities for process improvement by thinking out of the box and looking for innovative ways to drive efficiency and effectiveness. \n \nBonus Points If\n• Experience working with Coupa\n","?iisp=he-6594079","?iisp=he-6584079",null,"Supplier Management Process Specialist","2018-10-30T07:19:00","2019-01-18T09:05:00",null,null,null,"2018-12-14T06:46:00"]
["https://www.uber.com/careers/list/43857/","What You’ll Need \n• Bachelor's degree or equivalent professional experience\n• At least 3 years of management experience in operations or investigations case management, crisis counseling or a similar role\n• Experience interviewing both parties to an incident either in-person or over the phone\n• Experience investigating person to person allegations and accidents\n• Experience leading a team \n• Experience collaborating with and managing senior stakeholders across a global enterprise\n• Communication skills including the ability to listen, diplomatically express opinions, and to present to varied audiences\n• Ability to use data to quantify problems and facilitate solutions\n \n","What You’ll Need \n• Bachelor's degree or equivalent professional experience\n• At least 3 years of management experience in operations or investigations case management, crisis counseling or a similar role\n• Experience interviewing both parties to an incident either in-person or over the phone\n• Experience investigating person to person allegations and accidents\n• Experience leading a team \n• Experience collaborating with and managing senior stakeholders across a global enterprise\n• Strong communication skills including the ability to listen effectively, confidently and diplomatically express opinions, and to present effectively to varied audiences\n• Proven ability to use data to quantify problems and drive solutions\n \nBonus Points If\n• Experience in criminal investigations, claims liability, and/or HR Investigations\n• Prior experience with crisis management\n• CFI or PCI certification\n• Experience as a public safety field training officer (FTO) or similar\n• Wicklander-Zulawski or Reid training\n","?iisp=he-6594079","?iisp=he-6584079",null,"Quality Manager, Special Investigations Unit","2018-10-30T07:19:00","2018-12-14T06:45:00",null,null,null,"2018-12-14T06:46:00"]
["https://www.uber.com/careers/list/43841/","What You’ll Need\n \n• Bachelor's degree in electrical engineering or equivalent experience\n• 8+ years of experience working leading board design of server motherboards, graphics boards, or storage boards along with driving the overall server system design with successful releases to production\n• Experience validation and debug of the server systems and motherboards to ensure proper form/fit/functionality of the board with all of it's interfaces.\n• Experience with technically leading or managing a team of engineers \n• Experience driving component and chip design vendors \n• Familiar with tools: schematic capture & board layout - ORCAD, Allegro, etc.\n• Familiar with all industry interface standards (PCIe, DRR, etc.)\n","What You’ll Need\n \n• Bachelor's degree in electrical engineering or equivalent experience\n• 8+ years of experience working leading board design of server motherboards, graphics boards, or storage boards along with driving the overall server system design with successful releases to production\n• Experience validation and debug of the server systems and motherboards to ensure proper form/fit/functionality of the board with all of it's interfaces.\n• Experience with technically leading or managing a team of engineers \n• Experience driving component and chip design vendors \n• Familiar with tools: schematic capture & board layout - ORCAD, Allegro, etc.\n• Familiar with all industry interface standards (PCIe, DRR, etc.)\n\n• Bonus Points If\n• Master's degree in electrical engineering\n• Experience with working closely with firmware sw engineering and support device driver debug\n• Experience with Datacenter Hardware Open Source Standards like OCP, Open19, etc.\n• Experience working with ODM partners\n• Experience with Linux operating systems\n• Experience handling data center deployments and issues\n• Experience resolving server production yield and test issues\n","?iisp=he-6594079","?iisp=he-6584079",null,"Sr Server Design Hardware Engineer","2018-10-30T07:19:00","2019-02-14T19:10:00",null,null,null,"2018-12-14T06:46:00"]
["https://www.uber.com/careers/list/43493/","What You’ll Need\n• Strategic marketing experience\n• Leader: Ability to challenge and influence a variety of stakeholders\n• Ability to design, build, and manage cross-disciplinary teams to operationally deliver digital, paid marketing campaigns\n• Conceptual and strategic thinker: Ability to solve marketing problems through the application of applied technology\n• Ability to interpret, and apply policies and procedures and help define new policies/procedures for emerging technologies and environments\n• Change agent: Ability to facilitate change via setting priorities, motivating partners and executing on commitments\n• Action-oriented self-starter: Ability to identify/solve problems with interest, energy, a detail orientation, and desire to facilitate results\n• Resource planning and capacity planning experience\n• Desire to learn new technologies\n• Familiar with reporting tools, dashboards, and data visualization\n• Ability to work in a highly matrixed organization, understand priorities, and manage multiple tracks of business\n• Ability to interpret campaign strategies and goals to ensure successful delivery","What You’ll Need\n• Strategic marketing experience ideally in brand or product marketing\n• Strong leader: Ability to challenge and influence a variety of stakeholders\n• Ability to design, build, and manage cross-disciplinary teams to operationally deliver digital, paid marketing campaigns\n• Conceptual and strategic thinker: Ability to solve marketing problems through the application of applied technology\n• Ability to interpret, and apply policies and procedures and help define new policies/procedures for emerging technologies and environments\n• Reliable change agent: Ability to drive change via setting priorities, motivating partners and executing on commitments\n• Action-oriented self-starter: Ability to identify/solve problems with passion, energy, a detail orientation, and enthusiasm to drive results\n• Resource planning and capacity planning experience\n• Eager to learn new technologies\n• Comfortable with reporting tools, dashboards, and data visualization\n• Ability to succeed in a highly matrixed organization, understand priorities, and manage multiple tracks of business\n• Ability to interpret campaign strategies and goals to ensure successful delivery\n• Familiarity with Agile practices desirable\n• Familiarity with reporting dashboards for digital media a plus\n• 10-15 years of directly relevant practical experience desired\n• Formal Project or Program Management experience a plus\n","?iisp=he-6594079","?iisp=he-6584079",null,"Director, Marketing Operations","2018-10-30T07:19:00","2019-04-15T09:15:00",null,null,null,"2018-12-14T06:46:00"]
["https://www.uber.com/careers/list/43800/","What You’ll Need \n• The candidate must be able to interact with Law Enforcement Officials at all levels\n• Experience in communicating findings orally and in written products\n• Travel within the region as needed - Approx 50% of your time, up to 3 days at a time is likely\n• Must be flexible and able to work non-traditional hours on short notice\n\n","What You’ll Need \n• 8+ years of Investigative experience within US Law Enforcement background preferred\n• The candidate must comfortably interact with Law Enforcement Officials at all levels\n• Experience in communicating findings orally and in written products\n• Travel within the region as needed - Approx 50% of your time, up to 3 days at a time is likely\n• Must be flexible and able to work non-traditional hours on short notice\n• A working relationship with Canadian Law Enforcement agencies is preferred\n","?iisp=he-6594079","?iisp=he-6584079",null,"Law Enforcement Outreach Lead","2018-10-30T07:19:00","2018-12-31T09:55:00",null,null,null,"2018-12-14T06:46:00"]
["https://www.uber.com/careers/list/43751/","What You’ll Need\n \n• Undergraduate degree in engineering or other related technical field\n• 2+ years in a testing environment \n• Analytic and logical thinking\n• Problem-solving ability\n• Attention to detail and diligence to ensure that all action items receive appropriate follow-up\n• Ability to envision real-world collection scenarios and devise test methodologies for them\n• A sense of intellectual curiosity and creativity\n• Communication skills covering both written and verbal communication with a wide variety of audiences\n \n\n","What You’ll Need\n \n• Undergraduate degree in engineering or other related technical field, advanced degree strongly preferred\n• 2+ years in a testing environment - prefer hardware/software integration experience\n• Strong analytic and logical thinking\n• Strong problem-solving ability\n• Strong attention to detail and diligence to ensure that all action items receive appropriate follow-up\n• Ability to envision real-world collection scenarios and devise test methodologies for them\n• A sense of intellectual curiosity and creativity\n• Effective communication skills covering both written and verbal communication with a wide variety of audiences\n \nBonus Points If\n• Ability to run Unix shell commands\n• Familiarity with Ubuntu\n• Experience with automotive technology\n\n","?iisp=he-6594079","?iisp=he-6584079",null,"Integration & Test Program Manager - Testing","2018-10-30T07:19:00","2018-11-08T11:45:00","2018-11-15T14:48:00",null,null,"2018-12-14T06:46:00"]
["https://www.uber.com/careers/list/43694/","What You’ll Need\n• Minimum 5 years of product management experience.\n• Academic background in computer science, statistics, or engineering.\n• An interest in applying technology and data to change how humanity moves.\n• Customer empathy, with an ability to transform complex data and customer insights into positive user experiences.\n• Experience delivering creative products \n• Experience working in a metrics and experimentation driven organization.\n• Experience partnering with cross-functional teams of engineers, data scientists, and designers to deliver products.\n• Finger-tippiness with data: you get the data you need and can turn it into a story. You know how to use data to make decisions without getting stuck in analysis paralysis.\n• Communication skills, both within your team and with leadership and stakeholders.\n• A desire to grow and learn.","What You’ll Need\n• Minimum 5 years of product management experience.\n• Academic background in computer science, statistics, or engineering.\n• A passion to apply technology and data to change how humanity moves.\n• Strong customer empathy, with an ability to transform complex data and customer insights into delightful user experiences.\n• Experience delivering highly successful and creative products with your fingerprints all over them - you’re proud of what you’ve accomplished.\n• Experience working in a metrics and experimentation driven organization.\n• Experience partnering with cross-functional teams of engineers, data scientists, and designers to deliver world-class products.\n• Finger-tippiness with data: you get the data you need and can whip it into an insightful story with no help. You know how to use data to make decisions without getting stuck in analysis paralysis.\n• Expert communication skills, both within your team and with leadership and stakeholders.\n• A never-ending desire to grow and learn.\n\nBonus Points If\n• Advanced degree or MBA\n• Experience managing direct reports\n","?iisp=he-6594079","?iisp=he-6584079",null,"Senior Product Manager - Marketplace Fares","2018-10-30T07:19:00","2019-02-13T19:10:00",null,null,null,"2018-12-14T06:46:00"]
["https://www.uber.com/careers/list/43785/","What You’ll Need \n \n• Candidates must submit a writing sample to be considered for this role: http://t.uber.com/tlwritingsample2018\n• Bachelor’s degree (Communications, Journalism, Marketing) or equivalent experience  \n• Minimum of 3 years of work experience\n• Minimum of 1 year of people management experience \n• Organized, self-driven, and detail-oriented\n• Able to handle ambiguity; enjoy developing new processes \n• Positive attitude and ability to learn new concepts quickly \n• Organization, project-management skills, and attention to detail \n• Ability to gain trust and work collaboratively with a variety of stakeholders, including customer experience leadership team \n• Ability to manage, set team goals, develop team members \n ","What You’ll Need \n \n• Candidates must submit a writing sample to be considered for this role: http://t.uber.com/tlwritingsample2018\n• Bachelor’s degree (Communications, Journalism, Marketing) or equivalent experience  \n• Minimum of 3 years of work experience\n• Minimum of 1 year of people management experience \n• Organized, self-driven, and detail-oriented\n• Comfortable dealing with ambiguity; enjoy developing new processes \n• Positive attitude and ability to learn new concepts quickly \n• Exceptional organization, project-management skills, and attention to detail \n• Ability to gain trust and work collaboratively with a variety of stakeholders, including customer experience leadership team \n• Ability to manage effectively, set team goals, develop team members \n \nBonus Points If\n \n• Familiarity with Confluence or other enterprise Content Management Systems (CMS)\n• Familiarity with managing tasks with JIRA (e.g. Kanban boards)  \n• Experience developing support content or managing support content \n• Experience creating flowcharts and process maps with tools, like LucidChart  \n","?iisp=he-6594079","?iisp=he-6584079",null,"Content Coordinator Team Lead","2018-10-30T07:19:00","2018-11-12T19:45:00","2018-12-04T07:08:00",null,null,"2018-12-14T06:46:00"]
["https://www.uber.com/careers/list/43756/","What You’ll Need\n\n• Experience as a technical leader and manager for at least 4+ years.\n• Experience going through the full software cycle of requirements, design, coding/testing, rollout/deploy best practices in delivering software and services.\n• People management skills including growing and mentoring your team members\n• Experience evolving and presenting a vision/roadmap for your team\n• Interest in your team’s mission and the self-starting personality to make things happen\n• A record of delivering results even when requirements are under-specified\n• Programming skills in Java, Go, Python, or similar.\n\n","What You’ll Need\n\n• Experience as a technical leader and manager for at least 4+ years.\n• Experience going through the full software cycle of requirements, design, coding/testing, rollout/deploy best practices in delivering world class software and services.\n• Strong people management skills including growing and mentoring your team members\n• Experience evolving and presenting a strong vision/roadmap for your team\n• Passion about your team’s mission and the self-starting personality to make things happen\n• A track record of delivering results even when requirements are under-specified\n• Solid programming skills in Java, Go, Python, or similar.\n\nBonus Points If\n• Experience with payments products and infrastructure\n• Experience with streaming technologies like Kafka, and distributed storage technologies like DynamoDB and Cassandra\n","?iisp=he-6594079","?iisp=he-6584079",null,"Sr Engineering Manager, Money","2018-10-30T07:19:00","2019-01-08T07:15:00",null,null,null,"2018-12-14T06:46:00"]
["https://www.uber.com/careers/list/43749/","What You’ll Need\n \n• An emphasis on high quality code. We use Go and Java but experience in either is not strictly required.\n• An interest in architecting, designing and implementing high-performance systems.  You think about performance, memory utilization, I/O bandwidth, and scalability as fundamental requirements in your designs, not as an afterthought when things break.\n• Experience in building distributed systems. The systems we build must be reliable, available and fault tolerant - so every engineer that joins our team should have some level-appropriate experience building distributed systems.\n• BS or higher in computer science or software engineering or other STEM discipline.\n ","What You’ll Need\n \n• An emphasis on high quality code. We use Go and Java but experience in either is not strictly required.\n• A demonstrated passion for meticulously architecting, designing and implementing high-performance systems.  You think about performance, memory utilization, I/O bandwidth, and scalability as fundamental requirements in your designs, not as an afterthought when things break.\n• Experience in building distributed systems. The systems we build must be reliable, available and fault tolerant - so every engineer that joins our team should have some level-appropriate experience building distributed systems.\n• BS or higher in computer science or software engineering or other STEM discipline.\n \nExtras\n \n• Experience in building logging solutions\n• Hands-on experience with large-scale ELK stack\n• Strength in programming with the Unix toolchain, systems knowledge, scripting\n\n","?iisp=he-6594079","?iisp=he-6584079",null,"Sr Infrastructure Software Engineer - Observability Logging Platform (Palo Alto)","2018-10-30T07:19:00","2019-03-07T13:45:00",null,null,null,"2018-12-14T06:46:00"]
["https://www.uber.com/careers/list/43748/","What You'll Need\n• Experience with QGIS\n• Experience with data analysis/reporting using spreadsheets\n• Experience working with vendor labor\n• Organizational skills\n• Interest in Uber’s mission and the company’s hybrid technology/operations nature\n","What You'll Need\n• Experience with QGIS\n• Expertise in data analysis/reporting using spreadsheets\n• Experience working with vendor labor\n• Exceptional organizational skills\n• Passion for Uber’s mission and the company’s hybrid technology/operations nature\n\nBonus Points If\n• Knowledge or interest in GPS or mapping technology\n• Familiarity with SQL\n• Familiarity with any scripting language\n","?iisp=he-6594079","?iisp=he-6584079",null,"Map Quality Program Manager","2018-10-30T07:19:00","2018-12-11T08:50:00",null,null,null,"2018-12-14T06:46:00"]
["https://www.uber.com/careers/list/43522/","What You’ll Need\n \n• Experience with one object oriented programming language (e.g. Java, Go, C++)\n• Experience with general web technologies (e.g. JavaScript/Node.js) \n• Experience with developing complex software systems scaling to millions of users with production quality deployment, monitoring and reliability.\n• Experience with large-scale distributed storage and database systems (SQL or NoSQL, e.g. MySQL, Cassandra)\n• Ability to decompose complex business problems and lead a team in solving them","What You’ll Need\n \n• Expertise in one or more object oriented programming language (e.g. Java, Go, C++)\n• Expertise in general web technologies (e.g. JavaScript/Node.js) \n• Experience with developing complex software systems scaling to millions of users with production quality deployment, monitoring and reliability.\n• Experience with large-scale distributed storage and database systems (SQL or NoSQL, e.g. MySQL, Cassandra)\n• Ability to decompose complex business problems and lead a team in solving them\n \nBonus Points If\n• BS/MS/PhD in Computer Science or a related field\n• We love React - so knowledge there is a plus.\n• UI design, User experience, HTML/CSS\n• Experience with building high performance, scalable distributed systems using technologies like Kafka, Hadoop, Hive, or Zookeeper\n","?iisp=he-6594079","?iisp=he-6584079",null,"Full Stack Software Engineer - Money Platform","2018-10-30T07:19:00",{"$nulls":4},"2018-12-14T06:46:00"]
["https://www.uber.com/careers/list/43641/","What You'll Need\n \n• Minimum of 8 years of product management, engineering, operations, program management, or marketing experiences, with at least 5 years of product management experience\n• Experience building products from zero to first release\n• Understanding of big-data processing pipelines (over Hadoop or similar technologies), distributed data stores, and distributed file systems\n• Prior working experience building an ad targeting platform\n• Knowledge of database architecture / schema\n• Computer science undergraduate degree\n• Experience with SQL\n• Analytical skills\n ","What You'll Need\n \n• Minimum of 8 years of product management, engineering, operations, program management, or marketing experiences, with at least 5 years of product management experience\n• Experience building products from zero to first release\n• Experience applying Machine Learning / statistical inference technologies to a variety of complex problems is highly preferred\n• Understanding of big-data processing pipelines (over Hadoop or similar technologies), distributed data stores, and distributed file systems\n• Prior working experience building an ad targeting platform\n• Knowledge of database architecture / schema\n• Computer science undergraduate degree\n• SQL proficiency\n• Deep analytical expertise\n \nBonus Points\n• Prior experience working in or with marketing technologies\n• Prior experience working on global projects, or in an international setting\n","?iisp=he-6594079","?iisp=he-6584079",null,"Product Manager - AdTech - Targeting","2018-10-23T06:21:00","2019-01-26T07:05:00",null,null,null,"2018-12-14T06:46:00"]
["https://www.uber.com/careers/list/43593/","What You’ll Need\n \n• 4+ years of business / financial process development, finance / accounting, and project management experience\n• BS/BA degree in finance, accounting, and/or related field\n• Experience of leading global projects with measurable business impact\n• Understanding of business operations, specifically accounting and financial analysis & planning\n• Familiar with what a mature finance organization looks like and can develop clear action plans to achieve milestones\n• Experience diving deep into technical problems and working through solutions with subject matter experts\n• Critical thinker ready to problem solve within different areas of the operations and finance organizations\n• Understands financial process, technology, and general org structure\n• Written, verbal, coordination and presentation skills. Research skill.\n• Computer skills in MS Office\n• Self-motivated with attention to detail, project management and organizational skills and demonstrates ownership of tasks\n• Skills to author requirements documents, technical specifications, interface mapping documents, and process flows.\n• Ability to work in a fast-paced, rapidly changing, and high-growth organization, and to develop and sustain relationships internally and cross-functionally  \n• Interest in Uber’s mission and the company’s hybrid technology / operations nature\n","What You’ll Need\n \n• 4+ years of business / financial process development, finance / accounting, and project management experience\n• Experience in management consulting and some systems is a plus\n• BS/BA degree in finance, accounting, and/or related field\n• MBA or CPA is preferred\n• Demonstrated experience of leading global projects with measurable business impact\n• Deep understanding of business operations, specifically accounting and financial analysis & planning\n• Familiar with what a mature finance organization looks like and can develop clear action plans to achieve milestones\n• Comfortable diving deep into technical problems and working through solutions with subject matter experts\n• Critical thinker ready to problem solve within different areas of the operations and finance organizations\n• Understands financial process, technology, and general org structure\n• Good command of written, verbal, coordination and presentation skills. Excellent research skill.\n• Strong computer skills in MS Office; knowledge of Oracle, OneSource, HFM a plus\n• Self-motivated with great attention to detail, project management and organizational skills and demonstrates strong ownership of tasks\n• Skills to author requirements documents, technical specifications, interface mapping documents, and process flows.\n• Ability to work in a fast-paced, rapidly changing, and high-growth organization, and to develop and sustain relationships internally and cross-functionally  \n• Passion for Uber’s mission and the company’s hybrid technology / operations nature\n\nBonus Points If\n \n• Oracle, HFM, OneSource, TM1 financial systems and Trintech\n• SQL and BI reporting\n• Revenue and OpEx accounting, financial close, budgeting and forecasting, GAAP standards, SOX compliance\n• Consulting for or working in a startup culture\n","?iisp=he-6594079","?iisp=he-6584079",null,"Senior Associate, Accounting Transformation","2018-10-23T06:21:00","2018-12-19T18:20:00",null,null,null,"2018-12-14T06:46:00"]
["https://www.uber.com/careers/list/43479/","What You’ll Need\n \n• BS/MS/PhD in Computer Science, Computer Engineering, or related field\n• Previous experience with compiler optimization, static analysis, or dynamic analysis\n• Understanding of modern program analysis techniques\n• 3+ years of experience in software development or developing infrastructure \n• Coding skills and software design skills","What You’ll Need\n \n• BS/MS/PhD in Computer Science, Computer Engineering, or related field\n• Previous experience with compiler optimization, static analysis, or dynamic analysis\n• Solid understanding of modern program analysis techniques\n• 3+ years of experience in software development or developing infrastructure \n• Excellent coding skills and software design skills\n \nBonus Points If\n• Published papers in program analysis or code optimization\n","?iisp=he-6594079","?iisp=he-6584079",null,"Program Analysis Engineer","2018-10-23T06:21:00","2019-01-05T06:20:00",null,null,null,"2018-12-14T06:46:00"]
["https://www.uber.com/careers/list/43617/","What You’ll Need\n• Minimum 4 years of experience using data to facilitate business decisions\n• Ability to self-serve, investigate and get the data\n• Experience presenting data visually and selling ideas to leadership\n• Excel and data management skills\n• Able to handle ambiguity and have the ability to structure ideas into actionable plans\n• Communication skills and attention to detail\n","What You’ll Need\n• Minimum 4 years of experience using data to facilitate business decisions; high growth, technology, management consulting, business intelligence, or investment banking/private equity background preferred\n• Ability to self-serve, investigate and get the data\n• Experience presenting data visually and selling ideas to leadership\n• Exceptional Excel and data management skills\n• Comfortable with ambiguity and have the ability to structure ideas into actionable plans\n• Excellent communication skills and attention to detail\n \nBonus Points If\n• You have experience with programming languages such as R and/or Python\n","?iisp=he-6594079","?iisp=he-6584079",null,"Program Manager - Onboarding and Integrations","2018-10-23T06:21:00","2018-11-09T11:50:00","2018-12-04T07:08:00",null,null,"2018-12-14T06:46:00"]
["https://www.uber.com/careers/list/43602/","What You’ll Need\n• Minimum 5 years of experience in data driven finance or insurance role\n• Understanding of property and casualty insurance\n• BA/BS in Economics, Finance, Statistics or other quantitative field\n• Desire and experience in identifying, building, and maintaining scalable processes\n• Excel skills, and ability to automate reporting via SQL or other coding language\n• Communication skills, organized, able to multitask\n• Attention to detail, and desire to learn complex topics\n• Interest in Uber","What You’ll Need\n• Minimum 5 years of experience in data driven finance or insurance role\n• Thorough understanding of property and casualty insurance\n• BA/BS in Economics, Finance, Statistics or other quantitative field\n• Desire and experience in identifying, building, and maintaining scalable processes\n• Excellent excel skills, and proven ability to automate reporting via SQL or other coding language\n• Great communication skills, organized, able to multitask\n• Attention to detail, hunger and drive to learn complex topics\n• Enthusiasm about Uber!\n \nBonus Points If\n• Understanding of complex insurance transactions (i.e. reinsurance, self insured retention)\n• Experience working with actuarial teams\n• Experience managing a developing teams\n","?iisp=he-6594079","?iisp=he-6584079",null,"Senior Associate / Manager, Insurance Finance","2018-10-23T06:21:00","2019-01-16T12:05:00",null,null,null,"2018-12-14T06:46:00"]
["https://www.uber.com/careers/list/43590/","What You’ll Need \n \n• Experience with customer experience design\n• Minimum 8 years of professional experience covering a wide range of responsibilities such as customer support and services, process development, implementation and improvement\n• A leader who can build relationships and is experienced at completing work through influence. Ability to provide direction and support a team\n• Ability to innovate, be creative and looking for ways to change and optimize process","What You’ll Need \n \n• Experience with customer experience design\n• Minimum 8 years of professional experience covering a wide range of responsibilities such as customer support and services, process development, implementation and improvement\n• A leader who can build relationships and is experienced at completing work through influence. Ability to provide direction and support a team\n• Ability to innovate, be creative and constantly looking for ways to change and optimize process\n \nBonus Points if\n \n• An MBA or graduate degree \n","?iisp=he-6594079","?iisp=he-6584079",null,"Global Head of Greenlight Experience","2018-10-23T06:21:00","2019-01-29T06:50:00",null,null,null,"2018-12-14T06:46:00"]
["https://www.uber.com/careers/list/43586/","What You’ll Need\n\n• A minimum of 3 years of insurance company or law firm experience involving litigating claims/cases arising from Property and Casualty Insurance\n• Case evaluation abilities, critical thinking skills and the capacity to oversee a large portfolio of matters\n• Deposition experience (including presenting witnesses)\n• Academic credentials and law degree from a good law school\n• Barred in any state, preferrable to have experience litigating in the NorthEast. \n• Possess business judgment, communication and interpersonal skills\n• Interest in Uber\n","What You’ll Need\n\n• A minimum of 3 years of insurance company or law firm experience involving litigating claims/cases arising from Property and Casualty Insurance\n• In-house experience strongly preferred, with the know-how to manage a case through pleadings, motion practice, discovery, dispute resolution and trial\n• Solid case evaluation abilities, critical thinking skills and the capacity to oversee a large portfolio of matters\n• First chair mediation or trial experience preferred\n• Deposition experience (including presenting witnesses)\n• Strong academic credentials and law degree from a top law school\n• Joint JD/MBA holders preferred\n• Barred in any state, preferrable to have experience litigating in the NorthEast. \n• Possess excellent business judgment, communication and interpersonal skills\n• Enthusiasm about Uber!\n","?iisp=he-6594079","?iisp=he-6584079",null,"Counsel, Insurance Litigation (Central Region)","2018-10-23T06:21:00","2018-12-01T11:35:00","2018-12-10T08:23:00",null,null,"2018-12-14T06:46:00"]
["https://www.uber.com/careers/list/43585/","Here are the skills and experiences we’re looking for:\n• Minimum of 5 years experience as a Technical Program Manager or engineering manager in a software, SaaS, or systems development environment.\n• Technical skill and an ability to understand technical designs, challenges and risks. Engineers enjoy working closely with you.\n• Experienced in project management. Familiar with both Agile and Waterfall methodologies and able to apply them where best suited.\n• Written and verbal communication skills and emotional intelligence. Ability to influence and motivate people across a broad variety of job functions through your relationships.\n• Organizational skills to manage multiple, competing priorities simultaneously, without losing sight of highest priority items.\n• You have interpersonal skills, technical ability, and a portfolio of execution. If you enjoy discussing anything from ML, to data pipelines, to ontologies, to graphs, to data centers and you measure the success of your projects in nines, then we want you on the team.\n• Experience leading projects through analysis, design, data modeling, ETL, visualization, and deployment lifecycles.\n ","Here are the skills and experiences we’re looking for:\n• Minimum of 5 years experience as a Technical Program Manager or engineering manager in a software, SaaS, or systems development environment.\n• Solid technical aptitude and an ability to understand technical designs, challenges and risks. Engineers enjoy working closely with you.\n• Experienced in project management. Familiar with both Agile and Waterfall methodologies and able to apply them where best suited.\n• Excellent written and verbal communication skills and exceptional emotional intelligence. Ability to influence and motivate people across a broad variety of job functions through your relationships.\n• Strong organizational skills to manage multiple, competing priorities simultaneously, without losing sight of highest priority items.\n• You have great interpersonal skills, deep technical ability, and a portfolio of successful execution. If you enjoy discussing anything from ML, to data pipelines, to ontologies, to graphs, to data centers and you measure the success of your projects in nines, then we want you on the team.\n• Experience leading projects through analysis, design, data modeling, ETL, visualization, and deployment lifecycles; technical knowledge of hadoop, hive, presto, graph databases, AWS, GCP, data science, modeling, feature engineering, security, cluster monitoring, capacity management, and working with globally distributed teams will be a plus.\n \nDesired:\n• Computer Science degree, or related field. \n• Worked at a high paced, fast growing, scrappy tech startup.\n• Prior experience with engineering platforms, tooling, and system design.\n• Technical program management experience at an established company with a strong TPM team.\n","?iisp=he-6594079","?iisp=he-6584079",null,"Sr Technical Program Manager - Knowledge & Decision Platform","2018-10-23T06:21:00","2019-02-08T09:12:00",null,null,null,"2018-12-14T06:46:00"]
["https://www.uber.com/careers/list/43583/","What You'll Need\n \nThe primary skill sets expected in the candidate are\n• Experience with writing, releasing, maintaining mobile code\n• Experience in Swift and Objective-C\n• Experience analyzing a feature in production using analytics and experiments\n• Focus on high-quality mobile UI experiences\n• Experience efficiently collaborating on projects\n• Understanding of iOS SDK\n• Bias toward action. You strive for both speed and quality. You've shown good judgment about shipping as fast as possible while ensuring your products and platforms are built in a sustainable, responsible way--and you're comfortable making mistakes, provided you learn from them.\n ","What You'll Need\n \nThe primary skill sets expected in the candidate are\n• Experience with writing, releasing, maintaining mobile code\n• Strong expertise in Swift and Objective-C\n• Experience analyzing a feature in production using analytics and experiments\n• Strong focus on high-quality mobile UI experiences\n• Experience efficiently collaborating on projects\n• Deep understanding of iOS SDK\n• Bias toward action. You believe that speed and quality aren't mutually exclusive. You've shown good judgment about shipping as fast as possible while ensuring your products and platforms are built in a sustainable, responsible way--and you're comfortable making mistakes, provided you learn from them.\n \nBonus Points\n• Experience with AR/VR applications.\n• Expert in web technologies and APIs (HTTP2, CSS/HTML, Browser JS APIs, WebSockets etc.)\n• Experience with Android development.\n• Exposure to human systems integration, UI/UX design.\n• Contribute to the wider iOS community via open source\n","?iisp=he-6594079","?iisp=he-6584079",null,"iOS Engineer - Airspace Systems","2018-10-23T06:21:00","2018-12-12T07:30:00",null,null,null,"2018-12-14T06:46:00"]
["https://www.uber.com/careers/list/42380/","What You'll Need\n• Technical knowledge of Uber’s stack. \n• Ability to learn and adapt to new domains. \n• Ability to lead through ambiguous situations with minimal oversight. \n• Must have completed Apprentice TLM program or equivalent experience outside of Uber.","What You'll Need\n• Technical knowledge of Uber’s stack. \n• Ability to learn and adapt to new domains. \n• Proven ability to lead through ambiguous situations with minimal oversight. \n• Must have completed Apprentice TLM program or equivalent experience outside of Uber.\n \nBonus Points\n• Proven track record of working effectively in large organizations. \n• Proven track record of taking complex projects all the way from concept to production.\n• Proven track record in managing, growing and mentoring small teams \n• Research experience (e.g. PhD). \n• Work at small technology startups.\n","?iisp=he-6594079","?iisp=he-6584079",null,"Tech Lead Manager - Office of the CTO Eng Strategy","2018-10-23T06:21:00","2018-12-04T07:15:00","2018-12-10T08:23:00",null,null,"2018-12-14T06:46:00"]
["https://www.uber.com/careers/list/43559/","What You’ll Need\n \n• Must have a BS/BA with at least 5 years of relevant experience\n• Knowledge and subject matter expertise in leadership and management development\n• Experience in education, learning & development, training, and instructional design essential\n• Ability to curate and coordinate experts and resources to deliver inspiring and impactful learning experiences\n• Ability to deliver large-scale programs across multiple geographies\n• Project management skills with organizational, time management, and prioritization skills\n• Self-starter with consulting skills \n• A team player with experience working cross-collaboratively with multiple stakeholders\n• Written, verbal, and visual communication skills with attention to detail","What You’ll Need\n \n• Must have a BS/BA (preferably an MSc/MA) with at least 5 years of relevant experience\n• Deep knowledge and subject matter expertise in leadership and management development\n• Experience in education, learning & development, training, and instructional design essential\n• Exceptional ability to curate and coordinate experts and resources to deliver inspiring and impactful learning experiences\n• Demonstrated ability to deliver large-scale programs across multiple geographies\n• Strong project management skills with superior organizational, time management, and prioritization skills\n• Self-starter with polished consulting skills \n• A team player with experience working cross-collaboratively with multiple stakeholders\n• Excellent written, verbal, and visual communication skills with fine attention to detail\n \nBonus Points if\n \n• Experience working in a customer service environment (business process outsourcing, call centers, etc.)\n• Experience with multi-media design and content authoring tools \n• Coaching / Assessment / Leadership Tools accreditations\n","?iisp=he-6594079","?iisp=he-6584079",null,"Leadership Development Manager","2018-10-23T06:21:00","2019-01-08T07:15:00",null,null,null,"2018-12-14T06:46:00"]
["https://www.uber.com/careers/list/43529/","What You’ll Need\n• Bachelor’s degree in Business or related field or appropriate experience \n• Knowledge of Oracle’s AR platform\n• A minimum of 5 years of progressive experience in Accounting/Operations teams\n• Functional knowledge of the following areas: banking rules, cash application, customer invoicing, revenue reporting and reconciliations\n• Organization skills with attention to detail and completeness\n• Hands-on, work ethic and can-do attitude.\n• Communication skills and ability to communicate key information to stakeholders.\n• Language: fluent speaker/writer in English.\n","What You’ll Need\n• Bachelor’s degree in Business or related field or appropriate experience -- Accounting , Finance, Economics Preferred \n• Strong knowledge of Oracle’s AR platform\n• A minimum of 5 years of progressive experience in Accounting/Operations teams, preferably in a global shared services environment and 1 year management experience preferred\n• Functional knowledge of the following areas: banking rules, cash application, customer invoicing, revenue reporting and reconciliations\n• Excellent organization skills with attention to detail and completeness\n• Hands-on, strong work ethic and can-do attitude.\n• Strong communication skills and ability to communicate key information to stakeholders.\n• Language: fluent speaker/writer in English. Additional languages a plus.\n","?iisp=he-6594079","?iisp=he-6584079",null,"Cash Operations Manager","2018-10-23T06:21:00","2018-11-19T18:40:00","2018-12-04T07:08:00",null,null,"2018-12-14T06:46:00"]
["https://www.uber.com/careers/list/43449/","What You’ll Need\n• 8+ years of either HR or consulting experience of working on cultural change programmes, performance/talent management, organizational development/people strategy initiatives.\n• Executional and project management skills. Must have ability to initiate project plans and balance multiple changing deadlines and priorities.\n• Bachelor’s degree in a related field is required","What You’ll Need\n• 8+ years of either HR or consulting experience of working on cultural change programmes, performance/talent management, organizational development/people strategy initiatives.\n• Strong executional and project management skills. Must have ability to initiate project plans and balance multiple changing deadlines and priorities.\n• Bachelor’s degree in a related field is required, master’s and PhD in industrial organizational psychology or related field is preferred\n","?iisp=he-6594079","?iisp=he-6584079",null,"Performance Program Manager","2018-10-23T06:21:00","2019-02-05T11:16:00",null,null,null,"2018-12-14T06:46:00"]
["https://www.uber.com/careers/list/41394/","What You’ll Need \n• BS or MS in Computer/Information Sciences or Engineering.\n• 2+ years professional experience as a Software Engineer on the Android platform.\n• Understanding of Native Android development with an understanding of the Android SDK.\n• Algorithm, software design and coding skills.\n• Experience building high quality mobile UI experiences.\n• Entrepreneurial mindset with a high tolerance for ambiguity and a willingness to go deep and understand the business.\n• Ability to communicate and collaborate across a wide spectrum of functional stakeholders.\n\n \n\n","What You’ll Need \n• BS or MS in Computer/Information Sciences or Engineering.\n• 2+ years professional experience as a Software Engineer on the Android platform.\n• Solid understanding of Native Android development with a deep understanding of the Android SDK.\n• Strong algorithm, software design and coding skills.\n• Demonstrated experience building high quality mobile UI experiences.\n• Strong entrepreneurial mindset with a high tolerance for ambiguity and a willingness to go deep and understand the business.\n• Ability to communicate and collaborate effectively across a wide spectrum of functional stakeholders.\n\nBonus Points If\n• You have contributed to building a widely used Android Application (1 million+ MAU).\n• You have extensive experience with application performance monitoring and analytics tools.\n• You have worked in a team that follows agile software engineering practices (scrum/kanban).\n \n\n","?iisp=he-6594079","?iisp=he-6584079",null,"Software Engineer - Android, Fleets Mobile Engineering Team (Seattle)","2018-10-23T06:21:00","2018-12-19T18:20:00",null,null,null,"2018-12-14T06:46:00"]
["https://www.uber.com/careers/list/43554/","What You’ll Need\n• Bachelors degree in Accounting\n• 3+ years of accounting experience\n• Microsoft Excel skills, with the ability to manipulate and digest large amounts of data required\n• Written and verbal communications skills\n• Team player, work well independently while knowing when to speak up for help\n• Time and self-management skills, ability to prioritize and multitask\n\n","What You’ll Need\n• Bachelors degree in Accounting\n• 3+ years of accounting experience\n• Advanced Microsoft Excel skills, with the ability to manipulate and digest large amounts of data required\n• Strong written and verbal communications skills\n• Team player, work well independently while knowing when to speak up for help\n• Excellent time and self-management skills, ability to prioritize and multitask\n\nBonus Points If\n• Outsource teams\n• Oracle R12\n","?iisp=he-6594079","?iisp=he-6584079",null,"Cash Accountant","2018-10-23T06:21:00","2018-11-13T20:52:00","2018-12-04T07:08:00",null,null,"2018-12-14T06:46:00"]
["https://www.uber.com/careers/list/43513/","What You'll Need\n \n• J.D. and license to practice law in at least one state.\n• Minimum of four (4) years of legal experience in private practice and/or in-house.  \n• Able to operate in a fast-paced environment.\n• Flexibility to perform in nimble, rapidly changing and growing environments. \n• Experience facilitating efficient and strategic use of resources, including technical groups, in-house counsel, vendors, and outside counsel.\n• Team orientation encouraging communication and cooperation across organizations and functions.\n• Inquisitiveness, along with the ability to spot issues, get to the heart of a matter, and articulate plans to address them.\n• Communication skills and experience working with business leaders.\n• Collaborative approach with both business and legal groups, with ability to build relationships, gain credibility, and partner with others.\n• Interested in your work and a desire to have an impact.  \n• Interested in Uber\n","What You'll Need\n \n• J.D. and license to practice law in at least one state.\n• Minimum of four (4) years of legal experience in private practice and/or in-house.  \n• Confidence operating in a fast-paced environment.\n• Flexibility to perform in nimble, rapidly changing and growing environments. \n• History of driving efficient and strategic use of resources, including technical groups, in-house counsel, vendors, and outside counsel.\n• Strong team orientation encouraging communication and cooperation across organizations and functions.\n• Inquisitiveness, along with the ability to spot issues, get to the heart of a matter, and articulate plans to address them.\n• Strong communication skills and demonstrated experience working with business leaders.\n• Collaborative approach with both business and legal groups, with strong ability to build relationships, gain credibility, and partner with others.\n• Passionate about your work and a desire to have a big impact.  \n• Enthusiastic about Uber!\n•  \n\nBonus Points if you have:\n• Experience with mobile products or technology platforms.\n• Experience with reviewing, drafting and negotiating a variety of commercial agreements, including SaaS and licensing agreements.\n• Experience comparing and contrasting regulations in multiple global markets.\n","?iisp=he-6594079","?iisp=he-6584079",null,"Associate Counsel, Uber Eats","2018-10-23T06:21:00","2018-11-14T12:00:00","2018-12-04T07:08:00",null,null,"2018-12-14T06:46:00"]
["https://www.uber.com/careers/list/43494/","What You’ll Need\n• M.A., B.A. or B.S in Finance or Accounting\n• Ability to influence finance and non-finance teams\n• 8+ years of experience in consulting, managing finance, accounting and operational processes\n• Experience working in a (finance) business partnering environment, building out teams and demonstrated customer focus and work ethic based on desire to exceed expectations\n• Communication and interpersonal skills; including written and oral communication\n• Presentation skills and the ability to guide and influence senior leadership\n• Ability to work independently in a rapidly changing environment and ability to empower teams around you\n• Analytical skills and the ability to get into the details, while also seeing and understanding the big picture\n• Experience with complex decision making and problem solving using Lean / Six Sigma techniques\n• Ability to inspire others through setting strategic vision and direction within Finance Operations as well as with the Business and Finance teams we support\n","What You’ll Need\n• M.A., B.A. or B.S in Finance or Accounting, CPA or MBA preferred\n• Proven ability to influence finance and non-finance teams\n• 8+ years of experience in consulting, managing finance, accounting and operational processes\n• Program Manager certification is a plus\n• Solid experience working in a strong (finance) business partnering environment, building out teams and demonstrated customer obsession and work ethic based on strong desire to exceed expectations\n• Effective communication and strong interpersonal skills; including written and oral communication\n• Advanced presentation skills and the ability to guide and influence senior leadership\n• Ability to work independently in a rapidly changing environment and ability to empower teams around you\n• Advanced analytical skills and the ability to get into the details, while also seeing and understanding the big picture\n• Experience with complex decision making and problem solving using Lean / Six Sigma techniques\n• Ability to inspire others through setting strategic vision and direction within Finance Operations as well as with the Business and Finance teams we support\n","?iisp=he-6594079","?iisp=he-6584079",null,"BPO Program Manager","2018-10-16T07:51:00","2019-01-18T09:05:00","2018-11-07T11:33:00","2018-10-26T15:35:00",null,"2018-12-14T06:46:00"]
["https://www.uber.com/careers/list/43486/","What you'll need\n• At least 6 years recruiting experience in similar orgs.\n• Ability to digest and use data to facilitate decision making.\n• Experience developing, mentoring and managing large (>4), high-output recruitment (or similar functional) teams.\n• Experience collaborating with org wide stakeholders in documenting and implementing process change.\n ","What you'll need\n• At least 6 years recruiting experience in similar orgs.\n• Demonstrated ability to digest and use data to drive decision making.\n• Success in developing, mentoring and managing large (>4), high-output recruitment (or similar functional) teams.\n• Experience collaborating with org wide stakeholders in documenting and implementing process change.\n \nBonus Points\n• Previous experience with building sourcing techniques that maximize the impact of passive and active referral candidates\n• Experience working in environments with high volume candidate processing or hypergrowth needs\n• Technical recruiting experience\n","?iisp=he-6594079","?iisp=he-6584079",null,"Sourcing Manager, Referrals","2018-10-16T07:51:00","2019-03-27T15:43:00",null,null,null,"2018-12-14T06:46:00"]
["https://www.uber.com/careers/list/43477/","What you'll need\n• Ability to solve complex problems under pressure\n• Ability to collaborate and work with a highly diverse set of shippers, transportation partners, and internal partners\n• Analytical and critical thinking ability\n• Communication and organizational skills\n• The ability to balance attention to detail with swift execution\n• Bachelor's Degree\n","What you'll need\n• Minimum of 1 year of experience in carrier sales in a brokerage preferred\n• Demonstrated ability to solve complex problems under pressure\n• Ability to collaborate and work with a highly diverse set of shippers, transportation partners, and internal partners\n• Analytical and critical thinking ability\n• Strong communication and organizational skills\n• The ability to balance attention to detail with swift execution - we need to do things quickly, and we need to do them well\n• Bachelor's Degree\n","?iisp=he-6594079","?iisp=he-6584079",null,"Account Executive, Carrier Sales - Asset Solutions","2018-10-16T07:51:00","2019-01-19T20:15:00",null,null,null,"2018-12-14T06:46:00"]
["https://www.uber.com/careers/list/43443/","What you’ll need\n \n• 2+ years in people or project management, office management, team administration, event planning.\n• Energy, enthusiasm and professionalism.\n• Project management skills (plan and execute projects with multiple work streams and dependencies) and ability to manage tasks involving multiple businesses to meet aggressive deadlines\n• Communication skills and ability to interact professionally and efficiently with internal and external partners.\n• Organizational skills and follow-through on tasks.\n• Problem-solving, critical thinking and analytical skills. A problem solver who is solution-oriented and has an interest in helping.\n• Strategic and business growth mindset. Skills that will push programs further continuing to prove the value of programs.\n• Plan and implement programs with multiple work streams and dependencies and ensure that end-to-end support strategy is accomplished\n• Ability to travel 10-25% of the time.","What you’ll need\n \n• 2+ years in people or project management, office management, team administration, event planning; ideally from a startup/tech environment.\n• High energy, enthusiasm and professionalism.\n• Strong & proven project management skills (plan and execute projects with multiple work streams and dependencies) and ability to manage tasks involving multiple businesses to meet aggressive deadlines\n• Strong communication skills and ability to interact professionally and efficiently with internal and external partners.\n• Superior organizational skills and impeccable follow-through on tasks.\n• Excellent problem-solving, critical thinking and analytical skills. An outstanding problem solver who is solution-oriented and has a genuine interest in helping.\n• Very strong, strategic and business growth mindset. Visionary skills that will push programs further continuing to prove the value of programs.\n• Thoroughly plan and implement programs with multiple work streams and dependencies and ensure that end-to-end support strategy is accomplished\n• High level of proficiency with Google Drive/Office Suite desirable.\n• Ability to travel 10-25% of the time.\n \nBonus points if\n \n• Bachelor’s degree in business or communications\n• Project management certification\n• Experience motivating a large hourly workforce\n","?iisp=he-6594079","?iisp=he-6584079",null,"Program Specialist, Engagement & Recognition Programs","2018-10-16T07:51:00","2019-02-27T08:00:00",null,null,null,"2018-12-14T06:46:00"]
["https://www.uber.com/careers/list/43218/","What You’ll Need\n \n• An interest in shipping data science-driven products. \n• At least 5 years of product management experience. \n• An ability to instill teams with this interest by overseeing implementation of quality monitoring, alerting, mitigation, and retrospective process.\n• Experience working in a metrics and experimentation driven organization\n• Customer empathy, with an ability to transform complex data and customer insights into a prioritized roadmap","What You’ll Need\n \n• A passion for shipping magical, data science-driven products. \n• At least 5 years of product management experience. \n• An ability to infect teams with this passion by overseeing implementation of quality monitoring, alerting, mitigation, and retrospective process.\n• Experience working in a metrics and experimentation driven organization\n• Strong customer empathy, with an ability to transform complex data and customer insights into a prioritized roadmap\n \nBonus Points For\n \n• Bachelor’s degree in Computer Science or equivalent experience\n• Academic background in data science, statistics, economics, or engineering\n","?iisp=he-6594079","?iisp=he-6584079",null,"Sr Product Manager - Marketplace Health","2018-10-16T07:51:00","2019-02-13T19:10:00",null,null,null,"2018-12-14T06:46:00"]
["https://www.uber.com/careers/list/26739/","What You'll Need\n \n• Experience mentoring or leading others\n• Maintain a positive, can-do attitude and encourage others to do the same\n• Written and verbal communication skills with ability to communicate and present information to stakeholders at all levels of the business\n• Interpersonal skills and ability to establish trust and effective working relationships with others on an external and internal basis.\n• Time-management and organizational habits\n• Willingness to work weekends, occasional holidays, and outside a standard 8 to 5 shift schedule\n ","What You'll Need\n \n• Experience mentoring or leading others\n• Maintain a positive, can-do attitude and encourage others to do the same\n• Exceptional written and verbal communication skills with ability to clearly communicate and present information to stakeholders at all levels of the business\n• Excellent interpersonal skills and ability to establish trust and effective working relationships with others on an external and internal basis.\n• Effective time-management and organizational habits\n• Willingness to work weekends, occasional holidays, and outside a standard 8 to 5 shift schedule\n \nBonus Points if\n \n• Experience in service, customer support, manufacturing or distribution in a high-volume work environment\n• Bachelor’s in Business, Communications, English or Journalism\n","?iisp=he-6594079","?iisp=he-6584079",null,"CSR Team Lead | Chicago","2018-10-16T07:51:00","2018-12-08T11:30:00",null,null,null,"2018-12-14T06:46:00"]
["https://www.uber.com/careers/list/43399/","What You'll Need\n \n• Incredible empathy and understanding of both riders and driver partners alike\n• Ability to be an advocate for Uber's users and are interest in the UBER and community experience\n• Organizational skills, integrity, and follow-through on tasks\n• Enjoyment from learning and looking for ways to innovate. You enjoy testing different support strategies and tracking results\n• Written and verbal communication skills including ability to listen; to diplomatically express opinions and voice concerns with other team members\n• Interest in helping others and creating support experiences that exceed users' expectations\n• Ability to troubleshoot problems and find speedy resolutions in high pressure situations\n• Must work well in a team environment, contributing to a synergistic work environment where people learn from one another and continuously improve processes on behalf of users\n• Ability to work weekend and weekly evening shifts are required\n ","What You'll Need\n \n• Incredible empathy and understanding of both riders and driver partners alike\n• Ability to be an advocate for Uber's users and are passion for the UBER and community experience\n• Excellent organizational skills, integrity, and follow-through on tasks\n• Enjoyment from learning and looking for ways to innovate. You enjoy testing different support strategies and tracking results\n• Excellent written and verbal communication skills including ability to listen effectively; to confidently and diplomatically express opinions and voice concerns with other team members\n• Passion for helping others and creating support experiences that exceed users' expectations\n• Ability to troubleshoot problems and find speedy resolutions in high pressure situations\n• Must work well in a team environment, contributing to a synergistic work environment where people learn from one another and continuously improve processes on behalf of users\n• Ability to work weekend and weekly evening shifts are required\n \nBonus Points\n \n• Bachelor’s Degree in Business, Communications, English or Journalism \n• Support experience in a high-volume environment, including service industries, retail, hospitality or other support environments preferred\n• Crisis counseling experience\n","?iisp=he-6594079","?iisp=he-6584079",null,"Community Support Representative","2018-10-16T07:51:00","2018-11-06T11:00:00","2018-11-15T14:48:00",null,null,"2018-12-14T06:46:00"]
["https://www.uber.com/careers/list/43445/","What You’ll Need\n• Bachelor's degree in Accounting or Finance\n• 4+ years professional experience, with at least 2 years relevant month-end close experience\n","What You’ll Need\n• Bachelor's degree in Accounting or Finance\n• 4+ years professional experience, with at least 2 years relevant month-end close experience\n• P&C Insurance experience preferred (this could include experience from a P&C insurance company, or a Big 4 firm with P&C insurance clients)\n• CPA preferred\n• Experience with Oracle and HFM a plus\n","?iisp=he-6594079","?iisp=he-6584079",null,"Senior Accountant, Insurance","2018-10-16T07:51:00","2018-10-31T11:20:00","2018-11-07T11:33:00",null,null,"2018-12-14T06:46:00"]
["https://www.uber.com/careers/list/43440/","What You’ll Need\n• Ability to learn quickly on the go. We're looking for software engineers who are able to learn new technologies and don't believe in one-size-fits-all solutions. You should be able to adapt to meet the needs of our massive growth and rapidly-evolving business environment.\n• BS degree in Computer Science or related engineering field.\n• 2+ years of relevant software engineering experience.\n• Written and verbal communication skills and the ability to write detailed design documents.\n• Experience in working on large-scale distributed systems\n• Background in multiple programming languages, e.g. Java, Scala, Go, Python, C++ etc. \n","What You’ll Need\n• Ability to learn quickly on the go. We're looking for software engineers who thrive while learning new technologies and don't believe in one-size-fits-all solutions. You should be able to easily adapt to meet the needs of our massive growth and rapidly-evolving business environment.\n• BS degree in Computer Science or related engineering field.\n• 2+ years of relevant software engineering experience.\n• Excellent written and verbal communication skills and the ability to write detailed design documents.\n• Experience in working on large-scale distributed systems\n• Solid background in multiple programming languages, e.g. Java, Scala, Go, Python, C++ etc. \n• Experience with streaming framework such as Apache Spark, Flink is a strong plus.\n• Experience with Hadoop/hive, Vertica, Redshift, Presto, Pinot/Scuba and data warehouse technologies is preferred\n• Good SQL skills are preferred\n","?iisp=he-6594079","?iisp=he-6584079",null,"Backend Engineer, Data Solutions - UberEats","2018-10-16T07:51:00",{"$nulls":4},"2018-12-14T06:46:00"]
["https://www.uber.com/careers/list/43430/","What You’ll Need\n• Ability to solve complex problems under pressure\n• Ability to collaborate and work with a highly diverse set of shippers, transportation partners, and internal partners\n• Analytical and critical thinking ability\n• Communication and organization skills\n• The ability to balance attention to detail with swift execution","What You’ll Need\n• Operations or sales experience are a plus\n• Demonstrated ability to solve complex problems under pressure\n• Ability to collaborate and work with a highly diverse set of shippers, transportation partners, and internal partners\n• Analytical and critical thinking ability\n• Strong communication and organization skills\n• Logistics background is not required, but operational experience is preferred\n• Bachelor's degree strongly preferred \n• The ability to balance attention to detail with swift execution - we need to do things quickly, and we need to do them well\n","?iisp=he-6594079","?iisp=he-6584079",null,"Account Representative, Carrier Sales (App Team)","2018-10-16T07:51:00","2019-01-08T07:15:00",null,null,null,"2018-12-14T06:46:00"]
["https://www.uber.com/careers/list/43425/","What You'll Need\n \n• BA/BS/Masters in Economics, Business, Engineering, Operations Research, or other quantitative focus\n• Minimum 5 years of business intelligence / quantitative / consulting / strategy / high-growth operations experience\n• Ability to be a leader managing teams\n• Ability to work under pressure and in challenging environments\n• Team player\n• Communication and project management skills\n• Analytical thinking - you connect the dots between the data and operations and sense check every number you see\n• SQL, Excel and general programming/coding skills\n• Understanding of Python and/or R","What You'll Need\n \n• BA/BS/Masters in Economics, Business, Engineering, Operations Research, or other quantitative focus\n• Minimum 5 years of business intelligence / quantitative / consulting / strategy / high-growth operations experience\n• Ability to be an effective leader managing teams\n• Ability to thrive under pressure and in challenging environments\n• Team player\n• Exceptional communication and project management skills\n• Excellent analytical thinking - you connect the dots between the data and operations and gut check every number you see\n• Excellent SQL, Excel and general programming/coding skills\n• Understanding of Python and/or R\n \nBonus Points if\n \n• MBA degree\n• Experience working with support data, contact management analytics or customer insights\n","?iisp=he-6594079","?iisp=he-6584079",null,"Analytics & Insights Manager","2018-10-16T07:51:00","2019-01-15T09:20:00","2018-12-04T07:08:00","2018-11-16T08:55:00",null,"2018-12-14T06:46:00"]
["https://www.uber.com/careers/list/43402/","What You’ll Need\n• Minimum 2 years of experience using data to facilitate business decisions\n• Ability to self-serve, investigate and get the data\n• Experience using SQL required\n• Experience presenting data visually and selling ideas to leadership\n• Excel / data management skills\n• Able to handle ambiguity; the ability to structure ideas into actionable plans\n• Communication skills and attention to detail\n ","What You’ll Need\n• Minimum 2 years of experience using data to facilitate business decisions; high growth, technology, management consulting, business intelligence, or investment banking/private equity background preferred\n• Ability to self-serve, investigate and get the data\n• Experience using SQL required\n• Experience presenting data visually and selling ideas to leadership\n• Exceptional Excel / data management skills\n• Comfortable with ambiguity; the ability to structure ideas into actionable plans\n• Excellent communication skills and attention to detail\n \nBonus Points If\n• You have experience with programming languages such as R and/or Python\n• Supply chain or logistics design and engineering a plus\n","?iisp=he-6594079","?iisp=he-6584079",null,"Business Analyst, Shipper Solutions - Uber Freight","2018-10-16T07:51:00","2019-02-14T19:10:00",null,null,null,"2018-12-14T06:46:00"]
["https://www.uber.com/careers/list/43391/","What You'll Need\n\n• J.D. and license to practice law in at least one state.\n• Minimum of six (6) years of legal experience in private practice and/or in-house. \n• Experience operating in a fast-paced environment.\n• Experience advising a technology company in privacy and data security, open source software and data, and data licensing.\n• Ability to understand technically complex service and data structures.\n• Flexibility to perform in nimble, rapidly changing and growing environments. \n• Experience facilitating efficient and strategic use of resources, including technical groups, in-house counsel, vendors, and outside counsel.\n• Team orientation encouraging communication and cooperation across organizations and functions.\n• Inquisitiveness, along with the ability to spot issues, get to the heart of a matter, and articulate plans to address them.\n• Communication skills and experience working with business leaders.\n• Collaborative approach with both business and legal groups, with ability to build relationships, gain credibility, and partner with others.\n• Interested in your work and a desire to have an impact.  \n• Interested in Uber\n","What You'll Need\n\n• J.D. and license to practice law in at least one state.\n• Minimum of six (6) years of legal experience in private practice and/or in-house. \n• Confidence operating in a fast-paced environment.\n• Experience advising a technology company in privacy and data security, open source software and data, and data licensing.\n• Penchant for understanding technically complex service and data structures.\n• Flexibility to perform in nimble, rapidly changing and growing environments. \n• History of driving efficient and strategic use of resources, including technical groups, in-house counsel, vendors, and outside counsel.\n• Strong team orientation encouraging communication and cooperation across organizations and functions.\n• Inquisitiveness, along with the ability to spot issues, get to the heart of a matter, and articulate plans to address them.\n• Strong communication skills and demonstrated experience working with business leaders.\n• Collaborative approach with both business and legal groups, with strong ability to build relationships, gain credibility, and partner with others.\n• Passionate about your work and a desire to have a big impact.  \n• Enthusiastic about Uber!\n \nBonus Points \n\n• At least 2 years of in-house experience.\n• Experience with consumer products or technology platforms.\n• Experience with reviewing, drafting and negotiating a variety of commercial agreements, including copyright licensing agreements.\n• Experience comparing and contrasting regulations in multiple global markets.\n","?iisp=he-6594079","?iisp=he-6584079",null,"Counsel (Maps), Consumer Products","2018-10-16T07:51:00","2018-12-19T18:20:00",null,null,null,"2018-12-14T06:46:00"]
["https://www.uber.com/careers/list/43407/","What You'll Need\n• 2-3 years experience in business operations, strategy, product, or similar role (e.g. consulting, finance)\n• Project or functional leadership experience\n• Communication, the ability to engage internal and external customers\n• Understanding of the user experience\n• Ability to pull data to inform and support critical decisions through SQL\n• Strategic alignment, able to bring key stakeholders across functions together\n• A desire to learn, motivated self-starter, with an interest in learning and growing\n• Ability to foster collaboration and facilitate teamwork\n• Prioritization","What You'll Need\n• 2-3 years experience in business operations, strategy, product, or similar role (e.g. consulting, finance)\n• Project or functional leadership experience\n• Excellent communication, the ability to engage internal and external customers\n• Deep understanding of the user experience\n• Ability to pull data to inform and support critical decisions through SQL\n• Strategic alignment, able to bring key stakeholders across functions together\n• A desire to learn, highly motivated self-starter, with an eagerness to learn and grow\n• Ability to foster collaboration and facilitate teamwork\n• Effective prioritization\n \nBonus Points for\n• Intermediate SQL skills, R, and Python\n• Freight industry knowledge\n","?iisp=he-6594079","?iisp=he-6584079",null,"Product Operations Manager - Uber Freight (CarrierX)","2018-10-16T07:51:00","2018-10-30T11:50:00","2018-11-07T11:33:00",null,null,"2018-12-14T06:46:00"]
["https://www.uber.com/careers/list/43396/","What you will need\n\n\n• Bachelor’s degree or equivalent\n• 12+ years of experience in broad-based compensation, executive, and incentive plan strategy, design, and administration with experience designing and implementing executive compensation plans\n• Leadership skills balanced with a willingness to play a 'hands-on' role with key projects\n• Written, verbal and presentation skills required to communicate total rewards strategies at all levels, from administrative to the C-Suite\n• Ability to think globally, strategically, and objectively to translate data into actionable insights, strategies and financial plans\n• Ability to work in a fast-paced, dynamic, growing environment\n• Global experience in multiple countries\n","What you will need\n\n\n• Bachelor’s degree or equivalent, MBA or advanced certification (CCP, CBP, CEP or SPHR) preferred\n• 12+ years of experience in broad-based compensation, executive, and incentive plan strategy, design, and administration with proven experience designing and implementing executive compensation plans\n• Leadership skills balanced with a willingness to play a 'hands-on' role with key projects\n• Strong written, verbal and presentation skills required to effectively communicate total rewards strategies at all levels, from administrative to the C-Suite\n• Ability to think globally, strategically, and objectively to effectively translate data into actionable insights, strategies and financial plans\n• Ability to thrive in a fast-paced, dynamic, growing environment\n• Global experience in multiple countries\n","?iisp=he-6594079","?iisp=he-6584079",null,"Director, International Rewards","2018-10-16T07:51:00","2019-03-15T10:40:00",null,null,null,"2018-12-14T06:46:00"]
["https://www.uber.com/careers/list/43372/","What You'll Need:\n \n• 6+ years experience of investment banking / consulting / business intelligence / strategy or related experience\n \n• Bachelor's degree required\n \n• Analytical Abilities: Critical thinking and problem solving skills heavily utilizing data as a foundation for decision making\n \n• Communication Skills: You are a clear and concise communicator with the ability to synthesize a lot of information quickly, highlight the key takeaways, and disseminate actionable insights\n \n• Standards: Standards across the board from your own contributions to the people you work with to the products you work on\n \n• Technical Skills: Excel and data management skills\n","What You'll Need:\n \n• 6+ years experience of investment banking / consulting / business intelligence / strategy or related experience; some high-growth operations or startup experience is strongly preferred\n \n• Bachelor's degree required, MBA a plus\n \n• Analytical Rigor: Strong critical thinking and problem solving skills heavily utilizing data as a foundation for decision making\n \n• Exceptional Communication Skills: You are a clear and concise communicator with the ability to synthesize a lot of information quickly, highlight the key takeaways, and disseminate actionable insights\n \n• High Bar: A high bar across the board from your own contributions to the people you work with to the products you work on\n \n• Advanced Technical Skills: Exceptional Excel and data management skills; SQL proficiency strongly preferred\n","?iisp=he-6594079","?iisp=he-6584079",null,"Senior Strategic Operations Manager - Seattle","2018-10-16T07:51:00","2018-11-09T11:50:00","2018-12-04T07:08:00",null,null,"2018-12-14T06:46:00"]
["https://www.uber.com/careers/list/43342/","What You’ll Need\n• BA/BS degree in a related field or equivalent experience in L&D for adult professionals\n• 6+ years of experience in talent development, organizational development, professional development, adult learning, or other related people field \n• Experience designing and leading onsite and online L&D initiatives\n• Experience with owning business outcomes for L&D initiatives \n• Ability to get things done in a highly matrixed and relationship-based organization\n• Skills with managing multiple projects in a rapidly changing environment and the ability to work to tight timescales\n• Curiosity and the ability to innovate and creatively look for ways strengthen processes and outcomes\n• Ability to navigate through systems and tools to uncover potential operational efficiencies\n• Dedication to continuous learning and a practice of striving to be better than your last best self","What You’ll Need\n• BA/BS degree in a related field or equivalent experience in L&D for adult professionals\n• 6+ years of experience in talent development, organizational development, professional development, adult learning, or other related people field \n• Experience designing and leading onsite and online L&D initiatives\n• Experience with owning business outcomes for L&D initiatives \n• Proven ability to get things done in a highly matrixed and relationship-based organization\n• Proven skills with managing multiple projects in a rapidly changing environment and the ability to work to tight timescales\n• Strong curiosity and the ability to innovate and creatively look for ways strengthen processes and outcomes\n• High comfort level with navigating through systems and tools to constantly uncover potential operational efficiencies\n• Proven dedication to continuous learning and a practice of consistently striving to be better than your last best self\n \nBonus Points If\n• have designed and delivered learning initiatives for a global team\n• have led a program or project team\n• have worked directly with HR Partners and/or business leaders\n• have a network of trusted L&D vendors who can design, develop and deliver learning\n• are certified in psychometric assessments (specifically DiSC or SDI) or development programs (e.g. Situational Leadership)\n• have a graduate degree in adult learning, organizational development, organizational behavior, industrial-organizational psychology, or human resources\n","?iisp=he-6594079","?iisp=he-6584079",null,"People Development Business Partner","2018-10-16T07:51:00","2019-05-04T08:40:00",null,null,null,"2018-12-14T06:46:00"]
["https://www.uber.com/careers/list/43276/","What You’ll Need\n• Emotional intelligence, empathy, self-awareness, and optimism.\n• Communication skills and an ability to work in a team and with end-users.\n• Sense of frontend and backend principles, techniques, and technologies.\n• Experience building and maintaining production-grade applications.\n• Experience developing a large one-page application.\n• Experience writing and maintaining solid integration tests.\n","What You’ll Need\n• High emotional intelligence, empathy, self-awareness, and optimism.\n• Great communication skills and an ability to work in a team and with end-users.\n• Strong sense of frontend and backend principles, techniques, and technologies.\n• Experience building and maintaining production-grade applications.\n• Confidence developing a large one-page application.\n• Experience writing and maintaining solid integration tests.\n\nBonus Points If\n• You've built apps with platforms like Google Cloud, Heroku, AWS, or DigitalOcean.\n• You're experienced with Docker, Linux, Mesos, or Kubernetes.\n• Your local development setup is honed and efficient.\n","?iisp=he-6594079","?iisp=he-6584079",null,"Full-Stack Engineer -Serverless Team (Seattle)","2018-10-16T07:51:00","2018-12-18T12:45:00",null,null,null,"2018-12-14T06:46:00"]
["https://www.uber.com/careers/list/43275/","What You’ll Need\n• Emotional intelligence, empathy, self-awareness, and optimism.\n• Communication skills and an ability to work in a team and with end-users.\n• Sense of frontend principles, techniques, and technologies.\n• Experience building and maintaining production-grade web applications.\n• Experience developing a large one-page application.\n• Experience writing and maintaining solid integration tests.\n","What You’ll Need\n• High emotional intelligence, empathy, self-awareness, and optimism.\n• Great communication skills and an ability to work in a team and with end-users.\n• Strong sense of frontend principles, techniques, and technologies.\n• Experience building and maintaining production-grade web applications.\n• Confidence developing a large one-page application.\n• Experience writing and maintaining solid integration tests.\n\nBonus Points If\n• You consider yourself a multi-disciplined engineer (UX, design, backend, cloud).\n• You've used platforms like Google Cloud, Heroku, AWS, or DigitalOcean.\n• You've played with Docker, Linux, Mesos, or Kubernetes.\n• Your local development setup is honed and efficient.\n","?iisp=he-6594079","?iisp=he-6584079",null,"Front-End Engineer -Serverless Team (Seattle)","2018-10-16T07:51:00","2019-05-22T16:00:00",null,null,null,"2018-12-14T06:46:00"]
["https://www.uber.com/careers/list/32412/","What You’ll Need\n \n• Ability to reason methodically about performance: what matters most (e.g., CPU usage, Allocations, GC pressure, Locks? How do you know?)\n• Minimum 2 years experience with the Go language\n• Experience benchmarking and profiling Go code\n• Experience improving the performance of a Go (micro)service\n ","What You’ll Need\n \n• Ability to reason methodically about performance: what matters most, is it CPU usage? Allocations? GC pressure? Locks? How do you know?\n• Minimum 2 years experience with the Go language\n• Experience benchmarking and profiling Go code\n• Experience improving the performance of a Go (micro)service\n \nBonus Points If\n \n• Knowledge of Linux systems including procfs CPU accounting (top et al), thread state, and CFS scheduler effects\n• Familiarity with typical performance data presentations, such as a flamegraph, critical path graph, or a simple top-N hot functions list\n• Familiarity with performance methodologies, like the USE method\n• Experience analyzing and improving things like request latency, throughput, error rate, and resource utilization within a distributed system\n• Experience diagnosing and fixing parallel computation effects like lock contention, channel utilization, and goroutine interaction\n• Experience profiling and reducing CPU utilization and heap allocations\n","?iisp=he-6594079","?iisp=he-6584079",null,"Software Engineer - Golang Performance","2018-10-16T07:51:00","2019-01-25T06:50:00",null,null,null,"2018-12-14T06:46:00"]
["https://www.uber.com/careers/list/40838/","What You’ll Need\n• Working experience of Security, vulnerability and risk assessment and remediation coordination/reporting across the infrastructure, middleware and application stack\n• Up-to-date with next-gen technologies including hybrid cloud, SaaS, PaaS, Iaa), Containers, Microservices, IoT. \n• End-to-end knowledge of communication dependencies across infrastructure systems (clients, network, server and application)\n• Security knowledge around network including Linux/Windows/MacOS, PKI, DNS, load balancing, IPSec, TLS and HTTP, CoPP\n• Current knowledge of industry threats and attack vectors.\n• Experience with operating systems internals and hardening practices (Linux, MacOS, Windows)\n• Problem solving and collaboration skills.\n• Organizational and communications skills.\n","What You’ll Need\n• Working experience of Security, vulnerability and risk assessment and remediation coordination/reporting across the infrastructure, middleware and application stack\n• Up-to-date with next-gen technologies including hybrid cloud, SaaS, PaaS, Iaa), Containers, Microservices, IoT.  Knowledge of more recent developments such as BlockChain a plus.\n• End-to-end knowledge of communication dependencies across infrastructure systems (clients, network, server and application)\n• Solid foundational security knowledge around network including Linux/Windows/MacOS, PKI, DNS, load balancing, IPSec, TLS and HTTP, CoPP\n• Current knowledge of industry threats and attack vectors.\n• Experience with operating systems internals and hardening practices (Linux, MacOS, Windows)\n• Exceptional problem solving and collaboration skills.\n• Strong organizational and communications skills.\n• Programming skills in languages such as Python, Go, C, Java, Bash, PowerShell a plus\n• Security certifications like CISSP a plus\n","?iisp=he-6594079","?iisp=he-6584079",null,"Sr IT Security Engineer","2018-10-08T12:55:00","2019-01-10T09:15:00",null,null,null,"2018-12-14T06:46:00"]
["https://www.uber.com/careers/list/43294/","What You’ll Need\n• J.D. and license to practice law in at least one state.\n• Minimum of four (4) years of legal experience in private practice and/or in-house.  \n• Able to operate in a fast-paced environment.\n• Flexibility to perform in nimble, rapidly changing and growing environments. \n• Experience facilitating efficient and strategic use of resources, including technical groups, in-house counsel, vendors, and outside counsel.\n• Team orientation encouraging communication and cooperation across organizations and functions.\n• Inquisitiveness, along with the ability to spot issues, get to the heart of a matter, and articulate plans to address them.\n• Communication skills and experience working with business leaders.\n• Collaborative approach with both business and legal groups, with ability to build relationships, gain credibility, and partner with others.\n• Interested in your work and a desire to have an impact.  \n• Interested in Uber\n","What You’ll Need\n• J.D. and license to practice law in at least one state.\n• Minimum of four (4) years of legal experience in private practice and/or in-house.  \n• Confidence operating in a fast-paced environment.\n• Flexibility to perform in nimble, rapidly changing and growing environments. \n• History of driving efficient and strategic use of resources, including technical groups, in-house counsel, vendors, and outside counsel.\n• Strong team orientation encouraging communication and cooperation across organizations and functions.\n• Inquisitiveness, along with the ability to spot issues, get to the heart of a matter, and articulate plans to address them.\n• Strong communication skills and demonstrated experience working with business leaders.\n• Collaborative approach with both business and legal groups, with strong ability to build relationships, gain credibility, and partner with others.\n• Passionate about your work and a desire to have a big impact.  \n• Enthusiastic about Uber!\n\nBonus Points If\n• Experience with consumer products or technology platforms.\n• Experience with reviewing, drafting and negotiating a variety of commercial agreements, including SaaS and licensing agreements.\n• Experience comparing and contrasting regulations in multiple global markets.\n","?iisp=he-6594079","?iisp=he-6584079",null,"Associate Counsel / Counsel, Consumer Products","2018-10-08T12:55:00","2018-12-19T18:20:00",null,null,null,"2018-12-14T06:46:00"]
["https://www.uber.com/careers/list/43293/","What You’ll Need\n• J.D. and license to practice law in at least one state.\n• Minimum of six (6) years of legal experience in private practice and/or in-house. \n• Able to operate in a fast-paced environment.\n• Flexibility to perform in nimble, rapidly changing and growing environments. \n• Experience facilitating efficient and strategic use of resources, including technical groups, in-house counsel, vendors, and outside counsel.\n• Team orientation encouraging communication and cooperation across organizations and functions.\n• Inquisitiveness, along with the ability to spot issues, get to the heart of a matter, and articulate plans to address them.\n• Communication skills and experience working with business leaders.\n• Collaborative approach with both business and legal groups, with ability to build relationships, gain credibility, and partner with others.\n• Interested in your work and a desire to have an impact.  \n• Interested in Uber","What You’ll Need\n• J.D. and license to practice law in at least one state.\n• Minimum of six (6) years of legal experience in private practice and/or in-house (at least two (2) years of in-house experience preferred). \n• Confidence operating in a fast-paced environment.\n• Flexibility to perform in nimble, rapidly changing and growing environments. \n• History of driving efficient and strategic use of resources, including technical groups, in-house counsel, vendors, and outside counsel.\n• Strong team orientation encouraging communication and cooperation across organizations and functions.\n• Inquisitiveness, along with the ability to spot issues, get to the heart of a matter, and articulate plans to address them.\n• Strong communication skills and demonstrated experience working with business leaders.\n• Collaborative approach with both business and legal groups, with strong ability to build relationships, gain credibility, and partner with others.\n• Passionate about your work and a desire to have a big impact.  \n• Enthusiastic about Uber!\n\nBonus Points \n• Experience with consumer products or technology platforms.\n• Experience with reviewing, drafting and negotiating a variety of commercial agreements, including SaaS and licensing agreements.\n• Experience comparing and contrasting regulations in multiple global markets.\n","?iisp=he-6594079","?iisp=he-6584079",null,"Counsel (Driver), Consumer Products","2018-10-08T12:55:00","2019-01-30T07:30:00",null,null,null,"2018-12-14T06:46:00"]
["https://www.uber.com/careers/list/43260/","What You’ll Need\n• 3+ years’ experience in accounting.\n• Knowledge of US GAAP and SEC rules and regulations\n• Attention to detail, written and verbal communication, organizational and analytical skills required\n• Ability to work independently toward the team’s objectives in a dynamic environment, and propose solutions to issues as they arise\n• Ability to suggest and implement process improvements","What You’ll Need\n• 3+ years’ experience in accounting, preferably public accounting with big four. CPA certification is a big plus.\n• Excellent knowledge of US GAAP and SEC rules and regulations\n• Attention to detail, excellent written and verbal communication, organizational and analytical skills required\n• Ability to work independently toward the team’s objectives in a dynamic environment, and propose solutions to issues as they arise\n• Ability to suggest and implement process improvements\n• Oracle R12, Workiva, or HFM experience preferred\n","?iisp=he-6594079","?iisp=he-6584079",null,"Sr Accountant, Financial Reporting","2018-10-08T12:55:00","2019-01-11T17:20:00",null,null,null,"2018-12-14T06:46:00"]
["https://www.uber.com/careers/list/43206/","What You’ll Need\n \n• Minimum of 2 years of relevant experience. \n• Experience solving complex problems, exercising judgement in ambiguous circumstances, and communicating across a diverse team.\n• Able to learn and use new software tools.\n• Interpersonal skills. Ability to build relationships, lead a team, manage employees, and create a hard-working but fun workplace\n• Self-motivated, self-directed, and able to take ownership of tasks to ensure solution.\n• Problem-solving skills.\n• Organization and time management systems for yourself and your team.\n• Valid driver’s license and ability to pass MVR check required (No more than 2 minor violations, and no major violations, in past 3 years)\n","What You’ll Need\n \n• Minimum of 2 years of relevant experience. The ideal candidate will have leadership experience in a fast-paced work environment.\n• Experience solving complex problems, exercising good judgement in ambiguous circumstances, and effectively communicating across a diverse team.\n• Comfortable learning and using new software tools.\n• Strong interpersonal skills. Ability to build relationships, lead a team, manage employees, and create a hard-working but fun workplace\n• Proven to be self-motivated, self-directed, and eager to take ownership of tasks to ensure solution.\n• Black belt in problem-solving.\n• Excellent organization and time management systems for yourself and your team.\n• Valid driver’s license and ability to pass MVR check required (No more than 2 minor violations, and no major violations, in past 3 years)\n• Knowledge or passion for any of the following a plus: local markets, bikeshare, bike mechanics, mobility, and data/analytics.\n","?iisp=he-6594079","?iisp=he-6584079",null,"Operations Manager (San Antonio) - JUMP","2018-10-08T12:55:00","2019-02-15T13:15:00",null,null,null,"2018-12-14T06:46:00"]
["https://www.uber.com/careers/list/43205/","What You’ll Need\n \n• Minimum of 2 years of relevant experience. \n• Experience solving complex problems, exercising judgement in ambiguous circumstances, and communicating across a diverse team.\n• Able to learn and use new software tools.\n• Interpersonal skills. Ability to build relationships, lead a team, manage employees, and create a hard-working but fun workplace\n• Self-motivated, self-directed, and able to take ownership of tasks to ensure solution.\n• Problem-solving skills.\n• Organization and time management systems for yourself and your team.\n• Valid driver’s license and ability to pass MVR check required (No more than 2 minor violations, and no major violations, in past 3 years)\n","What You’ll Need\n \n• Minimum of 2 years of relevant experience. The ideal candidate will have leadership experience in a fast-paced work environment.\n• Experience solving complex problems, exercising good judgement in ambiguous circumstances, and effectively communicating across a diverse team.\n• Comfortable learning and using new software tools.\n• Strong interpersonal skills. Ability to build relationships, lead a team, manage employees, and create a hard-working but fun workplace\n• Proven to be self-motivated, self-directed, and eager to take ownership of tasks to ensure solution.\n• Black belt in problem-solving.\n• Excellent organization and time management systems for yourself and your team.\n• Valid driver’s license and ability to pass MVR check required (No more than 2 minor violations, and no major violations, in past 3 years)\n• Knowledge or passion for any of the following a plus: local markets, bikeshare, bike mechanics, mobility, and data/analytics.\n","?iisp=he-6594079","?iisp=he-6584079",null,"Operations Manager (Dallas) - JUMP","2018-10-08T12:55:00","2019-03-10T23:21:00",null,null,null,"2018-12-14T06:46:00"]
["https://www.uber.com/careers/list/43259/","What You’ll Need\n• Bachelors degree in Accounting\n• 2+ years of accounting experience\n• Microsoft Excel skills, with the ability to manipulate and digest large amounts of data required\n• Written and verbal communications skills\n• Team player, work well independently while knowing when to speak up for help\n• Time and self-management skills, ability to prioritize and multitask","What You’ll Need\n• Bachelors degree in Accounting\n• 2+ years of accounting experience\n• Advanced Microsoft Excel skills, with the ability to manipulate and digest large amounts of data required\n• Strong written and verbal communications skills\n• Team player, work well independently while knowing when to speak up for help\n• Excellent time and self-management skills, ability to prioritize and multitask\n\nBonus Points If\n• Public accounting experience\n• Oracle R12\n• ERP implementation experience \n","?iisp=he-6594079","?iisp=he-6584079",null,"Cost Accountant","2018-10-08T12:55:00","2018-10-18T11:25:00","2018-10-23T06:21:00",null,null,"2018-12-14T06:46:00"]
["https://www.uber.com/careers/list/43252/","What You'll Need\n\n• At least 3+ years of legal experience at a mid to large size law firm, government regulatory entity or in-house corporate role. \n• Good academic performance in law school.\n• Experience crafting strategies to achieve ambitious regulatory goals, and advocacy in rulemaking proceedings before a regulatory body;\n• Business judgment, communication and interpersonal skills\n• Experience leading and managing regulatory or policy initiatives for your clients\n• Ability to multitask and carry out important projects with limited oversight.\n• Writing, research, negotiating, and interpersonal skills.\n• Oral advocacy and presentation skills a must.\n• Ability to work in high impact/high profile situations.\n• Interested in Uber\n","What You'll Need\n\n• At least 3+ years of legal experience at a mid to large size law firm, government regulatory entity or in-house corporate role. Prior experience in dealing with unique technology issues is preferred. \n• Outstanding academic performance in law school and additional preference for joint JD/MBA holders.\n• Experience crafting strategies to achieve ambitious regulatory goals, and advocacy in rulemaking proceedings before a regulatory body; experience before federal or state regulatory bodies (CPUC, NHTSA, state DMVs) is a plus;\n• Public utilities law experience is preferred;\n• Excellent business judgment, communication and interpersonal skills\n• Experience leading and managing regulatory or policy initiatives for your clients\n• Ability to multitask and carry out important projects with limited oversight.\n• Outstanding writing, research, negotiating, and interpersonal skills.\n• Excellent oral advocacy and presentation skills a must.\n• Ability to thrive in high impact/high profile situations.\n• Enthusiastic about Uber!\n","?iisp=he-6594079","?iisp=he-6584079",null,"(Associate) Counsel, Regulatory (West Coast)","2018-10-08T12:55:00","2018-12-11T08:50:00",null,"2018-12-13T07:20:00",null,"2018-12-14T06:46:00","Expired on 12/11/2018 8:50 AM PST, but came back alive on 12/13/2018 7:20:00 AM PST. Still in experiment. "]
["https://www.uber.com/careers/list/43219/","What You’ll Need\n• Minimum of 3 years of Product Management experience with overall 8+ years of experience\n• At least 3 years experience building Maps, Search or Location products in Search\n• Experience applying Machine Learning / statistical inference technologies to a variety of complex problems\n• Computer science undergraduate degree or equivalent plus hands-on software engineering experience\n• Basic Technical understanding of how maps works on both web and mobile\n• Entrepreneurial spirit and an interest in learning","What You’ll Need\n• Minimum of 3 years of Product Management experience with overall 8+ years of experience\n• At least 3 years experience building Maps, Search or Location products in Search\n• Experience applying Machine Learning / statistical inference technologies to a variety of complex problems\n• Computer science undergraduate degree or equivalent plus hands-on software engineering experience\n• Basic Technical understanding of how maps works on both web and mobile\n• Entrepreneurial spirit and a thirst for learning\n\nBonus Points For\n \n• Knowledge of routing algorithms (Dijkastra, A*) \n• Prior experience working on scalable infrastructures where you have built or/and managed services that power consumer experiences\n• Understanding of big-data processing pipelines (over Hadoop or similar technologies), distributed data stores, and distributed file systems\n","?iisp=he-6594079","?iisp=he-6584079",null,"Product Manager - Maps Routing","2018-10-08T12:55:00","2018-12-19T18:20:00","2018-10-30T07:19:00","2018-10-25T11:30:00",null,"2018-12-14T06:46:00"]
["https://www.uber.com/careers/list/43215/","What You'll Need\n \n• Google Sheets skills\n• Attention to detail\n• Ability to manage high level stakeholders, including Legal, Accounts Payable, and Operations \n• Ability to turn feedback into policy and process changes\n• Ability to remotely manage stakeholders across many functions both domestic and globally \n• Writing skills, ability to switch tones between internal technical process and external customer communication\n• Ability to multi-task, prioritize, and handle time effectively\n ","What You'll Need\n \n• Advanced Google Sheets skills\n• An extremely high attention to detail\n• Demonstrated ability to manage high level stakeholders, including Legal, Accounts Payable, and Operations \n• Demonstrated ability to turn feedback into policy and process changes\n• Proven ability to remotely manage stakeholders across many functions both domestic and globally \n• Excellent writing skills, ability to switch tones between internal technical process and external customer communication\n• Ability to multi-task, prioritize, and handle time effectively\n \nBonus Points if\n• Experience with Oracle \n• Experience with Microsoft Word Mail Merge\n• Experience with SQL\n","?iisp=he-6594079","?iisp=he-6584079",null,"Wage Garnishments Processor - Phoenix","2018-10-08T12:55:00","2018-11-09T11:50:00","2018-12-04T07:08:00",null,null,"2018-12-14T06:46:00"]
["https://www.uber.com/careers/list/43211/","What You’ll Need\n• 7+ years working on intercompany transactions between domestic and international entities in industry.\n• Communication skills, both written and verbal.\n","What You’ll Need\n• 7+ years working on intercompany transactions between domestic and international entities in industry.\n• Big 4 experience and CPA certification is a plus.\n• Oracle R12 experience and Oracle AGI (Advanced Global Intercompany) experience is highly preferred.\n• HFM experience is highly preferred.\n• Strong communication skills, both written and verbal.\n","?iisp=he-6594079","?iisp=he-6584079",null,"Accounting Manager, Consolidations and Intercompany","2018-10-08T12:55:00","2018-12-05T07:00:00","2018-12-10T08:23:00",null,null,"2018-12-14T06:46:00"]
["https://www.uber.com/careers/list/43201/","What You’ll Need\n \n• Minimum of 2 years of relevant experience. \n• Experience solving complex problems, exercising judgement in ambiguous circumstances, and communicating across a diverse team.\n• Able to learn and use new software tools.\n• Interpersonal skills. Ability to build relationships, lead a team, manage employees, and create a hard-working but fun workplace\n• Self-motivated, self-directed, and able to take ownership of tasks to ensure solution.\n• Problem-solving skills.\n• Organization and time management systems for yourself and your team.\n• Valid driver’s license and ability to pass MVR check required (No more than 2 minor violations, and no major violations, in past 3 years)\n","What You’ll Need\n \n• Minimum of 2 years of relevant experience. The ideal candidate will have leadership experience in a fast-paced work environment.\n• Experience solving complex problems, exercising good judgement in ambiguous circumstances, and effectively communicating across a diverse team.\n• Comfortable learning and using new software tools.\n• Strong interpersonal skills. Ability to build relationships, lead a team, manage employees, and create a hard-working but fun workplace\n• Proven to be self-motivated, self-directed, and eager to take ownership of tasks to ensure solution.\n• Black belt in problem-solving.\n• Excellent organization and time management systems for yourself and your team.\n• Valid driver’s license and ability to pass MVR check required (No more than 2 minor violations, and no major violations, in past 3 years)\n• Knowledge or passion for any of the following a plus: local markets, bikeshare, bike mechanics, mobility, and data/analytics.\n","?iisp=he-6594079","?iisp=he-6584079",null,"Operations Manager (San Diego) - JUMP","2018-10-08T12:55:00","2018-10-30T11:50:00","2018-11-07T11:33:00",null,null,"2018-12-14T06:46:00"]
["https://www.uber.com/careers/list/43200/","What you’ll need\n• 3 - 5 years of experience in a professional, fast-paced environment. \n• Minimum of 2 years progressive Human Resources and compensation experience with increasing levels of responsibility in identifying, consulting, designing, recommending, and implementing efficient, innovative business solutions to clients' challenges\n• Analytical capabilities, familiarity with broader underlying concepts, and ability to communicate with business partners to resolve highly complex problems and recommend or produce best solutions for their client\n• Works independently to facilitate and manage projects across multiple functions and client groups, utilizing subject matter expertise and knowledge of both internal and external business practices to improve products or service offerings\n• Works regularly and comfortably with high-level individual contributors and managers across multiple functions\n• Planning, project management, organizational and communication skills\n• Ability to adapt and work in a matrix organization with competing deadlines\n• Bachelor’s degree or equivalent\n","What you’ll need\n• 3 - 5 years of experience in a professional, fast-paced environment.  A strong background in Compensation and Mathematics, Finance, Statistics or Economics preferred\n• Minimum of 2 years progressive Human Resources and compensation experience with increasing levels of responsibility in identifying, consulting, designing, recommending, and implementing efficient, innovative business solutions to clients' challenges\n• Consulting experience strongly preferred\n• Strong analytical capabilities, familiarity with broader underlying concepts, and ability to communicate persuasively with business partners to resolve highly complex problems and recommend or produce best solutions for their client\n• Works independently to drive and manage projects across multiple functions and client groups, utilizing subject matter expertise and knowledge of both internal and external business practices to improve products or service offerings\n• Works regularly and comfortably with high-level individual contributors and managers across multiple functions\n• Strong planning, project management, organizational and communication skills\n• Proven ability to adapt and work effectively in a matrix organization with competing deadlines\n• Bachelor’s degree or equivalent\n","?iisp=he-6594079","?iisp=he-6584079",null,"Compensation Analyst","2018-10-08T12:55:00","2019-01-11T17:20:00",null,null,null,"2018-12-14T06:46:00"]
["https://www.uber.com/careers/list/43187/","What You’ll Need\n• Bachelor’s degree in Finance, a related field, or applicable work experience\n• 3+ years’ experience in a similar role\n• Understanding of accounting and financial principles\n• Analytical skills and detail oriented\n• Organizational skills\n• Ability to read, analyze and interpret financial reports\n• Communication, written, and interpersonal skills\n• Self-starter with willingness to work hands-on\n• Experience with spreadsheet\n• Ability to work in a fast paced environment","What You’ll Need\n• Bachelor’s degree in Finance, a related field, or applicable work experience\n• 3+ years’ experience in a similar role\n• Solid understanding of accounting and financial principles\n• Excellent analytical skills and detail oriented\n• Strong organizational skills\n• Ability to read, analyze and interpret financial reports\n• Good communication, written, and interpersonal skills\n• Self-starter with willingness to work hands-on\n• Advanced with spreadsheet\n• Ability to work in a fast paced environment\n \nBonus Points If\n• IT Financial Application Experience\n• IT technology experience\n• Strong ITIL or Service Management background\n• Working knowledge of IT Procurement\n","?iisp=he-6594079","?iisp=he-6584079",null,"Financial Analyst","2018-10-08T12:55:00","2018-11-07T17:30:00","2018-11-15T14:48:00",null,null,"2018-12-14T06:46:00","Expired on 11/7/2018 17:30 PST, but came back alive on 11/19/2018 18:40:00 PM PST. Removed. Expired again on 11/27/2018 3:30 PM PST. "]
["https://www.uber.com/careers/list/43137/","What You’ll Need\n \n• Past experience in designing and building large-scale distributed systems with reliability and availability in mind.  (Our architecture scales to 100x at 99.9% availability). \n• Experience as a Staff/Partner Engineer level or above at a technology company\n• Go, Java, C#, or C++ coding skills.\n• BS or MS in Computer/Information Science or Engineering.\n• 10+ years professional experience as a Software Engineer.\n• Understanding of a high level programming language such as Go, Java, C# or C++.\n• Experience with building backend services. \n• Experience working with database technologies (relational or NoSQL).\n• Willingness to work on end-to-end feature development, including frontend, backend and database.","What You’ll Need\n \n• Past experience in successfully designing and building large-scale distributed systems with reliability and availability in mind.  If your architecture can’t scale to 100x at 99.99% availability, it won’t work for Uber.\n• Proven track record of results as a Staff/Partner Engineer level or above at a premier technology company\n• Excellent Go, Java, C#, or C++ coding skills.\n• BS or MS in Computer/Information Science or Engineering.\n• 10+ years professional experience as a Software Engineer.\n• Solid understanding of a high level programming language such as Go, Java, C# or C++.\n• Experience with building backend services. \n• Experience working with database technologies (relational or NoSQL).\n• Strong willingness to work on end-to-end feature development, including frontend, backend and database.\n \nBonus Points If\n \n• You have prior experience working on features end-to-end, including frontend, backend and database.\n• You have prior experience with client-side technologies such as Javascript, React or Redux.\n• You have worked on large-scale microservices based distributed systems.\n• You have worked in a team that follows agile software engineering practices (scrum/kanban).\n• Built large scale projects with stream processing and batch processing.\n• Good understanding of Convex Optimization, Machine Learning and Deep Learning.\n• Experience working in Fintech industry.\n• Implemented regulatory compliance projects successfully.\n","?iisp=he-6594079","?iisp=he-6584079",null,"Staff Software Engineer -Vehicle Solutions (Seattle)","2018-10-08T12:55:00","2019-03-07T13:45:00","2018-10-16T07:51:00","2018-10-11T09:10:00",null,"2018-12-14T06:46:00"]
["https://www.uber.com/careers/list/43183/","What You’ll Need\n• 1-2 years of management experience in customer support\n• Willingness to work weekends, early mornings, late nights, and occasional holidays, in an operational 24/7 environment\n• Ability to manage, set team goals, develop people to their highest levels of performance, and guide through challenging situations\n• Motivational skills - your team depends on you to inspire them to reach their full potential.\n• You don’t let the stressors of the customer service industry negatively impact team attitude or morale\n• Leading by example - maintain a positive, can-do attitude and encourage others to do the same\n• Able to deliver tough feedback - you’ll need to tune into CSRs’ performance, give reinforcing feedback where necessary, and offer critical feedback for growth opportunities as they arise\n• Written and verbal communication skills\n• Optimistic leadership - you have a positive attitude and are interested in making a positive impact in our communities. You view every support interaction as a chance to impact our riders and driver partners in a positive way","What You’ll Need\n• Bachelor's degree or college experience preferred. Bachelor’s in Business, Communications, English or Journalism a plus; 1-2 years of management experience in customer support\n• Willingness to work weekends, early mornings, late nights, and occasional holidays, in an operational 24/7 environment\n• Proven ability to manage effectively, set team goals, develop people to their highest levels of performance, and guide through challenging situations\n• Motivational skills - your team depends on you to inspire them to reach their full potential.\n• You don’t let the stressors of the customer service industry negatively impact team attitude or morale\n• Leading by example - maintain a positive, can-do attitude and encourage others to do the same\n• Comfortable delivering tough feedback - you’ll need to tune into CSRs’ performance, give reinforcing feedback where necessary, and offer critical feedback for growth opportunities as they arise\n• Exceptional written and verbal communication skills\n• Optimistic leadership - you have an enthusiastic attitude and are passionate about making magic for our communities. You view every support interaction as a chance to impact our riders and driver partners in a positive way\n\nBonus Points If\n• Experience in service, customer support, manufacturing or distribution in a high-volume and extremely fast-paced environment  \n• Past experience leading and managing diverse teams of individuals, such as an Assistant Store Manager\n• Experience rallying individuals behind a cause, such as coaching athletics or after-school tutoring and mentor programs\n• Previous experience in logistics industry is welcome, but not needed\n \n\n","?iisp=he-6594079","?iisp=he-6584079",null,"Tracking Customer Service, Team Lead","2018-10-08T12:55:00","2018-11-30T15:50:00","2018-12-10T08:23:00",null,null,"2018-12-14T06:46:00"]
["https://www.uber.com/careers/list/43131/","What You'll Need\n• 6 months relevant sales or logistics industry experience\n• Ability to solve complex problems under pressure; analytical and critical thinking ability\n• Ability to collaborate and deliver results with a highly diverse set of clients\n• Communication and organization skills\n• Bachelor's degree\n• The ability to balance attention to detail with swift execution","What You'll Need\n• 6 months relevant sales or logistics industry experience\n• Demonstrated ability to solve complex problems under pressure; analytical and critical thinking ability\n• Ability to effectively collaborate and deliver results with a highly diverse set of clients\n• Strong communication and organization skills\n• Bachelor's degree; logistics background is not required, but operational experience is preferred\n• The ability to balance attention to detail with swift execution - we need to do things quickly, and we need to do them well\n \nBonus Points\n• SQL\n• R or Python\n• Spreadsheet proficiency\n• Data visualization proficiency\n","?iisp=he-6594079","?iisp=he-6584079",null,"Solutions Coordinator - Uber Freight","2018-10-08T12:55:00","2018-10-24T11:10:00","2018-10-30T07:19:00",null,null,"2018-12-14T06:46:00"]
["https://www.uber.com/careers/list/43150/","What You’ll Need\n• Minimum of one year of experience\n• Bachelor’s degree required\n• Excel and data analysis skills\n• Desire to continuously improve the customer experience for both driver-partners and riders\n• Leadership on projects and initiatives at your organization\n• Attention to detail and able to handle ambiguity in an ever-changing environment\n","What You’ll Need\n• Minimum of one year of experience\n• Bachelor’s degree required\n• Excellent Excel and data analysis skills, SQL strongly preferred\n• Desire to continuously improve the customer experience for both driver-partners and riders\n• Demonstrated leadership on projects and initiatives at your organization\n• Attention to detail and comfort with ambiguity in an ever-changing environment\n","?iisp=he-6594079","?iisp=he-6584079",null,"Strategic Operations Manager - Denver","2018-10-08T12:55:00","2018-11-09T11:50:00","2018-12-04T07:08:00",null,null,"2018-12-14T06:46:00"]
["https://www.uber.com/careers/list/43074/","What You’ll need\n\n\n• BS/BA degree in Computer Science, Design or related technical field or equivalent practical experience.\n• 4 years developing Websites and Web Applications using modern Frontend Libraries.\n• Experience with JavaScript\n• Have experience building brand experiences and marketing websites that are global and localized.\n• Focused on pixel-perfect designs and interaction details that make positive experiences.\n• Experience with vector and motion graphics, including SVG, HTML5 Canvas, and Animation via JavaScript and CSS.\n• Communication and collaboration skills\n• Able to work in an extremely fast paced environment with constantly changing processes\n• Ability to multitask and self manage\n• Portfolio of work - specifying your involvement in each project you present\n","What You’ll need\n\n\n• BS/BA degree in Computer Science, Design or related technical field or equivalent practical experience.\n• 4 years developing Websites and Web Applications using modern Frontend Libraries, (ReactJS a plus).\n• Proficient experience in JavaScript, (ES6/ESNext a plus)\n• Have experience building brand experiences and marketing websites that are global and localized.\n• Relentless obsession with pixel-perfect designs and interaction details that make magical experiences.\n• Experience with vector and motion graphics, including SVG, HTML5 Canvas, and Animation via JavaScript and CSS.\n• Amazing communication and collaboration skills\n• Experience working with Headless CMS, Contentful a plus\n• Experience working with AWS or similar a plus\n• Comfort in an extremely fast paced environment with constantly changing processes\n• Ability to multitask and self manage\n• Portfolio of work - specifying your involvement in each project you present\n","?iisp=he-6594079","?iisp=he-6584079",null,"Creative Technologist, Front End Web Developer","2018-10-08T12:55:00","2018-11-15T17:00:00","2018-12-04T07:08:00",null,null,"2018-12-14T06:46:00"]
["https://www.uber.com/careers/list/43071/","Requirements:\n• 3+ years working as a designer in a creative agency or comparable in-house team\n• Portfolio of marketing and brand design work\n• An understanding how communication design can contribute to a larger brand and business strategy\n• Experience working on a range of digital projects including responsive web pages, paid media, email templates and social media\n• Experience designing for printed materials\n• An understanding of typography and designing to a robust design system\n• Experience designing for different audiences (B2B, consumer, enterprise)\n• Ability to collaborate with a large team and take direction\n• Experience with InDesign, Illustrator, Photoshop\n• Self-starter with an attention to detail and ability to handle multiple projects","Requirements:\n• 3+ years working as a designer in a creative agency or comparable in-house team\n• Portfolio of beautiful, compelling marketing and brand design work\n• A solid understanding how communication design can contribute to a larger brand and business strategy\n• Experience working on a range of digital projects including responsive web pages, paid media, email templates and social media\n• Experience designing for printed materials\n• A solid understanding of typography and designing to a robust design system\n• Experience designing for different audiences (B2B, consumer, enterprise)\n• Ability to collaborate with a large team and take direction\n• Proficiency in InDesign, Illustrator, Photoshop\n• Self-starter with an attention to detail and ability to juggle multiple projects\n \nBonus Points:\n• Motion Graphics/Animation\n• Presentation experience (Keynote, Google Slides)\n• Illustration skills\n• Basic understanding of web technologies including HTML\n• Sketch/Figma experience \n","?iisp=he-6594079","?iisp=he-6584079",null,"Creative Designer","2018-10-08T12:55:00","2018-11-15T17:00:00","2018-12-04T07:08:00",null,null,"2018-12-14T06:46:00"]
["https://www.uber.com/careers/list/37805/","What you’ll need\n• BS in Computer Science or related technical field or equivalent practical experience\n• Minimum 2 years relevant experience designing and building infrastructure and web services at large scale.\n• Knowledge of Internet protocols and network programming.\n• Experience working in a Unix environment. \n• Knowledge of large-scale distributed systems and client-server architectures.\n• Experience driving automated cloud management systems at scale.\n• Experience with containerization, cluster schedulers, infrastructure configuration and orchestration.\n• Experience with build systems (buck, bazel, gradle, mvn)\n• Knowledge of database systems (MySql, PostgreSQL, Redis, Hbase, Voldemort, Espresso, Cassandra).","What you’ll need\n• BS in Computer Science or related technical field or equivalent practical experience\n• Minimum 2 years relevant experience designing and building infrastructure and web services at large scale.\n• Knowledge of Internet protocols and network programming.\n• Experience working in a Unix environment (Linux preferred).\n• Knowledge of large-scale distributed systems and client-server architectures.\n• Experience driving automated cloud management systems at scale.\n• Experience with containerization, cluster schedulers, infrastructure configuration and orchestration.\n• Experience with build systems (buck, bazel, gradle, mvn)\n• Knowledge of database systems (MySql, PostgreSQL, Redis, Hbase, Voldemort, Espresso, Cassandra).\n\nBonus points if\n• If you have worked on building distributed systems in the past. \n• Have worked with a mesos scheduler. \n• Have contributed to or built continuous integration and delivery infrastructure. \n• Experience in version control system internals (svn, git, mercurial, perforce).\n","?iisp=he-6594079","?iisp=he-6584079",null,"Software Engineer-Tools and Infrastructure","2018-10-08T12:55:00","2018-12-25T07:55:00",null,null,null,"2018-12-14T06:46:00"]
["https://www.uber.com/careers/list/43077/","What You'll Need\n• A minimum of 8-10 years of legal experience at a mid to large size law firm, government regulatory entity or in-house corporate role\n• Writing, research, negotiating, and interpersonal skills\n• Oral advocacy and presentation skills\n• Experience crafting strategies to achieve ambitious regulatory goals, and advocacy in rulemaking proceedings before a regulatory body\n• Business judgment, communication and interpersonal skills\n• Experience leading and managing regulatory or policy initiatives for your clients\n• Ability to multitask and carry out important projects with limited oversight\n• Ability to work in high impact/high profile situations\n• Interested in Uber\n","What You'll Need\n• A minimum of 8-10 years of legal experience at a mid to large size law firm, government regulatory entity or in-house corporate role\n• Prior experience in dealing with unique technology issues is preferred\n• Outstanding writing, research, negotiating, and interpersonal skills\n• Excellent oral advocacy and presentation skills\n• Experience crafting strategies to achieve ambitious regulatory goals, and advocacy in rulemaking proceedings before a regulatory body\n• Experience before federal or state regulatory bodies (CPUC, NHTSA, state DMVs) is a plus\n• Experience in legislative drafting, public policy or political roles is a plus\n• Excellent business judgment, communication and interpersonal skills\n• Experience leading and managing regulatory or policy initiatives for your clients\n• Ability to multitask and carry out important projects with limited oversight\n• Ability to thrive in high impact/high profile situations\n• Enthusiastic about Uber!\n","?iisp=he-6594079","?iisp=he-6584079",null,"Senior Counsel, Regulatory","2018-10-08T12:55:00","2018-10-30T11:50:00","2018-11-07T11:33:00",null,null,"2018-12-14T06:46:00"]
["https://www.uber.com/careers/list/43075/","What You’ll Need\n \n• BA/BS in Economics, Business, Engineering, Operations Research, or other quantitative focus\n• Minimum 1 year of experience in a quantitative / reporting / analytical role\n• Analytical thinking - you connect the dots between the data and operations and sense check every number you see\n• SQL, Excel and general programming / coding skills\n• Knowledge of Python or R \n• Basic understanding of statistical techniques and ability to employ them in solving business problems\n• Ability to work under pressure and in challenging environments\n• Team player\n• Organization & project management skills. Able to structure a project from idea to design / prototype to implementation\n• Communication skills, both verbal and written","What You’ll Need\n \n• BA/BS in Economics, Business, Engineering, Operations Research, or other quantitative focus\n• Minimum 1 year of experience in a quantitative / reporting / analytical role\n• Excellent analytical thinking - you connect the dots between the data and operations and gut check every number you see\n• Excellent SQL, Excel and general programming / coding skills\n• Good knowledge of Python and/or R \n• Basic understanding of statistical techniques and ability to employ them in solving business problems\n• Ability to thrive under pressure and in challenging environments\n• Team player\n• Strong organization & project management skills. Able to structure a project from idea to design / prototype to implementation\n• Strong communication skills, both verbal and written\n \nBonus Points if\n \n• Masters in a quantitative field (e.g., analytics, statistics)\n• Experience in data visualization tools, such as Shiny or Tableau\n• Experience working with customer support data, contact management analytics or customer insights\n","?iisp=he-6594079","?iisp=he-6584079",null,"Data Analyst","2018-10-08T12:55:00","2019-01-17T08:50:00","2018-10-23T06:21:00","2018-10-17T15:00:00",null,"2018-12-14T06:46:00"]
["https://www.uber.com/careers/list/43070/","What you'll need:\n• Ability to solve complex problems under pressure\n• Ability to collaborate and work with a highly diverse set of shippers, transportation partners, and internal partners\n• Analytical and critical thinking ability\n• Communication and organization skills\n• The ability to balance attention to detail with swift execution\n","What you'll need:\n• Minimum 2 year experience in the transportation industry strongly preferred\n• Demonstrated ability to solve complex problems under pressure\n• Ability to collaborate and work with a highly diverse set of shippers, transportation partners, and internal partners\n• Analytical and critical thinking ability\n• Strong communication and organization skills\n• Logistics background is not required, but operational experience is preferred\n• Bachelor's degree strongly preferred\n• The ability to balance attention to detail with swift execution - we need to do things quickly, and we need to do them well\n","?iisp=he-6594079","?iisp=he-6584079",null,"Account Executive, Carrier Sales","2018-10-08T12:55:00","2018-11-27T15:30:00","2018-12-10T08:23:00",null,null,"2018-12-14T06:46:00"]
["https://www.uber.com/careers/list/43036/","What You’ll Need\n• 4-8 years of data analytics experience on a global scale\n• BA/BS in Economics, Finance, Math, Statistics, or similar\n• Background in survey design and deriving insights from survey results\n• Experience managing surveys through major third party survey vendors\n• Data skills and an ability to use tools such as Excel, SQL, Python, and R to work efficiently at scale\n• Communication skills, organized, able to multitask and be a team player\n• Balance attention to detail with swift execution\n• Interest in Uber\n","What You’ll Need\n• 4-8 years of data analytics experience on a global scale\n• BA/BS in Economics, Finance, Math, Statistics, or similar\n• Strong background in survey design and deriving insights from survey results\n• Experience managing surveys through major third party survey vendors\n• Strong data skills and a shown ability to use tools such as Excel, SQL, Python, and R to work efficiently at scale\n• Experience with Hive, Spark, and other big data tools a plus\n• Experience with A/B testing or Statistical Modeling a plus\n• Great communication skills, organized, able to multitask and be a team player\n• Balance attention to detail with swift execution\n• Enthusiasm about Uber!\n","?iisp=he-6594079","?iisp=he-6584079",null,"Data Analyst, Safety and Insurance","2018-10-01T16:49:00","2018-11-29T16:10:00","2018-10-23T06:21:00","2018-10-17T15:00:00",null,"2018-12-14T06:46:00"]
["https://www.uber.com/careers/list/43030/","What You’ll Need\n• Hands-on management experience within a Law Enforcement response function at Uber, similar company, or policing agency\n• Experience supervising data disclosures to law enforcement in two or more regions\n• Knowledge and experience related to data protection legislation and online investigations\n• Experience working with policing agencies, prosecutors, and data protection authorities\n• Written and verbal communication skills","What You’ll Need\n• Hands-on management experience within a Law Enforcement response function at Uber, similar company, or policing agency\n• Experience supervising data disclosures to law enforcement in two or more regions\n• Knowledge and experience related to data protection legislation and online investigations\n• Ideally have regionally appropriate IAPP certifications\n• Experience working with policing agencies, prosecutors, and data protection authorities\n• Strong written and verbal communication skills\n• Second language preferred\n","?iisp=he-6594079","?iisp=he-6584079",null,"Law Enforcement Response Team Manager","2018-10-01T16:49:00","2018-11-07T17:30:00","2018-11-15T14:48:00",null,null,"2018-12-14T06:46:00"]
["https://www.uber.com/careers/list/43010/","What You'll Need\n \n• Interpersonal skills and ability to establish trust and effective working relationships with others on an external and internal basis\n• Interest in helping others and creating support experiences that exceed users' expectations\n• Ability to “learn on the fly” and adjust and adapt in a dynamic, fast paced work environment \n• Commitment to excellence in behavior, performance and work product\n• Written and verbal communication skills including ability to listen effectively; to diplomatically express opinions and voice concerns with other team members\n• Must work well in a team environment, contributing to a synergistic work environment where people learn from one another and continuously improve processes on behalf of users\n• Computer and time management skills","What You'll Need\n \n• Excellent interpersonal skills and ability to establish trust and effective working relationships with others on an external and internal basis\n• Passion for helping others and creating support experiences that exceed users' expectations\n• Ability to “learn on the fly” and adjust and adapt in a dynamic, fast paced work environment \n• Commitment to excellence in behavior, performance and work product\n• Excellent written and verbal communication skills including ability to listen effectively; to confidently and diplomatically express opinions and voice concerns with other team members\n• Must work well in a team environment, contributing to a synergistic work environment where people learn from one another and continuously improve processes on behalf of users\n• Strong computer and time management skills\n\n\nBonus Points If\n \n• Experience in the logistics or Freight industry\n• Support experience in a high-volume production environment, including customer service, retail, service and hospitality, or related industries\n• Bachelor’s Degree in Business, Communications, English or Journalism\n• Flexibility and willingness to work weekends, holidays, and shifts outside standard business hours; this is a 24/7 operation\n","?iisp=he-6594079","?iisp=he-6584079",null,"Customer Support Operations - Uber Freight, Inbound Phone","2018-10-01T16:49:00","2018-12-20T17:15:00",null,null,null,"2018-12-14T06:46:00"]
["https://www.uber.com/careers/list/38463/","What You’ll Need\n• Bachelor's degree (B.S.) in mechanical engineering or related field\n• Minimum of five (5) years of experience developing complex electromechanical and/or optomechanical products\n• CAD design experience, such as SolidWorks, CATIA, NX, and/or Creo\n• Technical depth in the development of highly reliable products for use in harsh environments\n• Ability to work in a complex environment under challenging timing constraints\n• Results oriented, experienced launching technical projects into series production\n• Experience working with suppliers and external partners\n• Oral and written communication skills\n• Willing to travel","What You’ll Need\n• Bachelor's degree (B.S.) in mechanical engineering or related field\n• Minimum of five (5) years of experience developing complex electromechanical and/or optomechanical products\n• Significant CAD design experience, such as SolidWorks, CATIA, NX, and/or Creo\n• Strong technical depth in the development of highly reliable products for use in harsh environments\n• Demonstrated ability to work in a complex environment under challenging timing constraints\n• Results oriented, experienced launching technical projects into series production\n• Experience working with suppliers and external partners\n• Effective oral and written communication skills\n• Willing to travel\n\nBonus Points\n• Graduate level education in mechanical engineering or related field\n• Two (2) or more years of experience at a startup company\n• Eight (8) or more years of mechanical engineering experience\n• Knowledge of LiDAR, camera, and/or radar product development\n• Experience in structural, thermal, and vibration analysis, and performance and durability testing\n• Design for six sigma\n• FMEA, fault tree analysis, and/or similar experience\n• Experience in quality management\n","?iisp=he-6594079","?iisp=he-6584079",null,"Senior Mechanical Engineer-LiDAR","2018-10-01T16:49:00","2019-05-28T08:55:00",null,null,null,"2018-12-14T06:46:00"]
["https://www.uber.com/careers/list/42733/","What You’ll Need\n \n• Bachelor’s degree with 2 yrs experience or Master Degree with 1 yr experience in   Economics, Statistics, Management Science, Computer Science, Engineering or other quantitative field.\n• SQL skills with analytical mindset\n• Understanding of basic statistical concepts\n• Experience with one scripting language such as R or Python\n• Experience telling stories with data to both technical and non-technical audiences and creating clear and compelling visualizations to convey complex data\n• Experience managing projects and stakeholders with communication and presentation skills","What You’ll Need\n \n• Bachelor’s degree with 2 yrs experience or Master Degree with 1 yr experience in   Economics, Statistics, Management Science, Computer Science, Engineering or other quantitative field.\n• Proficient SQL skills with strong analytical mindset\n• Good understanding of basic statistical concepts\n• Experience with at least one scripting language such as R or Python\n• Experience telling stories with data to both technical and non-technical audiences and creating clear and compelling visualizations to convey complex data\n• Experience managing projects and stakeholders with strong communication and presentation skills\n \n \nBonus Points if\n \n• Experience with Hive & Presto is a plus.\n• Experience with data pipeline management\n• Experience in building predictive modeling\n• Strong coding skills (e.g., R, Python)\n• Professional experience in business intelligence / strategy / consulting / operations or related field\n","?iisp=he-6594079","?iisp=he-6584079",null,"Data Analyst - Strategic Finance","2018-10-01T16:49:00","2019-02-14T19:10:00",null,null,null,"2018-12-14T06:46:00"]
["https://www.uber.com/careers/list/38335/","What You’ll Need\n• 8+ years Product Management experience\n• Ability to create a product vision and communicate it with clarity and secure buy in from leadership\n• Understanding and interplay between functional organizations to design the right experiences\n• Understand the needs of our internal teams and externalize by building scalable software along with your partners in engineering and design.\n• Develop strong relationships, trust and with other autonomy teams.\n• Develop products that are well designed with the user always in mind.\n• Define and analyze metrics that inform the success of products.\n• Lead the team to execute launches and post-launch iteration with attention to detail.","What You’ll Need\n• 8+ years Product Management experience\n• Ability to create a product vision and effectively communicate it with clarity and secure buy in from leadership\n• Understanding and interplay between functional organizations to design the right experiences\n• Understand the needs of our internal teams and externalize by building scalable software along with your partners in engineering and design.\n• Develop strong relationships, trust and with other autonomy teams.\n• Develop products that are well designed with the user always in mind.\n• Define and analyze metrics that inform the success of products.\n• Lead the team to execute launches and post-launch iteration with relentless attention to detail.\n\n\nBonus Points\n• Background in self-driving / automotive industry a big plus\n• Computer Science / Engineering degree a big plus\n","?iisp=he-6594079","?iisp=he-6584079",null,"Product Manager - Pilot and Certification Experience, Self-Driving","2018-10-01T16:49:00","2018-12-05T07:00:00","2018-12-10T08:23:00",null,null,"2018-12-14T06:46:00"]
["https://www.uber.com/careers/list/43009/","What You'll Need\n \n• Bilingual in both Spanish and English\n• Interpersonal skills and ability to establish trust and effective working relationships with others on an external and internal basis\n• Interest in helping others and creating support experiences that exceed users' expectations\n• Ability to “learn on the fly” and adjust and adapt in a dynamic, fast paced work environment \n• Commitment to excellence in behavior, performance and work product\n• Written and verbal communication skills including ability to listen; to diplomatically express opinions and voice concerns with other team members\n• Must work well in a team environment, contributing to a synergistic work environment where people learn from one another and continuously improve processes on behalf of users\n• Computer and time management skills\n","What You'll Need\n \n• Bilingual in both Spanish and English\n• Excellent interpersonal skills and ability to establish trust and effective working relationships with others on an external and internal basis\n• Passion for helping others and creating support experiences that exceed users' expectations\n• Ability to “learn on the fly” and adjust and adapt in a dynamic, fast paced work environment \n• Commitment to excellence in behavior, performance and work product\n• Excellent written and verbal communication skills including ability to listen effectively; to confidently and diplomatically express opinions and voice concerns with other team members\n• Must work well in a team environment, contributing to a synergistic work environment where people learn from one another and continuously improve processes on behalf of users\n• Strong computer and time management skills\n\n\nBonus Points If\n \n• Experience in the logistics or Freight industry\n• Support experience in a high-volume production environment, including customer service, retail, service and hospitality, or related industries\n• Bachelor’s Degree in Business, Communications, English or Journalism\n• Flexibility and willingness to work weekends, holidays, and shifts outside standard business hours; this is a 24/7 operation\n","?iisp=he-6594079","?iisp=he-6584079",null,"Customer Support Operations - Uber Freight, Inbound Phone (Spanish speaking)","2018-10-01T16:49:00","2018-12-20T17:15:00",null,null,null,"2018-12-14T06:46:00"]
["https://www.uber.com/careers/list/42985/","What You’ll Need\n• A minimum of 8 years of experience supporting investigations and litigation\n• Experience with Google Docs, Sheets, and Slides, Adobe Acrobat Pro, Box, and Microsoft Office \n• Motivated, efficient, organized, and focused on the details\n• Able to handle multiple projects at once in a fast-paced environment, both collaborating with a team and working independently to get the job done, no matter how big or small the project\n• Calm in deadline-driven situations; self-reliant and able to prioritize workload\n• Written/verbal communication; grammar, proofreading, English composition, spelling, and editing skills\n• Business judgment and interpersonal skills \n• Familiar with e-discovery issues, including document retention policies and procedures as well as collection, review, and production of documents\n• Interested in Uber \n","What You’ll Need\n• A minimum of 8 years of experience supporting investigations and litigation; experience supporting government investigations strongly preferred\n• Paralegal certificate or completed law school strongly preferred\n• Proficient in Google Docs, Sheets, and Slides, Adobe Acrobat Pro, Box, and Microsoft Office \n• Highly motivated, efficient, organized, and laser-focused on the details\n• Able to juggle multiple projects at once in a fast-paced environment, both collaborating with a team and working independently to get the job done, no matter how big or small the project\n• Calm in deadline-driven situations; self-reliant and able to prioritize workload\n• Strong written/verbal communication; outstanding grammar, proofreading, English composition, spelling, and editing skills\n• Excellent business judgment and interpersonal skills \n• Familiar with e-discovery issues, including document retention policies and procedures as well as collection, review, and production of documents\n• Enthusiastic about Uber!\n","?iisp=he-6594079","?iisp=he-6584079",null,"Sr. Paralegal, Government and Regulatory Investigations and Litigation","2018-10-01T16:49:00","2018-11-15T17:00:00","2018-12-04T07:08:00",null,null,"2018-12-14T06:46:00"]
["https://www.uber.com/careers/list/42961/","What You’ll Need\n• Minimum of 5 years of broad experience in business or data analysis including communicating the business significance of analytic results.  \n• BA/BS in Mathematics, Statistics, Computer Science, Economics, Business or analytical field\n• Verbal and written communication and executive-level presentation skills\n• Judgment, critical-thinking, and decision-making skills; can balance attention to detail with swift execution\n• Interest in Uber\n","What You’ll Need\n• Minimum of 5 years of broad experience in business or data analysis including communicating the business significance of analytic results.  \n• Management consulting, insurance, safety, or related experience a plus\n• Experience managing small teams preferred\n• Experience with SQL, Hive and familiarity with R, Python or other scripting language a plus\n• BA/BS in Mathematics, Statistics, Computer Science, Economics, Business or analytical field\n• Very strong verbal and written communication and executive-level presentation skills\n• Excellent judgment, critical-thinking, and decision-making skills; can balance attention to detail with swift execution\n• Enthusiasm about Uber!\n","?iisp=he-6594079","?iisp=he-6584079",null,"Data Analyst Manager, Safety and Insurance","2018-10-01T16:49:00","2018-11-29T16:10:00","2018-12-10T08:23:00",null,null,"2018-12-14T06:46:00"]
["https://www.uber.com/careers/list/42956/","What You’ll Need\n• Minimum of 5 years of broad experience in business strategy or program management\n• Strategic thinker with project management skills\n• Stakeholder management skills, able to quickly build relationships and gain respect\n• Verbal and written communication and executive-level slide-building and presentation skills\n• Judgment, critical-thinking, and decision-making skills; can balance attention to detail with swift execution\n• Interest in Uber\n","What You’ll Need\n• Minimum of 5 years of broad experience in business strategy or program management\n• Management consulting, insurance, safety, or related experience a plus\n• Strategic thinker with excellent project management skills\n• Experience with SQL, Tableau a plus\n• Excellent stakeholder management skills, able to quickly build relationships and gain respect\n• Very strong verbal and written communication and executive-level slide-building and presentation skills\n• Excellent judgment, critical-thinking, and decision-making skills; can balance attention to detail with swift execution\n• Enthusiasm about Uber!\n","?iisp=he-6594079","?iisp=he-6584079",null,"Senior Program Manager, Safety and Insurance","2018-10-01T16:49:00","2019-04-19T20:05:00",null,null,null,"2018-12-14T06:46:00"]
["https://www.uber.com/careers/list/42919/","What You'll Need\n• Minimum of 7+ years of experience managing an operations and/or team of analysts\n• Ability to build and scale a team\n• Experienced in Project and Change Management processes.\n• The ability to balance attention to detail with swift execution \n• Bachelor's Degree\n• To be effective in this role, a candidate must possess change management skills and understanding of workplace operations.\n• Experience as a leader and innovative thinker, and exemplify communication and organizational skills\n","What You'll Need\n• Minimum of 7+ years of experience managing an operations and/or team of analysts\n• Experience in Global Workplace Operations preferred\n• Demonstrated ability to build and scale a team\n• Proficient to advanced in Project and Change Management processes.\n• The ability to balance attention to detail with swift execution - we need to do things quickly, and we need to do them well\n• Bachelor's Degree, MBA or relevant masters degree a plus.\n• To be effective in this role, a candidate must possess change management skills and understanding of workplace operations.\n• Proven experience as a leader and innovative thinker, and exemplify effective communication and organizational skills\n","?iisp=he-6594079","?iisp=he-6584079",null,"Change Management, Global Program Manager, Workplace","2018-10-01T16:49:00","2018-11-27T15:30:00","2018-12-10T08:23:00",null,null,"2018-12-14T06:46:00"]
["https://www.uber.com/careers/list/36548/","What you’ll need\n \n• Command of a frontend stack (Javascript/HTML/CSS), frameworks like React/Redux and other web technology concepts.\n• Programming skills. Knowledge of a backend stack, including technologies like Java, Golang, Node.js, and how they interface with Redis, Kafka, Cassandra or similar.\n• Experience with large-scale data processing pipelines, distributed storage, understanding of relational and NoSql databases with a keen eye for design and architecture at scale.\n• Experience shipping high-quality features on schedule. Experience developing production software systems scaling to millions of users.\n• Bias toward action. You strive for both speed and quality. You've shown good judgment about shipping as fast as possible while ensuring your products and platforms are built in a sustainable, responsible way--and you're comfortable making mistakes, provided you learn from them.","What you’ll need\n \n• Command of a frontend stack (Javascript/HTML/CSS), frameworks like React/Redux and other web technology concepts.\n• Strong programming skills. Knowledge of a backend stack, including technologies like Java, Golang, Node.js, and how they interface with Redis, Kafka, Cassandra or similar.\n• Experience with large-scale data processing pipelines, distributed storage, understanding of relational and NoSql databases with a keen eye for design and architecture at scale.\n• Demonstrated experience shipping high-quality features on schedule. Substantial experience developing production software systems scaling to millions of users.\n• Bias toward action. You believe that speed and quality aren't mutually exclusive. You've shown good judgment about shipping as fast as possible while ensuring your products and platforms are built in a sustainable, responsible way--and you're comfortable making mistakes, provided you learn from them.\n \nBonus points\n \n• Experience in visualization frameworks, WebGL, or any Uber visualization frameworks like deck.gl, luma.gl\n• Experience with geospatial datasets and services such as maps, GPS traces etc.\n• Experience developing simulation and/or scenario generation/testing.\n• Experience with Android/iOS development.\n\n","?iisp=he-6594079","?iisp=he-6584079",null,"Full Stack Engineer - Airspace Systems","2018-10-01T16:49:00","2018-10-12T07:15:00","2018-10-23T06:21:00",null,null,"2018-12-14T06:46:00"]
["https://www.uber.com/careers/list/42866/","What You’ll Need\n• Bachelor’s degree required\n• 5-8 years relative experience with at least 2 years of experience managing an Operations team with 4+ team members \n• Have experience being a leader and problem solver\n• A bias for action; ability to collect buy in for an idea and then carry it forward through execution\n• Interpersonal skills; participate in a team environment and build strong working relationships\n• Ability to manage a team of different learning styles \n• Communication skills both internally and externally \n• Attention to detail \n• A positive thinker, and self-motivated individual \n• An understanding of all levers of the business and experience delivering results\n• Able to take risks - Sometimes you fail, but you get back up, make the next bet, and move forward \n•  \n","What You’ll Need\n• Bachelor’s degree required, Master’s degree preferred\n• 5-8 years relative experience with at least 2 years of experience managing an Operations team with 4+ team members \n• Have a track record of being a leader and problem solver\n• A bias for action; ability to collect buy in for an idea and then carry it forward through execution\n• Strong interpersonal skills; participate in a team environment and build strong working relationships\n• Ability to manage a team of different learning styles \n• Effective communication skills both internally and externally \n• Exceptional attention to detail \n• A natural positive thinker, and self-motivated individual \n• An understanding of all levers of the business and a proven history of delivering results\n• A risk taker - Sometimes you fail, but you get back up, make the next bet, and GO!\n•  \n","?iisp=he-6594079","?iisp=he-6584079",null,"Associate Manager, Freight Account Management","2018-10-01T16:49:00","2019-02-19T08:50:00","2018-11-07T11:33:00","2018-10-31T11:20:00",null,"2018-12-14T06:46:00"]
["https://www.uber.com/careers/list/42941/","What You’ll Need\n• 5+ years in the quality/reliability engineering in automotive, or aerospace industry with exposure to entire product lifecycle \n• Analytical and problem-solving skills, a background in applying statistical quality control tools for process/product controls, such as SPC, Gage R&R, PFMEA, FMECA, PPAP, 8-D, Lean, Six Sigma\n• Must be fluent in Mandarin & English\n• Bachelor’s degree in mechanical, electrical engineering\n• Written, oral, and presentation skills\n• Ability to operate autonomously and self-direct\n• Ability to inspire and motivate remote teams in unclear circumstances\n• Familiarity with bike or scooter manufacturing process\n• Ability to build trust, and work well in a team and think creatively\n","What You’ll Need\n• 5+ years in the quality/reliability engineering in automotive, or aerospace industry with exposure to entire product lifecycle \n• Excellent analytical and problem-solving skills, a strong background in applying statistical quality control tools for process/product controls, such as SPC, Gage R&R, PFMEA, FMECA, PPAP, 8-D, Lean, Six Sigma\n• Must be fluent in Mandarin & English\n• Bachelor’s degree in mechanical, electrical engineering, masters degree preferred\n• Good written, oral, and presentation skills\n• Ability to operate autonomously and self-direct\n• Ability to inspire and motivate remote teams in unclear circumstances\n• Familiarity with bike or scooter manufacturing process\n• Ability to build trust, and work well in a team and think creatively\n","?iisp=he-6594079","?iisp=he-6584079",null,"Quality Assurance Engineer - Mechanical - JUMP Hardware","2018-10-01T16:49:00","2019-03-07T13:45:00","2018-10-08T12:55:00","2018-10-05T11:55:00",null,"2018-12-14T06:46:00"]
["https://www.uber.com/careers/list/42921/","What You’ll Need\n• 4+ years of experience in executing multi-channel campaigns\n• Must have digital and traditional planning background for National brands\n• Mobile advertising experience \n• Ability to synthesize data, make data-driven decisions and balance that with the ‘art’ of media strategy\n• Experience building out and implementing channel and tactical-level testing frameworks \n• Experience working with/interpreting various marketing attribution models \n• Verbal, written communication and presentation skills, ability to organize information in a high level way to communicate key points to partners and internal stakeholders\n• Self-motivated and a collaborator\n","What You’ll Need\n• 4+ years of experience in executing multi-channel campaigns\n• Must have digital AND traditional planning background for National brands\n• Strong mobile advertising experience \n• Both in-house and agency experience would be a plus \n• Ability to synthesize data, make data-driven decisions and balance that with the ‘art’ of media strategy\n• Proven experience building out and implementing channel and tactical-level testing frameworks \n• Experience working with/interpreting various marketing attribution models \n• Excellent verbal, written communication and presentation skills, ability to organize information in a high level way to communicate key points to partners and internal stakeholders\n• Self-motivated and strong collaborator\n","?iisp=he-6594079","?iisp=he-6584079",null,"Marketing Manager, Cross-Channel Media","2018-10-01T16:49:00","2019-04-11T14:00:00",null,null,null,"2018-12-14T06:46:00"]
["https://www.uber.com/careers/list/42903/","What You’ll Need\n• 7+ years experience in a similar role - leading operations/logistics, leading diverse teams, developing procedures, optimizing systems, and achieving benchmark operational goals\n• Analytical Thinking. Data-driven mentality and business judgment.  Able to engage directly and analyze the data and pull key insights for your team.\n• Interpersonal skills.  Able to build and manage relationships with their team, cross-functional colleagues, and external partners\n• Experience with executing marketing campaigns and driving data-backed, creative marketing initiatives.  \n• Entrepreneurship mentality. Must be a self-starter and leader that assumes the risks and rewards of running an innovative sustainable operation.\n• Communication and organizational skills. Able to communicate and listen effectively; written, verbal and presentation skills\n• Leadership by example.  Able to motivate, inspire and create an inclusive and positive work environment for all.  \n• An interest in bikeshare, JUMP, and growing and leading a team. Interested in the overall goals of bike share and sustainable transportation\n• BA/BS with good academic record. ","What You’ll Need\n• 7+ years proven success in a similar role - leading operations/logistics, leading diverse teams, developing procedures, optimizing systems, and achieving benchmark operational goals\n• Analytical Thinking. Data-driven mentality and strong business judgment.  Able to roll up your sleeves and analyze the data and pull key insights for your team.\n• Strong interpersonal skills.  Able to build and manage strong relationships with their team, cross-functional colleagues, and external partners\n• Experience with executing marketing campaigns and driving data-backed, creative marketing initiatives.  Experience with CRM tools and A/B testing a plus.\n• Entrepreneurship mentality. Must be a self-starter and leader that assumes the risks and rewards of running an innovative sustainable operation.\n• Exceptional communication and organizational skills. Able to communicate and listen effectively; great written, verbal and presentation skills\n• Leadership by example.  Able to motivate, inspire and create an inclusive and positive work environment for all.  \n• A passion for bikeshare, JUMP, and growing and leading a team. Passionate about the overall goals of bike share and sustainable transportation\n• BA/BS with impressive academic record. Advanced degree a plus\n","?iisp=he-6594079","?iisp=he-6584079",null,"General Manager (Southeast) - JUMP","2018-10-01T16:49:00","2018-11-30T15:50:00","2018-10-08T12:55:00",null,"2018-10-02T10:15:00","2018-12-14T06:46:00"]
["https://www.uber.com/careers/list/42897/","What You'll Need\n• At least 1 year of experience in a client facing sales role\n• Prior experience in a role with high volume cold outreach\n• Sincere, meticulous, adaptable, and dedicated team-player who gets energy from building businesses\n• You're a self-starter and take initiative to embrace opportunities: The Uber for Business team is evolving every day and requires a motivated independent individual who will be responsible for all aspects of business in their market\n• Bachelor’s degree required\n","What You'll Need\n• At least 1 year of experience in a client facing sales role\n• Both sales and account management experience preferred\n• Prior experience in a role with high volume cold outreach\n• Sincere, meticulous, adaptable, and dedicated team-player who gets energy from building businesses\n• You're a self-starter and take initiative to seize opportunities: The Uber for Business team is evolving every day and requires highly motivated independent individual who will be responsible for all aspects of business in their market\n• Proficiency with Salesforce preferred\n• Bachelor’s degree required\n","?iisp=he-6594079","?iisp=he-6584079",null,"Account Representative, Uber for Business","2018-10-01T16:49:00","2018-11-09T11:50:00","2018-12-04T07:08:00",null,null,"2018-12-14T06:46:00"]
["https://www.uber.com/careers/list/42833/","What You’ll Need\n• 8+ years of experience in developing, and executing massive scale data-driven campaigns\n• Must have digital and linear planning background for National brands\n• Ability to synthesize data, make data-driven decisions and balance that with the ‘art’ of media strategy\n• Ability to own a project from end-to-end with little oversight from a manager and meet key deadlines\n• Understanding of testing paradigms and frameworks\n• Verbal, written communication and presentation skills, ability to organize information in a high level way to communicate key points to partners\n• Self-motivated and a collaborator\n","What You’ll Need\n• 8+ years of experience in developing, and executing massive scale data-driven campaigns\n• Must have digital AND linear planning background for National brands\n• Both in-house and agency experience would be a plus \n• Ability to synthesize data, make data-driven decisions and balance that with the ‘art’ of media strategy\n• Proven ability to own a project from end-to-end with little oversight from a manager and meet key deadlines\n• Understanding of testing paradigms and frameworks\n• Excellent verbal, written communication and presentation skills, ability to organize information in a high level way to communicate key points to partners\n• Self-motivated and strong collaborator\n","?iisp=he-6594079","?iisp=he-6584079",null,"Sr Marketing Manager, Cross-Channel Media","2018-10-01T16:49:00","2018-12-12T07:30:00",null,null,null,"2018-12-14T06:46:00"]
["https://www.uber.com/careers/list/42746/","What You’ll Need\n \n• A minimum of 5 years of industry or consulting experience in project or program management, global operations, or related fields\n• Change management in a large/international company\n• Analytical skills, including SQL\n• Ability to tell clear, compelling stories out of complex issues and analysis\n• Influential with communication skills, both written and verbal\n• Experience in planning, setting metrics, and roadmap development\n• Experience working cross-functionally\n• Ability to design processes without a prescribed template\n• Interest in improving Uber user experience with a focus on safety","What You’ll Need\n \n• A minimum of 5 years of industry or consulting experience in project or program management, global operations, or related fields\n• Change management in a large/international company\n• Excellent analytical skills, including SQL\n• Ability to tell clear, compelling stories out of complex issues and analysis\n• Influential with great communication skills, both written and verbal\n• Experience in planning, setting metrics, and roadmap development\n• Experience working cross-functionally\n• Ability to design processes without a prescribed template\n• Passion for improving Uber user experience with a focus on safety\n• MBA or Master's degree a plus\n• Experience working in the brand/marketing research space a plus\n• International experience a plus\n\n","?iisp=he-6594079","?iisp=he-6584079",null,"Global Safety Operations Program Manager","2018-10-01T16:49:00",{"$nulls":4},"2018-12-14T06:46:00"]
["https://www.uber.com/careers/list/39596/","What You'll Need\n \n• Minimum 5 years experience in operations, business consulting, finance or similar analytical role\n• Leadership experience\n• Communication, the ability to engage internal and external customers\n• Understanding of the user experience\n• Ability to leverage data to inform and support critical decisions\n• Strategic alignment, able to bring key stakeholders across functions together\n• A desire to learn, motivated self-starter, with an interest in learning and growing\n• Ability to foster collaboration and facilitate teamwork\n• Prioritization","What You'll Need\n \n• Minimum 5 years experience in operations, business consulting, finance or similar analytical role\n• Leadership experience\n• Excellent communication, the ability to engage internal and external customers\n• Deep understanding of the user experience\n• Ability to leverage data to inform and support critical decisions\n• Strategic alignment, able to bring key stakeholders across functions together\n• A desire to learn, highly motivated self-starter, with an eagerness to learn and grow\n• Ability to foster collaboration and facilitate teamwork\n• Effective prioritization\n \nBonus Points for\n \n• Prior experience working on global projects, or in an international setting\n• SQL proficiency\n• Deep analytical expertise\n• People management experience\n","?iisp=he-6594079","?iisp=he-6584079",null,"Senior Manager, Product Operations","2018-10-01T16:49:00","2018-12-12T07:30:00",null,null,null,"2018-12-14T06:46:00"]
["https://www.uber.com/careers/list/42810/","WHAT YOU’LL NEED\n• 4+ years of relevant experience in global mobility program management \n• Technical knowledge of mobility tax, payroll, and equity considerations for globally mobile employees\n• Strategic and consultative with interpersonal and project management skills\n• Motivated self-starter, able to work in a fast-paced environment with quickly changing business needs\n• Interested in customer/client success with a record demonstrating it\n• Creative and innovative\n","WHAT YOU’LL NEED\n• 4+ years of relevant experience in global mobility program management \n• Technical knowledge of mobility tax, payroll, and equity considerations for globally mobile employees, EA or CPA preferred\n• Strategic and consultative with advanced interpersonal and project management skills\n• Experience in program design and development preferred\n• Motivated self-starter, able to thrive in a fast-paced environment with quickly changing business needs\n• Passionate about customer/client success with a track record to prove it\n• Creative and innovative\n","?iisp=he-6594079","?iisp=he-6584079",null,"Global Mobility Specialist","2018-10-01T16:49:00","2018-11-12T19:45:00","2018-12-04T07:08:00",null,null,"2018-12-14T06:46:00"]
["https://www.uber.com/careers/list/33635/","What You'll Need\n• Familiarity with Android development in Java\n• Focus on high-quality mobile experiences\n• Record of shipping high-quality features","What You'll Need\n• Deep familiarity with Android development in Java\n• Strong focus on high-quality mobile experiences\n• Consistent record of shipping high-quality features\n \nBonus Points If\n• BS/MS/PhD in Computer Science or a related field\n• Experience with open source libraries like Retrofit, RxJava, Dagger 2, Lottie\n• Contribute to the wider Android community via open source\n• Comfortable working at different levels of our very deep tech stack\n• Handy with design tools such as Sketch or Illustrator\n• Passionate about accessible user design\n","?iisp=he-6594079","?iisp=he-6584079",null,"Android Engineer, Self-Driving Experience - San Francisco","2018-10-01T16:49:00",{"$nulls":4},"2018-12-14T06:46:00"]
["https://www.uber.com/careers/list/31176/","What You'll Need\n• A BS in Computer Science or related field or equivalent experience\n• Two years of experience building and operating live production software systems\n• Coding skills in either Python, Ruby, Java, or C++\n• Written and verbal technical communication skills","What You'll Need\n• A BS in Computer Science or related field or equivalent experience\n• Two years of experience building and operating live production software systems\n• Excellent coding skills in one or more of Python, Ruby, Java, or C++\n• Excellent written and verbal technical communication skills\n \nBonus Points If\n \n• Track record of building and shipping machine learning features in products\n• Experience in designing and building distributed systems\n• Experience with scalable data and analytics infrastructure such as NOSQL, DynamoDB, Kafka, BigTable, Lucene, Elasticsearch, RDBMS and Presto\n• Experience with MapReduce and Streaming paradigms such as Spark, Hadoop, or Pig\n","?iisp=he-6594079","?iisp=he-6584079",null,"Software Systems Engineer, Self-Driving - San Francisco","2018-10-01T16:49:00","2019-03-07T13:45:00",null,null,null,"2018-12-14T06:46:00"]
["https://www.uber.com/careers/list/42792/","What You’ll Need\n• Minimum 2 years experience in Product management, delivering innovative products.\n• Customer empathy, with an ability to transform complex data and customer insights into a prioritized roadmap.\n• Technical experience and the ability to question, understand, and challenge software implementation decisions and priorities.\n• Experience partnering with cross-functional teams of engineers, data scientists, and designers to deliver extraordinary products\n• A \"driver\" personality - striving for clarity and delivery while balancing the need for collaboration.\n• Resolve. You are able to engage directly and pursue something hands-on, you persevere.\n","What You’ll Need\n• Minimum 2 years experience in Product management, delivering highly successful and innovative products.\n• Strong customer empathy, with an ability to transform complex data and customer insights into a prioritized roadmap.\n• Technical expertise and the ability to question, understand, and challenge software implementation decisions and priorities.\n• Experience partnering with cross-functional teams of engineers, data scientists, and designers to deliver extraordinary products\n• A \"driver\" personality - constantly pushing toward clarity and delivery while balancing the need for great collaboration.\n• Grittiness. You never hesitate to roll up your sleeves and pursue something hands-on, you persevere when others fall away.\n\nBonus Points If\n• A computer science undergraduate degree or other engineering degree equivalent.\n• Experience working in Financial products\n","?iisp=he-6594079","?iisp=he-6584079",null,"Product Manager - FinTech","2018-10-01T16:49:00","2019-02-07T08:45:00","2018-10-30T07:19:00","2018-10-22T14:46:00",null,"2018-12-14T06:46:00"]
["https://www.uber.com/careers/list/42781/","What You’ll Need\n• Minimum 2 years of operations project management experience\n• Team player and ability to bring different opinions to consensus\n• Communication, presentation and organization skills - ability to reduce complex and complicated information into clear messages\n• Multitasking and prioritization skills\n• Balance attention to detail with swift execution\n• Explorer - the ability to self-serve, investigate and get the data we require will make you much more effective in this role. Self-starter attitude is a must\n","What You’ll Need\n• Minimum 2 years of operations project management experience\n• Absolute team player and ability to bring different opinions to consensus\n• Strong communication, presentation and organization skills - ability to reduce complex and complicated information into clear messages\n• Strong multitasking and prioritization skills\n• Balance attention to detail with swift execution\n• Explorer - the ability to self-serve, investigate and get the data we require will make you much more effective in this role. Self-starter attitude is a must!\n \nBonus Points If\n• Prior experience in customer support operations\n• Prior experience managing a Jira Service Desk or background in system administration\n","?iisp=he-6594079","?iisp=he-6584079",null,"Program Specialist, Support Operations Insights","2018-10-01T16:49:00","2018-10-23T10:10:00","2018-11-15T14:48:00",null,null,"2018-12-14T06:46:00","Expired on 10/23/2018 10:10 PST, but came back alive on 10/24/2018  11:10:00 AM PST. Expired again on 11/01/2018 11:55 AM PST."]
["https://www.uber.com/careers/list/42777/","What You’ll Need\n• 4+ years of relevant experience.\n• Bachelor’s degree in Finance, Accounting, or similar fields\n• Tax operations knowledge and familiarity of tax issues for a multinational technology company operating globally.\n• Have analytical skills, ensure results are accurate and able to communicate findings in a precise and simple manner\n• Ability to work independently in a fast-paced environment with ownership of his/her function\n• Results driven with initiative, teamwork, urgency, accountability and integrity\n• Hands-on willingness to accept challenging projects outside areas of experience\n• Experience with Microsoft Excel and Word, research and tax provision program (e.g., OneSource, Corptax, RIA, CCH, BNA)\n","What You’ll Need\n• 4+ years of relevant experience.\n• Bachelor’s degree in Finance, Accounting, or similar fields\n• CPA and/or Master’s in Taxation preferred.\n• Strong tax operations knowledge and familiarity of tax issues for a multinational technology company operating globally.\n• Have excellent analytical skills, ensure results are accurate and able to communicate findings in a precise and simple manner\n• Ability to work independently in a fast-paced environment with strong ownership of his/her function\n• Results driven with high level of initiative, teamwork, urgency, accountability and integrity\n• Demonstrates hands-on willingness to accept challenging projects outside areas of experience\n• Proficiency in Microsoft Excel and Word, research and tax provision program (e.g., OneSource, Corptax, RIA, CCH, BNA)\n","?iisp=he-6594079","?iisp=he-6584079",null,"Sr Tax Analyst, Global Tax Provision","2018-10-01T16:49:00","2018-12-14T06:45:00",null,null,null,"2018-12-14T06:46:00"]
["https://www.uber.com/careers/list/42749/","What You'll Need\n \n• BS/BA in Finance, Accounting, Economics, or similar \n• 7+ years in Corporate finance / operational FP&A or Investment Banking/Corporate Finance at a large, well-established company\n• Experience building, training and developing a team\n• Excel / financial modeling skills. You strive for best practices, you can handle complexity but strive for simplicity\n• Attention to detail combined with swift execution. \n• Communication (written and verbal) and relationship building skills - numbers are key, but a business is built with people.\n• You possess the ability to distill complex analyses and nuanced problems into simple, logical frameworks with concrete action plans.\n• Real teammate - this is a highly collaborative and supportive team environment\n\n","What You'll Need\n \n• BS/BA in Finance, Accounting, Economics, or similar (MBA a plus)\n• 7+ years in Corporate finance / operational FP&A or Investment Banking/Corporate Finance at a large, well-established company - experience in the cargo or logistics space a definite plus\n• Experience building, training and developing a team\n• Extraordinary Excel / financial modeling skills. Best practices are second-nature, you can handle complexity but strive for simplicity\n• Attention to detail combined with swift execution. We need to do things quickly and we need to do them well.\n• Excellent communication (written and verbal) and relationship building skills - numbers are key, but a business is built with people.\n• You possess the ability to distill complex analyses and nuanced problems into simple, logical frameworks with concrete action plans.\n• Real teammate - this is a highly collaborative and supportive team environment\n• Nice to have - Systems - working knowledge of enterprise-level financial planning systems\n\n","?iisp=he-6594079","?iisp=he-6584079",null,"Sr Manager- Strategic Finance, Uber Freight","2018-10-01T16:49:00","2018-12-13T07:20:00",null,null,null,"2018-12-14T06:46:00"]
["https://www.uber.com/careers/list/42740/","What You’ll Need\n• Experience in computer vision or using CNNs\n• Experience with machine learned approaches for generating depth data directly from imagery or 3D content directly from imagery\n• Experience generating 3D mesh content from imagery\n• Experience with machine learning approaches for mapping and localization\n• Experience optimizing machine learned models on mobile devices\n \n","What You’ll Need\n• Experience in computer vision or using CNNs\n• Experience with machine learned approaches for generating depth data directly from imagery or 3D content directly from imagery\n• Experience generating 3D mesh content from imagery\n• Experience with machine learning approaches for mapping and localization\n• Experience optimizing machine learned models on mobile devices\n \nBonus Points If\n• You have experience in the following areas:\no Autonomous vehicle & general robotics\no Classification & prediction\no Game programming\no Experience with Spark or Scala\no Experience scaling computer vision applications\no Unity development experience\n","?iisp=he-6594079","?iisp=he-6584079",null,"Deep Learning Engineer","2018-10-01T16:49:00","2019-01-31T07:06:00",null,null,null,"2018-12-14T06:46:00"]
["https://www.uber.com/careers/list/42576/","What You’ll Need\n• Must have combined 15+ years of HR or Employee Relations experience.\n• People management background from having led a team of global ER specialists.\n• Experience developing an ER function and/or leading the development and adoption of new tools and processes that lead to improved manager and employee experience, outcomes and employment risk mitigation.\n• Ability to partner with leaders and colleagues at all levels and in diverse geographies to provide effective and strategic employee relations counsel.\n• Broad experience conducting and advising on workplace investigations.\n• Working knowledge of CA state employment laws with an understanding and appreciation for non-US employment laws.\n• Verbal and written communication skills.\n• Experience advising on a wide range of employee relations issues, including re-organizations, workplace conflict and performance issues.\n• Analytical and problem solving skills with ability to organize and analyze data.\n• Project management skills with ability to manage global projects.\n• Ability to listen, but also to persuasively convey opinions and recommendations both in writing and orally.\n","What You’ll Need\n• Must have combined 15+ years of HR or Employee Relations experience.\n• A J.D. and CA employment law experience are strongly preferred.  \n• People management background from having led a team of global ER specialists.\n• Experience developing an ER function and/or leading the development and adoption of new tools and processes that lead to improved manager and employee experience, outcomes and employment risk mitigation.\n• Proven ability to partner with leaders and colleagues at all levels and in diverse geographies to provide effective and strategic employee relations counsel.\n• Broad experience conducting and advising on workplace investigations.\n• Extensive working knowledge of CA state employment laws with a thorough understanding and appreciation for non-US employment laws.\n• Excellent verbal and written communication skills.\n• Experience advising on a wide range of employee relations issues, including re-organizations, workplace conflict and performance issues.\n• Strong analytical and problem solving skills with ability to organize and analyze data.\n• Proven project management skills with demonstrated ability to manage global projects.\n• Ability to listen, but also to persuasively convey opinions and recommendations both in writing and orally.\n","?iisp=he-6594079","?iisp=he-6584079",null,"Sr Director, Employee Relations","2018-10-01T16:49:00","2019-01-16T12:05:00",null,null,null,"2018-12-14T06:46:00"]
["https://www.uber.com/careers/list/42479/","What You’ll Need\n• Bachelor’s Degree\n• Minimum 3-4 years of data science, business intelligence, investment banking, consulting or related experience\n• Experience with SQL \n• Experience with R and/or Python \n• Teamwork skills and desire to help others learn\n• Data management skills\n• Communication and organization skills\n• Hard work and entrepreneurship - driven and focused self-starter\n• Strategic mindset - you're able to think a few steps ahead of where the team is at now\n ","What You’ll Need\n• Bachelor’s Degree\n• Minimum 3-4 years of data science, business intelligence, investment banking, consulting or related experience\n• Expertise in SQL (Hive or Presto experience a plus)\n• Experience with R and/or Python (fluency in either language preferred)\n• Strong teamwork skills and desire to help others learn\n• Exceptional data management skills\n• Strong communication and organization skills\n• Hustle and entrepreneurship - driven and focused self-starter\n• Strategic mindset - you're comfortable thinking a few steps ahead of where the team is at now\n \nBonus Points If\n• High-growth analytics or operations experience\n• Experience working in a support environment (contact management analytics, Zendesk API familiarity, etc.)\n• Experience in advanced reporting tools such as R Shiny, Dash, or Bokeh\n","?iisp=he-6594079","?iisp=he-6584079",null,"Analytics & Insights Senior Data Analyst","2018-10-01T16:49:00","2019-03-08T18:45:00",null,null,null,"2018-12-14T06:46:00"]
["https://www.uber.com/careers/list/37098/","What You’ll Need\n \n• Oral and written communication skills\n• 5+ years experience as a BSA in IT\n• 5+ years experience with ERP/PLM\n• Project management experience especially in large scale projects\n• Experience in researching and documenting possible solutions to business needs and ability to clearly explain trade-offs and potential return on investment for different options\n• Problem solving ability, including working with others to quickly reach sustainable, scalable resolutions\n• You are intellectually curious\n• Interacts well with others - you’ll be collaborating directly with several key stakeholders and many different teams.\n• Ability to not only gather requirements but also help come up with possible solutions","What You’ll Need\n \n• Strong oral and written communication skills\n• 5+ years experience as a BSA in IT\n• 5+ years experience with ERP/PLM\n• Project management experience especially in large scale projects\n• Experience in researching and documenting possible solutions to business needs and ability to clearly explain trade-offs and potential return on investment for different options\n• Demonstrated problem solving aptitude, including working with others to quickly reach sustainable, scalable resolutions\n• You have an unstoppable intellectual curiosity, always asking: How? Why not?\n• Wherever you go, your previous colleagues and customers try to hire you\n• Plays well with others - you’ll be collaborating directly with several key stakeholders and many different teams.\n• Ability to not only gather requirements but also help come up with possible solutions\n \nBonus Points If\n \n• 5+ years of experience with a ERP and/or PLM System, such as iQMS and/or TeamCenter\n• Understanding manufacturing process flows\n• Extremely high attention to detail\n• Direct experience working in a business operations team\n• Passion for data integrity, always finding ways to improve data quality and insights\n• Impeccable customer service, strong ability to work with cross functional teams at all levels\n• Excellent written and verbal communication skills\n• Quick learner who thrives in a dynamic and fast-paced collaborative environment\n• Effectively handle multiple tasks and projects simultaneously\n• Strong references from former employers and business partners\n• Thrive in an ever changing and fast paced environment","?iisp=he-6594079","?iisp=he-6584079",null,"Sr Business Systems Analyst - ERP/PLM","2018-10-01T16:49:00","2019-02-28T08:45:00","2018-10-30T07:19:00",null,"2018-10-24T11:10:00","2018-12-14T06:46:00"]
["https://www.uber.com/careers/list/42800/","What you'll need\n \n• Listening, communication, and organizational skills\n• Ability to multi-task and follow through while paying attention to detail\n• Coachability, interest in implementing feedback, and dedication to the improvement of your craft\n• Curiosity about people and business and an interest in Uber Eats and food\n• A positive attitude and desire to win; hard work and determination\n• 3 or more years of sales experience required\n• Bachelor’s degree required\n","What you'll need\n \n• Exceptional listening, communication, and organizational skills\n• Proven ability to multi-task and follow through while paying strict attention to detail\n• Coachability, interest in implementing feedback, and dedication to the improvement of your craft\n• Genuine curiosity about people and business and a passion for Uber Eats and food\n• An infectiously positive attitude and drive to win; hustle and determination\n• Restaurant industry or hospitality experience preferred\n• 3 or more years of sales experience required\n• Bachelor’s degree required\n","?iisp=he-6594079","?iisp=he-6584079",null,"Strategic Account Executive, Uber Eats","2018-10-01T16:49:00","2018-11-27T15:30:00","2018-12-10T08:23:00",null,null,"2018-12-14T06:46:00"]
["https://www.uber.com/careers/list/42799/","What you'll need\n \n• Listening, communication, and organizational skills\n• Ability to multi-task and follow through while paying attention to detail\n• Coachability, interest in implementing feedback, and dedication to the improvement of your craft\n• Curiosity about people and business and an interest in Uber Eats and food\n• A positive attitude and desire to win; hard work and determination\n• 3 or more years of sales experience required\n• Bachelor’s degree required\n","What you'll need\n \n• Exceptional listening, communication, and organizational skills\n• Proven ability to multi-task and follow through while paying strict attention to detail\n• Coachability, interest in implementing feedback, and dedication to the improvement of your craft\n• Genuine curiosity about people and business and a passion for Uber Eats and food\n• An infectiously positive attitude and drive to win; hustle and determination\n• Restaurant industry or hospitality experience preferred\n• 3 or more years of sales experience required\n• Bachelor’s degree required\n","?iisp=he-6594079","?iisp=he-6584079",null,"Strategic Account Executive, Uber Eats","2018-10-01T16:49:00","2018-11-27T15:30:00","2018-12-10T08:23:00",null,null,"2018-12-14T06:46:00"]
["https://www.uber.com/careers/list/42727/","What you'll need\n• B.S. degree or equivalent work experience in security, risk management, compliance, information systems or other relevant field.\n• 5-10 years of combined risk management, risk consulting, and / or security work experience.\n• Knowledge of payment security risks and global compliance requirements. \n• Knowledge of security practices and controls applied to address payment security risks, including implementation experience.\n ","What you'll need\n• B.S. degree or equivalent work experience in security, risk management, compliance, information systems or other relevant field.\n• 5-10 years of combined risk management, risk consulting, and / or security work experience.\n• Deep knowledge of payment security risks and global compliance requirements. \n• Deep knowledge of security practices and controls applied to address payment security risks, including proven implementation experience.\n \nDesired traits and qualifications\n• Certified Information Systems Security Professional (CISSP) or equivalent.\n• Current or former PCI Internal Security Assessor (ISA) or Qualified Security Assessor (QSA).\n• Experience managing global payment compliance requirements beyond PCI - such as PSD2, GLBA, etc. \n• Technical understanding of how payment and cardholder data protection controls are implemented and operating across various technologies and environments.\n• Results-oriented, with demonstrated problem-solving and decision-making skills.\n• Strategic thinker; ability to drive the vision and structure of the program in alignment with Uber’s objectives.\n• Effective stakeholder management skills; ability to influence and work across many groups and levels to develop the most effective approach.\n• Excellent written and verbal communication skills.\n• Advanced interpersonal skills to effectively promote ideas, collaborate across teams and influence stakeholders.\n• Experience creating and refining metrics to articulate and measure program performance.\n• Active and passionate in the security industry; equipped with external networking relationships to maintain relevant knowledge of best practices, tactics, strategies and technologies.\n• Previous experience in a tech or fintech, DevOps, engineering-driven culture preferred.\n","?iisp=he-6594079","?iisp=he-6584079",null,"Senior Security Strategist - Payments Compliance","2018-10-01T16:49:00","2018-12-15T08:50:00",null,null,null,"2018-12-14T06:46:00"]
["https://www.uber.com/careers/list/42701/","What You’ll Need\n• Bachelor's degree \n• A minimum of 4 - 7 years of audit (internal or external), controls, compliance or risk management experience Organization skills with an ability to plan and perform multiple tasks\n• Ability to analyze complex processes to identify potential financial, operational, systems and compliance risks\n• Ability to communicate in written and verbal form across a wide array of internal and external stakeholders","What You’ll Need\n• Bachelor's degree (Accounting, Finance or Economics preferred)\n• A minimum of 4 - 7 years of audit (internal or external), controls, compliance or risk management experienceStrong organization skills with an ability to plan and perform multiple tasks\n• Ability to analyze complex processes to identify potential financial, operational, systems and compliance risks\n• Ability to effectively communicate in written and verbal form across a wide array of internal and external stakeholders\n\nBonus Points If\n \n• Big 4 accounting firm and/or internet/ technology industry experience\n• CPA/CA/CIA/CFA/CISSP/CISM preferred\n• Demonstrated project management experience (PM certification a plus)\n• Experience managing, monitoring and remediating deficient financial controls\n• Process management experience, including process redesign and optimization\n• Working technical knowledge of US GAAP, SEC reporting requirements, SOX requirements, including PCAOB Auditing Standard No. 5\n• Experience with Oracle R12 or another large scale ERP\n","?iisp=he-6594079","?iisp=he-6584079",null,"Financial Controls Program Manager (Senior Analyst) - Emerging Products","2018-10-01T16:49:00","2018-10-02T10:15:00","2018-10-08T12:55:00",null,null,"2018-12-14T06:46:00"]
["https://www.uber.com/careers/list/42699/","What You’ll Need\n• Knowledge of revenue recognition in US GAAP and experience in performing technical revenue research\n• Ability to collaborate with Finance Engineering to build audit ready Revenue systems\n• Experience auditing, implementing or operating in a SOX effective environment\n• Exposure to electronic payment processing, working with PSPs, and have an understanding of a mature company order-to-cash cycle\n• Month-end close experience required\n• Time and self-management skills, ability to prioritize and multitask to meet deadlines is required\n• Excel skills, able to work with extremely large data set volume\n• 7+ years professional experience\n• Bachelor’s degree\n","What You’ll Need\n• Extensive knowledge of revenue recognition in US GAAP and experience in performing technical revenue research\n• Proven ability to collaborate with Finance Engineering to build audit ready Revenue systems\n• Experience auditing, implementing or operating in a SOX effective environment\n• Exposure to electronic payment processing, working with PSPs, and have an understanding of a mature company order-to-cash cycle\n• Ability to read and write SQL query is a big plus\n• Month-end close experience required; experience with Oracle preferred\n• Excellent time and self-management skills, ability to prioritize and multitask to meet deadlines is required\n• Strong Excel skills, comfortable with extremely large data set volume\n• Proven ability to succeed in a fast paced and constantly changing environment a plus\n• 7+ years professional experience; public accounting background at a Big 4 preferred\n• Bachelor’s degree in Accounting or Finance preferred.\n• CPA a plus\n","?iisp=he-6594079","?iisp=he-6584079",null,"Revenue Accounting Manager","2018-10-01T16:49:00","2018-12-04T07:15:00","2018-12-10T08:23:00",null,null,"2018-12-14T06:46:00"]
["https://www.uber.com/careers/list/42697/","What You’ll Need\n• Bachelor's degree \n• 3 - 6 years of audit (internal or external), controls, compliance or risk management experience\n• Organization skills with an ability to plan and perform multiple tasks\n• Ability to analyze complex processes to identify potential financial, operational, systems and compliance risks\n• Ability to communicate in written and verbal form across a wide array of internal and external stakeholders\n• Willingness to “Lean in” to assist control owners to complete controls to an acceptable standard where required\n","What You’ll Need\n• Bachelor's degree (Accounting, Finance or Economics preferred)\n• 3 - 6 years of audit (internal or external), controls, compliance or risk management experience\n• Strong organization skills with an ability to plan and perform multiple tasks\n• Ability to analyze complex processes to identify potential financial, operational, systems and compliance risks\n• Ability to effectively communicate in written and verbal form across a wide array of internal and external stakeholders\n• Willingness to “Lean in” to assist control owners to complete controls to an acceptable standard where required\n\nBonus Points If\n• Big 4 accounting firm and/or internet/ technology industry experience\n• CPA/CA/CIA/CFA/CISSP/CISM\n• Demonstrated project management experience (PM certification a plus)\n• Experience managing, monitoring and remediating deficient financial controls\n• Process management experience, including process redesign and optimization\n• Working technical knowledge of US GAAP, SEC reporting requirements, SOX requirements, including PCAOB Auditing Standard No. 5\n• Experience with Oracle R12 or another large scale ERP\n","?iisp=he-6594079","?iisp=he-6584079",null,"Senior Analyst, Financial Controls Program Management","2018-10-01T16:49:00","2019-01-11T17:20:00",null,null,null,"2018-12-14T06:46:00"]
["https://www.uber.com/careers/list/42691/","What You’ll Need\n• 1-2 years customer service experience.  \n• Written and verbal communication skills to provide information in a clear and concise manner and to communicate with a variety of individuals.\n• Attention to detail\n• Ability to maintain quality in a fast-paced and pressured environment\n• Ability to learn and apply claims policies and procedures","What You’ll Need\n• 1-2 years customer service experience.  \n• Insurance experience a plus\n• Effective written and verbal communication skills to provide information in a clear and concise manner and to communicate with a variety of individuals.\n• Extraordinary attention to detail\n• Ability to maintain quality in a fast-paced and pressured environment\n• Ability to learn and apply claims policies and procedures\n\nBonus Points If\n• College degree\n","?iisp=he-6594079","?iisp=he-6584079",null,"Claims Associate","2018-10-01T16:49:00","2018-10-10T08:30:00","2018-10-16T07:51:00",null,null,"2018-12-14T06:46:00"]
["https://www.uber.com/careers/list/42687/","What You’ll Need\n• An understanding of information security standards & methodologies\n• Ability to distill complex security problems and work toward creative solutions\n• Programming Skills in two of the following languages: Go, Java, C/C++, Python.\n• Ability to write high quality code: reliable, efficient, easy to debug and maintain\n• Problem solving skills\n• Understanding of authentication, authorization, and directory services\n• A grasp of networking protocols and operations\n• An understanding of software and system architecture patterns (central and distributed systems)\n• Ability to provide technical mentorship and guidance \n• Ability to communicate ideas and proposals concisely, both verbally and in writing to people with all levels of technical experience\n• Experience with *nix environments and/or Bash\n• Container experience (Docker)","What You’ll Need\n• A solid understanding of information security standards & methodologies\n• Ability to distill complex security problems and drive toward creative solutions\n• Programming Skills in two of the following languages: Go, Java, C/C++, Python.\n• Ability to write high quality code: reliable, efficient, easy to debug and maintain\n• Exceptional problem solving skills\n• Thorough understanding of authentication, authorization, and directory services\n• A firm grasp of networking protocols and operations\n• A solid understanding of software and system architecture patterns (central and distributed systems)\n• Ability to provide deep technical mentorship and guidance \n• Ability to communicate ideas and proposals concisely, both verbally and in writing to people with all levels of technical experience\n• Experience with *nix environments and/or Bash\n• Container experience (Docker)\n• Container As A Service experience a plus (Mesos, Kubernetes)\n\nBonus Points If\n• Bachelor’s degree in Computer Science or related areas\n• Familiarity with corporate network security hardening\n• Familiarity with big data technologies\n","?iisp=he-6594079","?iisp=he-6584079",null,"Sr Software Engineer II","2018-10-01T16:49:00","2019-03-07T13:45:00",null,null,null,"2018-12-14T06:46:00"]
["https://www.uber.com/careers/list/42686/","What You'll Need\n• 2-3 years experience in business operations, strategy, product, or similar role (e.g. consulting, finance)\n• Project or functional leadership experience\n• Communication, the ability to engage internal and external customers\n• Understanding of the user experience\n• Ability to pull data to inform and support critical decisions through SQL\n• Strategic alignment, able to bring key stakeholders across functions together\n• A desire to learn, motivated self-starter, with an interest in learning\n• Ability to foster collaboration and facilitate teamwork\n• Prioritization","What You'll Need\n• 2-3 years experience in business operations, strategy, product, or similar role (e.g. consulting, finance)\n• Project or functional leadership experience\n• Excellent communication, the ability to engage internal and external customers\n• Deep understanding of the user experience\n• Ability to pull data to inform and support critical decisions through SQL\n• Strategic alignment, able to bring key stakeholders across functions together\n• A desire to learn, highly motivated self-starter, with an eagerness to learn\n• Ability to foster collaboration and facilitate teamwork\n• Effective prioritization\n \nBonus Points for\n• Intermediate SQL skills, R, and Python\n• Freight industry knowledge\n","?iisp=he-6594079","?iisp=he-6584079",null,"Product Operations Specialist - Uber Freight","2018-10-01T16:49:00","2018-11-10T15:40:00","2018-12-04T07:08:00",null,null,"2018-12-14T06:46:00"]
["https://www.uber.com/careers/list/42675/","What You’ll Need\n• 3+ years of work experience in Information Technology with emphasis on corporate asset tracking from origin to decommission\n• Knowledge of application management within asset tracking domain (using, training, enhancing)\n• Written and oral communication skills; ability to compile clear and concise data & materials;\n• Ability to shift priorities quickly and act proactively when necessary\n• Experience participating in cross-functional projects and being solutions oriented;\n• Flexibility to handle a range of projects, organization and execution is a must\n• Ability to work effectively with people at all levels both inside and outside of Uber\n• Interpersonal skills – capacity to build a variety of internal relationships\n• Ability to take initiative and work independently, as well as part of a team","What You’ll Need\n• 3+ years of work experience in Information Technology with emphasis on corporate asset tracking from origin to decommission\n• Knowledge of application management within asset tracking domain (using, training, enhancing)\n• Excellent written and oral communication skills; ability to compile clear and concise data & materials;\n• Ability to shift priorities quickly and act proactively when necessary\n• Experience participating in cross-functional projects and being solutions oriented;\n• Flexibility to juggle a range of projects, great organization and execution is a must\n• Ability to work effectively with people at all levels both inside and outside of Uber\n• Good interpersonal skills – capacity to build a variety of strong internal relationships\n• Ability to take initiative and work independently, as well as part of a team\n \nBonus Points If\n• 5+ years in a help desk role supporting Apple and Windows hardware and software\n• Has experience setting up enterprise management software such as an asset management system, telecom expense management system, or printer fleet management systems\n• Lean Six Sigma Certification\n","?iisp=he-6594079","?iisp=he-6584079",null,"Technical Program Manager - IT Supply Chain","2018-10-01T16:49:00","2018-12-13T07:20:00",null,null,null,"2018-12-14T06:46:00"]
["https://www.uber.com/careers/list/42673/","What You’ll Need\n• Minimum 2 years industry experience in data analytics\n• Experience with SQL \n• Willingness to work directly with messy data to identify product opportunities and uncover interesting product insights\n• Storytelling: distill interesting and hard-to-find insights into a compelling, concise data story\n• Ability to communicate and manage relationships with stakeholders coming from both technical and non-technical backgrounds\n• Interested and attentive self-starters, communicators, follow-through - you have a good work ethic and enjoy the responsibilities from being personally empowered\n","What You’ll Need\n• Minimum 2 years industry experience in data analytics; experience in the technology, consulting, or finance industry preferred\n• Advanced SQL expertise; experience in a scripting language for analysis (R, Python, etc) is a plus!\n• Willingness to get your hands dirty with messy data to identify product opportunities and uncover interesting product insights\n• Strong storytelling: distill interesting and hard-to-find insights into a compelling, concise data story\n• Ability to communicate effectively and manage relationships with stakeholders coming from both technical and non-technical backgrounds\n• Passionate and attentive self-starters, great communicators, amazing follow-through - you have a great work ethic and love the responsibilities from being personally empowered\n","?iisp=he-6594079","?iisp=he-6584079",null,"Product Analyst - Uber Everything (SF)","2018-10-01T16:49:00","2019-03-25T20:30:00",null,null,null,"2018-12-14T06:46:00"]
["https://www.uber.com/careers/list/42670/","What You’ll Need\n• Minimum 2 years industry experience in data analytics\n• Experience with SQL \n• Willingness to work directly with messy data to identify product opportunities and uncover interesting product insights\n• Storytelling: distill interesting and hard-to-find insights into a compelling, concise data story\n• Ability to communicate and manage relationships with stakeholders coming from both technical and non-technical backgrounds\n• Interested and attentive self-starters, communicators, follow-through - you have a good work ethic and enjoy the responsibilities from being personally empowered\n","What You’ll Need\n• Minimum 2 years industry experience in data analytics; experience in the technology, consulting, or finance industry preferred\n• Advanced SQL expertise; experience in a scripting language for analysis (R, Python, etc) is a plus!\n• Willingness to get your hands dirty with messy data to identify product opportunities and uncover interesting product insights\n• Strong storytelling: distill interesting and hard-to-find insights into a compelling, concise data story\n• Ability to communicate effectively and manage relationships with stakeholders coming from both technical and non-technical backgrounds\n• Passionate and attentive self-starters, great communicators, amazing follow-through - you have a great work ethic and love the responsibilities from being personally empowered\n","?iisp=he-6594079","?iisp=he-6584079",null,"Product Analyst - Uber Everything (NYC)","2018-10-01T16:49:00","2018-10-08T14:30:00","2018-10-16T07:51:00",null,null,"2018-12-14T06:46:00","Expired on 10/8/2018 14:30 PST, but came back alive on 10/26/2018 15:35:00 PM PST. Removed. "]
["https://www.uber.com/careers/list/42668/","What You’ll Need\n• 6+ years experience of investment banking / consulting / business intelligence / strategy or related experience. \n• Communication and organization skills.\n• Leadership capabilities\n• PPT presentation skills \n• Self-motivated, works independently and possesses organization and time management skills\n• Project and program management skills, with ability to get massive, cross functional projects over the finish line\n• Bachelor's degree required\n","What You’ll Need\n• 6+ years experience of investment banking / consulting / business intelligence / strategy or related experience; some high-growth experience is strongly preferred; transportation and bike policy experience desired. \n• Exceptional communication and organization skills.\n• Strong, demonstrated leadership capabilities\n• Exceptional PPT presentation skills \n• Self-motivated, works independently and possesses strong organization and time management skills\n• Effective project and program management skills, with proven ability to get massive, cross functional projects over the finish line\n• Bachelor's degree required\n","?iisp=he-6594079","?iisp=he-6584079",null,"Manager, Business Development","2018-10-01T16:49:00","2018-11-12T19:45:00","2018-12-04T07:08:00",null,null,"2018-12-14T06:46:00"]
["https://www.uber.com/careers/list/42666/","What You'll Need\n \n• Undergraduate and/or graduate degree in Math, Economics, Statistics, Engineering, Computer Science, or other quantitative field\n• 5+ years experience in Product Analytics or other forms of data analysis \n• SQL skills and experience in one scripting language\n• Ability to use data to influence major business decisions\n• Understanding of statistical methods\n• Ability to learn and adapt to new methodologies and approaches to data collection and data analysis\n• Ability to deliver on tight timelines and move quickly with cross-functional leadership teams to execute on decisions while maintaining attention to detail\n• Ability to work in a self-guided manner\n• Ability to mentor, coach and develop junior team members\n• Communication and organization skills\n","What You'll Need\n \n• Undergraduate and/or graduate degree in Math, Economics, Statistics, Engineering, Computer Science, or other quantitative field\n• 5+ years experience in Product Analytics or other forms of data analysis \n• Excellent SQL skills and experience in at least one scripting language (Python or R preferred)\n• Demonstrated ability to use data to influence major business decisions\n• Excellent understanding of statistical methods\n• Ability to learn and adapt to new methodologies and approaches to data collection and data analysis\n• Ability to deliver on tight timelines and move quickly with cross-functional leadership teams to execute on decisions while maintaining attention to detail\n• Ability to work in a self-guided manner\n• Ability to mentor, coach and develop junior team members\n• Superb communication and organization skills\n","?iisp=he-6594079","?iisp=he-6584079",null,"Senior Product Analyst - Consumer Data Science","2018-10-01T16:49:00","2019-03-22T15:05:00",null,null,null,"2018-12-14T06:46:00"]
["https://www.uber.com/careers/list/42558/","What You’ll Need\n \n• 10+ years of relevant experience, including a minimum of 7 years of corporate income tax experience.\n• Bachelor’s degree in Finance, Accounting, or related discipline.\n• Working knowledge of U.S. GAAP accounting principles and ASC 740.\n• Organizational, technical, analytical, problem solving, and project management skills.\n• Written, presentation, and interpersonal skills.\n• Ability to manage multiple priorities and meet deadlines.\n• Experience with Microsoft applications (Word, Excel, PowerPoint).\n","What You’ll Need\n \n• 10+ years of relevant experience, including a minimum of 7 years of corporate income tax experience.\n• Bachelor’s degree in Finance, Accounting, or related discipline.\n• CPA and/or Master’s in Taxation preferred.\n• Extensive working knowledge of U.S. GAAP accounting principles and ASC 740.\n• Public Accounting/Big 4 experience is a plus.\n• Strong organizational, technical, analytical, problem solving, and project management skills.\n• Excellent written, presentation, and interpersonal skills.\n• Ability to manage multiple priorities and meet deadlines.\n• Experience with OneSource Tax Provision and Oracle is a plus.\n• Proficiency in Microsoft applications (Word, Excel, PowerPoint); advanced Excel skills is a plus.\n","?iisp=he-6594079","?iisp=he-6584079",null,"Senior Manager, ASC 740 Special Projects","2018-10-01T16:49:00","2019-02-14T19:10:00",null,null,null,"2018-12-14T06:46:00"]
["https://www.uber.com/careers/list/38779/","What You'll Need\n \n• Minimum of 4 years of professional experience\n• Experience managing cross-functional projects and stakeholders, powered by data-driven insight\n• Self-motivated with experience strategically problem solving and facilitating action\n• Written and verbal communication skills across diverse functions and teams\n• Experience with process optimization, program management, customer support strategy or quality assurance\n• Excel / data management skills\n• Able to handle ambiguity; the ability to structure ideas into actionable plans","What You'll Need\n \n• Minimum of 4 years of professional experience\n• Experience managing cross-functional projects and stakeholders, powered by data-driven insight\n• Self-motivated with a strong affinity for strategic problem solving and driving action\n• Persuasive written and verbal communication skills across diverse functions and teams\n• Experience with process optimization, program management, customer support strategy or quality assurance\n• Exceptional Excel / data management skills\n• Comfortable with ambiguity; the ability to structure ideas into actionable plans\n \nBonus Points if\n \n• Yellow/Green Belt Six Sigma (Green Belt strongly preferred)\n• PMP, SCRUM, Agile project management certification\n","?iisp=he-6594079","?iisp=he-6584079",null,"Program Manager - Global Safety Support Quality and Compliance","2018-09-23T12:29:00","2018-11-22T07:36:00","2018-12-10T08:23:00",null,null,"2018-12-14T06:46:00"]
["https://www.uber.com/careers/list/42300/","What You’ll Need\n \n• BA/BS/Masters in Economics, Business, Engineering, Operations Research, or other quantitative focus\n• Minimum 3 years of experience in a quantitative/analytic role\n• Communication and organization skills. Able to structure a project from idea to design / prototype to implementation\n• Analytical thinking - you connect the dots between the data and operations and sense check every number you see\n• Experience with SQL - know how to access, interpret and package data so our team can deliver unique and innovative analysis to better our operations \n• Excel skills\n• Experience in scripting languages, such as Python or R\n• Team player\n• Balance attention to detail with swift execution ","What You’ll Need\n \n• BA/BS/Masters in Economics, Business, Engineering, Operations Research, or other quantitative focus\n• Minimum 3 years of experience in a quantitative/analytic role, preferably within tech\n• Strong communication and organization skills. Able to structure a project from idea to design / prototype to implementation\n• Excellent analytical thinking - you connect the dots between the data and operations and gut check every number you see\n• SQL expertise - know how to access, interpret and package data so our team can deliver unique and innovative analysis to better our operations \n• Excellent Excel skills - many say they are great at Excel, fewer truly are. Ideal candidate brings some impressive know-how (and the understanding that there’s always more to learn)\n• Experience in scripting languages, such as Python or R\n• Team player\n• Balance attention to detail with swift execution - we need to do things quickly, and we need to do them well. Balancing those can be challenging, and this should be a strength\n \nBonus Points if\n \n• Experience in data visualization tools, such as Shiny or Tableau\n• Experience working with support data, contact management analytics or customer insights\n• Background in, or comfort with, statistical concepts\n","?iisp=he-6594079","?iisp=he-6584079",null,"Senior Program Analyst - Global Service Quality and CSAT program","2018-09-23T12:29:00","2019-01-17T08:50:00",null,null,null,"2018-12-14T06:46:00"]
["https://www.uber.com/careers/list/42554/","What you'll need:\n\n• BS/BA in Finance, Accounting, Economics, or similar \n• 4+ years in Banking, Management Consulting and/or Strategic Finance at a fast-growing tech startup\n• Excel / financial modeling skills. You strive for best practices, you can handle complexity but strive for simplicity\n• Attention to detail combined with swift execution. \n• Emotional intelligence and adept communication are required in our fast-moving environment\n• Communication (written and verbal) and relationship building skills - numbers are key, but a business is built with people\n• Entrepreneurial self-starter - we don't have time or desire to micro-manage. You will take initiative, be optimistic and resourceful, set and work toward solutions / goals in a fast-paced, rapidly-evolving environment","What you'll need:\n\n• BS/BA in Finance, Accounting, Economics, or similar (MBA a plus)\n• 4+ years in Banking, Management Consulting and/or Strategic Finance at a fast-growing tech startup\n• Extraordinary Excel / financial modeling skills. Best practices are second-nature, you can handle complexity but strive for simplicity\n• Attention to detail combined with swift execution. We need to do things quickly and we need to do them well\n• High emotional intelligence and adept communication are required in our fast-moving environment\n• Excellent communication (written and verbal) and relationship building skills - numbers are key, but a business is built with people\n• Entrepreneurial self-starter - we don't have time or desire to micro-manage. You will take initiative, be enthusiastic and resourceful, set and drive toward solutions / goals in a fast-paced, rapidly-evolving environment\n \nBonus Points If\n \n• SQL skills - the ability to self-serve, investigate and produce the data we require is key\n• Systems - working knowledge of enterprise-level financial planning systems\n","?iisp=he-6594079","?iisp=he-6584079",null,"Sr Associate, Corporate Finance, Real Estate","2018-09-23T12:29:00","2019-01-24T07:10:00","2018-10-01T16:02:00","2018-09-21T10:45:00",null,"2018-12-14T06:46:00"]
["https://www.uber.com/careers/list/42562/","What You’ll Need:\n\n• Minimum of 2+ years of experience in an analytical role\n• Excel and SQL skills to monitor KPIs and business health\n• Communication and organizational skills\n• The ability to balance attention to detail with swift execution \n• Bachelor's Degree","What You’ll Need:\n\n• Minimum of 2+ years of experience in an analytical role, bonus points if you have worked in the freight industry!\n• Strong Excel and SQL skills to monitor KPIs and business health\n• Strong communication and organizational skills\n• The ability to balance attention to detail with swift execution - we need to do things quickly, and we need to do them well\n• Bachelor's Degree, preference for a technical background in computer science, math, or economics\n","?iisp=he-6594079","?iisp=he-6584079",null,"Strategy & Planning Associate - Asset Programs, Uber Freight","2018-09-23T12:29:00","2018-11-07T17:30:00","2018-11-07T11:33:00","2018-10-31T11:20:00",null,"2018-12-14T06:46:00"]
["https://www.uber.com/careers/list/42604/","What You’ll Need\n• BA/BS/Masters in Business, HR, Economics, or other business operations focus \n• At least need 5-7 years of management consulting experience or at least need 5-7 years of experience in an HR Business Partner role \n• Detail orientation - your calendar can be crammed, but it's organized, manageable and you don't miss a beat\n• Presentation skills - you have the ability to tell a meaningful story with a few key slides\n• Strategic mindset - you're able to think one week, one month, or one year ahead of where the team is now\n• Self-starter attitude - you pursue your work and enjoy the responsibility of being personally empowered\n• Curiosity - you're innovative, creative, and constantly looking for opportunities to tweak and optimize\n","What You’ll Need\n• BA/BS/Masters in Business, HR, Economics, or other business operations focus (MBA a plus)\n• At least need 5-7 years of management consulting experience or at least need 5-7 years of experience in an HR Business Partner role (high-growth or tech environments are a plus)\n• Detail orientation - your calendar can be crammed, but it's organized, manageable and you don't miss a beat\n• Presentation skills - you have the ability to tell a meaningful story with a few key slides\n• Strategic mindset - you're comfortable thinking one week, one month, or one year ahead of where the team is now\n• Self-starter attitude - you boldly pursue your work and love the responsibility of being personally empowered\n• Curiosity - you're innovative, creative, and constantly looking for opportunities to tweak and optimize\n","?iisp=he-6594079","?iisp=he-6584079",null,"People Strategy and Planning Manager","2018-09-23T12:29:00","2019-01-09T13:10:00",null,null,null,"2018-12-14T06:46:00"]
["https://www.uber.com/careers/list/42613/","What You'll Need\n \n• Minimum 10 years of experience in consulting, operations, or similar knowledge-based fields\n• Analytical abilities; able to dig into complex data sets to help inform decisions\n• Effective at scoping, designing, and implementing enterprise-wide programs and initiatives through collaboration across functions, geographies, and organization levels\n• Program management skills\n• Written, verbal, and visual communication skills, and ability to influence and gain consensus at senior levels\n• Available for business travel both domestic and international as needed\n• Minimum of BA/BS\n ","What You'll Need\n \n• Minimum 10 years of experience in consulting, operations, or similar knowledge-based fields\n• Excellent analytical abilities; able to dig into complex data sets to help inform decisions\n• Effective at scoping, designing, and implementing enterprise-wide programs and initiatives through collaboration across functions, geographies, and organization levels\n• Superb program management skills\n• Excellent written, verbal, and visual communication skills, and demonstrated ability to influence and gain consensus at senior levels\n• Available for business travel both domestic and international as needed\n \nBonus Points if\n \n• Minimum of BA/BS; MBA or graduate degree in related field preferred\n","?iisp=he-6594079","?iisp=he-6584079",null,"Senior Program Lead, Global Quality","2018-09-23T12:29:00","2018-10-22T14:46:00","2018-10-30T07:19:00",null,null,"2018-12-14T06:46:00"]
["https://www.uber.com/careers/list/42541/","What You’ll Need\n• 8+ years of consulting, business intelligence, strategy, investment banking or related experience.\n• Project management, analytical and data management skills.\n• Communicator. You are a clear and concise communicator with the ability to synthesize a lot of information quickly, highlight the key takeaways, and disseminate actionable insights.\n• Ability to work with remote teams and across time zones to develop strategies and foster a cohesive and creative work environment.\n• Self-starter - the ability to self-serve, investigate and get the data the business requires.\n• Standards across the board - from your own contributions to the people you work with to the products you work on.\n• Ability to influence senior leaders and work towards clarity and delivery - a collaborator and disambiguator/simplifier to facilitate decision making and action.\n• Bachelor's degree. \n","What You’ll Need\n• 8+ years of consulting, business intelligence, strategy, investment banking or related experience; some high-growth operations experience is highly preferred.\n• Exceptional project management, analytical and data management skills.\n• Clear communicator. You are a clear and concise communicator with the ability to synthesize a lot of information quickly, highlight the key takeaways, and disseminate actionable insights.\n• Ability to work with remote teams and across time zones to develop strategies and foster a cohesive and creative work environment.\n• Self-starter - the ability to self-serve, investigate and get the data the business requires.\n• High standards across the board - from your own contributions to the people you work with to the products you work on.\n• Ability to influence senior leaders and push towards clarity and delivery - a great collaborator and excellent disambiguator/simplifier to drive decision making and action.\n• Bachelor's degree. MBA or graduate degree highly preferred.\n\n","?iisp=he-6594079","?iisp=he-6584079",null,"Head of Strategy & Planning, UberEats - US & Canada","2018-09-23T12:29:00","2018-10-31T11:20:00","2018-11-07T11:33:00",null,null,"2018-12-14T06:46:00"]
["https://www.uber.com/careers/list/42526/","What you'll need\n• At least 5 years recruiting experience in similar orgs.\n• Ability to digest and use data to facilitate decision making.\n• Experience developing, mentoring and managing large (>4), high-output recruitment (or similar functional) teams.\n• Experience collaborating with org wide stakeholders in documenting and implementing process change.","What you'll need\n• At least 5 years recruiting experience in similar orgs.\n• Demonstrated ability to digest and use data to drive decision making.\n• Success in developing, mentoring and managing large (>4), high-output recruitment (or similar functional) teams.\n• Experience collaborating with org wide stakeholders in documenting and implementing process change.\n \nBonus Points\n• Previous experience with building sourcing techniques that maximize the impact of passive and active referral candidates\n• Experience working in environments with high volume candidate processing or hypergrowth needs\n• Technical recruiting experience\n","?iisp=he-6594079","?iisp=he-6584079",null,"Sourcing Lead - Referral","2018-09-23T12:29:00","2018-10-11T09:10:00","2018-10-16T07:51:00",null,null,"2018-12-14T06:46:00"]
["https://www.uber.com/careers/list/42525/","What You’ll Need\n \n• Experience operating a vendor/third party security risk management process, throughout the lifecycle of a third party. Including but not limited to - identification of relevant third parties, defining a set of minimum security standards, performing due diligence assessments, performing ongoing monitoring, termination of service, etc. \n• An understanding of industry issues, trends and perspectives affecting how organizations are identifying, assessing and managing third party security related risks.\n• Proactive approach to identifying inefficiencies and and issues across third party risk management process operations, and ability to recommend and implement the approach to resolve them.\n• Knowledge and experience evaluating different types of third party relationships in a complex technical landscape such as Uber’s; understanding of the services and risks associated with a variety of software, technology and cloud service providers.\n• Understanding of the IT and security controls and certifications expected from third party providers, and experience evaluating the design and operating effectiveness of controls. \n• Knowledge and experience with contracting and procurement processes as it relates to initiation of third party security review processes.\n• At least 3 years of experience in a Technical Product, Program or Risk Management role; at least 1 year dedicated to vendor/third party security risk management. \n\n\n","What You’ll Need\n \n• Experience operating a robust vendor/third party security risk management process, throughout the lifecycle of a third party. Including but not limited to - identification of relevant third parties, defining a set of minimum security standards, performing due diligence assessments, performing ongoing monitoring, termination of service, etc. \n• An understanding of industry issues, trends and perspectives affecting how organizations are identifying, assessing and managing third party security related risks.\n• Proactive approach to identifying inefficiencies and and issues across third party risk management process operations, and proven ability to recommend and implement the approach to resolve them.\n• Knowledge and experience evaluating different types of third party relationships in a complex technical landscape such as Uber’s; understanding of the services and risks associated with a variety of software, technology and cloud service providers.\n• Solid understanding of the IT and security controls and certifications expected from third party providers, and experience evaluating the design and operating effectiveness of controls. \n• Knowledge and experience with contracting and procurement processes as it relates to initiation of third party security review processes.\n• At least 3 years of experience in a Technical Product, Program or Risk Management role; at least 1 year dedicated to vendor/third party security risk management. \n \nDesired Traits\n \n• Certified Information Systems Security Professional (CISSP) or equivalent professional certification\n• Knowledge of and experience applying security and control frameworks such as NIST, COBIT and ISO 27000\n• Knowledge of and experience addressing security compliance requirements such as PCI, SOX, SSAE-16 SOC, etc.\n• Knowledge of and experience performing information security risk management for at least 2 years; 5+ years in Technical Program Management role\n• Experience implementing and measuring compliance with information security policies, standards, and guidelines\n• Excellent interpersonal skills, presentation skills, and verbal / written communication skills\n• Self-starter; adaptable to change; motivated to set personal and program goals and proactively track performance against goals and initiatives\n• Ability to manage multiple priorities – projects, deliverables, and stakeholders\n• Ability to influence peers and management; ability to team cross-functionally and form relationships to achieve objectives\n• Active in the security industry; equipped with external networking relationships to maintain relevant knowledge of best practices, tactics, strategies and technologies\n\n\n\n","?iisp=he-6594079","?iisp=he-6584079",null,"Program Manager, Tech - 3rd Party Risk Management","2018-09-23T12:29:00","2018-12-15T08:50:00",null,null,null,"2018-12-14T06:46:00"]
["https://www.uber.com/careers/list/42512/","What You'll Need\n• At least 1 year of experience in a client facing sales role\n• Prior experience in a role with high volume cold outreach \n• Sincere, meticulous, adaptable, and dedicated team-player who gets energy from building businesses\n• You're a self-starter and take initiative to seize opportunities: The U4B team is evolving every day and requires highly motivated independent individual who will be responsible for all aspects of business in their market\n• Bachelor’s degree required\n\n","What You'll Need\n• At least 1 year of experience in a client facing sales role\n• Both sales and account management experience preferred\n• Prior experience in a role with high volume cold outreach \n• Sincere, meticulous, adaptable, and dedicated team-player who gets energy from building businesses\n• You're a self-starter and take initiative to seize opportunities: The U4B team is evolving every day and requires highly motivated independent individual who will be responsible for all aspects of business in their market\n• Proficiency with Salesforce preferred\n• Bachelor’s degree required\n\n","?iisp=he-6594079","?iisp=he-6584079",null,"Account Representative, Uber Eats for Business","2018-09-23T12:29:00","2018-09-25T17:00:00","2018-10-04T07:18:00","2018-09-18T11:30:00",null,"2018-12-14T06:46:00"]
["https://www.uber.com/careers/list/42511/","What You’ll Need\n• 3-5 years of consulting / business intelligence / strategy / investment banking or related experience.\n• Communication, organization and project management skills.\n• Self-starter - the ability to self-serve, investigate and get the data we require will make you much more effective in this role.\n• A \"driver\" personality - biased toward action, collaborator and disambiguator/simplifier - striving for clarity and delivery.\n• Excel / data management skills.\n• Ownership. Commitment to contributing to Uber's growth in their city and getting the job done.\n• Bachelor's degree.\n\n","What You’ll Need\n• 3-5 years of consulting / business intelligence / strategy / investment banking or related experience; some high-growth operations experience is highly preferred.\n• Exceptional communication, organization and project management skills.\n• Self-starter - the ability to self-serve, investigate and get the data we require will make you much more effective in this role.\n• A \"driver\" personality - biased toward action, great collaborator and excellent disambiguator/simplifier - constantly pushing toward clarity and delivery.\n• Exceptional Excel / data management skills.\n• Ownership. Commitment to contributing to Uber's growth in their city and getting the job done.\n• Bachelor's degree. MBA highly preferred.\n• SQL proficiency (or strong willingness to learn) highly preferred \n\n","?iisp=he-6594079","?iisp=he-6584079",null,"Manager, Strategy & Planning - UberEats","2018-09-23T12:29:00","2018-12-06T07:45:00","2018-12-10T08:23:00",null,null,"2018-12-14T06:46:00"]
["https://www.uber.com/careers/list/42459/","What You’ll Need\n• Oral and written communication skills\n• 5+ years experience as a BSA in IT\n• 5+ years experience with Global Regulatory Compliance\n• Project management experience especially in large scale projects\n• Experience in researching and documenting possible solutions to business needs and clearly explain trade-offs and potential return on investment for different options\n• Problem solving aptitude, including working with others to quickly reach sustainable resolutions\n• You are intellectually curious\n• Interacts well with others - you’ll be collaborating directly with several key stakeholders and many different teams.\n• Ability to not only gather requirements but also help come up with solutions \n","What You’ll Need\n• Strong oral and written communication skills\n• 5+ years experience as a BSA in IT\n• 5+ years experience with Global Regulatory Compliance\n• Project management experience especially in large scale projects\n• Experience in researching and documenting possible solutions to business needs and clearly explain trade-offs and potential return on investment for different options\n• Demonstrated problem solving aptitude, including working with others to quickly reach sustainable resolutions\n• You have an unstoppable intellectual curiosity, always asking: How? Why not?\n• Wherever you go, your previous colleagues and customers try to hire you\n• Plays well with others - you’ll be collaborating directly with several key stakeholders and many different teams.\n• Ability to not only gather requirements but also help come up with solutions \n \nBonus Points If\n• 5+ years of experience with a Global Regulatory Compliance System, such as MetricStream, RSA Archer, or ZenGRC\n• Understanding of Global Regulatory Compliance principles and best practices\n• Extremely high attention to detail\n• Direct experience working in a business operations team\n• Passion for data integrity, always finding ways to improve data quality and insights\n• Impeccable customer service, strong ability to work with cross functional teams at all levels\n• Excellent written and verbal communication skills\n• Quick learner who thrives in a dynamic and fast-paced collaborative environment\n• Effectively handle multiple tasks and projects simultaneously\n• Strong references from former employers and business partners\n• Thrive in an ever changing and fast paced environment\n","?iisp=he-6594079","?iisp=he-6584079",null,"Sr. Business Systems Architect - Tech Services","2018-09-23T12:29:00","2018-10-17T15:00:00","2018-10-23T06:21:00",null,null,"2018-12-14T06:46:00"]
["https://www.uber.com/careers/list/42192/","Here are the skills and experiences we’re looking for:\n \n• Minimum of 3 years experience as a Technical Program Manager or engineering manager in a software, SaaS, or systems development environment.\n• Technical skill and an ability to understand technical designs, challenges and risks. Engineers enjoy working closely with you.\n• Experienced in project management. Familiar with both Agile and Waterfall methodologies and able to apply them where best suited.\n• Written and verbal communication skills and emotional intelligence. Ability to influence and motivate people across a broad variety of job functions through your relationships.\n• Organizational skills to manage multiple, competing priorities simultaneously, without losing sight of highest priority items.\n• Technical, analytical and quantitative skills with the ability to use data and metrics to back up assumptions, recommendations and facilitate decisions.\n• Ability to understand complex concepts and make reasoned decisions objectively.","Here are the skills and experiences we’re looking for:\n \n• Minimum of 3 years experience as a Technical Program Manager or engineering manager in a software, SaaS, or systems development environment.\n• Solid technical aptitude and an ability to understand technical designs, challenges and risks. Engineers enjoy working closely with you.\n• Experienced in project management. Familiar with both Agile and Waterfall methodologies and able to apply them where best suited.\n• Excellent written and verbal communication skills and exceptional emotional intelligence. Ability to influence and motivate people across a broad variety of job functions through your relationships.\n• Strong organizational skills to manage multiple, competing priorities simultaneously, without losing sight of highest priority items.\n• Strong technical, analytical and quantitative skills with the ability to use data and metrics to back up assumptions, recommendations and drive decisions.\n• Ability to understand complex concepts and make reasoned decisions objectively.\n \nDesired but not required\n \n• Computer Science degree, or related field. \n• Worked at a high paced, fast growing, scrappy tech startup.\n• Prior experience with engineering platforms, tooling, and system design\n• Technical program management experience at an established company with a strong TPM team.\n• Developer experience, including writing, testing and deploying code.\n\n","?iisp=he-6594079","?iisp=he-6584079",null,"Technical Program Manager - Marketplace Fares","2018-09-23T12:29:00","2018-11-29T16:10:00","2018-12-10T08:23:00",null,null,"2018-12-14T06:46:00"]
["https://www.uber.com/careers/list/42470/","What You’ll Need\n \n• Minimum of 3 years of Product Management experience with overall 5+ years of experience\n• At least 3 years experience building Maps, Search or Location products in Search \n• Experience applying Machine Learning / statistical inference technologies to a variety of complex problems\n• Computer science undergraduate degree or equivalent plus hands-on software engineering experience\n• Basic Technical understanding of how maps works on both web and mobile\n• Entrepreneurial spirit and an interest in learning\n ","What You’ll Need\n \n• Minimum of 3 years of Product Management experience with overall 5+ years of experience\n• At least 3 years experience building Maps, Search or Location products in Search \n• Experience applying Machine Learning / statistical inference technologies to a variety of complex problems\n• Computer science undergraduate degree or equivalent plus hands-on software engineering experience\n• Basic Technical understanding of how maps works on both web and mobile\n• Entrepreneurial spirit and a thirst for learning\n \nBonus Points For\n \n• Knowledge of routing algorithms (Dijkastra, A*, etc.) \n• Prior experience working on scalable infrastructures where you have built or/and managed services that power consumer experiences\n• Understanding of big-data processing pipelines (over Hadoop or similar technologies), distributed data stores, and distributed file systems\n","?iisp=he-6594079","?iisp=he-6584079",null,"Product Manager - Routing and Map Matching","2018-09-23T12:29:00","2019-02-12T10:55:00",null,null,null,"2018-12-14T06:46:00"]
["https://www.uber.com/careers/list/42468/","What You’ll Need\n• BA or MA degree in Art, Design, Social Science or related field\n• 3+ years relevant experience in system/product development \n• Experience building unique development methodologies and an understanding of the tools that power them \n• Oral and written communication skills\n• Ability to travel up to 15% when necessary\n ","What You’ll Need\n• BA or MA degree in Art, Design, Social Science or related field\n• Successful track record of 3+ years relevant experience in system/product development \n• Experience building unique development methodologies and an understanding of the tools that power them \n• Strong oral and written communication skills\n• Ability to travel up to 15% when necessary\n \nBonus Points If\n• Experience working as part of an Innovation team \n• Visual / video design experience \n• Strong creative problem-solving abilities \n","?iisp=he-6594079","?iisp=he-6584079",null,"Innovation Engineer","2018-09-23T12:29:00","2018-11-06T11:00:00","2018-11-15T14:48:00",null,null,"2018-12-14T06:46:00"]
["https://www.uber.com/careers/list/42443/","What You’ll Need\n• Minimum 5 years of finance project management, FinTech product development, or other relevant finance or accounting experience \n• Influencing skills and ability to interact with senior leaders\n• Communicator and can bridge effectively with leaders \n• Ability to handle multiple projects simultaneously \n• Experience with Finance domain or ERP software\n• Basic SQL query skills\n• Leadership and people management \n• skills, internal as well as vendor and partner\n• A team oriented leader and able to interface with all level of Uber employees, management, executives\n ","What You’ll Need\n• Minimum 5 years of finance project management, FinTech product development, and/or other relevant finance or accounting experience \n• Strong influencing skills and ability to interact with senior leaders\n• Excellent Communicator and can bridge effectively with leaders \n• Ability to juggle multiple projects simultaneously \n• Experience with Finance domain or ERP software\n• Basic SQL query skills\n• Leadership and people management \n• skills, internal as well as vendor and partner\n• A team oriented leader and comfortable interfacing with all level of Uber employees, management, executives\n \nBonus Points if\n \n• Experience working with and managing globally distributed teams is preferred\n","?iisp=he-6594079","?iisp=he-6584079",null,"Program Manager, FinTech","2018-09-23T12:29:00","2019-01-04T07:40:00","2018-10-16T07:51:00","2018-10-09T11:40:00",null,"2018-12-14T06:46:00"]
["https://www.uber.com/careers/list/39657/","What You’ll Need\n \n• At least 2 years of data science, business intelligence, investment banking, consulting, or related experience\n• BA, BS, or MS degree in Economics, Business, Engineering, Operations Research, or other quantitative focus\n• Experience with SQL \n• Experience in reporting-based software, such as Shiny, Looker, Tableau\n• Excel & data management skills\n• Communication and organization skills\n• Able to own and handle multiple projects or work streams at once\n• Interest in launching new and exciting projects in a fast paced working environment","What You’ll Need\n \n• At least 2 years of data science, business intelligence, investment banking, consulting, or related experience\n• BA, BS, or MS degree in Economics, Business, Engineering, Operations Research, or other quantitative focus\n• SQL fluency\n• Experience in reporting-based software, such as Shiny, Looker, Tableau\n• Exceptional Excel & data management skills\n• Strong communication and organization skills\n• Comfortable owning and juggling multiple projects or work streams at once\n• Passion for launching new and exciting projects in a fast paced working environment\n \nBonus Points If\n \n• High-growth analytics or operations experience\n• Operations, marketing, product experience\n• Experience working in a support environment (contact management analytics, Zendesk API familiarity, etc.)\n• Programming languages such as R and/or Python\n","?iisp=he-6594079","?iisp=he-6584079",null,"Data Analyst, Greenlight Operations","2018-09-23T12:29:00","2019-05-04T08:40:00",null,null,null,"2018-12-14T06:46:00"]
["https://www.uber.com/careers/list/42405/","What You’ll Need\n• Program management experience in the automotive field\n• Experience managing cross-functionally to deliver complex projects\n• Ability to work in a dynamic, global, and technology-focused environment\n• Self-starter with ability to multi-task and deal with time pressure in an unstructured environment\n• Oral and written communication skills\n• Minimum 3 years of direct experience at an Automotive OEM, or Tier 1 supplier\n• Experience launching a new automotive/hardware product into the production\n• Undergraduate degree in engineering, or similar discipline","What You’ll Need\n• Strong program management experience in the automotive field (preferably in vehicle/hardware development)\n• Experience managing cross-functionally to deliver complex projects\n• Affinity for working in a dynamic, global, and technology-focused environment\n• Self-starter with ability to multi-task and deal with time pressure in an unstructured environment\n• Effective oral and written communication skills\n• Minimum 3 years of direct experience at an Automotive OEM, or Tier 1 supplier\n• Experience launching a new automotive/hardware product into the production\n• Undergraduate degree in engineering, or similar discipline\n \nBonus Points \n• Autonomous vehicle knowledge and experience \n• Demonstrated ability to coordinate multiple teams simultaneously to deliver complex projects\n• Experience managing projects launching new technology (hardware or software)\n• Strong business Acumen\n\n","?iisp=he-6594079","?iisp=he-6584079",null,"Autonomous Vehicle Program Manager","2018-09-23T12:29:00",{"$nulls":4},"2018-12-14T06:46:00"]
["https://www.uber.com/careers/list/42398/","What You’ll Need\n• Ability to help demanding technical end-users, preferably other engineers, use impactful tools and platforms.\n• Working knowledge of scripting or software development, for example SQL, Git and open source tools.\n• Ability to solve end-user issues by guiding them on use of existing software.\n• Desire to learn and grow as an engineer\n• Author of end-user focused documentation\n• Communication and interpersonal skills","What You’ll Need\n• Ability to help demanding technical end-users, preferably other engineers, use impactful tools and platforms.\n• Working knowledge of scripting or software development, for example SQL, Git and open source tools.\n• Ability to solve end-user issues by guiding them on use of existing software.\n• Desire to learn and grow as an engineer\n• Good author of end-user focused documentation\n• Great communication and interpersonal skills\n\nBonus Points If\n• Applicable professional experience and/or degree in computer science, engineering or related fields.\n• Knowledge of ElasticSearch and/or a distributed logging framework\n\n","?iisp=he-6594079","?iisp=he-6584079",null,"Observability Support & Evangelism Engineer","2018-09-23T12:29:00","2018-10-30T11:50:00","2018-11-07T11:33:00",null,null,"2018-12-14T06:46:00"]
["https://www.uber.com/careers/list/34981/","What You’ll Need\n• Experience as a technical leader and manager for at least 4+ years.\n• Experience going through the full software cycle of requirements, design, coding/testing, rollout/deploy best practices in delivering software and services.\n• People management skills including growing and mentoring your team members\n• Experience evolving and presenting a vision/roadmap for your team\n• Interest in your team’s mission and the self-starting personality to make things happen\n• A record of delivering results even when requirements are under-specified\n• Programming skills in Java, Go, Python, or similar\n","What You’ll Need\n• Experience as a technical leader and manager for at least 4+ years.\n• Experience going through the full software cycle of requirements, design, coding/testing, rollout/deploy best practices in delivering world class software and services.\n• Strong people management skills including growing and mentoring your team members\n• Experience evolving and presenting a strong vision/roadmap for your team\n• Passion about your team’s mission and the self-starting personality to make things happen\n• A track record of delivering results even when requirements are under-specified\n• Solid programming skills in Java, Go, Python, or similar\n \nBonus Points \n• Experience with insurance industry\n• Experience with payments products and infrastructure\n• Experience with streaming technologies like Kafka, and distributed storage technologies like DynamoDB and Cassandra\n\n","?iisp=he-6594079","?iisp=he-6584079",null,"Engineering Manager, Insurance","2018-09-23T12:29:00","2018-10-12T07:15:00","2018-10-23T06:21:00",null,null,"2018-12-14T06:46:00"]
["https://www.uber.com/careers/list/42373/","Here are the skills and experiences we’re looking for:\n• Minimum of 3 years experience as a Technical Program Manager or engineering manager in a software, SaaS, or systems development environment.\n• Technical skill and an ability to understand technical designs, challenges and risks. Engineers enjoy working closely with you.\n• Experienced in project management. Familiar with both Agile and Waterfall methodologies and able to apply them where best suited.\n• Written and verbal communication skills and emotional intelligence. Ability to influence and motivate people across a broad variety of job functions through your relationships.\n• Organizational skills to manage multiple, competing priorities simultaneously, without losing sight of highest priority items.\n• Technical, analytical and quantitative skills with the ability to use data and metrics to back up assumptions, recommendations and facilitate decisions.\n• Ability to understand complex concepts and make reasoned decisions objectively.\n","Here are the skills and experiences we’re looking for:\n• Minimum of 3 years experience as a Technical Program Manager or engineering manager in a software, SaaS, or systems development environment.\n• Solid technical aptitude and an ability to understand technical designs, challenges and risks. Engineers enjoy working closely with you.\n• Experienced in project management. Familiar with both Agile and Waterfall methodologies and able to apply them where best suited.\n• Excellent written and verbal communication skills and exceptional emotional intelligence. Ability to influence and motivate people across a broad variety of job functions through your relationships.\n• Strong organizational skills to manage multiple, competing priorities simultaneously, without losing sight of highest priority items.\n• Strong technical, analytical and quantitative skills with the ability to use data and metrics to back up assumptions, recommendations and drive decisions.\n• Ability to understand complex concepts and make reasoned decisions objectively.\n• Experience leading big data projects through analysis, design, data modeling, ETL, visualization, reporting and deployment lifecycle; technical and business knowledge of hadoop, hive, presto, data science, data quality, security, cluster monitoring, capacity management, safety, insurance, claims, financial data, privacy; and working with globally distributed teams will be a strong plus.\n \nDesired:\n• Computer Science degree, or related field. \n• Worked at a high paced, fast growing, scrappy tech startup.\n• Prior experience with engineering platforms, tooling, and system design.\n• Technical program management experience at an established company with a strong TPM team.\n","?iisp=he-6594079","?iisp=he-6584079",null,"Sr Technical Program Manager - Safety Data","2018-09-23T12:29:00","2018-10-26T15:35:00","2018-11-07T11:33:00",null,null,"2018-12-14T06:46:00"]
["https://www.uber.com/careers/list/42360/","What You’ll Need\n \n• Two years of work experience with a minimum of 1 year in Learning & Development and or Teaching / Facilitator / Project Management experience\n ","What You’ll Need\n \n• Two years of work experience with a minimum of 1 year in Learning & Development and or Teaching / Facilitator / Project Management experience\n \nBonus Points if\n \n• Degree in business or relevant learning program\n• Trainer certification / Master Trainer Certification\n• Project Management certification\n• Instructional Design\n• Customer Service industry experience\n","?iisp=he-6594079","?iisp=he-6584079",null,"Learning Specialist III, COE Chicago","2018-09-11T17:50:00","2019-02-12T10:55:00",null,null,null,"2018-12-14T06:46:00"]
["https://www.uber.com/careers/list/42359/","What You’ll Need\n \n• Two years of work experience with a minimum of 1 year in Learning & Development and or Teaching / Facilitator / Project Management experience","What You’ll Need\n \n• Two years of work experience with a minimum of 1 year in Learning & Development and or Teaching / Facilitator / Project Management experience\n \nBonus Points if\n \n• Degree in business or relevant learning program\n• Trainer certification / Master Trainer Certification\n• Project Management certification\n• Instructional Design\n• Customer Service industry experience\n","?iisp=he-6594079","?iisp=he-6584079",null,"Learning Specialist III, COE Phoenix","2018-09-11T17:50:00","2019-03-07T13:45:00",null,null,null,"2018-12-14T06:46:00"]
["https://www.uber.com/careers/list/42355/","What You’ll Need\n \n• Bachelor’s Degree in business or relevant learning program\n• 3 - 5 years of work experience with at least 2 years in Learning & Development / Project Management / Team Management\n\n ","What You’ll Need\n \n• Bachelor’s Degree in business or relevant learning program\n• 3 - 5 years of work experience with at least 2 years in Learning & Development / Project Management / Team Management\n• Previous experience analyzing business needs, designing, developing and evaluating training (preferred )\n \nBonus Points if\n \n• Formal knowledge of instructional design and curriculum management\n• Instructional Design\n• Customer Service industry experience\n","?iisp=he-6594079","?iisp=he-6584079",null,"Learning & Development Manager, Center of Excellence","2018-09-11T17:50:00","2019-01-24T07:10:00",null,null,null,"2018-12-14T06:46:00"]
["https://www.uber.com/careers/list/42354/","What You’ll Need\n \n• Bachelor’s Degree in business or relevant learning program\n• 3 - 5 years of work experience with at least 2 years in Learning & Development / Project Management / Team Management\n\n","What You’ll Need\n \n• Bachelor’s Degree in business or relevant learning program\n• 3 - 5 years of work experience with at least 2 years in Learning & Development / Project Management / Team Management\n• Previous experience analyzing business needs, designing, developing and evaluating training (preferred )\n \nBonus Points if\n \n• Formal knowledge of instructional design and curriculum management\n• Instructional Design\n• Customer Service industry experience\n","?iisp=he-6594079","?iisp=he-6584079",null,"Learning & Development Manager, Center of Excellence","2018-09-11T17:50:00","2019-03-07T13:45:00",null,null,null,"2018-12-14T06:46:00"]
["https://www.uber.com/careers/list/42352/","What You’ll Need\n• BS or MS degree in Electrical Engineering or related field\n• 10+ years relevant experience in product development (commercial and consumer)\n• Experience building a team of engineers and hands-on technical leadership\n• Experience in digital and analog circuit design; low power devices, RF and electromechanical design\n• Ability to travel up to 15% when necessary\n ","What You’ll Need\n• BS or MS degree in Electrical Engineering or related field\n• Successful track record of 10+ years relevant experience in product development (commercial and consumer)\n• Experience building a team of engineers and hands-on technical leadership\n• Solid experience in digital and analog circuit design; low power devices, RF and electromechanical design\n• Ability to travel up to 15% when necessary\n \nBonus Points If\n• Experience with two way video communication platforms \n• Has managed building consumer grade software experiences powered by a hardware base-layer\n• Design experience with embedded operating systems\n• MBA ","?iisp=he-6594079","?iisp=he-6584079",null,"Sr Hardware Engineer II","2018-09-11T17:50:00","2018-09-26T11:33:00","2018-10-01T14:50:00",null,null,"2018-12-14T06:46:00"]
["https://www.uber.com/careers/list/42206/","What You’ll Need\n• Depth, experience, and pragmatism. You have ideals for user privacy and can apply them in a business environment. \n• Interest. You’re interested and equipped to share our message on privacy and data protection to our users, the industry, and other experts. You may have given public talks or published blog posts or papers on technical topics.\n• Leadership. You’re able to educate partners on the privacy impact of product decisions and ensure innovation and data protection coexist. You’re just as comfortable with on the ground privacy challenges as you are facilitating strategy with executive leadership.\n• A teammate. Your product sense is matched by your humility and willingness to problem-solve with others. You can take the lead and have a sense of what doing ‘the right thing’ is. You are an enabler not a blocker. You seek to mentor and share your knowledge with others.\n• Minimum of 4 years experience delivering solutions in engineering, product management, data analytics or in strategy & operations within a tech company.","What You’ll Need\n• Depth, expertise, and pragmatism. You have visionary ideals for user privacy and can apply them in a business environment. \n• Passion. You’re excited and equipped to share our message on privacy and data protection to our users, the industry, and other experts. You may have given public talks or published blog posts or papers on technical topics.\n• Leadership. You’re able to educate partners on the privacy impact of product decisions and ensure innovation and data protection coexist. You’re just as comfortable with on the ground privacy challenges as you are driving strategy with executive leadership.\n• A great teammate. Your product instincts are matched by your humility and willingness to problem-solve with others. You can take the lead and have a great sense of what doing ‘the right thing’ is. You are an enabler not a blocker. You seek to mentor and share your knowledge with others.\n• Minimum of 4 years experience delivering highly successful solutions in engineering, product management, data analytics or in strategy & operations within a tech company - you're extremely proud of what you've accomplished.\n\nBonus Points For\n\n• A computer science undergraduate degree or other engineering degree equivalent.\n• Experience with the user and technical challenges faced in Privacy, Trust & Safety or Risk engineering and product teams\n\n","?iisp=he-6594079","?iisp=he-6584079",null,"Product Manager - Privacy","2018-09-11T17:50:00","2019-01-09T13:10:00",null,null,null,"2018-12-14T06:46:00"]
["https://www.uber.com/careers/list/42314/","What You’ll Need\n• BA/BS degree in a computer discipline, or equivalent applicable experience.\n• 5+ years of experience Salesforce development experience using Apex and Visualforce\n• 3+ years of experience another programming language\n• Ability to write in HTML, CSS, Javascript, and leverage popular Web UI frameworks within Visualforce pages or Lightning components.\n• Experience building integrations with Salesforce and 3rd-party applications\n• Experience with development tools, including Eclipse IDE, Intellij, Git, Sublime, etc...\n• Ability to work independently, as well as collaboratively with cross-functional teams.\n• Written & verbal communications skills.\n• Analytical, mathematical, and creative problem-solving skill\n• Motivated self-starter, able to think critically about problems and independently scope and move software projects to resolution\n","What You’ll Need\n• BA/BS degree in a computer discipline, or equivalent applicable experience.\n• 5+ years of experience Salesforce development experience using Apex and Visualforce\n• 3+ years of experience another programming language, preferably Java, Go, Python, Node, or C# (Full stack experience is a huge plus)\n• Ability to write in HTML, CSS, Javascript, and leverage popular Web UI frameworks within Visualforce pages or Lightning components.\n• Experience building integrations with Salesforce and 3rd-party applications\n• Proficiency with development tools, including Eclipse IDE, Intellij, Git, Sublime, etc...\n• SFDC Certification desired (ADM201 and Salesforce Certified Platform Developer II)\n• Ability to work independently, as well as collaboratively with cross-functional teams.\n• Excellent written & verbal communications skills.\n• Excellent analytical, mathematical, and creative problem-solving skill\n• Highly motivated self-starter, able to think critically about problems and independently scope and drive software projects to resolution\n","?iisp=he-6594079","?iisp=he-6584079",null,"Salesforce Engineer","2018-09-11T17:50:00","2018-11-06T11:00:00","2018-09-12T08:47:00",null,null,"2018-12-14T06:46:00","David removed because multiple qualification sections."]
["https://www.uber.com/careers/list/42310/","What you’ll need\n• Minimum 4 years of professional experience in a high-volume and highly productive service-industry or customer support environment \n• An ability to manage, set team goals, develop people to their highest levels of performance, and manage through challenging situations\n• Written, verbal, and visual communication skills, and ability to influence and gain consensus \n• Attention to detail & project management skills\n• Data analysis skills\n• An interest in large multi-partner initiatives that require innovation, influence, and require you think both strategically and tactically\n• An ability to work in the type of environment that is fast paced, and constantly changing \n• Bachelor’s Degree \n ","What you’ll need\n• Minimum 4 years of professional experience in a high-volume and highly productive service-industry or customer support environment \n• A demonstrated ability to manage effectively, set team goals, develop people to their highest levels of performance, and manage through challenging situations\n• Excellent written, verbal, and visual communication skills, and demonstrated ability to influence and gain consensus \n• Excellent attention to detail & project management skills\n• Exceptional data analysis skills\n• A love of large multi-partner initiatives that require innovation, influence, and require you think both strategically and tactically\n• An ability to thrive in the type of environment that is fast paced, and constantly changing \n• Bachelor’s Degree \n \nBonus points (if any) \n• MBA or graduate degree in related field preferred\n• Working knowledge of R, SQL, Python, or other scripting languages\n\n","?iisp=he-6594079","?iisp=he-6584079",null,"Senior Quality Manager","2018-09-11T17:50:00","2019-01-31T07:06:00","2018-10-23T06:21:00",null,"2018-10-12T07:15:00","2018-12-14T06:46:00"]
["https://www.uber.com/careers/list/42245/","What You’ll Need\n• 3+ years experience in compliance or startup operations or related experience\n• Communication and organization skills\n• Stakeholder, project and vendor management skills\n• A “driver” personality - biased toward action - striving for clarity and delivery\n• Excel / data management skills.\n• Self-motivated, works independently and possesses organization and time management skills\n• Bachelor's degree required\n\n","What You’ll Need\n• 3+ years experience in compliance or startup operations or related experience, preference for candidates with background check or other screening experience\n• Exceptional communication and organization skills\n• Excellent stakeholder, project and vendor management skills\n• A “driver” personality - biased toward action - constantly pushing toward clarity and delivery\n• Exceptional Excel / data management skills. SQL Proficiency strongly preferred.\n• Self-motivated, works independently and possesses strong organization and time management skills\n• Bachelor's degree required\n\n","?iisp=he-6594079","?iisp=he-6584079",null,"Sr. Central Operations Manager, Compliance - Screenings Vendor Management","2018-09-11T17:50:00","2018-11-09T11:50:00","2018-10-01T14:50:00","2018-09-12T08:30:00",null,"2018-12-14T06:46:00"]
["https://www.uber.com/careers/list/42143/","What You’ll Need\n• Bachelor’s degree\n• 3+ years of prior experience in a data driven support organization within recruiting or in HR operations. \n• Execution focus - you work towards results and engage directly to get things done, both individually and with your team\n• Self-starter attitude - you embrace your work and enjoy the responsibility of being individually empowered\n• Optimistic leadership - you can serve as the guiding light for your team, through all types of situations\n• Curiosity - you're innovative, creative, and constantly looking for opportunities to tweak and optimize processes\n• Customer focus - you are focused on our customer (the Uber employee and candidates) experience and can handle basic inquiries, and escalated requests\n• Project Management Skills - you can organize anything, and keep several balls in the air implementing new projects, supporting employees, and assisting your team at the same time","What You’ll Need\n• Bachelor’s degree, preferably in business / human resources\n• 3+ years of prior experience in a data driven support organization within recruiting or in HR operations. \n• 1+ year people management experience is preferred\n• Experience with an ATS and GSuites is preferred.\n• Execution focus - you drive towards results and can roll up your sleeves to get things done, both individually and with your team\n• Self-starter attitude - you tackle your work and love the responsibility of being individually empowered\n• Optimistic leadership - you can serve as the guiding light for your team, through all types of situations\n• Natural curiosity - you're innovative, creative, and constantly looking for opportunities to tweak and optimize processes\n• Customer focus - you are obsessed about our customer (the Uber employee and candidates) experience and can handle basic inquiries, and escalated requests\n• Project Management Skills - you can organize anything, and keep several balls in the air implementing new projects, supporting employees, and assisting your team at the same time\n \nBonus Points\n• You have previous experience as a recruiting coordinator, executive assistant, or in the people space\n• You know iCIMS or a similar ATS\n","?iisp=he-6594079","?iisp=he-6584079",null,"Recruiting Coordinator Lead","2018-09-11T17:50:00","2019-01-11T17:20:00",null,null,null,"2018-12-14T06:46:00"]
["https://www.uber.com/careers/list/41751/","What You’ll Need\n \n• 12-15 years of experience leading a team of GSMs\n• Bachelor's degree \n• Self-starter with the ability to adapt, improvise, and problem solve in a rapidly changing environment\n• Desire to learn and demonstrate value in a dynamic environment\n• Able to make quick, informed decisions with 80% information\n• Negotiation skills\n• Written and oral communication and interpersonal skills\n• Ability to work independently on multiple tasks and projects, with various teams including engineering and supply chain\n• Open to travel (25-30% depending on commodity)\n","What You’ll Need\n \n• 12-15 years of experience leading a team of GSMs\n• Bachelor's degree (Engineering preferred)\n• Master's degree preferred (Engineering, Supply Chain, or Business preferred)\n• Self-starter with the ability to adapt, improvise, and problem solve with poise in a rapidly changing environment\n• Eagerness to learn and demonstrate value in a dynamic environment\n• Comfortable with making quick, informed decisions with 80% information\n• Excellent negotiation skills\n• Effective written and oral communication and interpersonal skills\n• Ability to work independently on multiple tasks and projects, with various teams including engineering and supply chain\n• Open to travel (25-30% depending on commodity)\n","?iisp=he-6594079","?iisp=he-6584079",null,"Sr Global Supply Manager - Modules Lead","2018-09-11T17:50:00",{"$nulls":4},"2018-12-14T06:46:00"]
["https://www.uber.com/careers/list/39868/","What You’ll Need\n• 3+ years experience of investment banking / consulting / business intelligence / strategy or related experience.\n• Communication and organization skills\n• A “driver” personality - biased toward action - striving for clarity and delivery\n• Excel / data management skills.\n• Self-motivated, works independently and possesses organization and time management skills\n• Bachelor's degree required\n","What You’ll Need\n• 3+ years experience of investment banking / consulting / business intelligence / strategy or related experience; some high-growth operations or startup experience is strongly preferred.\n• Exceptional communication and organization skills\n• A “driver” personality - biased toward action - constantly pushing toward clarity and delivery\n• Exceptional Excel / data management skills.\n• Self-motivated, works independently and possesses strong organization and time management skills\n• Bachelor's degree required\n• SQL Proficiency strongly preferred\n","?iisp=he-6594079","?iisp=he-6584079",null,"Central Operations Manager (SF)","2018-09-11T17:50:00","2018-11-09T11:50:00","2018-12-04T07:08:00",null,null,"2018-12-14T06:46:00"]
["https://www.uber.com/careers/list/37306/","What You’ll Need\n• Understanding of Java, including common tools, frameworks and best practices.\n• Experience designing and maintaining Java libraries.\n• Familiarity with semantic versioning and concepts like backwards compatibility.\n• Experience building reusable tools, packages and software patterns for developers.\n• Interest in software quality, including testing, code review, and documentation.\n• Desire to contribute to open source.\n• Cross-team communication skills.\n• B.S., M.S., or Ph. D. in Computer Science or equivalent work experience.","What You’ll Need\n• Solid understanding of Java, including common tools, frameworks and best practices.\n• Experience designing and maintaining Java libraries.\n• Familiarity with semantic versioning and concepts like backwards compatibility.\n• Experience building reusable tools, packages and software patterns for developers.\n• Passion for software quality, including testing, code review, and documentation.\n• Desire to contribute to open source.\n• Strong cross-team communication skills.\n• B.S., M.S., or Ph. D. in Computer Science or equivalent work experience.\n \nBonus Points\n• Experience working on distributed software projects in a large organization.\n• Experience leading, contributing to, or maintaining open-source projects.\n• Experience as a technology-specific speaker or evangelist.\n• Background in infrastructure and distributed systems.\n\n","?iisp=he-6594079","?iisp=he-6584079",null,"Sr Software Engineer, Java Platform","2018-09-11T17:50:00","2019-04-30T09:45:00",null,null,null,"2018-12-14T06:46:00"]
["https://www.uber.com/careers/list/42258/","What You’ll Need\n• BS/BA in Finance, Accounting, Economics, or similar\n• Minimum of 1 year in Banking and/or Corporate finance /operational FP&A at either a high-growth company or a large, well-established organization\n• Excel skills - You strive for best practices, your models are efficient, scalable, and intuitive\n• Communication and people skills - numbers are key, but a business is built with people\n• Self-starter - You will take initiative, be dedicated, set and work toward goals\n• Working knowledge of GAAP\n• Systems - working knowledge of enterprise-level financial planning systems\n• Attention to detail - consistent with swift execution\n ","What You’ll Need\n• BS/BA in Finance, Accounting, Economics, or similar\n• Minimum of 1 year in Banking and/or Corporate finance /operational FP&A at either a high-growth company or a large, well-established organization\n• Elite Excel skills - Best practices are second-nature, your models are efficient, scalable, and intuitive\n• Excellent communication and people skills - numbers are key, but a business is built with people\n• Self-starter - You will take initiative, be dedicated, set and drive toward goals\n• Strong working knowledge of GAAP\n• Systems - working knowledge of enterprise-level financial planning systems\n• Attention to detail - consistent with swift execution\n \nBonus Points If\n• MBA, CFA or CPA\n• SQL skills - the ability to self-serve, investigate and get the data we require will make you much more effective in this role\n","?iisp=he-6594079","?iisp=he-6584079",null,"Analyst, Strategic Finance","2018-09-11T17:50:00","2019-02-01T06:20:00",null,null,null,"2018-12-14T06:46:00"]
["https://www.uber.com/careers/list/42238/","What You’ll Need\n• Understanding and experience in Incident Response and associated best practices\n• Experience in identifying, analyzing, scoping, containing and eradicating real-world threats\n• Working knowledge of Linux, Windows, and OS X operating systems\n• Familiar with scripting languages and regular expressions\n• An understanding of network and host-based forensic methodologies\n• Knowledge of enterprise-scale security technologies and capabilities to include SIEM, log analysis, incident case management, HIDS/NIDS, antivirus, full packet capture, malware analysis, firewall, remote forensics, user behavior analytics\n• An understanding of the current threat landscape and adversary tactic, techniques and procedures (TTP's)\n• Experience with writing rules/alerts on a variety of security systems\n• A desire for continuous process improvement and excellence\n","What You’ll Need\n• Expert-level understanding and experience in Incident Response and associated best practices\n• Experience in identifying, analyzing, scoping, containing and eradicating real-world threats\n• Working knowledge of Linux, Windows, and OS X operating systems\n• Comfortable with scripting languages (Python preferred) and regular expressions\n• An understanding of network and host-based forensic methodologies\n• Demonstrated knowledge of enterprise-scale security technologies and capabilities to include SIEM, log analysis, incident case management, HIDS/NIDS, antivirus, full packet capture, malware analysis, firewall, remote forensics, user behavior analytics\n• An understanding of the current threat landscape and adversary tactic, techniques and procedures (TTP's)\n• Experience with writing rules/alerts on a variety of security systems\n• A strong desire for continuous process improvement and excellence\n\nBonus Points If\n• Project management experience (or knowledge) / SDLC / Agile\n• Experience with advanced analysis methods: Analytics, Data Science, Heuristics, Metrics\n• Development experience or contributed to open-source projects\n• Do not know pain, and are a stranger to fear!  You are a spear with no branches.\n• Experience with automation and orchestration tools.\n\n","?iisp=he-6594079","?iisp=he-6584079",null,"Sr. Security Engineer - Response","2018-09-11T17:50:00","2018-09-29T09:21:00","2018-10-08T12:55:00",null,null,"2018-12-14T06:46:00"]
["https://www.uber.com/careers/list/42204/","What You’ll Need\n \n• M.A. , B.A. or B.S in Finance or Accounting\n• Ability to influence finance and non-finance teams\n• 5+ years of leadership experience, managing finance, accounting and operational processes\n• Experience working in or as (finance) business partnering environment, building out teams and demonstrated customer focus and work ethic based on desire to exceed expectations\n• Communication and interpersonal skills; including written and oral communication\n• Presentation skills and the ability to guide and influence senior leadership\n• Ability to work independently in a rapidly changing environment and ability to empower teams around you\n• Analytical skills and the ability to get into the details, while also seeing and understanding the big picture\n• Experience with complex decision making and problem solving using Lean / Six Sigma techniques\n• Ability to inspire others through setting strategic vision and direction within Finance Ops as well as with the Business and Finance teams we support\n\n","What You’ll Need\n \n• M.A. , B.A. or B.S in Finance or Accounting, CPA or MBA preferred\n• Proven ability to influence finance and non-finance teams\n• 5+ years of leadership experience, managing finance, accounting and operational processes\n• Solid experience working in or as strong (finance) business partnering environment, building out teams and demonstrated customer obsession and work ethic based on strong desire to exceed expectations\n• Effective communication and strong interpersonal skills; including written and oral communication\n• Advanced presentation skills and the ability to guide and influence senior leadership\n• Ability to work independently in a rapidly changing environment and ability to empower teams around you\n• Advanced analytical skills and the ability to get into the details, while also seeing and understanding the big picture\n• Experience with complex decision making and problem solving using Lean / Six Sigma techniques\n• Ability to inspire others through setting strategic vision and direction within Finance Ops as well as with the Business and Finance teams we support\n\n","?iisp=he-6594079","?iisp=he-6584079",null,"Sr. Finance Analyst- FinOps","2018-09-11T17:50:00","2019-02-06T08:05:00",null,null,null,"2018-12-14T06:46:00"]
["https://www.uber.com/careers/list/30770/","What You'll Need\n• BS Degree in technical field or equivalent practical experience.\n• Experience working with Unix systems and a familiarity working on the command line\n• Basic knowledge of physics as it applies to vehicle analysis (braking distance, acceleration profiles, etc)\n• Able to work on a task that’s repetitive in nature, while still ever-changing\n• Attention to detail\n\n","What You'll Need\n• BS Degree in technical field or equivalent practical experience.\n• Experience working with Unix systems and a familiarity working on the command line\n• Basic knowledge of physics as it applies to vehicle analysis (braking distance, acceleration profiles, etc)\n• Previous software quality testing experience a plus\n• Basic data analysis skills with Excel, python, R, or other general data science tools a plus\n• Comfortable working on a task that’s repetitive in nature, while still ever-changing\n• Strong attention to detail\n\n","?iisp=he-6594079","?iisp=he-6584079",null,"Autonomy Test Triage Analyst","2018-09-11T17:50:00","2018-11-07T17:30:00","2018-11-15T14:48:00",null,null,"2018-12-14T06:46:00"]
["https://www.uber.com/careers/list/42114/","What You’ll Need\n• Bachelor’s Degree\n• Minimum 3 years of professional experience\n• Experience managing cross-functional projects and stakeholders, informed by data-driven insight\n• Written and verbal communication skills\n• Understand the necessary tone for any given situation at Uber and craft content that resonates as a result\n• Experience building efficient processes that scale across a large organization\n• Self-motivated with experience strategically problem solving, facilitating action, and project ownership\n• Experience uncovering data to inform customer-oriented decisions\n• Ability to handle competing priorities\n\n","What You’ll Need\n• Bachelor’s Degree\n• Minimum 3 years of professional experience\n• Experience managing cross-functional projects and stakeholders, powered by data-driven insight\n• Excellent written and verbal communication skills\n• Understand the necessary tone for any given situation at Uber and craft content that resonates as a result\n• Experience building efficient processes that scale across a large organization\n• Self-motivated with a strong affinity for strategic problem solving, driving action, and strong project ownership\n• Demonstrated success in uncovering data to inform customer-oriented decisions\n• Demonstrated ability to juggle competing priorities\n \nBonus Points if\n• Experience with customer support strategy\n• SQL, R, or other technical analytics skills\n\n","?iisp=he-6594079","?iisp=he-6584079",null,"Project Manager, Rider Account and Payment","2018-09-05T15:52:00","2018-12-22T16:30:00","2018-10-01T14:50:00",null,"2018-09-06T21:33:00","2018-12-14T06:46:00"]
["https://www.uber.com/careers/list/42119/","Qualifications\n• Bachelor's Degree\n• Experience with capabilities of one or more DMPs (Audience Manager, Blue Kai, Turn, Krux, etc.)\n• Experience with digital campaign operations (Media Tagging, DCO, etc.)\n• Experience with digital integrations across multiple technology vendors \n• Experience with SQL or a scripting language such as R or Python\n• +2 years relevant experience as solutions engineer (or similar role)\n• Experience working with large / diverse data sets\n• Experience telling stories with data to both technical and non-technical audiences and creating clear and compelling visualizations to convey complex data","Qualifications\n• Bachelor's Degree, preferably in a quantitative discipline such as Economics, Statistics, Computer Science, or Engineering\n• Experience with advanced capabilities of one or more DMPs (Audience Manager, Blue Kai, Turn, Krux, etc.)\n• Experience with digital campaign operations (Media Tagging, DCO, etc.)\n• Experience with digital integrations across multiple technology vendors \n• High proficiency in SQL or a scripting language such as R or Python\n• +2 years relevant experience as solutions engineer (or similar role)\n• Experience working with large / diverse data sets\n• Experience telling stories with data to both technical and non-technical audiences and creating clear and compelling visualizations to convey complex data\n\nNice to Have\n• Experience in product strategy and development\n• Strong coding skills (e.g., R, Python)\n• Strong statistics, economics, engineering, or mathematics background\n• Experience with data pipeline management\n\n","?iisp=he-6594079","?iisp=he-6584079",null,"DMP Technical Analyst","2018-09-05T15:52:00","2018-10-31T11:20:00","2018-11-07T11:33:00",null,null,"2018-12-14T06:46:00"]
["https://www.uber.com/careers/list/42113/","What You'll Need\n \n• Bachelor’s Degree\n• Minimum 3 years of experience investment banking, consulting, business intelligence, strategy or related experience; high-growth operations or startup experience\n• Ability to be an effective leader managing teams\n• Communication and organization skills\n• Ability to work with remote teams to develop strategies and foster a cohesive and creative work environment\n• Investigate and get the data we require will make you much more effective in this role\n• Excel / data management skills\n• Experience with SQL ","What You'll Need\n \n• Bachelor’s Degree\n• Minimum 3 years of experience investment banking, consulting, business intelligence, strategy or related experience; high-growth operations or startup experience\n• Ability to be an effective leader managing teams\n• Exceptional communication and organization skills\n• Ability to work with remote teams to develop strategies and foster a cohesive and creative work environment\n• Investigate and get the data we require will make you much more effective in this role\n• Exceptional Excel / data management skills\n• SQL proficiency\n \nBonus Points if\n \n• MBA degree or masters in a quantitative field (e.g., analytics, statistics)\n\n","?iisp=he-6594079","?iisp=he-6584079",null,"Analytics & Insights Team Lead","2018-09-05T15:52:00","2019-01-04T07:40:00","2018-09-23T12:29:00","2018-09-11T10:21:00",null,"2018-12-14T06:46:00"]
["https://www.uber.com/careers/list/42111/","WHAT WE’RE LOOKING FOR IN YOU\n• 2+ years of data analytics experience on a global scale\n• BA/BS in Economics, Finance, Math, Statistics, or similar\n• Data skills and an ability to use tools such as Excel, SQL, Python, and R to work efficiently at scale\n• Communication skills, organized, able to multitask and be a team player\n• Balance attention to detail with swift execution\n• Interested in Uber\n\n","WHAT WE’RE LOOKING FOR IN YOU\n• 2+ years of data analytics experience on a global scale\n• BA/BS in Economics, Finance, Math, Statistics, or similar\n• Strong data skills and a shown ability to use tools such as Excel, SQL, Python, and R to work efficiently at scale\n• Experience with Hive, Spark, and other big data tools a plus\n• Experience with A/B testing or Statistical Modeling a plus\n• Great communication skills, organized, able to multitask and be a team player\n• Balance attention to detail with swift execution\n• Enthusiasm about Uber!\n\n","?iisp=he-6594079","?iisp=he-6584079",null,"Data Analyst I/ Data Analyst II, Safety and Insurance","2018-09-05T15:52:00","2019-01-03T08:06:00","2018-10-16T07:51:00","2018-10-11T09:10:00",null,"2018-12-14T06:46:00"]
["https://www.uber.com/careers/list/42099/","What You’ll Need\n\n• Minimum 3 years working in social media content development. \n• Writing skills with attention to detail, grammar, and tone.\n• Flexible, with the ability to work in a fast-paced environment.\n• Ability to produce compelling visual content through the use of photo and video. \n• Experience developing social content from a strategic perspective. You can craft a narrative across different channels — you know how to match the message to the medium.","What You’ll Need\n\n• Minimum 3 years working in social media content development. Added plus if background includes work with a digital media brand, creative agency, or social media marketing for a B2C brand.\n• Exceptional writing skills with attention to detail, grammar, and tone.\n• Flexible, with the ability to excel in a fast-paced environment.\n• Ability to produce compelling visual content through the use of photo and video. Added bonus if you’re comfortable with editing tools like Photoshop, A Color Story, VSCO, and similar.\n• Experience developing social content from a strategic perspective. You can craft a compelling narrative across different channels — you know how to match the message to the medium.\n \nBonus Points If\n\n• Experience using social media management and analytics tools like Sprout Social, Google Analytics, Brandwatch, and similar. \n• Understanding the basic relationship between paid and organic social. \n• Portfolio of cross-channel social campaigns. \n• Experience working cross-functionally with an array of internal teams.\n\n","?iisp=he-6594079","?iisp=he-6584079",null,"Social Media Manager - Uber Freight","2018-09-05T15:52:00","2018-11-12T19:45:00","2018-12-04T07:08:00",null,null,"2018-12-14T06:46:00"]
["https://www.uber.com/careers/list/42059/","What You’ll Need\n \n• BS/BA and a minimum of 3 years of relevant experience\n• Experience with project management and asset management tools (e.g., JIRA, Confluence, Box, Google Drive, etc.)\n• Self-directed and takes initiative in addressing problems big and small\n• Team player with experience working cross-collaboratively with multiple stakeholders\n• Written, verbal, and visual communication skills\n• Organizational, time management, and prioritization skills\n• Experience with learning management systems (LMS) or similar systems\n ","What You’ll Need\n \n• BS/BA and a minimum of 3 years of relevant experience\n• Proficiency with project management and asset management tools (e.g., JIRA, Confluence, Box, Google Drive, etc.)\n• Self-directed and takes initiative in tackling problems big and small\n• Excellent team player with experience working cross-collaboratively with multiple stakeholders\n• Clear and effective written, verbal, and visual communication skills\n• Superior organizational, time management, and prioritization skills\n• Experience in education, learning & development, training, instructional design desired\n• Experience with learning management systems (LMS) or similar systems\n \nBonus points if\n \n• Experience working in an Agile or Product team\n• Experience with elearning content authoring tools (e.g., Captivate, Articulate, etc.)\n• Experience working in a customer service environment (business process outsourcing, call centers, etc.)\n• Experience in digital graphic design\n","?iisp=he-6594079","?iisp=he-6584079",null,"Course Operations Specialist","2018-09-05T15:52:00","2018-11-19T18:40:00","2018-11-15T14:48:00","2018-11-07T17:30:00",null,"2018-12-14T06:46:00"]
["https://www.uber.com/careers/list/42048/","What You’ll Need\n\n• Bachelor’s degree\n• 2-5 years of prior experience in an HR/ HR operations role\n• Experience with partnering with HRBPs to deliver a consistent employee experience\n• Experience with being the front face of HR, representing policies and practices to managers and employees across the organization\n• Self-driven, organized, and interested in continually tinkering to make the overall process and experience better for all employees\n• Communication skills and attention to detail are key attributes in this role\n\n\n","What You’ll Need\n \n• Bachelor’s degree in business/human resources preferred \n• 2-5 years of prior experience in an HR/ HR operations role\n• Experience with partnering with HRBPs to deliver a consistent employee experience\n• Experience with being the front face of HR, representing policies and practices to managers and employees across the organization\n• Self-driven, organized, and passionate about continually tinkering to make the overall process and experience better for all employees\n• Exceptional communication skills and attention to detail are key attributes in this role\n• Understanding HR practices and experience in regional capacity is a plus\n• Workday experience and/or experience using JIRA is a plus \n\n","?iisp=he-6594079","?iisp=he-6584079",null,"HR Generalist, Chicago","2018-09-05T15:52:00","2018-11-15T17:00:00","2018-12-04T07:08:00",null,null,"2018-12-14T06:46:00"]
["https://www.uber.com/careers/list/42030/","What You’ll Need\n\n• Bachelor’s degree\n• 2-5 years of prior experience in an HR/ HR operations role\n• Experience with partnering with HRBPs to deliver a consistent employee experience\n• Experience with being the front face of HR, representing policies and practices to managers and employees across the organization\n• Self-driven, organized, and interested in continually tinkering to make the overall process and experience better for all employees\n• Communication skills and attention to detail are key attributes in this role\n","What You’ll Need\n \n• Bachelor’s degree in business/human resources preferred \n• 2-5 years of prior experience in an HR/ HR operations role\n• Experience with partnering with HRBPs to deliver a consistent employee experience\n• Experience with being the front face of HR, representing policies and practices to managers and employees across the organization\n• Self-driven, organized, and passionate about continually tinkering to make the overall process and experience better for all employees\n• Exceptional communication skills and attention to detail are key attributes in this role\n• Understanding HR practices and experience in regional capacity is a plus\n• Workday experience and/or experience using JIRA is a plus \n\n","?iisp=he-6594079","?iisp=he-6584079",null,"HR Generalist- Pittsburgh","2018-09-05T15:52:00","2018-10-23T10:10:00","2018-10-30T07:19:00",null,null,"2018-12-14T06:46:00"]
["https://www.uber.com/careers/list/41973/","What You'll Need\n• At least 5 years recruiting experience in similar orgs.\n• Ability to digest and use data to facilitate decision making.\n• Experience developing, mentoring and managing large (>4), high-output recruitment (or similar functional) teams.\n• Experience collaborating with org wide stakeholders in documenting and implementing process change.\n ","What You'll Need\n• At least 5 years recruiting experience in similar orgs.\n• Demonstrated ability to digest and use data to drive decision making.\n• Success in developing, mentoring and managing large (>4), high-output recruitment (or similar functional) teams.\n• Experience collaborating with org wide stakeholders in documenting and implementing process change.\n \nBonus Points\n• Previous experience with building sourcing techniques that maximize the impact of passive and active referral candidates\n• Experience working in environments with high volume candidate processing or hypergrowth needs\n• Technical recruiting experience\n\n","?iisp=he-6594079","?iisp=he-6584079",null,"Referral Advocate Lead","2018-09-05T15:52:00","2018-09-14T20:34:00","2018-09-23T12:29:00",null,null,"2018-12-14T06:46:00"]
["https://www.uber.com/careers/list/42036/","What You’ll Need\n• 4+ years of business consulting, investment banking, marketing, or operations management experience\n• Experience with data-based decision-making, exercising judgement in ambiguous circumstances, and communicating across a diverse team.\n• Excel skills a must. Able to learn and use new software tools.\n• Interpersonal skills. Ability to build relationships, lead a team, manage employees, and create a hard-working but fun workplace\n• Able to be self-motivated, self-directed, and take ownership of tasks to ensure solution\n• Problem-solving skills\n• Organization and time management systems for yourself and your employees\n• Communicator. You are a clear and concise communicator with the ability to synthesize a lot of information quickly and highlight the key insights.\n• Valid driver’s license and ability to pass MVR check required (No more than 2 minor violations, and no major violations, in past 3 years)\n\n","What You’ll Need\n• 4+ years of business consulting, investment banking, marketing, or operations management experience\n• Experience with data-based decision-making, exercising good judgement in ambiguous circumstances, and effectively communicating across a diverse team.\n• Strong Excel skills a must, other database experience helpful. Comfortable learning and using new software tools.\n• Strong interpersonal skills. Ability to build relationships, lead a team, manage employees, and create a hard-working but fun workplace\n• Proven to be self-motivated, self-directed, and eager to take ownership of tasks to ensure solution\n• Black belt in problem-solving\n• Excellent organization and time management systems for yourself and your employees\n• Clear Communicator. You are a clear and concise communicator with the ability to synthesize a lot of information quickly and highlight the key insights.\n• Knowledge or passion for any of the following a plus: the local market, SQL, mobility, mechanics, and data/programming/IT.\n• Valid driver’s license and ability to pass MVR check required (No more than 2 minor violations, and no major violations, in past 3 years)\n\n","?iisp=he-6594079","?iisp=he-6584079",null,"Sr Operations Manager (Austin) - Scooters","2018-09-05T15:52:00","2018-11-28T12:30:00","2018-12-10T08:23:00",null,null,"2018-12-14T06:46:00"]
["https://www.uber.com/careers/list/42033/","What You’ll Need\n• 4+ years of business consulting, investment banking, marketing, or operations management experience\n• Experience with data-based decision-making, exercising judgement in ambiguous circumstances, and communicating across a diverse team.\n• Excel skills a must. Able to learn and use new software tools.\n• Interpersonal skills. Ability to build relationships, lead a team, manage employees, and create a hard-working but fun workplace\n• Able to be self-motivated, self-directed, and take ownership of tasks to ensure solution\n• Problem-solving skills\n• Organization and time management systems for yourself and your employees\n• Communicator. You are a clear and concise communicator with the ability to synthesize a lot of information quickly and highlight the key insights.\n• Valid driver’s license and ability to pass MVR check required (No more than 2 minor violations, and no major violations, in past 3 years)\n \n\n","What You’ll Need\n• 4+ years of business consulting, investment banking, marketing, or operations management experience\n• Experience with data-based decision-making, exercising good judgement in ambiguous circumstances, and effectively communicating across a diverse team.\n• Strong Excel skills a must, other database experience helpful. Comfortable learning and using new software tools.\n• Strong interpersonal skills. Ability to build relationships, lead a team, manage employees, and create a hard-working but fun workplace\n• Proven to be self-motivated, self-directed, and eager to take ownership of tasks to ensure solution\n• Black belt in problem-solving\n• Excellent organization and time management systems for yourself and your employees\n• Clear Communicator. You are a clear and concise communicator with the ability to synthesize a lot of information quickly and highlight the key insights.\n• Knowledge or passion for any of the following a plus: the local market, SQL, mobility, mechanics, and data/programming/IT.\n• Valid driver’s license and ability to pass MVR check required (No more than 2 minor violations, and no major violations, in past 3 years)\n \n\n","?iisp=he-6594079","?iisp=he-6584079",null,"Sr Operations Manager (Santa Monica, LA) - Scooters","2018-09-05T15:52:00","2018-10-11T09:10:00","2018-10-16T07:51:00",null,null,"2018-12-14T06:46:00"]
["https://www.uber.com/careers/list/42028/","What You’ll Need\n\n• Minimum of 2 years of relevant experience.  \n• Experience solving complex problems, exercising judgement in ambiguous circumstances, and communicating across a diverse team.\n• Able to learn and use new software tools.\n• Interpersonal skills. Ability to build relationships, lead a team, manage employees, and create a hard-working but fun workplace\n• Able to be self-motivated, self-directed, and take ownership of tasks to ensure solution.\n• Problem-solving skills.\n• Organization and time management systems for yourself and your team.\n• Valid driver’s license and ability to pass MVR check required (No more than 2 minor violations, and no major violations, in past 3 years)\n\n\n","What You’ll Need\n\n• Minimum of 2 years of relevant experience.  The ideal candidate will have leadership experience in a fast-paced work environment.\n• Experience solving complex problems, exercising good judgement in ambiguous circumstances, and effectively communicating across a diverse team.\n• Comfortable learning and using new software tools.\n• Strong interpersonal skills. Ability to build relationships, lead a team, manage employees, and create a hard-working but fun workplace\n• Proven to be self-motivated, self-directed, and eager to take ownership of tasks to ensure solution.\n• Black belt in problem-solving.\n• Excellent organization and time management systems for yourself and your team.\n• Valid driver’s license and ability to pass MVR check required (No more than 2 minor violations, and no major violations, in past 3 years)\n• Knowledge or passion for any of the following a plus: the local market, mobility, mechanics, and data/analytics.\n\n","?iisp=he-6594079","?iisp=he-6584079",null,"Operations Manager (Austin) - Scooters","2018-09-05T15:52:00","2018-09-13T07:35:00","2018-09-23T12:29:00",null,null,"2018-12-14T06:46:00"]
["https://www.uber.com/careers/list/42023/","What You’ll Need\n\n• Minimum of 2 years of relevant experience.  \n• Experience solving complex problems, exercising judgement in ambiguous circumstances, and communicating across a diverse team.\n• Able to learn and use new software tools.\n• Interpersonal skills. Ability to build relationships, lead a team, manage employees, and create a hard-working but fun workplace\n• Able to be self-motivated, self-directed, and take ownership of tasks to ensure solution.\n• Problem-solving skills.\n• Organization and time management systems for yourself and your team.\n• Valid driver’s license and ability to pass MVR check required (No more than 2 minor violations, and no major violations, in past 3 years)\n\n","What You’ll Need\n\n• Minimum of 2 years of relevant experience.  The ideal candidate will have leadership experience in a fast-paced work environment.\n• Experience solving complex problems, exercising good judgement in ambiguous circumstances, and effectively communicating across a diverse team.\n• Comfortable learning and using new software tools.\n• Strong interpersonal skills. Ability to build relationships, lead a team, manage employees, and create a hard-working but fun workplace\n• Proven to be self-motivated, self-directed, and eager to take ownership of tasks to ensure solution.\n• Black belt in problem-solving.\n• Excellent organization and time management systems for yourself and your team.\n• Valid driver’s license and ability to pass MVR check required (No more than 2 minor violations, and no major violations, in past 3 years)\n• Knowledge or passion for any of the following a plus: the local market, mobility, mechanics, and data/analytics.\n\n","?iisp=he-6594079","?iisp=he-6584079",null,"Operations Manager (Santa Monica, LA) - Scooters","2018-09-05T15:52:00","2018-09-07T15:35:00","2018-10-01T14:50:00",null,null,"2018-12-14T06:46:00"]
["https://www.uber.com/careers/list/38756/","What you'll need\n \n• 5+ years of experience in a quantitative analysis role\n• A degree in statistics or a quantitative domain plus hands-on data analytics experience. \n• SQL skills, Big Data environment (Hadoop, Hive) and development experience in one scripting language \n• Domain experience in product metric identification, improving data quality, A/B testing, and experimentation design and execution.\n• Ability to deliver on tight timelines and move quickly while maintaining attention to detail\n• Work closely with cross-functional teams to execute on decisions\n• Self-driven with the ability to work in a self-guided manner\n• Visualization skills and storytelling abilities\n• Communication and organization skills\n\n","What you'll need\n \n• 5+ years of experience in a quantitative analysis role\n• A degree in statistics or a quantitative domain plus hands-on data analytics experience. Technical understanding must go from the highest abstractions down to the metal.\n• Excellent SQL skills, Big Data environment (Hadoop, Hive) and development experience in at least one scripting language (Python or R preferred)\n• Demonstrable domain expertise in product metric identification, improving data quality, A/B testing, and experimentation design and execution.\n• Ability to deliver on tight timelines and move quickly while maintaining attention to detail\n• Work closely with cross-functional teams to execute on decisions\n• Self-driven with the ability to work in a self-guided manner\n• Masterful visualization skills and storytelling abilities\n• Superb communication and organization skills\n\n","?iisp=he-6594079","?iisp=he-6584079",null,"Data Analyst, Rider Growth","2018-09-05T15:52:00","2018-10-26T15:35:00","2018-11-07T11:33:00",null,null,"2018-12-14T06:46:00"]
["https://www.uber.com/careers/list/20430/","What You’ll Need\n• An engineering background with computer science and math fundamentals\n• An understanding of large-scale distributed data processing \n• We span languages here: software development experience in either Python or Java is required. \n• Linux skills\n• Curiosity to explore new ideas and effort to make them happen\n• A record of being a self-starter, willing to take risks and make bets, work hard, all while keeping a positive attitude\n ","What You’ll Need\n• A strong engineering background with solid computer science and math fundamentals\n• An understanding of large-scale distributed data processing \n• We span languages here: solid software development experience in either Python or Java is required. Go and/or Scala experience a plus\n• Solid Linux skills\n• Deep curiosity to explore new ideas and passion to make them happen\n• A track record of being a self-starter, willing to take risks and make big bold bets, show great hustle, all while keeping a positive, winning attitude\n \nBonus Points If\n• Experience using HDFS and/or Spark\n• Experience in computer vision\n• Background in mathematics or physics\n• Experience in computer vision or using CNNs\n• Experience applying deep learning algorithms at scale\n• Proven capability at delivering any scaled user facing service or app\n• Generating 3D meshes directly from imagery or point clouds\n• Large scale sparse matrix optimization \n\n","?iisp=he-6594079","?iisp=he-6584079",null,"Software Engineer - Computer Vision","2018-09-05T15:52:00","2019-03-07T13:45:00",null,null,null,"2018-12-14T06:46:00"]
["https://www.uber.com/careers/list/29328/","What You’ll Need\n• 7+ years of Corporate or Government Security experience\n• Experience in global security management, travel safety programs, and security operations\n• 5+ years of experience working with or direct oversight of corporate security initiatives and departments\n• Ability to travel as necessary\n• Ability to establish goals, structures, and processes necessary to implement a mission and strategic vision\n• Leadership, coaching, and team-building skills to strengthen and cultivate relationships\n• Strategic and analytical thinking skills with an ability to solve problems and make decisions\n• Ability to network and interact, as well as support effective partnerships with key groups and individuals\n• Ability to negotiate and maintain relationships with multiple vendors both nationally and internationally\n• Ability to prioritize ongoing and new projects, as well as conduct research and gather information\n• Ability to manage local and remote projects both domestic and international.\n• Communication, presentation, and interpersonal skills, plus the ability to work under pressure\n\n","What You’ll Need\n• 7+ years of Corporate or Government Security experience\n• Bachelor’s degree preferred\n• Experience in global security management, travel safety programs, and security operations\n• International experience, security certifications such as CPP (Certified Protection Professional) preferred, or government equivalent\n• 5+ years of experience working with or direct oversight of corporate security initiatives and departments\n• 3+ years of management or supervisory experience is preferred.\n• Ability to travel as necessary\n• Ability to establish goals, structures, and processes necessary to implement a mission and strategic vision\n• Leadership, coaching, and team-building skills to strengthen and cultivate relationships\n• Strategic and analytical thinking skills with an ability to solve problems and make decisions\n• Ability to network and interact, as well as support effective partnerships with key groups and individuals\n• Ability to negotiate and maintain relationships with multiple vendors both nationally and internationally\n• Ability to prioritize ongoing and new projects, as well as conduct research and gather information\n• Ability to manage local and remote projects both domestic and international.\n• Excellent communication, presentation, and interpersonal skills, plus the ability to perform under intense pressure\n\n","?iisp=he-6594079","?iisp=he-6584079",null,"Global Travel Security Manager","2018-09-05T15:52:00","2018-11-02T14:15:00","2018-11-15T14:48:00",null,null,"2018-12-14T06:46:00"]
["https://www.uber.com/careers/list/41896/","What You’ll Need\n• BS/MS/ Ph.D. in Computer Science or related field\n• Experience in one object-oriented programming language (e.g. Python, Go, Java, C++) and the desire to learn more\n• Software design and data modeling: understanding of design patterns and architecture\n• Experience with developing complex software systems scaling to millions of users with production quality deployment, monitoring, and reliability.\n• Experience with large-scale distributed storage and database systems (SQL or NoSQL, e.g. MySQL, Cassandra)\n• Understanding of testing environments\n\n","What You’ll Need\n• BS/MS/ Ph.D. in Computer Science or related field\n• Expertise in one or more object-oriented programming language (e.g. Python, Go, Java, C++) and the eagerness to learn more\n• Software design and data modeling: understanding of design patterns and architecture\n• Experience with developing complex software systems scaling to millions of users with production quality deployment, monitoring, and reliability.\n• Experience with large-scale distributed storage and database systems (SQL or NoSQL, e.g. MySQL, Cassandra)\n• Data Processing - experience with building and maintaining large scale and/or real-time complex data processing pipelines using Kafka, Hadoop, Hive, Storm, and Zookeeper is preferred.\n• Understanding of testing environments\n\n","?iisp=he-6594079","?iisp=he-6584079",null,"Software Engineer - Growth Platform Team (Seattle)","2018-09-05T15:52:00","2019-01-09T13:10:00","2018-10-01T14:50:00","2018-09-18T11:30:00",null,"2018-12-14T06:46:00"]
["https://www.uber.com/careers/list/41941/","What You’ll Need\n• A minimum of 2+ years combined in-house or law firm experience at mid to large size law firm\n• Experience working with internal or external clients to negotiate, draft and finalize commercial agreements\n• Experience with working with fast growing businesses on a range of legal issues and analytical and communication skills\n• Academic credentials and law degree from a good law school\n• Interest in expanding scope of your practice to other areas of law as part of a growing legal team\n• Interested in Uber and specifically Uber Freight \n\n","What You’ll Need\n• A minimum of 2+ years combined in-house and/or law firm experience at mid to large size law firm\n• Experience working with internal or external clients to negotiate, draft and finalize commercial agreements\n• Experience with working with fast growing businesses on a range of legal issues and outstanding analytical and communication skills\n• Strong academic credentials and law degree from a top law school\n• California Bar Admission Preferred\n• Interest in expanding scope of your practice to other areas of law as part of a growing legal team\n• Enthusiastic about Uber and specifically Uber Freight \n\n","?iisp=he-6594079","?iisp=he-6584079",null,"Associate Counsel/ Counsel, Enterprise Product Team and Uber Freight","2018-09-05T15:52:00","2018-10-25T11:30:00","2018-10-30T07:19:00",null,null,"2018-12-14T06:46:00"]
["https://www.uber.com/careers/list/41948/","What You'll Need\n• 1 year of supervisory experience with ability to manage, set team goals, develop people and stay calm through challenging situations\n• Maintain a positive, can-do attitude and encourage others to do the same\n• Written and verbal communication skills with ability to communicate and present information to stakeholders at all levels of the business\n• Interpersonal skills and ability to establish trust and effective working relationships with others on an external and internal basis.\n• Time-management and organizational habits\n• Willingness to work weekends, occasional holidays, and outside a standard 8 to 5 shift schedule","What You'll Need\n• 1 year of supervisory experience with demonstrated ability to manage effectively, set team goals, develop people and stay calm through challenging situations\n• Maintain a positive, can-do attitude and encourage others to do the same\n• Exceptional written and verbal communication skills with ability to clearly communicate and present information to stakeholders at all levels of the business\n• Excellent interpersonal skills and ability to establish trust and effective working relationships with others on an external and internal basis.\n• Effective time-management and organizational habits\n• Willingness to work weekends, occasional holidays, and outside a standard 8 to 5 shift schedule\n \nBonus Points if\n• Experience in service, customer support, manufacturing or distribution in a high-volume contact center environment\n• Bachelor’s in Business, Communications, English or Journalism\n\n","?iisp=he-6594079","?iisp=he-6584079",null,"Team Lead, Centers of Excellence Operations - Phoenix","2018-09-05T15:52:00","2019-02-25T06:22:00",null,null,null,"2018-12-14T06:46:00"]
["https://www.uber.com/careers/list/41967/","What You'll Need\n \n• Technical experience: We don’t need you to code, but you should be able to understand it and be able to communicate what’s needed to our engineering team.\n• General understanding of big data ecosystem (HDFS, Hive, Kafka, Spark, Presto, data warehousing solutions, in-memory databases, data modeling, ETL and Visualization) and experience creating products utilizing big data.\n• High level understanding of data modeling, data infrastructure, statistics and machine learning\n• At least 2 years experience leading product teams that delivered solutions/products related to data infrastructure at scale\n• A personality that encourages action, collaboration and simplification for communication.\n• You are able to engage directly and address something hands-on.\n\n","What You'll Need\n \n• Technical proficiency: We don’t need you to code, but you should be able to understand it and be able to communicate what’s needed to our engineering team.\n• General understanding of big data ecosystem (HDFS, Hive, Kafka, Spark, Presto, data warehousing solutions, in-memory databases, data modeling, ETL and Visualization) and proven experience creating products utilizing big data.\n• High level understanding of data modeling, data infrastructure, statistics and machine learning\n• A computer science undergraduate degree or equivalent OR hands-on software engineering experience is preferred. \n• At least 2 years experience leading product teams that delivered solutions/products related to data infrastructure at scale\n• A personality that encourages action, great collaboration and excellent simplification for communication.\n• You never hesitate to roll up your sleeves and address something hands-on.\n\n","?iisp=he-6594079","?iisp=he-6584079",null,"Product Manager - Safety & Insurance Data","2018-09-05T15:52:00","2019-02-06T08:05:00",null,null,null,"2018-12-14T06:46:00"]
["https://www.uber.com/careers/list/41930/","What You'll Need\n\n• Minimum of 4+ years as a manager or technical lead with a prior background in hands-on software engineering.\n• Must generate solutions to problems, above all else.\n• Previously an engineering leader for a team with 10+ members.\n• Leadership ability to hire, coach, and develop a team of customer-focused engineers.\n• Communication, organization and management skills.\n","What You'll Need\n\n• Minimum of 4+ years as a manager or technical lead with a prior background in hands-on software engineering.\n• Must generate solutions to problems, above all else.\n• Previously an engineering leader for a team with 10+ members.\n• Leadership ability to hire, coach, and develop a team of customer-focused engineers.\n• Superb communication, organization and management skills.\n• Experience with distributed systems, storage, operation system, networking, and operating complex services running in the on-prem or cloud are pluses.\n• Experience with large scale Hadoop (HDFS/YARN) environment is highly desired.","?iisp=he-6594079","?iisp=he-6584079",null,"Engineering Manager, Data Foundation - Hadoop Ecosystem","2018-09-05T15:52:00","2018-10-31T11:20:00","2018-11-07T11:33:00",null,null,"2018-12-14T06:46:00"]
["https://www.uber.com/careers/list/41892/","WHAT YOU’LL NEED\n• 4+ years of relevant experience in global mobility program management \n• Technical knowledge of mobility tax, payroll, and equity considerations for globally mobile employees\n• Strategic and consultative with interpersonal and project management skills\n• Motivated self-starter, able to work in a fast-paced environment with quickly changing business needs\n• Interested in customer/client success with a record demonstrating it\n• Creative and innovative\n\n","WHAT YOU’LL NEED\n• 4+ years of relevant experience in global mobility program management \n• Technical knowledge of mobility tax, payroll, and equity considerations for globally mobile employees, EA or CPA preferred\n• Strategic and consultative with advanced interpersonal and project management skills\n• Experience in program design and development preferred\n• Motivated self-starter, able to thrive in a fast-paced environment with quickly changing business needs\n• Passionate about customer/client success with a track record to prove it\n• Creative and innovative\n\n","?iisp=he-6594079","?iisp=he-6584079",null,"Sr Global Mobility Specialist","2018-09-05T15:52:00","2018-12-27T19:55:00",null,null,null,"2018-12-14T06:46:00"]
["https://www.uber.com/careers/list/41800/","What You’ll Need\n \n• A graduate degree or equivalent in computer science or a quantitative domain plus hands-on software engineering and/or data science experience. \n• 10+ years experience delivering innovative fraud, risk, compliance related products\n• Have knowledge of the payment industry and its regulatory requirements\n• Hands on technical background, know product and engineering team’s work in depth; Able to engage in the work \n• A “driver” personality - biased toward action, collaborator and disambiguator/simplifier - striving for clarity and delivery\n• Resolve.  You are able to engage and address something hands-on, you persevere","What You’ll Need\n \n• A graduate degree or equivalent in computer science or a quantitative domain plus hands-on software engineering and/or data science experience. Technical understanding must go from the highest abstractions down to the metal\n• 10+ years experience delivering highly successful and innovative fraud, risk, compliance related products\n• Have in-depth knowledge of the payment industry and its regulatory requirements\n• Previous working experience with Risk and/or Compliance Ops is a big plus\n• Previous working experience with regulators and auditors is a big plus\n• Hands on technical background, know product and engineering team’s work in depth; Get your hands dirty a lot\n• A “driver” personality - biased toward action, great collaborator and master disambiguator/simplifier - constantly pushing toward clarity and delivery\n• Grittiness.  You never hesitate to roll up your sleeves and tackle something hands-on, you persevere when others fall away\n \nBonus Points\n \n• Worked at a company with international presence to truly understand the advantages and disadvantages of centralized vs. decentralized problem solving\n• Close working relationship or leading operational teams in the past\n• Deep understanding of regulatory requirements for AML, KYC, and transaction monitoring\n\n","?iisp=he-6594079","?iisp=he-6584079",null,"Group Product Manager - Payments - Compliance","2018-09-05T15:52:00","2019-02-14T19:10:00",null,null,null,"2018-12-14T06:46:00"]
["https://www.uber.com/careers/list/29840/","What You’ll Need\n \n• Ability quickly learn new technologies and adapt to meet the needs of our massive growth and rapidly evolving business environment\n• Technical skill and ability to influence and impact engineering designs.\n• 10+ years of experience with a record of shipping high-impact engineering solutions\n• Prior management experience in software engineering\n• People management experience nurturing careers, managing under- and over-performers, influencing cross-functional teams, recruiting and building teams\n ","What You’ll Need\n \n• Ability quickly learn new technologies and adapt easily to meet the needs of our massive growth and rapidly evolving business environment\n• Strong technical aptitude and ability to influence and impact engineering designs.\n• 10+ years of experience with a track record of shipping high-impact engineering solutions\n• Prior management experience in software engineering\n• People management experience nurturing careers, managing under- and over-performers, influencing cross-functional teams, recruiting and building teams\n \nBonus Points \n \n• Masters or PhD in related field \n• Experience in computer vision, machine learning, or related technical fields \n• Experience in front-end web development or labeling tools.\n• Experience applying research techniques to large-scale engineering challenges\n• Experience in mapping or other geospatial-related industry\n\n","?iisp=he-6594079","?iisp=he-6584079",null,"Engineering Manager (Self Driving) - Maps, Labeling, Infrastructure","2018-08-29T16:02:00","2019-02-11T08:20:00",null,null,null,"2018-12-14T06:46:00"]
["https://www.uber.com/careers/list/12480/","What You’ll Need\n \n• Experience in computer vision, machine learning, or related technical fields \n• Experience applying research techniques to large-scale engineering challenges\n• 10+ years of experience with a record of shipping high-impact engineering solutions\n• Prior management experience\n• Programming and algorithmic skills (we use Python, C++, and Java)\n","What You’ll Need\n \n• Experience in computer vision, machine learning, or related technical fields \n• Experience applying research techniques to large-scale engineering challenges\n• 10+ years of experience with a track record of shipping high-impact engineering solutions\n• Prior management experience\n• Excellent programming and algorithmic skills (we use Python, C++, and Java)\n \nBonus Points \n \n• PhD in related field \n• Prior work in mapping or other geospatial-related industry\n• Prior work in autonomous driving, computer vision or machine learning\n\n","?iisp=he-6594079","?iisp=he-6584079",null,"Technical Lead Manager (Self Driving) - Maps and Computer Vision","2018-08-29T16:02:00","2019-02-11T08:20:00",null,null,null,"2018-12-14T06:46:00"]
["https://www.uber.com/careers/list/41720/","What you'll need\n• Computer science fundamentals\n• Experience analyzing a feature in production using analytics and experiments\n• Focus on high-quality mobile UI experiences\n• Skills in Android Java development.\n• Experience designing apps, frameworks or SDK.\n• An interest in products, empathy for users, and desire to make big impact\n• A desire to learn and teach.\n","What you'll need\n• Thorough computer science fundamentals\n• Experience analyzing a feature in production using analytics and experiments\n• Strong focus on high-quality mobile UI experiences\n• Superb skills in Android Java development.\n• Experience designing apps, frameworks or SDK.\n• A passion for products, empathy for users, and aspiration to make big impact\n• An eagerness to learn and teach.\n• Bonus points for Android NDK or JNI knowledge.\n\n","?iisp=he-6594079","?iisp=he-6584079",null,"Android Engineer - Bikes, Scooters & Carshare","2018-08-29T16:02:00","2019-04-12T19:40:00",null,null,null,"2018-12-14T06:46:00"]
["https://www.uber.com/careers/list/41811/","What You'll Need\n• At least 1 year of experience in a client facing role\n• Sincere, meticulous, adaptable, and dedicated team-player who enjoys building businesses\n• You're a self-starter and take initiative to embrace opportunities: The U4B team is evolving every day and requires highly motivated independent individual who will be responsible for all aspects of business in their market\n• Ability to prioritize selling activities and follow through in a timely fashion\n• Ability to negotiate pricing with a focus on retaining value\n• Bachelor’s degree required\n\n","What You'll Need\n• At least 1 year of experience in a client facing role; sales experience high-volume phone work preferred\n• Sincere, meticulous, adaptable, and dedicated team-player who gets energy from building businesses\n• You're a self-starter and take initiative to seize opportunities: The U4B team is evolving every day and requires highly motivated independent individual who will be responsible for all aspects of business in their market\n• Demonstrated ability to prioritize selling activities and follow through in a timely fashion\n• Ability to negotiate pricing with a focus on retaining value\n• Proficiency with Salesforce preferred\n• Bachelor’s degree required\n\n","?iisp=he-6594079","?iisp=he-6584079",null,"Account Representative, Uber for Business","2018-08-29T16:02:00","2018-12-18T12:45:00",null,null,null,"2018-12-14T06:46:00"]
["https://www.uber.com/careers/list/41891/","What you'll need\n• A minimum of 7 years sales operations leadership experience working cross-functionally with sales, marketing, product, and finance \n• Leadership experience hiring and coaching a Sales Operations team\n• Written and verbal communication skills, as well as stakeholder management\n• Interest in sales systems design and data analysis \n• Experience with Salesforce; ability to develop analysis based on CRM data in a scalable manner\n• You are interested in understanding the sales funnel and you read up on sales operations best practices\n• Desire to take initiative; lean in with your team; ability to handle change and ambiguity\n• References from former employers and business partners; interest in building relationships","What you'll need\n• A minimum of 7 years sales operations leadership experience working cross-functionally with sales, marketing, product, and finance \n• Leadership experience hiring and coaching a Sales Operations team\n• Excellent written and verbal communication skills, as well as stakeholder management\n• Interest in sales systems design and data analysis \n• Experience with Salesforce; ability to develop analysis based on CRM data in a scalable manner\n• You geek out in understanding the sales funnel and you read up on sales operations best practices\n• Desire to take initiative; lean in with your team; thrive on change and comfortable with ambiguity\n• Strong references from former employers and business partners; passion for building relationships\n \nBonus Points If\n• You have familiarity with SQL, Tableau, Marketo and sales compensation softwares\n• You have experience leading sales operations through hyper-growth and/or international expansion\n• You have experience in both Enterprise and SMB segments\n\n","?iisp=he-6594079","?iisp=he-6584079",null,"Senior Sales Operations Manager, Uber Freight","2018-08-29T16:02:00",{"$nulls":4},"2018-12-14T06:46:00"]
["https://www.uber.com/careers/list/41894/","What You'll Need\n• Minimum 1 year of urgent customer service support or relevant prior experience investigating urgent and high-priority issues including accidents and insurance loss as well as person-on-person allegations\n• Experience interviewing both parties to an incident either in-person or over the phone\n• Interpersonal skills and ability to establish trust and effective working relationships with others on an external and internal basis\n• Commitment to excellence in behavior, performance and work product\n• Organized and self-driven with an ability to handle a large case load\n• Ability to adjust and adapt in a dynamic work environment\n• Written and verbal communication skills including ability to listen; to diplomatically express opinions and voice concerns with other team members; and to present effective written communication to varied audiences\n• Computer and time management skills\n• Willingness to work weekends, holidays and outside a standard 8 to 5 shift","What You'll Need\n• Minimum 1 year of urgent customer service support or relevant prior experience investigating urgent and high-priority issues including accidents and insurance loss as well as person-on-person allegations\n• Experience interviewing both parties to an incident either in-person or over the phone\n• Excellent interpersonal skills and ability to establish trust and effective working relationships with others on an external and internal basis\n• Commitment to excellence in behavior, performance and work product\n• Organized and self-driven with an excellent ability to handle a large case load\n• Ability to adjust and adapt in a dynamic work environment\n• Strong written and verbal communication skills including ability to listen effectively; to confidently and diplomatically express opinions and voice concerns with other team members; and to present effective written communication to varied audiences\n• Solid computer and time management skills\n• Willingness to work weekends, holidays and outside a standard 8 to 5 shift \n\nBonus points if\n• Bachelor’s degree in Criminal Justice, Business, or Communications strongly preferred\n• Experience in Law Enforcement, Claims Liability, HR Investigations, and/or criminal investigations\n• Prior experience with Crisis Management or Sensitivity Training\n• Certifications from Wicklander-Zulawski, Reid and Associates, or similar Investigative consulting firm\n\n","?iisp=he-6594079","?iisp=he-6584079",null,"Investigator, Special Investigations Unit","2018-08-29T16:02:00","2018-11-06T11:00:00","2018-10-01T14:50:00","2018-09-25T17:00:00",null,"2018-12-14T06:46:00"]
["https://www.uber.com/careers/list/41895/","WHAT YOU'LL NEED\n• 4+ years of paralegal experience in either a mid- to large-size law firm or in-house.\n• B.A./B.S. with good academic credentials.\n• Experience in researching statutes and/or regulations is essential.\n• Be a communicator. You’ll need to communicate clearly and concisely both verbally and in writing.\n• Organizational skills.  Keeping track of documents, research, and correspondence are critical to success in this role.\n• Technical skills. \n• Desire to be a utility player. You're willing to help out wherever needed.\n• You are detail-oriented and a critical thinker.\n• You have integrity, and follow through on tasks. You are able to handle your responsibilities and you strive to deliver solid results.\n\n","WHAT YOU'LL NEED\n• 4+ years of paralegal experience in either a mid- to large-size law firm or in-house.\n• B.A./B.S. with strong academic credentials; paralegal certificate a plus.\n• Experience in researching statutes and/or regulations is essential.\n• Be a good communicator. You’ll need to communicate clearly and concisely both verbally and in writing.\n• Exceptional organizational skills.  Keeping track of documents, research, and correspondence are critical to success in this role.\n• Technical Savvy. Experience with Excel, Adobe, and G Suite (including Google Docs & Sheets) a plus.\n• Desire to be a utility player. You're willing to help out wherever needed.\n• You are detail-oriented and a critical thinker.\n• You have integrity, and great follow through on tasks. You don’t get easily overwhelmed and consistently deliver solid results.\n\n","?iisp=he-6594079","?iisp=he-6584079",null,"Paralegal, Regulatory (New England)","2018-08-29T16:02:00","2018-10-16T13:00:00","2018-10-01T14:50:00","2018-09-04T17:24:00",null,"2018-12-14T06:46:00"]
["https://www.uber.com/careers/list/41900/","What You’ll Need \n \n• Associates degree in a relevant field (Accounting or Finance) or 4 years of professional experience in a similar position\n• Experience with multiple payroll providers and systems\n• Knowledge of payroll tax analytics and reconciliations\n• Analytical capability to research, troubleshoot, and resolve complex payroll tax and payroll processing issues\n• Ability to maintain confidentiality of sensitive data\n• Organization skills with attention to detail and completeness\n• Hands-on, work ethic and can-do attitude.  Ability to adapt and change when needed\n• Communication skills and ability to articulate key information and status to stakeholders\n• Ability to work in a fast paced and evolving environment\n ","What You’ll Need \n \n• Associates degree in a relevant field (Accounting or Finance) or 4 years of professional experience in a similar position\n• Experience with multiple payroll providers and systems\n• Strong subject matter expertise of payroll tax analytics and reconciliations\n• Strong analytical capability to research, troubleshoot, and resolve complex payroll tax and payroll processing issues\n• Ability to maintain confidentiality of sensitive data\n• Excellent organization skills with attention to detail and completeness\n• Hands-on, strong work ethic and can-do attitude.  Ability to adapt and change when needed\n• Strong communication skills and ability to articulate key information and status to stakeholders\n• Ability to work in a fast paced and evolving environment\n \nBonus Points If\n \n• Experience and proficiency in Workday Payroll (strongly preferred)\n• Jira or related case management application knowledge\n• ADP SmartCompliance knowledge\n• Google Gmail, Docs, Slides, Calendar, Drive and Sheets\n\n","?iisp=he-6594079","?iisp=he-6584079",null,"Senior Payroll Specialist","2018-08-29T16:02:00","2018-11-15T17:00:00","2018-12-04T07:08:00",null,null,"2018-12-14T06:46:00"]
["https://www.uber.com/careers/list/41025/","What You’ll Need\n \n• BS in Computer Science or related technical field or equivalent practical experience\n• Software development experience in Java/Android\n• Experience in one of the following: test automation, refactoring code, test-driven development, build infrastructure, optimizing software, debugging, building tools and testing frameworks","What You’ll Need\n \n• BS in Computer Science or related technical field or equivalent practical experience\n• Software development experience in Java/Android\n• Experience in at least one of the following: test automation, refactoring code, test-driven development, build infrastructure, optimizing software, debugging, building tools and testing frameworks\n \nBonus Points If\n \n• Master's or PhD in Computer Science or related technical field\n• Experience with developer tools and integrations with IDEs\n• Experience with build systems and automation in continuous integration\n\n","?iisp=he-6594079","?iisp=he-6584079",null,"Software Engineer - Android/Java Developer Experience","2018-08-29T16:02:00","2018-09-06T21:33:00","2018-10-01T14:50:00",null,null,"2018-12-14T06:46:00","Expired on 9/6/2018 21:33 PST, but came back alive on 10/19/2018  8:50:00 AM PST. Removed."]
["https://www.uber.com/careers/list/41789/","What You’ll Need\n• Keeping internal teams moving in the same direction\n• Problem-solving program and project issues; assisting teams in resolution and leading large teams to develop risk mitigation plans\n• Actively seeking out ways to improve team and UFMG communication and developing processes that lead to more effective collaboration\n• The ability to deliver constructive feedback while outlining and facilitating development plans where needed\n• Experiencing something new every day\n• A four-year degree\n• 8-10 years of digital Product Management, Project Management, Marketing or related experience\n• Experience with mid to large-level projects and programs\n• PMP and/or CSM Certification (or desire to get this)\n• Working knowledge of enterprise tools (JIRA, MS Project, Excel, PowerPoint, Slack, Trello)","What You’ll Need\n• Keeping internal teams moving in the same direction\n• Problem-solving program and project issues; assisting teams in resolution and successfully leading large teams to develop risk mitigation plans\n• Actively seeking out ways to improve team and UFMG communication and developing processes that lead to more effective collaboration\n• Demonstrating the ability to deliver constructive feedback while outlining and facilitating development plans where needed\n• Experiencing something new every day\n• A four-year degree\n• 8-10 years of digital Product Management, Project Management, Marketing or related experience\n• Mastery of mid to large-level projects and programs\n• PMP and/or CSM Certification (or desire to get this)\n• Working knowledge of enterprise tools (JIRA, MS Project, Excel, PowerPoint, Slack, Trello)\n\nBonus Points If\n• Demonstrate grit and extreme ownership\n• Exude positivity\n• Aren’t afraid to share your ideas\n• Meet problems head-on and view them as opportunities\n• Are self-reliant and motivated\n• Communicate fearlessly\n\n","?iisp=he-6594079","?iisp=he-6584079",null,"Sr Marketing Producer","2018-08-29T16:02:00","2018-10-17T15:00:00","2018-10-23T06:21:00",null,null,"2018-12-14T06:46:00"]
["https://www.uber.com/careers/list/41761/","What You’ll Need\n• Bachelor’s degree in Accounting, Finance or Business\n• Minimum 10 years of progressive experience including a management role\n• Hands-on financial reporting experience in a high growth global enterprise\n• Knowledge of US GAAP, FASB pronouncements and SEC rules and regulations\n• Verbal and written communication skills, attention to details and the ability to work in a fast-paced environment with multiple, competing priorities\n","What You’ll Need\n• Bachelor’s degree in Accounting, Finance or Business\n• CPA license and experience in a large public accounting firm preferred\n• Minimum 10 years of progressive experience including a management role\n• Hands-on financial reporting experience in a high growth global enterprise\n• Excellent knowledge of US GAAP, FASB pronouncements and SEC rules and regulations\n• Strong verbal and written communication skills, a high level of attention to details and the ability to work in a fast-paced environment with multiple, competing priorities\n• Experience with Oracle preferred\n","?iisp=he-6594079","?iisp=he-6584079",null,"Senior Manager, Financial Reporting","2018-08-29T16:02:00","2019-01-29T06:50:00",null,null,null,"2018-12-14T06:46:00"]
["https://www.uber.com/careers/list/28620/","What You'll Need\n• Be familiar with system architecture diagrams, concept of operations documents, ICDs, APIs, and requirements management processes\n• Understand how to assess technical risks, weigh potential trade-offs, and generate an analysis of alternative solutions when required\n• Differentiate between meaningful and unimportant issues \n• Continually adapt within a systems engineering framework that complements parallel rapid prototyping iterations\n• Have an ability to move fast and chart a new trail where industry standard methodologies have come up short\n ","What You'll Need\n• Be familiar with system architecture diagrams, concept of operations documents, ICDs, APIs, and requirements management processes\n• Understand how to assess technical risks, weigh potential trade-offs, and generate an insightful analysis of alternative solutions when required\n• Differentiate between meaningful and unimportant issues instinctively\n• Continually adapt within a systems engineering framework that complements parallel rapid prototyping iterations\n• Have a confirmed ability to move fast and the confidence to travel a freshly blazed trail where industry standard methodologies have come up short\n \nBonus Points If\n• Exposure to a product systems engineering group or a prior product/program management assignment requiring strong technical background\n• Success at a startup, in a student project team, as a member of a dynamic skunkworks division, or in another non-traditional engineering environment\n• Effective application of modified systems engineering processes to an unusual new application\n• Familiarity with sophisticated, safety-critical software within automotive or another industry (e.g., aerospace, defense, medical, transportation)\n• Exposure to automotive functional safety standards such as ISO 26262\n• Regular collaboration, in person and via video conference, with team members in different physical locations\n• You flourish with learning new technologies, pivot easily but thoughtfully to new ideas, and don’t believe in one-size-fits-all solutions.\n• Versatile teammate - You are willing to adapt to whatever role is most needed in a given moment, and you rely on others' candid feedback for continuous improvement\n• Passionate - You feel ownership over everything you work on, and you hold yourself to higher standards and expectations than your current leader does\n• Business savvy - You understand requirements beyond the written word and how your technical contributions will influence the viability of future products\n\n","?iisp=he-6594079","?iisp=he-6584079",null,"Systems Engineer","2018-08-29T16:02:00","2019-01-15T09:20:00","2018-11-15T14:48:00",null,null,"2018-12-14T06:46:00"]
["https://www.uber.com/careers/list/41750/","What You'll Need\n• Bachelor’s Degree\n• +2 years relevant experience in product or data analytics\n• Experience defining user-experience and business metrics\n• Experience with SQL or a scripting language such as R or Python\n• Experience using experimentation to analyze the impact of new features (e.g., A/Bs, multi-variate testing, switchbacks, casual impact, etc)\n• Experience working with large / diverse data sets\n• Experience telling stories with data to both technical and non-technical audiences and creating visualizations to convey complex data\n• Experience managing stakeholders including communication and presentation skills","What You'll Need\n• Bachelor’s Degree, preferably in a quantitative discipline such as Economics, Statistics, Computer Science, or Engineering\n• +2 years relevant experience in product or data analytics\n• Experience defining user-experience and business metrics\n• Proficiency with SQL or a scripting language such as R or Python\n• Experience using experimentation to analyze the impact of new features (e.g., A/Bs, multi-variate testing, switchbacks, casual impact, etc)\n• Experience working with large / diverse data sets\n• Experience telling stories with data to both technical and non-technical audiences and creating clear and compelling visualizations to convey complex data\n• Experience managing stakeholders including strong communication and presentation skills\n \nBonus Points\n \n• Experience in product strategy and development\n• Experience working with a two-sided Marketplace\n• Strong coding skills (e.g., R, Python)\n• Strong statistics, economics, engineering, or mathematics background\n• Experience with data pipeline management\n\n","?iisp=he-6594079","?iisp=he-6584079",null,"Product Analyst","2018-08-29T16:02:00","2019-03-25T20:30:00",null,null,null,"2018-12-14T06:46:00"]
["https://www.uber.com/careers/list/41695/","What You'll Need\n \n• A minimum of 3 years of transfer pricing and/or international experience in accounting / consulting firms and/or multinational companies\n• Bachelor's degree in economics, accounting or similar.  \n• Tax research and organization skills\n• Communication skills, including the ability to communicate with non-tax people on complex transfer pricing issues\n• Ability to develop and sustain relationships internally and cross-functionally\n• Ability to coordinate work within diverse and geographically dispersed teams and to deliver through to completion\n \n\n","What You'll Need\n \n• A minimum of 3 years of transfer pricing and/or international experience in accounting / consulting firms and/or multinational companies\n• Bachelor's degree in economics, accounting or similar.  Advanced degree preferred\n• Excellent tax research and organization skills\n• Experience in a high-growth, international environment preferred\n• Excellent communication skills, including the ability to communicate with non-tax people on complex transfer pricing issues\n• Ability to develop and sustain relationships internally and cross-functionally\n• Ability to coordinate work within diverse and geographically dispersed teams and to deliver through to completion\n \n\n","?iisp=he-6594079","?iisp=he-6584079",null,"Manager, Transfer Pricing","2018-08-29T16:02:00","2018-12-12T07:30:00",null,null,null,"2018-12-14T06:46:00"]
["https://www.uber.com/careers/list/41691/","What You’ll Need\n• Leverage prospecting skills and relationships to build partnerships with restaurants\n• Promote expansion of existing clients as well as generating new business\n• Manage contract negotiations aimed at establishing the foundation of a relationship with our restaurant partners, including sustainable economics for both parties\n• Communicate the value of Uber and its newest products to prospects\n• Achieve and exceed monthly sales goals\n• Work closely and cross-functionally with other teams to develop acquisition and expansion strategy on key accounts and territories.\n• Partner with our sales, onboarding and account management teams to smoothly activate the best restaurants\n• Help us identify and build best practices for your sales team and others\n• Act as an ambassador of UberEATS mission, brand, and product\n• Communicate constantly with prospects via email and phone","What You’ll Need\n• Leverage prospecting skills and relationships to build partnerships with restaurants\n• Drive expansion of existing clients as well as generating new business\n• Manage contract negotiations aimed at establishing the foundation of a strong working relationship with our restaurant partners, including sustainable economics for both parties\n• Clearly communicate the value of Uber and its newest products to prospects\n• Achieve and consistently exceed monthly sales goals\n• Work closely and cross-functionally with other teams to develop acquisition and expansion strategy on key accounts and territories.\n• Partner with our sales, onboarding and account management teams to smoothly activate the best restaurants\n• Help us identify and build best practices for your sales team and others\n• Act as an ambassador of UberEATS mission, brand, and product\n• Communicate constantly with prospects via email and phone\n\nBonus Points If\n• Exceptional listening, communication and organizational skills.\n• Proven ability to multi-task and follow through while paying strict attention to detail\n• Coachability, interest in implementing feedback, and dedication to improvement of your craft\n• Genuine curiosity about people and business and a passion for UberEATS and food\n• An infectiously positive attitude and drive to win; hustle and determination\n• Restaurant industry or hospitality experience preferred\n• 3 or more years of sales experience required\n• Bachelor’s degree required\n\n","?iisp=he-6594079","?iisp=he-6584079",null,"Franchise Account Executive, Eats","2018-08-29T16:02:00","2019-03-02T10:45:00",null,null,null,"2018-12-14T06:46:00"]
["https://www.uber.com/careers/list/41689/","What You’ll Need\n• Leverage prospecting skills and relationships to build partnerships with restaurants\n• Promote expansion of existing clients as well as generating new business\n• Manage contract negotiations aimed at establishing the foundation of a  relationship with our restaurant partners, including sustainable economics for both parties\n• Communicate the value of Uber and its newest products to prospects\n• Achieve and exceed monthly sales goals\n• Work closely and cross-functionally with other teams to develop acquisition and expansion strategy on key accounts and territories.\n• Partner with our sales, onboarding and account management teams to smoothly activate the best restaurants\n• Help us identify and build best practices for your sales team and others\n• Act as an ambassador of UberEATS mission, brand, and product\n• Communicate constantly with prospects via email and phone","What You’ll Need\n• Leverage prospecting skills and relationships to build partnerships with restaurants\n• Drive expansion of existing clients as well as generating new business\n• Manage contract negotiations aimed at establishing the foundation of a strong working relationship with our restaurant partners, including sustainable economics for both parties\n• Clearly communicate the value of Uber and its newest products to prospects\n• Achieve and consistently exceed monthly sales goals\n• Work closely and cross-functionally with other teams to develop acquisition and expansion strategy on key accounts and territories.\n• Partner with our sales, onboarding and account management teams to smoothly activate the best restaurants\n• Help us identify and build best practices for your sales team and others\n• Act as an ambassador of UberEATS mission, brand, and product\n• Communicate constantly with prospects via email and phone\n\nBonus Points If\n• Exceptional listening, communication and organizational skills.\n• Proven ability to multi-task and follow through while paying strict attention to detail\n• Coachability, interest in implementing feedback, and dedication to improvement of your craft\n• Genuine curiosity about people and business and a passion for UberEATS and food\n• An infectiously positive attitude and drive to win; hustle and determination\n• Restaurant industry or hospitality experience preferred\n• 3 or more years of sales experience required\n• Bachelor’s degree required\n\n","?iisp=he-6594079","?iisp=he-6584079",null,"Franchise Account Executive, Eats","2018-08-29T16:02:00","2019-01-11T17:20:00",null,null,null,"2018-12-14T06:46:00"]
["https://www.uber.com/careers/list/41677/","What you'll need\n \n• BS in Computer Science, Electrical Engineering\n• A security generalist background with experience on application security, encryption, hardening, cloud security, data center security and compliance\n• Experience with AWS security hardening\n• Knowledge of technologies around network security including Linux, PKI, DNS, load balancing, IPSec, TLS and HTTP\n• Programming skills in languages such as Python, C, Java,\n• Involved with industry practices, forums, and institutions.\n• Experience of collaborating with Engineering teams\n\n","What you'll need\n \n• BS in Computer Science, Electrical Engineering, MS preferred\n• A security generalist background with experience on application security, encryption, hardening, cloud security, data center security and compliance\n• Experience with AWS security hardening\n• Solid foundational knowledge of technologies around network security including Linux, PKI, DNS, load balancing, IPSec, TLS and HTTP\n• Programming skills in languages such as Python, C, Java,\n• Security certifications like CISSP a plus\n• Involved with industry practices, forums, and institutions.\n• Experience of collaborating with Engineering teams\n\n","?iisp=he-6594079","?iisp=he-6584079",null,"Infrastructure Security Engineer","2018-08-29T16:02:00","2019-04-26T11:55:00",null,null,null,"2018-12-14T06:46:00"]
["https://www.uber.com/careers/list/41673/","What You’ll Need\n• 4+ years of business consulting, investment banking, marketing, or operations management experience.\n• Communication, project management, and organization skills.\n• Entrepreneurship mentality. Must be a self-starter.  Self-motivated, works independently and possesses organization and time management skills.\n• Experience with data-based decision-making, exercising judgement in ambiguous circumstances, and communicating across a diverse team.\n• Mentality that no project is too big or too small to give their full 100%.  Doesn’t hesitate to engage directly to get the job done.\n• Interpersonal skills.  Ability to build relationships, manage stakeholders, and create a partnership between Central Ops and other teams across the business.\n• Excel / data management skills.\n• Bachelor's degree required.\n\n","What You’ll Need\n• 4+ years of business consulting, investment banking, marketing, or operations management experience.\n• Exceptional communication, project management, and organization skills.\n• Entrepreneurship mentality. Must be a self-starter.  Self-motivated, works independently and possesses strong organization and time management skills.\n• Experience with data-based decision-making, exercising good judgement in ambiguous circumstances, and effectively communicating across a diverse team.\n• Mentality that no project is too big or too small to give their full 100%.  Doesn’t hesitate to roll up their sleeves to get the job done.\n• Strong interpersonal skills.  Ability to build relationships, manage stakeholders, and create a strong partnership between Central Ops and other teams across the business.\n• Strong Excel / data management skills, SQL proficiency highly preferred.\n• Bachelor's degree required.\n\n","?iisp=he-6594079","?iisp=he-6584079",null,"Central Operations Manager","2018-08-29T16:02:00","2018-12-01T11:35:00","2018-12-10T08:23:00",null,null,"2018-12-14T06:46:00"]
["https://www.uber.com/careers/list/41682/","What You’ll Need\n• Be a team player\n• Ability to operate under pressure \n• Ability to learn and adapt to new technology\n• Motivator (self and others)","What You’ll Need\n• Be a team player\n• Ability to operate under pressure \n• Comfort with learning and adapting to new technology\n• Great motivator (self and others)\n \nBonus Points if\n• You speak Spanish \n• You have worked in customer service \n• You are personable, highly organized, and a patient teacher\n• You have a passion for helping and empowering others\n\n","?iisp=he-6594079","?iisp=he-6584079",null,"Uber Expert, In-Person Support - Boston (Lawrence)","2018-08-29T16:02:00","2018-09-22T15:44:00","2018-10-01T14:50:00",null,null,"2018-12-14T06:46:00"]
["https://www.uber.com/careers/list/41510/","What You’ll Need\n \n• Ability to write technically accurate, concise, and thorough content.\n• Ability to independently scope out and manage writing projects.\n• Ability to learn technical concepts quickly.\n• Experience writing for web, software, hardware, or cloud technologies.\n• Experience creating code examples.\n• Senior level candidates will also need to show leadership and coaching ability.","What You’ll Need\n \n• Demonstrated ability to write technically accurate, concise, and thorough content.\n• Demonstrated ability to independently scope out and manage writing projects.\n• Established ability to learn technical concepts quickly.\n• Experience writing for web, software, hardware, or cloud technologies.\n• Experience creating code examples.\n• Senior level candidates will also need to show leadership and coaching ability.\n \nBonus Points If\n \n• You have experience with engineering security concepts, standards, and regulations.\n• You have experience with iOS and Android APIs.\n• You have worked with and wrote documentation for REST APIs.\n\n","?iisp=he-6594079","?iisp=he-6584079",null,"Technical Writer","2018-08-22T14:44:00","2018-11-13T20:52:00","2018-10-01T14:50:00","2018-09-20T10:51:00",null,"2018-12-14T06:46:00"]
["https://www.uber.com/careers/list/41633/","What You'll Need\n\n• BS/BA/Master\n• 2+ years of finance/business operations experience in a high-growth, rapidly changing environment\n• Cross functional work experience\n• Critical thinking and analytical problem solving abilities\n• Analytical skills\n• Communications skills at all levels\n• Desire to build\n\n","What You'll Need\n \n• BS/BA/Master in Economics, Finance or Business, preferred\n• 2+ years of finance/business operations experience in a high-growth, rapidly changing environment\n• Effective cross functional work experience\n• Extraordinary critical thinking and analytical problem solving abilities\n• Strong analytical skills (experience with modelling, SQL and solid Excel skills are a big plus)\n• Strong, clear communications skills at all levels\n• Financial and banking systems knowledge preferred\n• Strong desire to build\n\n","?iisp=he-6594079","?iisp=he-6584079",null,"Partner Payments Analyst","2018-08-22T14:44:00","2018-09-14T20:34:00","2018-09-23T12:29:00",null,null,"2018-12-14T06:46:00"]
["https://www.uber.com/careers/list/41635/","What you'll need\n \n• BS/MS/PhD in Computer Science or a related field.\n• 4+ years of experience building backend and frontend software products using web development, object oriented, database and distributed programming techniques. \n• Experience with large-scale systems and network security across data centers, cloud hosting providers, and container ecosystems\n• Knowledge of security topics within distributed computing including Unix, DNS, load balancing, IPSec, TLS and HTTP\n• An interest in continuous improvement of yourself, your technical capabilities, and the capabilities of those around you\n• Collaboration and communication skills to work with people from many different teams and when necessary facilitate alignment between them. \n\n","What you'll need\n \n• BS/MS/PhD in Computer Science or a related field.\n• 4+ years of experience building substantial backend and frontend software products using web development, object oriented, database and distributed programming techniques. Preferred languages and frameworks: Golang, Javascript, Java, React, Python HTML/CSS and SQL (MySQL), NoSQL (Redis, Cassandra).\n• Experience with large-scale systems and network security across data centers, cloud hosting providers, and container ecosystems\n• Solid foundational knowledge of security topics within distributed computing including Unix, DNS, load balancing, IPSec, TLS and HTTP\n• A passion for continuous improvement of yourself, your technical capabilities, and the capabilities of those around you\n• Strong collaboration and communication skills to work with people from many different teams and when necessary drive alignment between them. \n\n","?iisp=he-6594079","?iisp=he-6584079",null,"Software Engineer, Infrastructure Security","2018-08-22T14:44:00","2019-03-07T13:45:00","2018-10-08T12:55:00","2018-10-02T10:15:00",null,"2018-12-14T06:46:00"]
["https://www.uber.com/careers/list/41541/","What You’ll Need\n• 7+ years of operations management, business consulting, or related experience managing operations/logistics, building and leading diverse teams, developing and optimizing processes, and achieving operational goals.\n• BA/BS with good academic record. \n• Entrepreneurial mindset. Self-motivated, self-directed, and able to take ownership of ambiguous tasks to ensure success.\n• Analytical Thinking. Data-driven mentality and business judgment. Able to engage and analyze data to pull key insights, and then lead your team to execute on those insights.\n• Interpersonal skills. Ability to build relationships with cross-functional colleagues and external partners, lead and manage a team, and create a hard-working but fun workplace\n• Problem-solving skills with a “get it done” attitude.\n• Organization and time management for yourself and your employees.\n• Communicator. You are a communicator with the ability to synthesize a lot of information quickly and highlight the key insights.\n• Valid driver’s license and ability to pass MVR check required (No more than 2 minor violations, and no major violations, in past 3 years)\n• An interest in e-mobility and JUMP. Interested in the overall goals of sustainable transportation\n\n","What You’ll Need\n• 7+ years of operations management, business consulting, or related experience managing operations/logistics, building and leading diverse teams, developing and optimizing processes, and achieving operational goals; some entrepreneurial experience is preferred.\n• BA/BS with impressive academic record. MBA or advanced degree a plus.\n• Entrepreneurial mindset. Proven to be self-motivated, self-directed, and eager to take ownership of ambiguous tasks to ensure success.\n• Analytical Thinking. Data-driven mentality and strong business judgment. Able to roll up your sleeves and analyze data to pull key insights, and then lead your team to execute on those insights.\n• Strong interpersonal skills. Ability to build relationships with cross-functional colleagues and external partners, lead and manage a team, and create a hard-working but fun workplace\n• Black belt in problem-solving with a “Get It Done” attitude.\n• Excellent organization and time management for yourself and your employees.\n• Clear Communicator. You are a clear and concise communicator with the ability to synthesize a lot of information quickly and highlight the key insights.\n• Valid driver’s license and ability to pass MVR check required (No more than 2 minor violations, and no major violations, in past 3 years)\n• A passion for e-mobility and JUMP. Passionate about the overall goals of sustainable transportation\n\n","?iisp=he-6594079","?iisp=he-6584079",null,"Launch General Manager (San Diego) - Scooters","2018-08-22T14:44:00","2018-12-06T07:45:00","2018-12-10T08:23:00",null,null,"2018-12-14T06:46:00"]
["https://www.uber.com/careers/list/41540/","What You’ll Need\n• 7+ years of operations management, business consulting, or related experience managing operations/logistics, building and leading diverse teams, developing and optimizing processes, and achieving operational goals.\n• BA/BS with good academic record.\n• Entrepreneurial mindset. Self-motivated, self-directed, and able to take ownership of ambiguous tasks to ensure success.\n• Analytical Thinking. Data-driven mentality and business judgment. Able to engage and analyze data to pull key insights, and then lead your team to execute on those insights.\n• Interpersonal skills. Ability to build relationships with cross-functional colleagues and external partners, lead and manage a team, and create a hard-working but fun workplace\n• Problem-solving skills with a “get it done” attitude.\n• Organization and time management for yourself and your employees.\n• Communicator. You are a communicator with the ability to synthesize a lot of information quickly and highlight the key insights.\n• Valid driver’s license and ability to pass MVR check required (No more than 2 minor violations, and no major violations, in past 3 years)\n• An interest in e-mobility and JUMP. Interested in the overall goals of sustainable transportation\n\n","What You’ll Need\n• 7+ years of operations management, business consulting, or related experience managing operations/logistics, building and leading diverse teams, developing and optimizing processes, and achieving operational goals; some entrepreneurial experience is preferred.\n• BA/BS with impressive academic record. MBA or advanced degree a plus.\n• Entrepreneurial mindset. Proven to be self-motivated, self-directed, and eager to take ownership of ambiguous tasks to ensure success.\n• Analytical Thinking. Data-driven mentality and strong business judgment. Able to roll up your sleeves and analyze data to pull key insights, and then lead your team to execute on those insights.\n• Strong interpersonal skills. Ability to build relationships with cross-functional colleagues and external partners, lead and manage a team, and create a hard-working but fun workplace\n• Black belt in problem-solving with a “Get It Done” attitude.\n• Excellent organization and time management for yourself and your employees.\n• Clear Communicator. You are a clear and concise communicator with the ability to synthesize a lot of information quickly and highlight the key insights.\n• Valid driver’s license and ability to pass MVR check required (No more than 2 minor violations, and no major violations, in past 3 years)\n• A passion for e-mobility and JUMP. Passionate about the overall goals of sustainable transportation\n\n","?iisp=he-6594079","?iisp=he-6584079",null,"Launch General Manager (Austin) - Scooter","2018-08-22T14:44:00","2018-10-02T10:15:00","2018-10-08T12:55:00",null,null,"2018-12-14T06:46:00"]
["https://www.uber.com/careers/list/41581/","What you'll need\n \n• Bachelor’s Degree\n• Detail oriented \n• Past ownership of projects from planning to implementation\n• Ability to communicate cross functionally with wide range of stakeholders\n• Experience telling stories with data and visuals\n ","What you'll need\n \n• Bachelor’s Degree\n• Highly detail oriented \n• Past ownership of projects from planning to implementation\n• Ability to communicate cross functionally with wide range of stakeholders\n• Experience telling compelling stories with data and visuals\n \nBonus points for\n \n• SQL fluency\n• Experience working in a support environment \n\n","?iisp=he-6594079","?iisp=he-6584079",null,"Project Manager, Chicago Center of Excellence","2018-08-22T14:44:00","2018-10-30T11:50:00","2018-11-07T11:33:00",null,null,"2018-12-14T06:46:00"]
["https://www.uber.com/careers/list/41538/","What You’ll Need\n• 7+ years of operations management, business consulting, or related experience managing operations/logistics, building and leading diverse teams, developing and optimizing processes, and achieving operational goals.\n• BA/BS with good academic record. \n• Entrepreneurial mindset. Self-motivated, self-directed, and able to take ownership of ambiguous tasks to ensure success.\n• Analytical Thinking. Data-driven mentality and business judgment. Able to engage and analyze data to pull key insights, and then lead your team to execute on those insights.\n• Interpersonal skills. Ability to build relationships with cross-functional colleagues and external partners, lead and manage a team, and create a hard-working but fun workplace\n• Problem-solving skills with a “get it done” attitude.\n• Organization and time management for yourself and your employees.\n• Communicator. You are a communicator with the ability to synthesize a lot of information quickly and highlight the key insights.\n• Valid driver’s license and ability to pass MVR check required (No more than 2 minor violations, and no major violations, in past 3 years)\n• An interest in e-mobility and JUMP. Interested in the overall goals of sustainable transportation\n\n","What You’ll Need\n• 7+ years of operations management, business consulting, or related experience managing operations/logistics, building and leading diverse teams, developing and optimizing processes, and achieving operational goals; some entrepreneurial experience is preferred.\n• BA/BS with impressive academic record. MBA or advanced degree a plus.\n• Entrepreneurial mindset. Proven to be self-motivated, self-directed, and eager to take ownership of ambiguous tasks to ensure success.\n• Analytical Thinking. Data-driven mentality and strong business judgment. Able to roll up your sleeves and analyze data to pull key insights, and then lead your team to execute on those insights.\n• Strong interpersonal skills. Ability to build relationships with cross-functional colleagues and external partners, lead and manage a team, and create a hard-working but fun workplace\n• Black belt in problem-solving with a “Get It Done” attitude.\n• Excellent organization and time management for yourself and your employees.\n• Clear Communicator. You are a clear and concise communicator with the ability to synthesize a lot of information quickly and highlight the key insights.\n• Valid driver’s license and ability to pass MVR check required (No more than 2 minor violations, and no major violations, in past 3 years)\n• A passion for e-mobility and JUMP. Passionate about the overall goals of sustainable transportation\n\n","?iisp=he-6594079","?iisp=he-6584079",null,"Launch General Manager (Santa Monica) - Scooters","2018-08-22T14:44:00","2018-10-02T10:15:00","2018-10-08T12:55:00",null,null,"2018-12-14T06:46:00"]
["https://www.uber.com/careers/list/41490/","What You’ll Need\n \n• BS/MS/Phd in Computer Science or related field\n• Experience in one or more object oriented programming language (e.g. Python, Go, Java, C++) and the desire to learn more\n• Software design and data modelling: understanding of design patterns and architecture\n• Experience with developing complex software systems scaling to millions of users with production quality deployment, monitoring and reliability.\n• Experience with large-scale distributed storage and database systems (SQL or NoSQL, e.g. MySQL, Cassandra)\n• Understanding of testing environments.\n\n","What You’ll Need\n \n• BS/MS/Phd in Computer Science or related field\n• Expertise in one or more object oriented programming language (e.g. Python, Go, Java, C++) and the eagerness to learn more\n• Software design and data modelling: understanding of design patterns and architecture\n• Experience with developing complex software systems scaling to millions of users with production quality deployment, monitoring and reliability.\n• Experience with large-scale distributed storage and database systems (SQL or NoSQL, e.g. MySQL, Cassandra)\n• Data Processing - experience with building and maintaining large scale and/or real-time complex data processing pipelines using Kafka, Hadoop, Hive, Storm, and Zookeeper is preferred.\n• Machine Learning - experience with machine learning, natural language processing, information retrieval, algorithmic complexity, predictive modeling is a plus.\n• Understanding of testing environments.\n\n","?iisp=he-6594079","?iisp=he-6584079",null,"Senior Backend Engineer - Proactive Engagement Platform (Seattle)","2018-08-22T14:44:00","2019-02-02T07:40:00",null,null,null,"2018-12-14T06:46:00"]
["https://www.uber.com/careers/list/41447/","What You’ll Need\n \n• Minimum of 3-5 years of professional experience\n• Experience managing cross-functional projects and stakeholders, powered by data-driven insight\n• Self-motivated with an ability for vision setting, strategic problem solving and facilitating action\n• Written and verbal communication skills across diverse functions and teams\n• Experience uncovering data to inform customer-oriented decisions\n• Experience facilitating behavior change within organizations\n• Experience with process optimization, program management, customer support strategy or quality assurance\n \n","What You’ll Need\n \n• Minimum of 3-5 years of professional experience\n• Experience managing cross-functional projects and stakeholders, powered by data-driven insight\n• Self-motivated with a strong affinity for vision setting, strategic problem solving and driving action\n• Persuasive written and verbal communication skills across diverse functions and teams\n• Demonstrated success in uncovering data to inform customer-oriented decisions\n• Experience facilitating behavior change within organizations\n• Experience with process optimization, program management, customer support strategy or quality assurance\n \nBonus Points if\n \n• B2B experience \n• SQL, R, or other technical analytics skills \n\n","?iisp=he-6594079","?iisp=he-6584079",null,"Global Program Manager, Uber for Business","2018-08-22T14:44:00","2018-10-11T09:10:00","2018-10-16T07:51:00",null,null,"2018-12-14T06:46:00"]
["https://www.uber.com/careers/list/41486/","What You’ll Need\n• Computer science undergraduate degree or technical knowledge\n• Minimum 3 years experience as a Product Manager, delivering innovative consumer Internet products\n• Design instincts, product judgment, vision, focus, and a bias towards action for your teams\n• Ability to provide clarity when there’s ambiguity\n• Analytical skills to leverage data for decision making\n\n","What You’ll Need\n• Computer science undergraduate degree or deep technical knowledge\n• Minimum 3 years experience as a Product Manager, delivering successful and innovative consumer Internet products\n• Stellar design instincts, strong product judgment, vision, focus, and a bias towards action for your teams\n• Ability to drive clarity when there’s ambiguity\n• Strong analytical skills to leverage data for decision making\n \nBonus Points If You Have\n• Experience building mapping and location based products\n• Experience building “data products”\n• Experience building products that leverage crowdsourcing\n\n","?iisp=he-6594079","?iisp=he-6584079",null,"Sr Product Manager - Living Maps","2018-08-22T14:44:00","2019-01-04T07:40:00",null,null,null,"2018-12-14T06:46:00"]
["https://www.uber.com/careers/list/41479/","What You’ll Need\n• A minimum of 7 years of program management or directly applicable experience\n• Have change management experience in a large/multi-national company\n• Analytical and data driven. Interest in problem solving.\n• Influential with communication skills\n• Experience in team planning, setting metrics, and roadmap development\n• Experience working cross-functionally\n• Desire to design processes and policies that facilitate program consistency\n• Interest in improving Uber user experience with a focus on safety\n\n\n","What You’ll Need\n• A minimum of 7 years of program management or directly applicable experience\n• Have change management experience in a large/multi-national company\n• Analytical and data driven. Passion for problem solving.\n• Influential with great communication skills\n• Experience in team planning, setting metrics, and roadmap development\n• Experience working cross-functionally\n• Desire to design processes and policies that drive program consistency\n• Passion for improving Uber user experience with a focus on safety\n• MBA or Master's degree a plus.\n• Multinational company experience a plus\n• Salesforce platform experience a plus\n\n","?iisp=he-6594079","?iisp=he-6584079",null,"Senior Program Manager, Law Enforcement Operations","2018-08-22T14:44:00","2018-09-17T17:50:00","2018-10-01T14:50:00",null,null,"2018-12-14T06:46:00"]
["https://www.uber.com/careers/list/41449/","What You’ll Need\n• Minimum of 5+ years of M&A experience in IT platform and organization integrations\n• Education: Business or Engineering background. \n• Technical skill and an ability to understand technical designs, challenges and risks. Engineers enjoy working closely with you.\n• Experienced in project management. Familiar with both Agile and Waterfall methodologies and able to apply them where best suited.\n• Written and verbal communication skills and emotional intelligence.\n• Ability to influence and motivate people across a broad variety of job functions through your relationships.\n• Organizational skills to handle many tasks without losing sight of the highest priority items.\n• Analytical and truth seeking. Ability to understand complex concepts and make reasoned decisions objectively.","What You’ll Need\n• Minimum of 5+ years of M&A experience in IT platform and organization integrations\n• Education: Business or Engineering background. MBA is desirable\n• Solid technical aptitude and an ability to understand technical designs, challenges and risks. Engineers enjoy working closely with you.\n• Experienced in project management. Familiar with both Agile and Waterfall methodologies and able to apply them where best suited.\n• Excellent written and verbal communication skills and exceptional emotional intelligence.\n• Ability to influence and motivate people across a broad variety of job functions through your relationships.\n• Strong organizational skills to juggle many tasks without losing sight of the highest priority items.\n• Analytical and truth seeking. Ability to understand complex concepts and make reasoned decisions objectively.\n \nBonus Points If\n• PMP & Six Sigma certifications are a plus, not absolutely required\n• Computer Science degree, or related field.\n• Worked at a high paced, fast growing, scrappy tech startup.\n• Technical program management experience at an established company.\n\n","?iisp=he-6594079","?iisp=he-6584079",null,"Sr. Program Manager - Corporate Development (M&A)","2018-08-22T14:44:00","2019-01-08T07:15:00",null,null,null,"2018-12-14T06:46:00"]
["https://www.uber.com/careers/list/41446/","What You’ll Need \n• Minimum 2 years of experience leading IAM programs or authentication and authorization related work in field of infrastructure security\n• Knowledge of current technologies in authentication, federation, and identity management space, such as OAuth 2.0, OpenID Connect, SAML, SCIM, U2F/UAF/FIDO2, HOTP, LDAP/AD, OAM, etc.\n• Hands-on and operational experience with rolling out new services and facilitating adoption across the company\n• Interpersonal skills and ability to establish trust with internal/external partners\n• Organized, self-driven, and able to handle several high-profile deals\n• Written and verbal communication skills\n ","What You’ll Need \n• Minimum 2 years of experience leading IAM programs or authentication and authorization related work in field of infrastructure security\n• Demonstrable knowledge of current technologies in authentication, federation, and identity management space, such as OAuth 2.0, OpenID Connect, SAML, SCIM, U2F/UAF/FIDO2, HOTP, LDAP/AD, OAM, etc.\n• Hands-on and operational experience with rolling out new services and driving adoption across the company\n• Excellent interpersonal skills and ability to establish trust with internal/external partners\n• Organized, self-driven, and comfortable handling several high-profile deals\n• Strong written and verbal communication skills\n \nBonus Points If\n• Experience with lifecycle management of identities and credentials across integrated applications and systems\n• Experience with building and managing processes to monitor, support, and audit access and permission activities/logs\n• Strong analytical, modeling, and , automation, and simulation skills to make data-driven decisions\n\n","?iisp=he-6594079","?iisp=he-6584079",null,"Sr Security Program Manager - Access Operations Lead","2018-08-22T14:44:00","2018-12-04T07:15:00","2018-12-10T08:23:00",null,null,"2018-12-14T06:46:00"]
["https://www.uber.com/careers/list/41230/","What You’ll Need\n• You have JavaScript knowledge and have worked with Node.js\n• You have experience debugging and profiling Browsers and Node.js, and understand ways to decrease page load speed and runtime slowdowns\n• You are knowledgeable in modern web tools, including NPM/Yarn, Babel, and Browserify/Webpack/Rollup\n• You are knowledgeable in modern web frameworks, including React, Angular, and Vue\n• You have experience building large scale distributed systems\n• You have experience communicating and collaborating with others, promoting your ideas as well as being humble when you may be wrong\n• You are interested to learn from and teach others","What You’ll Need\n• You have deep JavaScript knowledge and have worked with Node.js\n• You are an expert in debugging and profiling Browsers and Node.js, and understand ways to decrease page load speed and runtime slowdowns\n• You are knowledgeable in modern web tools, including NPM/Yarn, Babel, and Browserify/Webpack/Rollup\n• You are knowledgeable in modern web frameworks, including React, Angular, and Vue\n• You are adept at building large scale distributed systems\n• You are adept at communicating and collaborating effectively with others, promoting your ideas as well as being humble when you may be wrong\n• You are excited to learn from and teach others\n\nBonus Points If\n• You are knowledge in Javascript typing languages/linters like Flow and TypeScript\n• You are knowledgeable in data access/modeling using GraphQL/Falcor and RPC/Thrift\n• You are knowledgeable in WebSockets, Server Sent Events, or HTTP/2 Server Push\n\n","?iisp=he-6594079","?iisp=he-6584079",null,"Full Stack Software Engineer, Content & SEO Platform","2018-08-22T14:44:00","2019-03-06T08:05:00",null,null,null,"2018-12-14T06:46:00"]
["https://www.uber.com/careers/list/36843/","What You’ll Need\n• The ability to operate independently with little or no supervision\n• Able to communicate with vehicle technicians, test engineers, and management\n• Ability to learn new software applications and processes\n• Interest and technical capability to work with modern automotive systems\n• Ability to solve software and hardware related issues\n• Must have a valid U.S. driver’s license and clean driving history\n\n","What You’ll Need\n• The ability to operate independently with little or no supervision\n• Comfort with computers and a familiarity with Linux is preferred\n• Proficient in communicating with vehicle technicians, test engineers, and management\n• Comfortable learning new software applications and processes\n• Proven interest and technical capability to work with modern automotive systems\n• Ability to solve software and hardware related issues\n• Must have a valid U.S. driver’s license and clean driving history\n \nBonus Points If\n• Bachelor of Science in a technical field\n\n","?iisp=he-6594079","?iisp=he-6584079",null,"Mission Specialist - San Francisco, CA","2018-08-22T14:44:00",{"$nulls":4},"2018-12-14T06:46:00"]
["https://www.uber.com/careers/list/34593/","What You’ll Need\n• The ability to operate independently with little or no supervision\n• Able to communicate with vehicle technicians, test engineers, and management\n• Ability to learn new software applications and processes\n• Interest and technical capability to work with modern automotive systems\n• Ability to solve software and hardware related issues\n• Must have a valid U.S. driver’s license and clean driving history\n\n","What You’ll Need\n• The ability to operate independently with little or no supervision\n• Comfort with computers and a familiarity with Linux is preferred\n• Proficient in communicating with vehicle technicians, test engineers, and management\n• Comfortable learning new software applications and processes\n• Proven interest and technical capability to work with modern automotive systems\n• Ability to solve software and hardware related issues\n• Must have a valid U.S. driver’s license and clean driving history\n \nBonus Points If\n• Bachelor of Science in a technical field\n\n","?iisp=he-6594079","?iisp=he-6584079",null,"Mission Specialist - Pittsburgh, PA","2018-08-22T14:44:00","2019-02-12T10:55:00",null,null,null,"2018-12-14T06:46:00"]
["https://www.uber.com/careers/list/41359/","What You’ll Need\n• Business leader with 12+ years of experience running business units and scaling support organizations\n• Analytical\n• Experience building innovative defect and contact reducing programs\n• Interested in moving fast and challenging assumptions in an entrepreneurial environment\n• Experience in data-driven organizations and technology companies\n• Experience building high-performing teams and mentoring other managers\n• Interested in Uber and moving people in all senses of the word\n\n","What You’ll Need\n• Proven business leader with 12+ years of experience running business units and scaling support organizations\n• Highly analytical\n• Have demonstrated record of success in building innovative defect and contact reducing programs\n• Excited to move fast and challenge assumptions in an entrepreneurial environment\n• Demonstrated success in data-driven organizations and technology companies\n• Success building high-performing teams and mentoring other managers\n• Obsessed with Uber and moving people in all senses of the word\n• MBA or graduate degree strongly preferred\n\n","?iisp=he-6594079","?iisp=he-6584079",null,"Sr. Director of Community Operations, US/CAN","2018-08-22T14:44:00","2019-04-22T11:51:00",null,null,null,"2018-12-14T06:46:00"]
["https://www.uber.com/careers/list/41476/","What you'll need:\n \n• At least 5 years of experience in a quantitative analysis role\n• At least 2 years of experience in a people management role\n• BA/BS/MS \n• SQL skills and experience in at least one scripting language \n• Understanding of statistical methods\n• Willingness to learn and adapt to new methodologies and approaches to data collection or data analysis\n• Ability to deliver on tight timelines and move quickly with cross-functional teams to execute on decisions while maintaining attention to detail\n• Self-driven with the ability to work in a self-guided manner\n• Communication and organization skills\n\n","What you'll need:\n \n• At least 5 years of experience in a quantitative analysis role\n• At least 2 years of experience in a people management role\n• BA/BS/MS in Math, Economics, Statistics, Engineering, Computer Science, or other quantitative field preferred (advanced degrees are a plus)\n• Excellent SQL skills and experience in at least one scripting language (Python or R preferred)\n• Solid understanding of statistical methods\n• Willingness to learn and adapt to new methodologies and approaches to data collection or data analysis\n• Ability to deliver on tight timelines and move quickly with cross-functional teams to execute on decisions while maintaining attention to detail\n• Self-driven with the ability to work in a self-guided manner\n• Superb communication and organization skills\n\n","?iisp=he-6594079","?iisp=he-6584079",null,"Manager, Consumer Product Analytics","2018-08-22T14:44:00","2018-12-18T12:45:00",null,null,null,"2018-12-14T06:46:00"]
["https://www.uber.com/careers/list/41448/","What You’ll Need \n\n• Bachelor’s Degree in Math, Physics, CS, Statistics, Economics, Finance or another quantitative field\n• At least 3 years of data science / business intelligence / investment banking / consulting or related experience\n• Experience with SQL\n• Experience presenting data visually\n• Excel / data management skills\n• A preference for quality over quantity; you strive to get the math right and aspire to find the right solution\n• Communication skills and attention to detail\n \n\n\n","What You’ll Need \n\n• Bachelor’s Degree in Math, Physics, CS, Statistics, Economics, Finance or another quantitative field\n• At least 3 years of data science / business intelligence / investment banking / consulting or related experience\n• Expertise with SQL\n• Experience presenting data visually\n• Exceptional Excel / data management skills\n• A preference for quality over quantity; you get the math right and aspire to find the right solution\n• Excellent communication skills and attention to detail\n \nBonus Points if\n\n• Proficiency in Python\n• Proficiency in R\n• Data Engineering background\n \n\n\n","?iisp=he-6594079","?iisp=he-6584079",null,"Senior Business Analyst - Global Safety Support","2018-08-22T14:44:00","2019-02-22T15:37:00",null,null,null,"2018-12-14T06:46:00"]
["https://www.uber.com/careers/list/41440/","What You’ll Need\n \n• Program management capability with experience in Lean Six Sigma focused on design and process optimization\n• 5 years of experience in security, compliance or audit field, monitoring services & operations\n• Experience supporting a developer community and communication skills across all audiences of varying technical abilities\n• Experience with broad set of information security technologies and processes within a SaaS, IaaS, PaaS, or cloud environment\n ","What You’ll Need\n \n• Strong program management capability with experience in Lean Six Sigma focused on design and process optimization\n• 5 years of experience in security, compliance or audit field, monitoring services & operations\n• Experience supporting a developer community and excellent communication skills across all audiences of varying technical abilities\n• Experience with broad set of information security technologies and processes within a SaaS, IaaS, PaaS, or cloud environment\n \nBonus Points If\n \n• 2+ years of experience involving dev team(s) that delivered software-based cloud services\n• Experience in leading risk assessments, remediation, and overall risk management in a Security field that involves Data Protection and Access Control\n• Partnered with product owners in requirements gathering and roadmap development\n• Good understanding of security tools and technologies to facilitate secure development experience\n\n","?iisp=he-6594079","?iisp=he-6584079",null,"Sr Security Program Manager - Threat Response","2018-08-22T14:44:00","2018-09-25T17:00:00","2018-10-01T14:50:00",null,null,"2018-12-14T06:46:00"]
["https://www.uber.com/careers/list/41420/","What You’ll Need\n\n• Bachelor's degree\n• A minimum of 4 - 7 years of audit (internal or external), controls, compliance or risk management experience Organization skills with an ability to plan and perform multiple tasks\n• Ability to analyze complex processes to identify potential financial, operational, systems and compliance risks\n• Ability to communicate in written and verbal form across a wide array of internal and external stakeholders","What You’ll Need\n\n• Bachelor's degree (Accounting, Finance or Economics preferred)\n• A minimum of 4 - 7 years of audit (internal or external), controls, compliance or risk management experienceStrong organization skills with an ability to plan and perform multiple tasks\n• Ability to analyze complex processes to identify potential financial, operational, systems and compliance risks\n• Ability to effectively communicate in written and verbal form across a wide array of internal and external stakeholders\n\nBonus Points If\n \n• Big 4 accounting firm and/or internet/ technology industry experience\n• CPA/CA/CIA/CFA/CISSP/CISM preferred\n• Demonstrated project management experience (PM certification a plus)\n• Experience managing, monitoring and remediating deficient financial controls\n• Process management experience, including process redesign and optimization\n• Working technical knowledge of US GAAP, SEC reporting requirements, SOX requirements, including PCAOB Auditing Standard No. 5\n• Experience with Oracle R12 or another large scale ERP\n\n","?iisp=he-6594079","?iisp=he-6584079",null,"Financial Controls Program Manager (Senior Analyst) - Emerging Products","2018-08-22T14:44:00","2018-09-18T11:21:00","2018-10-01T14:50:00",null,null,"2018-12-14T06:46:00"]
["https://www.uber.com/careers/list/41370/","What You’ll Need\n \n• BA/BS/Masters in Economics, Business, Engineering, Operations Research, or other quantitative focus\n• Minimum 2 years of experience in a quantitative/analytical role\n• Ability to work under pressure and in challenging environments\n• Team player\n• Organization & project management skills. Able to structure a project from idea to design / prototype to implementation\n• Communication skills, both verbal and written\n• Analytical thinking - you connect the dots between the data and operations and sense check every number you see\n• Experience with SQL - know how to access, interpret and package data so our team can deliver unique and innovative analysis to better our operations \n• Excel skills","What You’ll Need\n \n• BA/BS/Masters in Economics, Business, Engineering, Operations Research, or other quantitative focus\n• Minimum 2 years of experience in a quantitative/analytical role, preferably within tech, or management consulting, investment banking, corporate strategy\n• Ability to thrive under pressure and in challenging environments\n• Team player\n• Strong organization & project management skills. Able to structure a project from idea to design / prototype to implementation\n• Strong communication skills, both verbal and written\n• Excellent analytical thinking - you connect the dots between the data and operations and gut check every number you see\n• SQL expertise - know how to access, interpret and package data so our team can deliver unique and innovative analysis to better our operations \n• Excellent Excel skills - many say they are great at Excel, fewer truly are. Ideal candidate brings some impressive know-how (and the understanding that there’s always more to learn)\n \nBonus Points if\n \n• Experience in data visualization tools, such as Shiny or Tableau\n• Experience in scripting languages, such as Python or R\n• Experience working with support data, contact management analytics or customer insights\n• Masters in a quantitative field (e.g., analytics, statistics)\n\n","?iisp=he-6594079","?iisp=he-6584079",null,"Business Analyst","2018-08-22T14:44:00","2018-10-06T14:00:00","2018-10-01T14:50:00","2018-09-21T10:45:00",null,"2018-12-14T06:46:00"]
["https://www.uber.com/careers/list/40312/","What You’ll Need\n• At least 3 years of hands-on coding experience in two of the following languages: Node.js, Go, Java, C/C++, Python.\n• Ability to write high quality code: reliable, efficient, easy to debug and maintain\n• Full stack skill sets to work efficiently on both front end and back end development, based on project need\n• Problem solving skills\n• Organizational and relationship skills\n","What You’ll Need\n• At least 3 years of hands-on coding experience in two of the following languages: Node.js, Go, Java, C/C++, Python.\n• Ability to write high quality code: reliable, efficient, easy to debug and maintain\n• Full stack skill sets to work efficiently on both front end and back end development, based on project need\n• Exceptional problem solving skills\n• Strong organizational and relationship skills\n• Security background is not mandated but would be a plus\n \nBonus Points If\n• Bachelor’s degree in Computer Science or related areas\n• Familiarity with corporate network security hardening\n• Familiarity with big data technologies\n\n","?iisp=he-6594079","?iisp=he-6584079",null,"Full Stack Software Engineer - Access","2018-08-22T14:44:00","2018-09-19T22:00:00",null,null,null,"2018-12-14T06:46:00","Expired on 9/19/2018  22:00:00 PM PST, but came back alive on 9/22/2018  15:44:00 PM PST. Still in experiment."]
["https://www.uber.com/careers/list/39546/","What You’ll Need \n \n• Bachelor’s degree or equivalent professional experience\n• Experience interviewing both parties to an incident either in-person or over the phone\n• At least 3 years of management experience in operations or investigations case management, crisis counseling or a similar role. \n• Experience investigating person to person allegations and accidents \n• Experience leading a team of 15+ individuals\n• Experience collaborating and managing senior stakeholders across a global enterprise\n• Communication skills including the ability to listen; to diplomatically express opinions and voice concerns with other team members; and to present effective written communication to varied audiences\n• Presentation skills using data to quantify problems and solutions\n\n\n","What You’ll Need \n \n• Bachelor’s degree or equivalent professional experience\n• Experience interviewing both parties to an incident either in-person or over the phone\n• At least 3 years of management experience in operations or investigations case management, crisis counseling or a similar role. \n• Experience investigating person to person allegations and accidents \n• Experience leading a team of 15+ individuals\n• Experience collaborating and managing senior stakeholders across a global enterprise\n• Strong communication skills including the ability to listen effectively; to confidently and diplomatically express opinions and voice concerns with other team members; and to present effective written communication to varied audiences\n• Strong presentation skills using data to quantify problems and solutions\n \nBonus Points If\n \n• Experience in criminal investigations, claims liability, and/or HR Investigations\n• Prior experience with crisis management\n• CFI or PCI certification \n• Experience as a public safety field training officer (FTO) or similar\n• Wicklander-Zulawski or Reid training\n\n","?iisp=he-6594079","?iisp=he-6584079",null,"Investigations Operations Manager","2018-08-22T14:44:00","2018-11-07T17:30:00","2018-11-15T14:48:00",null,null,"2018-12-14T06:46:00"]
["https://www.uber.com/careers/list/37501/","What You’ll Need\n• Minimum of 3 years of Product Management experience with overall 8+ years of experience\n• At least 3 years experience building Maps, Search or Location products in Search\n• Experience applying Machine Learning / statistical inference technologies to a variety of complex problems\n• Computer science undergraduate degree or equivalent plus hands-on software engineering experience\n• Basic Technical understanding of how maps works on both web and mobile\n• Entrepreneurial spirit and an interest in learning\n","What You’ll Need\n• Minimum of 3 years of Product Management experience with overall 8+ years of experience\n• At least 3 years experience building Maps, Search or Location products in Search\n• Experience applying Machine Learning / statistical inference technologies to a variety of complex problems\n• Computer science undergraduate degree or equivalent plus hands-on software engineering experience\n• Basic Technical understanding of how maps works on both web and mobile\n• Entrepreneurial spirit and a thirst for learning\n\nBonus Points For\n \n• Knowledge of routing algorithms (Dijkastra, A*) \n• Prior experience working on scalable infrastructures where you have built or/and managed services that power consumer experiences\n• Understanding of big-data processing pipelines (over Hadoop or similar technologies), distributed data stores, and distributed file systems\n\n","?iisp=he-6594079","?iisp=he-6584079",null,"Product Manager - Maps - Routing","2018-08-22T14:44:00","2018-10-03T12:22:00","2018-10-08T12:55:00",null,null,"2018-12-14T06:46:00"]
["https://www.uber.com/careers/list/30121/","What You'll Need\n• Creative problem solving\n• Experience with Linux command-line & shell scripts\n• Embedded software testing experience\n• Broad general EE knowledge\n• Ability to design, build and maintain tests for custom hardware\n• BS in Electrical/Computer Engineering or a related field and 5 years of work experience, or an Advanced degree (Masters, Ph.D.) in Electrical/Computer Engineering or a related field and 3 years of relevant work experience.","What You'll Need\n• Creative problem solving\n• Good experience with Linux command-line & shell scripts\n• Embedded software testing experience\n• Broad general EE knowledge\n• Ability to design, build and maintain tests for custom hardware\n• BS in Electrical/Computer Engineering or a related field and 5 years of work experience, or an Advanced degree (Masters, Ph.D.) in Electrical/Computer Engineering or a related field and 3 years of relevant work experience.\n \nBonus Points If\n• Experience with safety-critical hardware systems and components\n• Understanding of automotive applications and standards\n• Experience in agile project environments\n• CAN bus vehicle standard familiarity\n• FPGA experience\n• Experience debugging problems with communication data links\n• Ability to design, build and maintain electrical test fixtures\n\n","?iisp=he-6594079","?iisp=he-6584079",null,"Embedded Systems R&D Test Engineer","2018-08-22T14:44:00",{"$nulls":4},"2018-12-14T06:46:00"]
["https://www.uber.com/careers/list/41406/","What You’ll Need\n• Minimum of one year of experience\n• Bachelor’s degree required\n• Excel and data analysis skills\n• Desire to continuously improve the customer experience for both driver-partners and riders\n• Leadership on projects and initiatives at your organization\n• Attention to detail and able to handle ambiguity in an ever-changing environment","What You’ll Need\n• Minimum of one year of experience\n• Bachelor’s degree required\n• Excellent Excel and data analysis skills, SQL strongly preferred\n• Desire to continuously improve the customer experience for both driver-partners and riders\n• Demonstrated leadership on projects and initiatives at your organization\n• Attention to detail and comfort with ambiguity in an ever-changing environment","?iisp=he-6594079","?iisp=he-6584079",null,"Operations & Logistics Manager","2018-08-16T14:15:00","2018-11-09T11:50:00","2018-12-04T07:08:00",null,null,"2018-12-14T06:46:00"]
["https://www.uber.com/careers/list/41354/","What You’ll Need\n• Experience: 2+ years of relevant work experience\n• Education: Bachelors degree in urban planning, architecture, landscape architecture, civil engineering, electrical engineering, GIS, environmental studies, transportation management, or related field. Advanced degrees may be considered as work experience on a year for year basis.\n• Software required: Experience in AutoCAD, ArcGIS or qGIS, Adobe Illustrator, InDesign, Photoshop, MS Word, MS Excel, Google Docs. Software skills will be evaluated via portfolio submission.\n• Interest: Interested in the overall goals of bike share and sustainable transportation.","What You’ll Need\n• Experience: 2+ years of relevant work experience\n• Education: Bachelors degree in urban planning, architecture, landscape architecture, civil engineering, electrical engineering, GIS, environmental studies, transportation management, or related field. Advanced degrees may be considered as work experience on a year for year basis.\n• Software required: Proficient experience in AutoCAD, ArcGIS or qGIS, Adobe Illustrator, InDesign, Photoshop, MS Word, MS Excel, Google Docs. Software skills will be evaluated via portfolio submission.\n• Preferred: Familiar with open source mapping and outreach tools, web mapping, data analysis, environmental design, basic electrical engineering knowledge\n• Passion: Passionate about the overall goals of bike share and sustainable transportation.","?iisp=he-6594079","?iisp=he-6584079",null,"Urban Planner - JUMP","2018-08-16T14:15:00","2018-08-29T16:30:00","2018-09-05T15:52:00",null,null,"2018-12-14T06:46:00"]
["https://www.uber.com/careers/list/41347/","What You’ll Need\n \n• Bachelor's degree\n• Minimum 3 years of working experience in a high-volume and fast-paced operational, B2B or customer support environment\n• Ability to manage, set team goals, develop people to their highest levels of performance, and guide through challenging situations\n• Written and verbal communication skills\n• Self motivated with experience problem solving, always challenging the status quo and never settling for how something ‘has always been done’\n• Willing to engage and take on something hands-on","What You’ll Need\n \n• Bachelor's degree\n• Minimum 3 years of working experience in a high-volume and fast-paced operational, B2B or customer support environment\n• Demonstrated ability to manage effectively, set team goals, develop people to their highest levels of performance, and guide through challenging situations\n• Exceptional written and verbal communication skills\n• Self motivated with a deep affinity for problem solving, always challenging the status quo and never settling for how something ‘has always been done’\n• Always willing to roll up your sleeves and take on something hands-on\n \nBonus Points If\n \n• Bachelor's degree in Business, Engineering, Supply Chain / Logistics / Manufacturing or related discipline\n• Technical skills in SQL, Excel and/or Data visualization\n\n","?iisp=he-6594079","?iisp=he-6584079",null,"Operations Manager, Uber Freight Account Management","2018-08-16T14:15:00",null,"2018-09-23T12:29:00","2018-09-15T09:30:00",null,"2018-12-14T06:46:00"]
["https://www.uber.com/careers/list/41346/","About you\n• Experience with releasing, maintaining mobile code\n• Experience with Java\n• Experience analyzing a feature in production using analytics and experiments\n• Focus on high-quality mobile UI experiences\n• Experience collaborating on projects and working as part of a team.\n• Understanding of Android SDK","About you\n• Experience with releasing, maintaining mobile code\n• Strong expertise in Java\n• Experience analyzing a feature in production using analytics and experiments\n• Strong focus on high-quality mobile UI experiences\n• Experience collaborating on projects and working efficiently as part of a team.\n• Deep understanding of Android SDK\n\nBonus points if\n• BS/MS/PhD in Computer Science or a related field\n• Experience in any other languages such as Kotlin or Javascript\n• Experience with open source libraries like Retrofit, RxJava, Dagger 2, Lottie\n• Contribute to the wider Android community via open source\n","?iisp=he-6594079","?iisp=he-6584079",null,"Sr Software Engineer - Android","2018-08-16T14:15:00",{"$nulls":4},"2018-12-14T06:46:00"]
["https://www.uber.com/careers/list/41333/","What You'll Need\n \n• Minimum 8 years of relevant HRBP experience\n• Understanding of HR programs including compensation, performance management, and leadership development\n• Understanding of various employment laws and their impact on HR matters\n• Record of delivering results. \n• Experience in providing HR consultation to senior leadership on strategic initiatives\n• Ability to partner within and outside of HR\n• Knowledge and experience in technology businesses including a familiarity with global HR practices and policies\n• Integrity\n• Influencing skills at all levels in the organization and flexibility to be proactive in a fast-paced, ever changing environment. Ability to make timely, effective, ethics-based decisions\n• Tenacity and ability to create from scratch are imperative\n• Written and verbal communication skills; must be an articulate and persuasive communicator including presentation skills; analytical and problem solving abilities\n• Bachelor's degree required","What You'll Need\n \n• Minimum 8 years of relevant HRBP experience\n• Excellent understanding of HR programs including compensation, performance management, and leadership development\n• Understanding of various employment laws and their impact on HR matters\n• Proven track record of delivering measurable results. \n• Demonstrated experience in providing HR consultation to senior leadership on strategic initiatives\n• Demonstrated ability to partner within and outside of HR\n• Knowledge and experience in technology businesses including a familiarity with global HR practices and policies\n• Unquestioned integrity; resolve, presence, and sureness\n• Excellent influencing skills at all levels in the organization and flexibility to be proactive in a fast-paced, ever changing environment. Proficiency in making timely, effective, ethics-based decisions\n• Tenacity and ability to create from scratch are imperative\n• Outstanding written and verbal communication skills; must be an articulate and persuasive communicator including excellent presentation skills; analytical and problem solving abilities\n• Bachelor's degree required; Master's degree preferred\n","?iisp=he-6594079","?iisp=he-6584079",null,"HR Business Partner, Engineering","2018-08-16T14:15:00","2018-12-05T07:00:00","2018-12-10T08:23:00",null,null,"2018-12-14T06:46:00"]
["https://www.uber.com/careers/list/41286/","What You’ll Need\n \n• Minimum of two years of experience in data analysis \n• Bachelor's degree.\n• SQL writing experience; experience using R or Python for analytics\n• Must be able to complete assignments on time \n• Critical thinking\n• Able to demonstrate creativity and research skills to address analytics or automation projects without step-by-step instructions. Ability to leverage Uber’s internal resources or publicly available information (wikipedia, Stack Overflow, etc.) to solve problems and write programs or scripts that work. \n• Able to build in quality checks and self-reviews for errors.\n• Curious person who wants to understand our processes and the way they work. \n• Able to communicate in verbal and written form. This applies to interacting with stakeholders, the IA team, and in written communications (especially when it comes to crafting messages and relaying findings and recommendations).\n• Can adapt between working independently or collaboratively on a team, with various stakeholders and outsourced audit teams, and on unstructured projects.\n• Organized and able to manage time, tasks, and deliverables.\n• Ability to understand user needs quickly \n• Ability to follow instructions and communicate project status\n• Strategic, proactive, creative, innovative, and collaborative","What You’ll Need\n \n• Minimum of two years of experience in data analysis \n• Bachelor's degree. Focus in Economics, Computer Science, Statistics, or similar preferred\n• SQL writing proficiency; experience using R or Python for analytics\n• Must be able to complete assignments on time \n• Critical thinking\n• Able to demonstrate creativity and research skills to tackle analytics or automation projects without step-by-step instructions. Ability to leverage Uber’s internal resources or publicly available information (wikipedia, Stack Overflow, etc.) to solve problems and write programs or scripts that work. \n• Able to build in quality checks and self-reviews for errors.\n• Intensely curious person who wants to know the what, where, when, how, and most importantly why our processes work the way they do. \n• Able to communicate effectively in verbal and written form. This applies to interacting with stakeholders, the IA team, and in written communications (especially when it comes to crafting messages and relaying findings and recommendations).\n• Can easily adapt between working independently or collaboratively on a team, with various stakeholders and outsourced audit teams, and on unstructured projects.\n• Highly organized and able to manage time, tasks, and deliverables.\n• Ability to understand user needs quickly \n• Ability to follow instructions and communicate project status\n• Strategic, proactive, creative, innovative, and collaborative\n\n\n\nBonus Points If\n \n• Familiarity with Oracle, Hive, Presto\n• Technology and/or media specific industry experience, a plus.\n• Experience with AWS\n","?iisp=he-6594079","?iisp=he-6584079",null,"Internal Audit Analyst, Data Analytics and Automation","2018-08-16T14:15:00","2018-11-30T15:50:00","2018-12-10T08:23:00",null,null,"2018-12-14T06:46:00"]
["https://www.uber.com/careers/list/41285/","What You’ll Need\n• 7+ years experience in a similar role - leading operations/logistics, leading diverse teams, developing procedures, optimizing systems, and achieving benchmark operational goals\n• Analytical Thinking. Data-driven mentality and business judgment.  Able to engage and analyze the data and pull key insights for your team.\n• Interpersonal skills.  Able to build and manage relationships with their team, cross-functional colleagues, and external partners\n• Experience with executing marketing campaigns and facilitating data-backed, creative marketing initiatives. \n• Entrepreneurship mentality. Must be a self-starter and leader that assumes the risks and rewards of running an innovative sustainable operation.\n• Communication and organizational skills. Able to communicate and listen; written, verbal and presentation skills\n• Leadership by example.  Able to motivate, inspire and create an inclusive and positive work environment for all.  \n• An interest in e-mobility, JUMP, and growing and leading a team. Interested in the overall goals of sustainable transportation\n• BA/BS with good academic record.\n","What You’ll Need\n• 7+ years proven success in a similar role - leading operations/logistics, leading diverse teams, developing procedures, optimizing systems, and achieving benchmark operational goals\n• Analytical Thinking. Data-driven mentality and strong business judgment.  Able to roll up your sleeves and analyze the data and pull key insights for your team.\n• Strong interpersonal skills.  Able to build and manage strong relationships with their team, cross-functional colleagues, and external partners\n• Experience with executing marketing campaigns and driving data-backed, creative marketing initiatives.  Experience with CRM tools and A/B testing a plus.\n• Entrepreneurship mentality. Must be a self-starter and leader that assumes the risks and rewards of running an innovative sustainable operation.\n• Exceptional communication and organizational skills. Able to communicate and listen effectively; great written, verbal and presentation skills\n• Leadership by example.  Able to motivate, inspire and create an inclusive and positive work environment for all.  \n• A passion for e-mobility, JUMP, and growing and leading a team. Passionate about the overall goals of sustainable transportation\n• BA/BS with impressive academic record. Advanced degree a plus\n","?iisp=he-6594079","?iisp=he-6584079",null,"City General Manager (Seattle) - JUMP","2018-08-16T14:15:00","2018-12-03T09:10:00","2018-12-10T08:23:00",null,null,"2018-12-14T06:46:00"]
["https://www.uber.com/careers/list/41213/","What You’ll Need\n• Competence in cognitive science / psychology / human factors\n• Leadership in the development and administration of transportation fleet safety programs -- e.g., public transit, trucking, aviation, aerospace\n• Previous responsibilities associated with safety of nascent automotive technology or other cyber-physical systems\n• Experience with organizational change management\n• Engineering and technical management roles, and/or exposure to root cause analysis and the subsequent implementation of remedial or corrective actions","What You’ll Need\n• Demonstrated competence in cognitive science / psychology / human factors\n• Leadership in the development and administration of transportation fleet safety programs -- e.g., public transit, trucking, aviation, aerospace\n• Previous responsibilities associated with safety of nascent automotive technology or other cyber-physical systems\n• Experience with organizational change management\n• Advanced engineering and technical management roles, and/or exposure to root cause analysis and the subsequent implementation of remedial or corrective actions\n \nBonus Points If\n• High Reliability Organizations (HRO)\n• Safety Management Systems (SMS)\n• Operational Risk Management (ORM)\n• Human and Organizational Performance (HOP)\n• Behavior Based Safety (BBS)\n","?iisp=he-6594079","?iisp=he-6584079",null,"Head of Operational Safety","2018-08-16T14:15:00","2019-01-08T07:15:00",null,null,null,"2018-12-14T06:46:00"]
["https://www.uber.com/careers/list/41135/","What You’ll Need\n\n• A minimum of 3 years of insurance company or law firm experience involving litigating claims/cases arising from Property and Casualty Insurance\n• Case evaluation abilities, critical thinking skills and the capacity to oversee a large portfolio of matters\n• Deposition experience (including presenting witnesses)\n• Academic credentials and law degree from a good law school\n• Member of the bar in California\n• Possess business judgment, communication and interpersonal skills\n• Interest in Uber\n","What You’ll Need\n\n• A minimum of 3 years of insurance company or law firm experience involving litigating claims/cases arising from Property and Casualty Insurance\n• In-house experience strongly preferred, with the know-how to manage a case through pleadings, motion practice, discovery, dispute resolution and trial\n• Solid case evaluation abilities, critical thinking skills and the capacity to oversee a large portfolio of matters\n• First chair mediation or trial experience preferred\n• Deposition experience (including presenting witnesses)\n• Strong academic credentials and law degree from a top law school\n• Joint JD/MBA holders preferred\n• Member of the bar in California\n• Possess excellent business judgment, communication and interpersonal skills\n• Enthusiasm about Uber!\n","?iisp=he-6594079","?iisp=he-6584079",null,"Counsel, Insurance Litigation","2018-08-16T14:15:00","2018-12-05T07:00:00","2018-10-16T07:51:00","2018-10-09T11:40:00","2018-10-09T11:40:00","2018-12-14T06:46:00"]
["https://www.uber.com/careers/list/41091/","What You’ll Need\n• A minimum of 6 years of legal experience focusing on healthcare law at a mid to large size law firm, government regulatory entity, in-house at a healthcare provider, or health insurance agency, with a J.D. from a good law school;\n• Transactional experience, and can supervise, draft, and negotiate a variety of complex agreements;\n• Experience advising on and negotiating business associate agreements;\n• Knowledge and experience with HIPAA and similar worldwide privacy laws, regulations;\n• Knowledge of Medicare and Medicaid laws;\n• Ability to work cross functionally to achieve maximum compliance while minimizing the impact of compliance on the business;\n• Writing, research, negotiating, and interpersonal skills. Oral advocacy and presentation skills.\n","What You’ll Need\n• A minimum of 6 years of legal experience focusing on healthcare law at a mid to large size law firm, government regulatory entity, in-house at a healthcare provider, or health insurance agency, with a J.D. from a top law school;\n• Strong transactional experience, and can supervise, draft, and negotiate a variety of complex agreements;\n• Experience advising on and negotiating business associate agreements;\n• Extensive knowledge and experience with HIPAA and similar worldwide privacy laws, regulations;\n• Knowledge of Medicare and Medicaid laws;\n• Proven ability to work cross functionally to achieve maximum compliance while minimizing the impact of compliance on the business;\n• Outstanding writing, research, negotiating, and interpersonal skills. Strong oral advocacy and presentation skills;\n• Preferred: Experience advising on legislative and regulatory affairs.\n","?iisp=he-6594079","?iisp=he-6584079",null,"Senior Counsel, Uber Health","2018-08-16T14:15:00","2018-09-19T22:00:00","2018-08-17T11:16:00","2018-08-14T17:00:00",null,"2018-12-14T06:46:00","Expired on 9/19/2018 22:00 PM PST, but came back alive on 10/23/2018  10:10 AM PST. Removed. Expired again on 11/17/2018 11:35 AM PST. "]
["https://www.uber.com/careers/list/40726/","What you'll need\n\n• Bachelor's degree in Computer Science, Mathematics, Statistics, Finance, or related technical field\n• 5+ years of years of SQL Programming\n• Experience with Hadoop, Hive, Vertica, Presto\n• Experience creating and evolving dimensional data models & schema designs to improve accessibility of data and provide intuitive analytics\n• Experience handling structured and unstructured data from internal and third-party sources\n• Ability to think strategically about business, product, and technical challenges\n• Experience developing scripts and tools to enable faster data consumption\n• Experience partnering with multiple teams in high visibility roles and owning end-to-end data solutions\n• Experience with ETL and business intelligence tools\n• Familiarity with Kimball’s data warehouse lifecycle\n• Interest and ownership over what you ship; you strive for released code to be correct, monitored, documented, and tested\n• Team player. You rely on others' candid feedback for continuous improvement\n• Interest in Uber","What you'll need\n\n• Bachelor's degree in Computer Science, Mathematics, Statistics, Finance, or related technical field\n• 5+ years of years of SQL Programming\n• Experience with Hadoop, Hive, Vertica, Presto\n• Strong experience creating and evolving dimensional data models & schema designs to improve accessibility of data and provide intuitive analytics\n• Experience handling structured and unstructured data from internal and third-party sources\n• Demonstrated ability to think strategically about business, product, and technical challenges\n• Experience developing scripts and tools to enable faster data consumption\n• Experience partnering with multiple teams in high visibility roles and owning end-to-end data solutions\n• Experience with ETL and business intelligence tools\n• Familiarity with Kimball’s data warehouse lifecycle\n• Passion and ownership over everything you ship; you'd never call code \"released\" until you’re confident it’s correct, monitored, documented, and tested\n• Team player. You rely on others' candid feedback for continuous improvement\n• Enthusiasm about Uber!\n\nBonus Points If\n\n• Master’s Degree preferred\n• Experience in BI projects converting business needs to data warehousing\n• Scripting experience with Python and Spark\n• Both technically deep and business savvy enough to interface with all levels and disciplines within the organization\n","?iisp=he-6594079","?iisp=he-6584079",null,"Business Intelligence Developer II","2018-08-16T14:15:00","2018-11-27T15:30:00","2018-12-10T08:23:00",null,null,"2018-12-14T06:46:00"]
["https://www.uber.com/careers/list/40463/","What You’ll Need\n \n• Layer 2 and 3 networking Skills.\n• Minimum of 5 years experience in IP networking and large enterprise or production networks\n• Experience in IP routing/switching technologies and protocols including TCP/IP, BGP, IS-IS, MPLS, IPSEC, GRE and their best practices.\n• Experience in managing systems and networks with automation tools\n• Experience in maintaining 24x7 network infrastructure for a global company\n• Experience with Linux or Unix-like operating systems.\n• Experience in managing systems and networks with automation tools.\n• Experience in maintaining 24x7 network infrastructure for a global company.","What You’ll Need\n \n• Very strong layer 2 and 3 networking Skills.\n• Minimum of 5 years experience in IP networking and large enterprise or production networks\n• Expert level in IP routing/switching technologies and protocols including TCP/IP, BGP, IS-IS, MPLS, IPSEC, GRE and their best practices.\n• Experience in managing systems and networks with automation tools\n• Experience in maintaining 24x7 network infrastructure for a global company\n• Fluency in Linux or Unix-like operating systems.\n• Experience in managing systems and networks with automation tools.\n• Experience in maintaining 24x7 network infrastructure for a global company.\n \nBonus Points If\n \n• Scripting skills in Python, Go, or Unix shell.\n• Configuration management experience: Puppet, Chef, Ansible\n","?iisp=he-6594079","?iisp=he-6584079",null,"Senior Network Engineer","2018-08-16T14:15:00","2018-10-11T09:10:00","2018-10-16T07:51:00",null,null,"2018-12-14T06:46:00","Expired on 10/11/2018 9:10 PST, but came back alive on 12/07/2018 6:45:00 AM PST. Removed. "]
["https://www.uber.com/careers/list/41171/","What You’ll Need\n• A minimum of 5 years of experience in Procure-to-Pay\n• Ability to handle ambiguity and shifting priorities with the additional complexity of serving different international geographical regions.\n• Knowledge of ERP systems such as Oracle and e-procurement tools\n• Analytical, verbal and written skills with attention to detail\n• Experience in facilitating continuous improvement and process optimization\n• Microsoft Excel skills\n• Team player, able to work independently while knowing when to speak up for help\n• Time and self-management skills, ability to handle overlapping priorities in a fast-moving environment\n• Keep apprised of process changes downstream that might require process redesign","What You’ll Need\n• A minimum of 5 years of experience in Procure-to-Pay\n• Ability to deal with ambiguity and shifting priorities with the additional complexity of serving different international geographical regions.\n• Excellent knowledge of ERP systems such as Oracle and e-procurement tools\n• Excellent analytical, verbal and written skills with a high attention to detail\n• Experience in driving continuous improvement and process optimization\n• Advanced Microsoft Excel skills\n• Team player, work well independently while knowing when to speak up for help\n• Excellent time and self-management skills, ability to deal with overlapping priorities in a fast-moving environment\n• Keep apprised of process changes downstream that might require process redesign\n \nBonus Points If\n• Oracle ERP experience and/or e-Procurement tools (Coupa, Oracle i-Procurement, Ariba, etc.)\n• Experience in a global environment\n• Experience in a start-up or fast-growth environment","?iisp=he-6594079","?iisp=he-6584079",null,"Procure to Pay Process Manager","2018-08-13T13:59:00","2018-10-25T11:30:00","2018-10-30T07:19:00",null,null,"2018-12-14T06:46:00"]
["https://www.uber.com/careers/list/41143/","What You’ll Need\n \n• 2-5 years of prior experience in an HR/ HR operations role\n• Experience with partnering with HRBPs to deliver a consistent employee experience\n• Experience with being the front face of HR, representing policies and practices to managers and employees across the organization\n• Self-driven, organized, and interested in continually tinkering to make the overall process and experience better for all employees\n• Communication skills and attention to detail are key attributes in this role\n\n","What You’ll Need\n \n• Bachelor’s degree in business/human resources preferred \n• 2-5 years of prior experience in an HR/ HR operations role\n• Experience with partnering with HRBPs to deliver a consistent employee experience\n• Experience with being the front face of HR, representing policies and practices to managers and employees across the organization\n• Self-driven, organized, and passionate about continually tinkering to make the overall process and experience better for all employees\n• Exceptional communication skills and attention to detail are key attributes in this role\n• Understanding HR practices and experience in regional capacity is a plus\n• Workday experience and/or experience using JIRA is a plus \n\n","?iisp=he-6594079","?iisp=he-6584079",null,"HR Generalist, New York City","2018-08-13T13:59:00","2018-08-29T16:30:00","2018-09-05T15:52:00",null,null,"2018-12-14T06:46:00","Expired on 8/29/2018 16:30 PST, but came back alive on 10/25/2018  11:30:00 AM PST. Removed.  Expired again on 12/05/2018 7am PST. "]
["https://www.uber.com/careers/list/41142/","What You’ll Need\n \n• 2-5 years of prior experience in an HR/ HR operations role\n• Experience with partnering with HRBPs to deliver a consistent employee experience\n• Experience with being the front face of HR, representing policies and practices to managers and employees across the organization\n• Self-driven, organized, and interested in continually tinkering to make the overall process and experience better for all employees\n• Communication skills and attention to detail are key attributes in this role\n","What You’ll Need\n \n• Bachelor’s degree in business/human resources preferred \n• 2-5 years of prior experience in an HR/ HR operations role\n• Experience with partnering with HRBPs to deliver a consistent employee experience\n• Experience with being the front face of HR, representing policies and practices to managers and employees across the organization\n• Self-driven, organized, and passionate about continually tinkering to make the overall process and experience better for all employees\n• Exceptional communication skills and attention to detail are key attributes in this role\n• Understanding HR practices and experience in regional capacity is a plus\n• Workday experience and/or experience using JIRA is a plus \n\n","?iisp=he-6594079","?iisp=he-6584079",null,"HR Generalist, Seattle","2018-08-13T13:59:00","2018-09-19T22:00:00","2018-10-01T14:50:00",null,null,"2018-12-14T06:46:00"]
["https://www.uber.com/careers/list/41141/","What You’ll Need\n \n• 2-5 years of prior experience in an HR/ HR operations role\n• Experience with partnering with HRBPs to deliver a consistent employee experience\n• Experience with being the front face of HR, representing policies and practices to managers and employees across the organization\n• Self-driven, organized, and interested in continually tinkering to make the overall process and experience better for all employees\n• Communication skills and attention to detail are key attributes in this role\n","What You’ll Need\n \n• Bachelor’s degree in business/human resources preferred \n• 2-5 years of prior experience in an HR/ HR operations role\n• Experience with partnering with HRBPs to deliver a consistent employee experience\n• Experience with being the front face of HR, representing policies and practices to managers and employees across the organization\n• Self-driven, organized, and passionate about continually tinkering to make the overall process and experience better for all employees\n• Exceptional communication skills and attention to detail are key attributes in this role\n• Understanding HR practices and experience in regional capacity is a plus\n• Workday experience and/or experience using JIRA is a plus \n\n","?iisp=he-6594079","?iisp=he-6584079",null,"HR Generalist, San Francisco","2018-08-13T13:59:00","2018-10-16T13:00:00","2018-10-23T06:21:00",null,null,"2018-12-14T06:46:00","Expired on 10/16/2018 13:00 PST, but came back alive on 10/26/2018  15:35:00 PM PST. Removed. Expired again on 11/15/2018 17:00 PM PST."]
["https://www.uber.com/careers/list/41126/","What you’ll need\n• 5 - 8 years of experience in a professional, fast-paced environment.  \n• Minimum of 4 years progressive Human Resources and compensation experience with increasing levels of responsibility in identifying, consulting, designing, recommending, and implementing business solutions to clients' challenges.\n• Ability to meet deadlines with accuracy and an appropriate level of urgency.\n• Ability to effectively present information.\n• Analytical capabilities, familiarity with broader underlying concepts, and ability to communicate persuasively to resolve highly complex problems and recommend or produce best solutions for Uber.\n• Works independently to facilitate and manage projects across Uber, utilizing subject matter expertise and knowledge of both internal and external business practices to improve products or service offerings.\n• Works regularly and comfortably with high-level individual contributors and managers across multiple functions.\n• Planning, project management, organizational and communication skills.\n• Ability to adapt and work in a matrix organization with competing deadlines.\n• Bachelor’s degree or equivalent.\n\n","What you’ll need\n• 5 - 8 years of experience in a professional, fast-paced environment.  A strong background in Compensation, Mathematics, Finance, Statistics or Economics preferred.\n• Minimum of 4 years progressive Human Resources and compensation experience with increasing levels of responsibility in identifying, consulting, designing, recommending, and implementing efficient, innovative business solutions to clients' challenges.\n• Consulting experience strongly preferred.\n• Experience working for a publicly-traded company preferred including proxy disclosures.\n• Knowledge of financial terms and principles preferred.\n• Knowledge of equity compensation preferred.\n• Ability to meet deadlines with accuracy and an appropriate level of urgency.\n• Ability to effectively present information.\n• Strong analytical capabilities, familiarity with broader underlying concepts, and ability to communicate persuasively to resolve highly complex problems and recommend or produce best solutions for Uber.\n• Works independently to drive and manage projects across Uber, utilizing subject matter expertise and knowledge of both internal and external business practices to improve products or service offerings.\n• Works regularly and comfortably with high-level individual contributors and managers across multiple functions.\n• Strong planning, project management, organizational and communication skills.\n• Proven ability to adapt and work effectively in a matrix organization with competing deadlines.\n• Bachelor’s degree or equivalent.\n \nBonus Points\n• Experience working for a privately-held company desired.\n• Knowledge of capitalization tables desired.\n\n","?iisp=he-6594079","?iisp=he-6584079",null,"Senior Analyst, Executive Compensation","2018-08-13T13:59:00","2018-10-13T09:40:00","2018-10-23T06:21:00",null,null,"2018-12-14T06:46:00"]
["https://www.uber.com/careers/list/41124/","What You’ll Need\n \n• Valid driver’s license and vehicle\n• Willingness and ability to travel\n• Minimum of 4+ years working in the transportation/logistics (or related) industry\n• Experience running complex and fast-paced operations\n• Previous experience working with tractors and trailers\n• An entrepreneurial spirit and a desire to take on a new challenge\n• Communication and organizational skills\n• The ability to balance attention to detail with swift execution\n","What You’ll Need\n \n• Valid driver’s license and vehicle\n• Willingness and ability to travel\n• Minimum of 4+ years working in the transportation/logistics (or related) industry\n• Experience running complex and fast-paced operations\n• Previous experience working with tractors and trailers\n• An entrepreneurial spirit and an eagerness to take on a new challenge\n• Strong communication and organizational skills\n• The ability to balance attention to detail with swift execution - we need to do things quickly, and we need to do them well\n \nBonus Points If\n \n• You have experience working with maintenance providers\n• You have a CDL and are well-versed with DOT rules and regulations\n\n","?iisp=he-6594079","?iisp=he-6584079",null,"Area Operations Manager, Special Projects","2018-08-13T13:59:00","2018-09-21T10:42:00","2018-10-01T14:50:00",null,null,"2018-12-14T06:46:00"]
["https://www.uber.com/careers/list/41097/","What You’ll Need\n• Bachelor and/or Master’s degree in Business, Economics, or other business operations focus\n• 2+ years of management consulting, operations, finance or other analytical related experience. \n• Quantitative analysis experience in one analytical tool. Fluency with spreadsheets is a minimum.\n• Data-driven and analytical - you’re able to translate data and insights into a story to  facilitate strategy, action, and decision-making at an executive level\n• Self-starter attitude - you pursue your work and enjoy the responsibility of being personally empowered\n• Curiosity - you're innovative, creative, and you look for opportunities to tweak and optimize\n\n","What You’ll Need\n• Bachelor and/or Master’s degree in Business, Economics, or other business operations focus\n• 2+ years of management consulting, operations, finance or other analytical related experience. Recruiting or People Analytics in a high-growth or tech environment a plus\n• Quantitative analysis expertise in one or more analytical tools. Fluency with spreadsheets is a minimum; SQL, Python, R a plus\n• Data-driven and highly analytical - you’re able to translate data and insights into a meaningful story to drive strategy, action, and decision-making at an executive level\n• Self-starter attitude - you boldly pursue your work and love the responsibility of being personally empowered\n• Curiosity - you're innovative, creative, and constantly looking for opportunities to tweak and optimize\n\n","?iisp=he-6594079","?iisp=he-6584079",null,"People Analytics Business Partner","2018-08-13T13:59:00","2019-04-04T20:15:00",null,null,null,"2018-12-14T06:46:00"]
["https://www.uber.com/careers/list/41067/","What You’ll Need\n \n• Minimum of 3 years of Product Management experience with overall 8+ years of experience\n• At least 3 years experience building Location products in Search.\n• Experience applying Machine Learning / statistical inference technologies to a variety of complex problems.\n• Computer science undergraduate degree or equivalent plus hands-on software engineering experience\n• Technical understanding should go from the highest abstractions down to the metal.\n• Finger-tippiness with data: you are able to get the data you need and can turn it into a story. You know how to use data to make decisions without getting stuck in analysis paralysis.\n• A “driver” personality - biased toward action, collaborator and disambiguator/simplifier - striving for clarity and delivery.\n• Entrepreneurial spirit and an interest in learning.","What You’ll Need\n \n• Minimum of 3 years of Product Management experience with overall 8+ years of experience\n• At least 3 years experience building Location products in Search.\n• Experience applying Machine Learning / statistical inference technologies to a variety of complex problems.\n• Computer science undergraduate degree or equivalent plus hands-on software engineering experience\n• Technical understanding should go from the highest abstractions down to the metal.\n• Finger-tippiness with data: you just go get the data you need with no muss/fuss and can whip it into an insightful story with no help. You know how to use data to make decisions without getting stuck in analysis paralysis.\n• A “driver” personality - biased toward action, great collaborator and master disambiguator/simplifier - constantly pushing toward clarity and delivery.\n• Entrepreneurial spirit and a thirst for learning.\n \nBonus Points For\n \n• Launching online services products in international emerging markets.\n• Understanding of big-data processing pipelines (over Hadoop or similar technologies), distributed data stores, and distributed file systems\n\n","?iisp=he-6594079","?iisp=he-6584079",null,"Product Manager - Maps - Search","2018-08-13T13:59:00","2018-12-12T07:30:00",null,null,null,"2018-12-14T06:46:00"]
["https://www.uber.com/careers/list/41060/","What You’ll Need\n \n• Master’s degree in CS or equivalent experience.\n• At least 3+ years of experience in the industry working with client-side technologies.\n• You’re interested in fully owning a data product experience, from developing novel visualization techniques to testing and ensuring robustness of the application.\n• Interest in JavaScript and the Web as a platform, reusability, componentization, and scale.\n• Interest in learning and getting better at what you do, understanding that team work is how we get there.\n ","What You’ll Need\n \n• Master’s degree in CS or equivalent experience.\n• At least 3+ years of experience in the industry working with client-side technologies.\n• You’re excited to fully own a data product experience, from developing novel visualization techniques to testing and ensuring robustness of the application.\n• Passion for JavaScript and the Web as a platform, reusability, componentization, and scale.\n• Eager to learn and get better at what you do, understanding that team work is how we get there.\n \nBonus Points If\n \n• You’re passionate about information design, and have read literature ranging from Tufte to Tamara Munzner.\n• You’re passionate about computer graphics, have worked extensively with (raw) WebGL and other graphics technologies like OpenGL, Vulkan, Metal, etc.\n• You’re passionate about Information Visualization (the field), you know what preattentive processing or Myriahedral Projections are.\n• You’ve developed your own framework(s).\n\n","?iisp=he-6594079","?iisp=he-6584079",null,"Software Engineer-Data Visualization","2018-08-13T13:59:00","2018-08-16T07:30:00","2018-08-22T14:44:00",null,null,"2018-12-14T06:46:00","Expired on 8/16/2018 7:30 AM PST, but came back alive on 9/13/2018 7:35 AM PST. Removed. Expired again on 01/02/2019 1:20 PM PST."]
["https://www.uber.com/careers/list/41042/","What You'll need\n \n• Minimum of 5 years experience as a program / project manager or engineering manager in a software, SaaS, or systems development environment.\n• Experience in BigData ecosystem, i.e. large scale Data Analytics using Hadoop, Kafka, Spark, etc.\n• Experience in machine learning systems and frameworks at scale.\n• Technical skill and an ability to understand technical designs, challenges and risks. Engineers enjoy working closely with you.\n• Experienced in project management. Familiar with both Agile and Waterfall methodologies and able to apply them where best suited.\n• Written and verbal communication skills and emotional intelligence. Ability to influence and motivate people across a broad variety of job functions through your relationships.\n• Organizational skills to handle many tasks without losing sight of the highest priority items.\n• Analytical and truth seeking. Ability to understand complex concepts and make reasoned decisions objectively.","What You'll need\n \n• Minimum of 5 years experience as a program / project manager or engineering manager in a software, SaaS, or systems development environment.\n• Experience in BigData ecosystem, i.e. large scale Data Analytics using Hadoop, Kafka, Spark, etc.\n• Experience in machine learning systems and frameworks at scale.\n• Solid technical aptitude and an ability to understand technical designs, challenges and risks. Engineers enjoy working closely with you.\n• Experienced in project management. Familiar with both Agile and Waterfall methodologies and able to apply them where best suited.\n• Excellent written and verbal communication skills and exceptional emotional intelligence. Ability to influence and motivate people across a broad variety of job functions through your relationships.\n• Strong organizational skills to juggle many tasks without losing sight of the highest priority items.\n• Analytical and truth seeking. Ability to understand complex concepts and make reasoned decisions objectively.\n\n \nBonus points if (optional):\n \n• Computer Science degree, or related field.\n• Experience in ML algorithms and techniques at scale, familiarity with deep Learning and ML frameworks and architectures.\n• Worked at a high paced, fast growing, scrappy tech startup.\n• Technical program management experience at an established company with a strong TPM team.\n• Developer experience, including writing, testing and deploying code.\n\n","?iisp=he-6594079","?iisp=he-6584079",null,"Sr Technical Program Manager - Machine Learning Platform","2018-08-13T13:59:00","2019-02-02T07:40:00",null,null,null,"2018-12-14T06:46:00"]
["https://www.uber.com/careers/list/41038/","What You’ll Need\n \n• Minimum of 4 years experience in Product Management, delivering  products and solutions as a lead or sole product contributor\n• Experience taking great products to the next level, building and iterating to growth, engagement, and business impact\n• Experience working with data, research, and growth marketing\n• Ability to work collaboratively with technical and non-technical team members up to and including the executive-level\n• Interest in Uber's mission and emerging markets (LatAM, Middle East, Africa)\n• Computer science undergraduate degree or equivalent. Technical understanding that spans all levels of abstraction and the systems you'll be building.\n• Experience building and leading businesses, including ownership and optimization of business performance metrics\n• Design sensibility. An understanding of and appreciation for good design and user experiences\n• Customer focused. The ability to take on complex product challenges and find elegant, simplifying solutions to avoid making them our users and partner's problems\n","What You’ll Need\n \n• Minimum of 4 years experience in Product Management, delivering innovative products and solutions as a lead or sole product contributor\n• Experience with building CRM systems, lead gen products a plus\n• A track record and passion for taking great products to the next level, building and iterating to growth, engagement, and business impact\n• Deep experience working with data, research, and growth marketing\n• Ability to work collaboratively with technical and non-technical team members up to and including the executive-level\n• True passion for Uber's mission and emerging markets (LatAM, Middle East, Africa)\n• Computer science undergraduate degree or equivalent. Technical understanding that spans all levels of abstraction and the systems you'll be building.\n• Experience building and leading businesses, including ownership and optimization of business performance metrics\n• Design sensibility. A deep understanding of and appreciation for good design and user experiences\n• Customer obsession. The ability to take on complex product challenges and find elegant, simplifying solutions to avoid making them our users and partner's problems\n \nBonus Points \n \nHave you worked building innovative CRM systems? This role is for you.\n\n","?iisp=he-6594079","?iisp=he-6584079",null,"Sr. Product Manager, Lead Generation & Proactive Engagement Product","2018-08-13T13:59:00","2018-11-25T07:45:00","2018-12-10T08:23:00",null,null,"2018-12-14T06:46:00"]
["https://www.uber.com/careers/list/41013/","What You’ll Need\n• BS/BA in Finance, Accounting, Economics, or similar\n• Minimum of 1 year in operational FP&A and/or Corporate Finance at either a high-growth company or a large, well-established organization\n• Excel skills - You strive for best practices, your models are efficient, scalable, and intuitive\n• Communication and people skills - numbers are key, but a business is built with people\n• Self-starter - You will take initiative, be dedicated, set and work toward goals\n• Working knowledge of GAAP\n• Systems - working knowledge of enterprise-level financial planning systems\n• Attention to detail - consistent with swift and accurate execution","What You’ll Need\n• BS/BA in Finance, Accounting, Economics, or similar\n• Minimum of 1 year in operational FP&A and/or Corporate Finance at either a high-growth company or a large, well-established organization\n• Elite Excel skills - Best practices are second-nature, your models are efficient, scalable, and intuitive\n• Excellent communication and people skills - numbers are key, but a business is built with people\n• Self-starter - You will take initiative, be dedicated, set and drive toward goals\n• Strong working knowledge of GAAP\n• Systems - working knowledge of enterprise-level financial planning systems\n• Attention to detail - consistent with swift and accurate execution\n \nBonus Points If\n• SQL skills - the ability to self-serve, investigate and get the data we require will make you much more effective in this role\n\n","?iisp=he-6594079","?iisp=he-6584079",null,"Analyst - Strategic Finance, Jump Bikes","2018-08-13T13:59:00","2018-11-07T17:30:00","2018-11-15T14:48:00",null,null,"2018-12-14T06:46:00"]
["https://www.uber.com/careers/list/40996/","What You’ll Need\n• A minimum of 3 years of industry or consulting experience in policy, risk mitigation, compliance, global operations, or related fields\n• Ability to tell clear, compelling stories out of complex issues and analysis\n• Influential with communication skills, both written and verbal\n• Analytical and data driven; interested in problem solving \n• Detail-oriented\n• Analytical skills, including SQL\n• Experience working cross-functionally and taking on multiple tasks with rapid deadlines\n• Interest in improving Uber user experience with a focus on safety","What You’ll Need\n• A minimum of 3 years of industry or consulting experience in policy, risk mitigation, compliance, global operations, or related fields\n• Ability to tell clear, compelling stories out of complex issues and analysis\n• Influential with great communication skills, both written and verbal\n• Analytical and data driven; passion for problem solving \n• You’re a details person; nothing gets past you in the fine print\n• Excellent analytical skills, including SQL\n• Experience working cross-functionally and taking on multiple tasks with rapid deadlines\n• Passion for improving Uber user experience with a focus on safety\n• International experience a plus\n• Experience with vendor engagement a plus \n• Experience in the background screening industry a plus\n\n","?iisp=he-6594079","?iisp=he-6584079",null,"Safety Screening Specialist, Safety Policy","2018-08-13T13:59:00","2019-02-06T08:05:00",null,null,null,"2018-12-14T06:46:00"]
["https://www.uber.com/careers/list/40968/","What You’ll Need\n• 4+ years of VUI design or related experience creating assistive interactions in a global software development environment\n• A portfolio of samples that demonstrate your skill and effectiveness as a VUI designer\n• Clear, precise writing\n• An interest in designing products for a global audience: not just through translation, but reimagining products so that they’re effective in cultures around the world\n• A desire to use research and metrics to discover the best approach for every context and to measure the impact of your work at furthering customer and product goals\n• A willingness to pitch ideas to cross-functional stakeholders, and an understanding of when it makes sense to push back and when it doesn't  \n• The ability to strategically prioritize multiple projects for yourself and others\n• An ability to teach the craft of conversational design to others\n• An interest in problem solving in a landscape that changes quickly: you enjoy identifying gaps in processes, inefficiencies that could be smoothed over, or things that could work better.\n ","What You’ll Need\n• 4+ years of VUI design or related experience creating assistive interactions in a global software development environment\n• A portfolio of samples that demonstrate your skill and effectiveness as a VUI designer\n• A mastery of clear, precise writing that sometimes even sings\n• A passion for designing products for a global audience: not just through translation, but reimagining products so that they’re effective in cultures around the world\n• An eagerness to use research and metrics to discover the best approach for every context and to measure the impact of your work at furthering customer and product goals\n• A willingness to pitch ideas to cross-functional stakeholders, and an understanding of when it makes sense to push back and when it doesn't  \n• The ability to strategically prioritize multiple projects for yourself and others: you'll have plenty to do, so know how to determine where your efforts will have the most impact\n• A gift for teaching the craft of conversational design to others\n• An appetite for problem solving in a landscape that changes quickly: if you like to identify gaps in processes, inefficiencies that could be smoothed over, or things that simply could work better, you'll fit right in\n\nBonus Points If\n• A degree in English, Psychology, Design, Linguistics, HCI or any area that emphasizes the analysis and use of language or narrative and systematic thinking\n• Experience with modern technologies behind modern voice-based and chat-based interactive interfaces, such as natural language processing (NLP) and machine learning.\n• Background in user experience or product design; designing for interactive or assistive experiences in other contexts is also useful, as long as you can articulate how your approach would or wouldn’t adapt to the world of apps\n• Experience writing for graphical user interfaces or other writing that’s meant to be facilitate user goals and journeys\n\n","?iisp=he-6594079","?iisp=he-6584079",null,"Senior Voice UI Designer","2018-08-13T13:59:00","2018-10-13T09:40:00","2018-10-23T06:21:00",null,null,"2018-12-14T06:46:00"]
["https://www.uber.com/careers/list/40960/","What You'll Need\n• 5+ years experience of investment banking / consulting / business intelligence / strategy or related experience; some high-growth operations or startup experience is required.\n• Communication and organizational skills\n• Leadership capabilities\n• Attention to detail and ability to handle ambiguity in an ever-changing environment\n• Data management skills - experience with SQL and Excel required\n• Bachelor’s degree required\n\n","What You'll Need\n• 5+ years experience of investment banking / consulting / business intelligence / strategy or related experience; some high-growth operations or startup experience is required.\n• Exceptional communication and organizational skills\n• Strong, demonstrated leadership capabilities - People management experience strongly preferred\n• Attention to detail and comfort with ambiguity in an ever-changing environment\n• Exceptional data management skills - SQL and Excel proficiency required\n• Bachelor’s degree required\n\n","?iisp=he-6594079","?iisp=he-6584079",null,"Senior Strategic Operations Manager - Chicago","2018-08-13T13:59:00","2018-11-09T11:50:00","2018-12-04T07:08:00",null,null,"2018-12-14T06:46:00"]
["https://www.uber.com/careers/list/40953/","What You'll Need\n \n• At least 4 years of experience as an analyst at an investment bank, private equity, consulting firm, or similar company in an analytical role\n• Analytical with financial modeling and problem solving skills\n• Oral and written communication skills\n• Familiarity collaborating with and presenting to senior executives\n• Ability to work in cross functional teams (business development, legal, finance, accounting, etc.)\n• Ability to multi-task and deal with time pressure in an unstructured environment; ability to work through uncertainty\n• Undergraduate degree, with good academic performance\n","What You'll Need\n \n• At least 4 years of experience as an analyst at a leading investment bank, private equity, consulting firm, or similar company in an analytical role\n• Highly analytical with strong financial modeling and complex problem solving skills\n• Effective oral and written communication skills\n• Familiarity collaborating with and presenting to senior executives\n• Ability to work in cross functional teams (business development, legal, finance, accounting, etc.)\n• Ability to multi-task and deal with time pressure in an unstructured environment; ability to work through uncertainty\n• Undergraduate degree from a top school, with demonstrated strong academic performance\n• SQL capability or willingness to learn is a plus\n\n","?iisp=he-6594079","?iisp=he-6584079",null,"Senior Associate, Strategy & Planning - Global Business Development","2018-08-13T13:59:00","2018-11-09T11:50:00","2018-12-04T07:08:00",null,null,"2018-12-14T06:46:00","Expired on 11/9/2018 11:50 AM PST, but came back alive on 11/21/2018  10:30:00 AM PST. Removed on 12/4/2018 7:08 AM PST. Expired on 1/04/2019 7:40:00 AM PST. "]
["https://www.uber.com/careers/list/40949/","What You’ll Need\n• Minimum of 5 years working in public accounting or on large-scale consolidations\n• Possess analytical skills (MS Excel), knowledge of accounting practices related to intercompany, business partnering, problem solving and prioritization skills\n• Individual should be able to work in a dynamic environment and be able to recommend and implement process improvements, work independently and handle multiple tasks simultaneously\n• Communication skills, both written and verbal\n\n","What You’ll Need\n• Minimum of 5 years working in public accounting or on large-scale consolidations\n• Big 4 experience and CPA certification is a plus\n• Oracle R12 and HFM experience is a plus\n• Possess excellent analytical skills (MS Excel), knowledge of accounting practices related to intercompany, business partnering, problem solving and prioritization skills\n• Individual should work well in a dynamic environment and be able to recommend and implement process improvements, work independently and handle multiple tasks simultaneously\n• Strong communication skills, both written and verbal\n\n","?iisp=he-6594079","?iisp=he-6584079",null,"Global Consolidations & Intercompany Senior Accountant","2018-08-13T13:59:00","2019-01-11T17:20:00",null,null,null,"2018-12-14T06:46:00"]
["https://www.uber.com/careers/list/40944/","What you’ll need\n• Bachelor's degree in Business Administration, Supply Chain, Manufacturing or Information Technology is required.\n• 8 - 10+ years of experience in implementation, development, process re-engineering and support of Oracle EBS R12 suite mainly on Inventory, BOM, WIP, Costing, PO, OM, etc,.\n• Experience with multitasking and prioritization of projects and support.\n• Analytical, problem solving, and troubleshooting skills to manage complex process and technology issues.\n• Understands technical issues and able to write SQL queries","What you’ll need\n• Bachelor's degree in Business Administration, Supply Chain, Manufacturing or Information Technology is required.\n• 8 - 10+ years of experience in implementation, development, process re-engineering and support of Oracle EBS R12 suite mainly on Inventory, BOM, WIP, Costing, PO, OM, etc,.\n• Proficient at multitasking and prioritization of projects and support.\n• Excellent analytical, problem solving, and troubleshooting skills to manage complex process and technology issues.\n• Understands technical issues and able to write SQL queries\n• Knowledge of Oracle tools used to support Oracle Application development including PL/SQL, SQL, APEX is a plus.\n \nBonus points if\n• Demonstrated ability to work in a team environment including the ability to work collaboratively with business users, IT staff and various levels of management; including experience working in an onshore/offshore model with different time zones\n• Attention to detail and strong personal organizational skills and able to work in fast, paced, high volume environment. Proven history of successful problem solving with strong sense of ownership\n• Excellent Verbal and Written communication skill\n\n","?iisp=he-6594079","?iisp=he-6584079",null,"Senior Oracle SCM -Systems Analyst","2018-08-13T13:59:00",{"$nulls":4},"2018-12-14T06:46:00"]
["https://www.uber.com/careers/list/40935/","What You’ll Need\n• Knowledge of revenue recognition in US GAAP under 606\n• Bachelor’s degree in Accounting or Finance\n• 3-5 years professional Accounting or Finance experience\n• Month-end close experience required\n• Microsoft Excel skills, with the ability to manipulate and digest mass amounts of data required\n• Experience with management of external consultants and shared services\n• Experience with Oracle or other large financial systems\n• Ability to work in a fast paced and constantly changing environment\n• Time and self-management skills, ability to prioritize and multitask to meet deadlines\n\n","What You’ll Need\n• Knowledge of revenue recognition in US GAAP under 606\n• Bachelor’s degree in Accounting or Finance\n• 3-5 years professional Accounting or Finance experience; Public accounting background is a plus\n• Month-end close experience required, experience with order-to-cash cycle a plus\n• Advanced Microsoft Excel skills, with the ability to manipulate and digest mass amounts of data required\n• Experience with management of external consultants and shared services\n• Experience with drafting business requirements and collaborating with Finance Engineering teams on internal accounting systems a plus\n• Experience with Oracle or other large financial systems\n• Knowledge of and basic ability to read and write SQL a bonus\n• Proven ability to succeed in a fast paced and constantly changing environment\n• Excellent time and self-management skills, ability to prioritize and multitask to meet deadlines\n\n","?iisp=he-6594079","?iisp=he-6584079",null,"Senior Revenue Accountant","2018-08-13T13:59:00","2018-08-21T09:00:00","2018-08-29T16:02:00",null,null,"2018-12-14T06:46:00"]
["https://www.uber.com/careers/list/40934/","What You’ll Need\n• Knowledge of revenue recognition in US GAAP\n• Bachelor’s degree in Accounting or Finance\n• A minimum of 3 years professional experience\n• Microsoft Excel skills, with the ability to manipulate and digest mass amounts of data required\n• Ability to work in a fast paced and constantly changing environment\n• Time and self-management skills, ability to prioritize and multitask to meet deadlines\n\n","What You’ll Need\n• Knowledge of revenue recognition in US GAAP\n• Bachelor’s degree in Accounting or Finance\n• A minimum of 3 years professional experience; Public accounting background is a plus\n• Month-end close experience preferred\n• Experience with Oracle a plus\n• Knowledge of and basic ability to read and write SQL a bonus\n• Advanced Microsoft Excel skills, with the ability to manipulate and digest mass amounts of data required\n• Proven ability to succeed in a fast paced and constantly changing environment\n• Excellent time and self-management skills, ability to prioritize and multitask to meet deadlines\n\n","?iisp=he-6594079","?iisp=he-6584079",null,"Revenue Accountant","2018-08-13T13:59:00","2018-12-15T08:50:00",null,null,null,"2018-12-14T06:46:00"]
["https://www.uber.com/careers/list/40933/","What You’ll Need:\n• BS/BA, 3 to 5 years materials experience with Production / Planning /MRP\n• Open-minded self-starter with the ability to adapt, improvise, and problem solve under pressure \n• Desire to learn and demonstrate value in a dynamic environment\n• Ability to make quick, informed decisions with 80% information\n• Communication negotiation skills\n• Written and oral communication and interpersonal skills with the ability to present to management a must\n• Ability to work independently on multiple tasks and projects, with various teams including engineering and supply chain\n• Open to travel (10-20%)\n• Must be analytical and detail oriented\n\n","What You’ll Need:\n• BS/BA, 3 to 5 years materials experience with Production / Planning /MRP\n• Open-minded self-starter with the ability to adapt, improvise, and problem solve under pressure with poise\n• Eagerness to learn and demonstrate value in a dynamic environment\n• Comfortable with making quick, informed decisions with 80% information\n• Excellent communication negotiation skills\n• Effective written and oral communication and interpersonal skills with the ability to present to management a must\n• Ability to work independently on multiple tasks and projects, with various teams including engineering and supply chain\n• Open to travel (10-20%)\n• Must be analytical and detail oriented\n \nNice to Haves:\n• Technical expertise and prior OEM management experience a plus\n• MBA a plus\n\n","?iisp=he-6594079","?iisp=he-6584079",null,"Supply Demand Operations Program Manager","2018-08-13T13:59:00","2018-08-22T14:00:00","2018-08-29T16:02:00",null,null,"2018-12-14T06:46:00"]
["https://www.uber.com/careers/list/40906/","What you'll need:\n \n \n• BA/BS degree \n• At least 3 years of experience of relevant experience\n• Ability to deliver on tight timelines and move quickly while maintaining attention to detail\n• Communication and organization skills\n• Self-driven with the ability to work in a self-guided manner\n• Resolve, willingness to engage directly and address problems hands-on\n• Analytical and data-driven with an interest in problem solving: Leverage data to make decisions without getting stuck in analysis paralysis.\n• A desire to grow and learn\n\n","What you'll need:\n \n \n• BA/BS degree (Master’s degree a plus)\n• At least 3 years of experience of relevant experience\n• Ability to deliver on tight timelines and move quickly while maintaining attention to detail\n• Superb communication and organization skills\n• Self-driven with the ability to work in a self-guided manner\n• Grittiness, willingness to to roll up sleeves and tackle problems hands-on\n• Analytical and data-driven with a passion for problem solving: Leverage data to make decisions without getting stuck in analysis paralysis.\n• A never-ending desire to grow and learn\n\n","?iisp=he-6594079","?iisp=he-6584079",null,"Associate Program Manager - Rider","2018-08-13T13:59:00","2018-08-27T15:30:00","2018-09-05T15:52:00",null,null,"2018-12-14T06:46:00"]
["https://www.uber.com/careers/list/40905/","What You’ll Need\n \n• Bachelor’s Degree in business or relevant learning program\n• Minimum 5-7 years of team management, and learning program management in high growth diverse organization where you were tasked with using data to facilitate decisions.\n• Skill and understanding of curriculum & learning program development\n• Understanding of learning principles and theory\n• Ability to present and work with key stakeholders and leadership\n• Self-starter attitude is a must\n• Understanding and ability to utilize core learning principles : Instructional Design, Micro Learning, Blended Learning, Learning Management Systems and Learning organizational strategy and design\n ","What You’ll Need\n \n• Bachelor’s Degree in business or relevant learning program\n• Minimum 5-7 years of team management, and learning program management in high growth diverse organization where you were tasked with using data to drive decisions; High growth, technology, learning management, learning strategy, business intelligence, management experience a plus. \n• Skill and understanding of curriculum & learning program development\n• Strong understanding of learning principles and theory\n• Ease in presenting and working with key stakeholders and leadership\n• The ability to self-serve, investigate and get the resources you require will make you much more effective in this role. Self-starter attitude is a must!\n• Understanding and ability to utilize core learning principles : Instructional Design, Micro Learning, Blended Learning, Learning Management Systems and Learning organizational strategy and design\n \nBonus Points if\n \n• Experience in facilitating leadership development training\n• Formal knowledge of instructional design and curriculum management\n• Master’s degree in a learning focused program\n\n","?iisp=he-6594079","?iisp=he-6584079",null,"Sr. Learning & Development Manager, Center of Excellence","2018-08-13T13:59:00","2018-08-22T14:00:00","2018-08-29T16:02:00",null,null,"2018-12-14T06:46:00","Expired on 8/22/2018 14:00 PM PST, but came back alive on 9/10/2018 3:52pm PST. Removed. Expired again on 11/19/2018 18:40 PM PST. "]
["https://www.uber.com/careers/list/40904/","What You’ll Need\n \n• Bachelor’s Degree in business or human resources, communication or other development program\n• 3 years of experience in high growth organization where you were tasked with facilitating leadership initiatives, coaching, program development and design\n• Self-starter attitude is a must\n• Understanding of core leadership principles : Problem-solving, decision-making, coaching, people management, communication, driving improvements, cultural carrier\n","What You’ll Need\n \n• Bachelor’s Degree in business or human resources, communication or other development program\n• 3 years of experience in high growth organization where you were tasked with facilitating leadership initiatives, coaching, program development and design\n• Explorer - the ability to self-serve, investigate and get the resources you require will make you much more effective in this role. Self-starter attitude is a must!\n• Understanding of core leadership principles : Problem-solving, decision-making, coaching, people management, communication, driving improvements, cultural carrier\n \nBonus Points if\n \n• Customer Service industry background\n• Instructional Design certification\n\n","?iisp=he-6594079","?iisp=he-6584079",null,"Leadership & Organization Development Manager","2018-08-13T13:59:00","2018-08-31T21:50:00","2018-09-05T15:52:00",null,null,"2018-12-14T06:46:00"]
["https://www.uber.com/careers/list/40902/","What You’ll Need\n \n• Bachelor’s Degree in business or human resources, communication or other development program\n• 3 years of experience in high growth organization where you were tasked with facilitating leadership initiatives, coaching, program development and design\n• Self-starter attitude is a must\n• Understanding of core leadership principles : Problem-solving, decision-making, coaching, people management, communication, driving improvements, cultural carrier\n \n \n\n","What You’ll Need\n \n• Bachelor’s Degree in business or human resources, communication or other development program\n• 3 years of experience in high growth organization where you were tasked with facilitating leadership initiatives, coaching, program development and design\n• Explorer - the ability to self-serve, investigate and get the resources you require will make you much more effective in this role. Self-starter attitude is a must!\n• Understanding of core leadership principles : Problem-solving, decision-making, coaching, people management, communication, driving improvements, cultural carrier\n \nBonus Points if\n \n• Customer Service industry background\n• Instructional Design certification\n \n\n","?iisp=he-6594079","?iisp=he-6584079",null,"Leadership & Organization Development Manager","2018-08-13T13:59:00","2018-08-22T14:00:00","2018-08-29T16:02:00",null,null,"2018-12-14T06:46:00"]
["https://www.uber.com/careers/list/40901/","What You'll Need\n• J.D. and license to practice law in at least one state is required.\n• Minimum of five (5) years of legal experience in law firm or in-house settings\n• Written skills and ability to present information/complex legal matters \n• Must be collaborative, and able to operate in a fast-paced environment\n• Business aptitude and ability to move quickly\n• Interest in being a key player in a rapidly growing company\n• Interest in new technologies. \n• Experience facilitating efficient and strategic use of resources, including technical groups, in-house counsel, vendors, and outside counsel\n• Flexibility to perform in nimble, and rapidly changing and growing environments; experience scaling\n• Inquisitiveness, along with the ability to spot issues, get to the heart of a matter, and articulate plans to address\n• Communication skills and experience working with business leaders\n• Collaborative approach with both business and legal groups, with ability to build relationships, gain credibility, and partner with others\n• Interested in your work and a desire to have an impact.\n• Interested in Uber\n\n","What You'll Need\n• J.D. and license to practice law in at least one state is required.\n• Minimum of five (5) years of legal experience in law firm and/or in-house settings\n• Excellent written skills and ability to present information/complex legal matters clearly, and concisely\n• Experience working for an engineering-driven technology company preferred\n• Must be confident, collaborative, and able to operate in a fast-paced environment\n• Demonstrated business aptitude and ability to move quickly\n• Appetite for being a key player in a rapidly growing company\n• Genuine interest in new technologies. Bonus points for a technical background and a willingness to get into the weeds with engineers and other clients!\n• History of driving efficient and strategic use of resources, including technical groups, in-house counsel, vendors, and outside counsel\n• Global perspective with experience in matters involving multiple nations is a plus.\n• Flexibility to perform in nimble, and rapidly changing and growing environments; adept at scaling\n• Inquisitiveness, along with the ability to spot issues, get to the heart of a matter, and articulate plans to address\n• Strong communication skills and demonstrated experience working with business leaders\n• Collaborative approach with both business and legal groups, with strong ability to build relationships, gain credibility, and partner with others\n• Passionate about your work and a desire to have a big impact.Your job will matter – you will never be bored.\n• Enthusiastic about Uber!\n\n","?iisp=he-6594079","?iisp=he-6584079",null,"Counsel, Emerging Technologies, Regulatory and Policy","2018-08-13T13:59:00","2018-11-14T12:00:00","2018-10-01T14:50:00","2018-09-05T20:00:00",null,"2018-12-14T06:46:00"]
["https://www.uber.com/careers/list/40899/","What You’ll Need\n• 3+ years of web developer experience and Javascript/CSS/HTML knowledge, have worked with modern frameworks (React, Redux) and tooling (SASS/CSS-in-JS, Webpack, npm) and are familiar with Node.js\n• You are able to communicate and collaborate with others, promoting your ideas as well as being humble when you may be wrong\n• You are interested to learn from and teach others\n• You are passionate about open source, especially when it comes to welcoming new contributors\n\n","What You’ll Need\n• 3+ years of web developer experience and strong Javascript/CSS/HTML knowledge, have worked with modern frameworks (React, Redux) and tooling (SASS/CSS-in-JS, Webpack, npm) and are familiar with Node.js\n• You are adept at communicating and collaborating effectively with others, promoting your ideas as well as being humble when you may be wrong\n• You are excited to learn from and teach others\n• You are passionate about open source, especially when it comes to welcoming new contributors\n\nBonus Points If\n• You are knowledge in Javascript typing languages/linters (Flow/TypeScript)\n• You have experience building component libraries\n• You have experience with public speaking / you’d like to give it a try\n\n","?iisp=he-6594079","?iisp=he-6584079",null,"Software Engineer, UI Platform Open Source","2018-08-13T13:59:00","2019-03-05T08:00:00",null,null,null,"2018-12-14T06:46:00"]
["https://www.uber.com/careers/list/40893/","What You'll Need\n \n• Candidates must submit a writing sample to be considered for this role: http://t.uber.com/writingsample2018\n• Written and verbal communication skills\n• Detail oriented and prioritization skills\n• Interpersonal skills and ability to establish trust with partners \n• Organized, self-driven, and able to handle a high volume of content requests  caseload\n• Optimistic leadership skills, a positive attitude, and interested in making every support interaction as a chance to impact our riders and driver partners in a positive way\n \n","What You'll Need\n \n• Candidates must submit a writing sample to be considered for this role: http://t.uber.com/writingsample2018\n• Exceptional written and verbal communication skills\n• Detail oriented and excellent prioritization skills\n• Excellent interpersonal skills and ability to establish trust with partners \n• Organized, self-driven, and comfortable handling a high volume of content requests  caseload\n• Optimistic leadership skills, an enthusiastic attitude, and passionate about making every support interaction as a chance to impact our riders and driver partners in a positive way\n \nBonus Points if\n \n• Familiarity with Confluence or other enterprise Content Management Systems (CMS)\n• Experience writing or editing copy, or developing support content \n• Experience creating flowcharts and process maps with tools, like LucidChart  \n\n","?iisp=he-6594079","?iisp=he-6584079",null,"Content Coordinator","2018-08-13T13:59:00","2018-08-18T08:00:00","2018-08-22T14:44:00",null,null,"2018-12-14T06:46:00","Expired on 8/18/2018 8:00 AM PST, but came back alive on 10/13/2018 9:40 AM PST. Removed. Expired again on 11/15/2018 17:00 PM PST. Came back alive on 12/19/2018 18:20 PM PST. "]
["https://www.uber.com/careers/list/40687/","What You’ll Need\n• BS in Computer Science or equivalent\n• 4+ years experience UX Engineering and/or Front End Engineering\n• Experience in modern web application architecture with ES6, React, Node.js, NPM, Yarn, WebPack\n• Experience shipping and maintaining a medium-large scale web application\n• Familiarity with web-based graphics - Canvas, WebGL, D3.js, Three.js\n• Software engineering skills, with the ability to make the right time vs. complexity trade-offs for rapid prototyping\n• Communication, collaboration, and stakeholder management skills\n• Ability to handle ambiguity to problem-solve in brand new domains\n• Interest in Uber's mission and products\n\n","What You’ll Need\n• BS in Computer Science or equivalent, advanced degree preferred\n• 4+ years experience UX Engineering and/or Front End Engineering\n• Experience in modern web application architecture with ES6, React, Node.js, NPM, Yarn, WebPack\n• Experience shipping and maintaining a medium-large scale web application\n• Familiarity with web-based graphics - Canvas, WebGL, D3.js, Three.js\n• Excellent software engineering skills, with the intuition to make the right time vs. complexity trade-offs for rapid prototyping\n• Excellent communication, collaboration, and stakeholder management skills\n• Ability to deal with ambiguity to problem-solve in brand new domains\n• Passion for Uber's mission and products\n\n","?iisp=he-6594079","?iisp=he-6584079",null,"Design Engineer","2018-08-13T13:59:00","2018-09-06T21:33:00","2018-10-01T14:50:00",null,null,"2018-12-14T06:46:00"]
["https://www.uber.com/careers/list/40494/","What You’ll Need\n• 7 years of finance project management, FinTech product development, and/or other relevant finance or accounting experience \n• Influencing skills and ability to interact with senior leaders\n• Communicator and can bridge effectively with leaders \n• Ability to handle multiple projects simultaneously \n• Experience with Finance domain or ERP software\n• Basic SQL query skills\n• Leadership and people management \n• skills, internal as well as vendor and partner\n• A team oriented leader and able to interface with all level of Uber employees, management, executives","What You’ll Need\n• 7 years of finance project management, FinTech product development, and/or other relevant finance or accounting experience \n• Strong influencing skills and ability to interact with senior leaders\n• Excellent Communicator and can bridge effectively with leaders \n• Ability to juggle multiple projects simultaneously \n• Experience with Finance domain or ERP software\n• Basic SQL query skills\n• Leadership and people management \n• skills, internal as well as vendor and partner\n• A team oriented leader and comfortable interfacing with all level of Uber employees, management, executives\n \nBonus Points if\n \n• Experience working with and managing globally distributed teams is preferred\n\n","?iisp=he-6594079","?iisp=he-6584079",null,"Program Manager, FinTech","2018-08-13T13:59:00","2019-01-15T09:20:00","2018-09-23T12:29:00","2018-09-11T10:21:00",null,"2018-12-14T06:46:00"]
["https://www.uber.com/careers/list/40416/","What You’ll Need\n• Resolve, and willingness to engage directly and address something hands-on; you persevere.\n• Interest in the on-demand space\n• Communication skills, both verbal and written\n• Project management skills\n• Attention to detail balanced with swift execution\n• A self-starter attitude\n• Able to challenge the status quo\n• Ability to be on call when the product is busiest (often nights, weekends, and holidays). You are responsible for realtime ops. We’ll develop automated support to help you and your team, but you will own all reliability metrics\n\n","What You’ll Need\n• Grit, and willingness to roll up your sleeves and tackle something hands-on; you persevere when others fall away.\n• Strong interest in the on-demand space\n• Great communication skills, both verbal and written\n• Exceptional project management skills\n• Analytical mindset, experience with SQL is a plus\n• Attention to detail balanced with swift execution - we need to do things quickly, and we need to do them well.\n• A self-starter attitude\n• Unafraid to challenge the status quo\n• Ability to be on call when the product is busiest (often nights, weekends, and holidays). You are responsible for realtime ops. We’ll develop automated support to help you and your team, but you will own all reliability metrics\n• Experience launching new markets is a big plus\n\n","?iisp=he-6594079","?iisp=he-6584079",null,"Senior Realtime Operations Manager - Special Projects","2018-08-13T13:59:00","2018-10-13T09:40:00","2018-10-23T06:21:00","2018-08-12T20:00:00",null,"2018-12-14T06:46:00","I gave this to David to replace on 8/13/2018; wasn't updated as of 08/14/2018 17:00:00 PM. Was updated as of 8/16/2018  2:16:00 PM PST (the push for the first round of updates). "]
["https://www.uber.com/careers/list/39074/","What You’ll Need\n• Background in graph theory, operations research or other approaches to vehicle routing: you enjoy planning how vehicles should move throughout the world.\n• Software engineering skills: you are able to read and develop production quality C++ software in a Linux environment.\n• System design skills: you are able to keep broad cross-system issues in mind and and produce designs which not only meet your immediate needs, but also integrate cleanly with an entire software stack.\n• Fast Learner: you are able to learn new technologies and create innovative solutions on a collaborative team.\n• Team Player: you believe that you can achieve more on a team. You support and encourage your teammates to excel. You rely on others’ feedback for continuous improvement.\n• Self Starter: you have a desire to take initiative and provide leadership with composure. You enjoy getting into the details, resolving problems, building things, and drawing out the best in others. You are a motivator.\n• Analytics: you have an ability to analyze test results to illustrate your solutions and build, use and configure automated reporting systems to ensure those systems’ reliability.\n \n\n","What You’ll Need\n• Strong background in graph theory, operations research or other approaches to vehicle routing: you delight in planning how vehicles should move throughout the world.\n• Excellent software engineering skills: you are comfortable reading and developing production quality C++ software in a Linux environment.\n• Excellent system design skills: you are able to keep broad cross-system issues in mind and and produce designs which not only meet your immediate needs, but also integrate cleanly with an entire software stack.\n• Fast Learner: you thrive on learning new technologies and creating innovative solutions on a collaborative team.\n• Team Player: you believe that you can achieve more on a team. You support and encourage your teammates to excel. You rely on others’ feedback for continuous improvement.\n• Self Starter: you have a desire to take initiative and provide leadership with composure. You enjoy getting into the details, resolving problems, building things, and drawing out the best in others. You are a motivator.\n• Analytics: you have an ability to analyze test results to prove your solutions and build, use and configure automated reporting systems to ensure those systems’ reliability.\n \nBonus Points If \n• Proficiency with Machine Learning systems\n• General Experience with Autonomy and Robotics\n• Proficiency with Python\n\n","?iisp=he-6594079","?iisp=he-6584079",null,"Software Engineer - Vehicle Command","2018-08-13T13:59:00","2019-04-09T21:45:00",null,null,null,"2018-12-14T06:46:00"]
["https://www.uber.com/careers/list/38678/","What You'll Need\n \n• Minimum 5 years of experience with transformational Customer Support Quality efforts\n• Experience in consulting, technology, or similar knowledge-based field\n• Ability to lead and guide initiatives to capture, develop, and disseminate knowledge leading to enhanced efficiency and organizational leverage\n• Understanding of quality metrics, and resources, as well as information architecture, data types, data structures and associated use of metadata\n• Analytical abilities; able to dig into complex data sets to help inform decisions\n• Ability to implement organization-wide programs and initiatives through collaboration across functions, geographies, and organization levels\n• Program management skills and the ability to coordinate the creation of custom databases and systems to manage Quality\n• Written, verbal, and visual communication skills, and ability to influence and gain consensus at senior levels, and explain complex concepts in simple, layman’s terms\n• Interested in internal downstream customers and external Community users\n• Available for business travel both domestic and international as needed\n• Minimum of BA/BS\n","What You'll Need\n \n• Minimum 5 years of experience with transformational Customer Support Quality efforts\n• Experience in consulting, technology, or similar knowledge-based field\n• Proven ability to lead and guide initiatives to capture, develop, and disseminate knowledge leading to enhanced efficiency and organizational leverage\n• Deep understanding of quality metrics, and resources, as well as information architecture, data types, data structures and associated use of metadata\n• Excellent analytical abilities; able to dig into complex data sets to help inform decisions\n• Effective at implementation of organization-wide programs and initiatives through collaboration across functions, geographies, and organization levels\n• Superb program management skills and the ability to coordinate the creation of custom databases and systems to manage Quality\n• Excellent written, verbal, and visual communication skills, and demonstrated ability to influence and gain consensus at senior levels, and explain complex concepts in simple, layman’s terms\n• Relentlessly passionate for internal downstream customers and external Community users\n• Available for business travel both domestic and international as needed\n \nBonus Points if\n \n• Minimum of BA/BS; MBA or graduate degree in related field preferred\n• PMP Certification – any project management certification\n• Six Sigma Certification\n\n","?iisp=he-6594079","?iisp=he-6584079",null,"Global Program Manager, CommOps Service Quality and CSAT","2018-08-13T13:59:00","2018-08-16T07:30:00","2018-08-22T14:44:00",null,null,"2018-12-14T06:46:00","Expired on 8/16/2018 7:30 AM PST, but came back alive on 8/30/2018 21:38 PM PST. Removed. \n"]
["https://www.uber.com/careers/list/38655/","What you'll need\n \n• Incredible empathy and understanding of both riders and driver partners alike\n• Ability to be an advocate for Uber's users and interest in the UBER and community experience\n• Organizational skills, integrity, and follow-through on tasks\n• Enjoyment from learning and looking for ways to innovate. You enjoy testing different support strategies and tracking results\n• Written and verbal communication skills including ability to listen; to diplomatically express opinions and voice concerns with other team members\n• Interest in helping others and creating support experiences that exceed users' expectations\n• Ability to troubleshoot problems and find speedy resolutions in high pressure situations\n• Ability to work in a team environment, contributing to a synergistic work environment where people learn from one another and continuously improve processes on behalf of users\n• Ability to work weekend and weekly evening shifts are required","What you'll need\n \n• Incredible empathy and understanding of both riders and driver partners alike\n• Ability to be an advocate for Uber's users and passion for the UBER and community experience\n• Excellent organizational skills, integrity, and follow-through on tasks\n• Enjoyment from learning and looking for ways to innovate. You enjoy testing different support strategies and tracking results\n• Excellent written and verbal communication skills including ability to listen effectively; to confidently and diplomatically express opinions and voice concerns with other team members\n• Passion for helping others and creating support experiences that exceed users' expectations\n• Ability to troubleshoot problems and find speedy resolutions in high pressure situations\n• Must work well in a team environment, contributing to a synergistic work environment where people learn from one another and continuously improve processes on behalf of users\n• Ability to work weekend and weekly evening shifts are required\n \nBonus Points\n \n• Bachelor’s Degree in Business, Communications, English or Journalism \n• Support experience in a high-volume environment, including service industries, retail, hospitality or other support environments preferred\n• Crisis counseling experience\n\n","?iisp=he-6594079","?iisp=he-6584079",null,"Community Support Representative","2018-08-13T13:59:00","2018-09-07T15:35:00","2018-10-01T14:50:00",null,null,"2018-12-14T06:46:00"]
["https://www.uber.com/careers/list/38644/","What You’ll Need\n \n• Minimum 2 years of experience in operations / investment banking / consulting / business intelligence / strategy or related experience.\n• A desire to learn, highly motivated self-starter, with an interest in learning and growing\n• A \"driver\" personality - biased toward action, collaborator and disambiguator/simplifier - striving for clarity and delivery.\n• Communicator,, the ability to engage internal and external customers\n• Prioritization\n","What You’ll Need\n \n• Minimum 2 years of experience in operations / investment banking / consulting / business intelligence / strategy or related experience; some high-growth operations or startup experience is very much preferred.\n• A desire to learn, highly motivated self-starter, with an eagerness to learn and grow\n• A \"driver\" personality - biased toward action, great collaborator and master disambiguator/simplifier - constantly pushing toward clarity and delivery.\n• Excellent communicator,, the ability to engage internal and external customers\n• Effective prioritization\n\nBonus Points if\n \n• Previous Restaurant Operations experience\n• Experience salesforce and/or US/CAD support tooling\n• SQL Proficiency highly preferred.\n\n","?iisp=he-6594079","?iisp=he-6584079",null,"Project Manager - Restaurant Orders & Accounts","2018-08-13T13:59:00","2018-08-22T14:00:00","2018-08-29T16:02:00",null,null,"2018-12-14T06:46:00"]
["https://www.uber.com/careers/list/37918/","What You’ll Need\n \n• BA/BS degree or equivalent practical experience\n• Minimum of 2 years of localization business analyst experience in high-tech industry on the client side\n• Experience with SQL\n• Excel / data management skills and creating reports\n• Experience presenting data visually and selling ideas to leadership\n• Experience handling budget and reporting\n• Interested in subjects such as experimental design, data visualization, and statistical analysis techniques.\n• Ability to navigate ambiguity, work independently and be able to chart direction of projects\n• Analytical and problem solving experience, coupled with business judgment \n• Detail-oriented, quality-focused and proactive\n• Written and verbal communication skills and the ability to manage multiple and diverse stakeholders across businesses and leadership levels\n• Ability to learn new tools/systems quickly\n• Self-directed - you can take initiative in addressing large problems head on\n• Team player\n• Interested in Uber and our mission\n","What You’ll Need\n \n• BA/BS degree or equivalent practical experience\n• Minimum of 2 years of localization business analyst experience in high-tech industry on the client side\n• Proficient in SQL\n• Exceptional Excel / data management skills and creating reports\n• Experience presenting data visually and selling ideas to leadership\n• Experience handling budget and reporting\n• Passionate about subjects such as experimental design, data visualization, and statistical analysis techniques.\n• Ability to navigate ambiguity, work independently and be able to chart direction of projects\n• Strong analytical and problem solving experience, coupled with excellent business judgment \n• Very detail-oriented, quality-focused and proactive\n• Excellent written and verbal communication skills and the ability to manage multiple and diverse stakeholders across businesses and leadership levels\n• Ability to learn new tools/systems quickly\n• Self-directed - you need to take initiative in tackling large problems head on\n• Excellent team player\n• Passionate about Uber and our mission\n \nBonus Points For\n \n• MBA degree \n• Experience in technology, management consulting, business intelligence, or investment banking sector\n• Experience with Looker, Tableau, or other data visualization software\n\n","?iisp=he-6594079","?iisp=he-6584079",null,"Localization Operations Business Analyst","2018-08-13T13:59:00","2019-01-18T09:05:00",null,null,null,"2018-12-14T06:46:00"]
["https://www.uber.com/careers/list/33993/","What you'll need\n• At least 2 years of experience in a quantitative analysis role\n• BA/BS/MS in Physics, Economics, Applied Math, Statistics, Engineering, Computer Science, or other quantitative field \n• Ability to write code and contribute to a code base in Python or R\n• Experience writing and understanding complex SQL; experience working with large data sets\n• Knowledge of experimentation and statistical methods\n• Ability to deliver on tight timelines and move quickly while maintaining attention to detail\n• Collaborate closely with cross-functional teams to execute on decisions\n• Self-driven and proactive with the ability to work in a self-guided manner\n• Communication and organization skills\n\n","What you'll need\n• At least 2 years of experience in a quantitative analysis role\n• BA/BS/MS in Physics, Economics, Applied Math, Statistics, Engineering, Computer Science, or other quantitative field (advanced degrees are a plus)\n• Comfortable writing code and contributing to a code base in Python or R\n• Proficient in writing and understanding complex SQL; experience working with large data sets\n• Advanced knowledge of experimentation and statistical methods\n• Ability to deliver on tight timelines and move quickly while maintaining attention to detail\n• Collaborate closely with cross-functional teams to execute on decisions\n• Self-driven and proactive with the ability to work in a self-guided manner\n• Excellent communication and organization skills\n\n","?iisp=he-6594079","?iisp=he-6584079",null,"Data Scientist - Driver Fleet (Seattle)","2018-08-13T13:59:00","2018-12-15T08:50:00","2018-08-29T16:02:00","2018-08-23T19:00:00",null,"2018-12-14T06:46:00"]
["https://www.uber.com/careers/list/30944/","What You’ll Need\n• Background in graph theory, operations research or other approaches to vehicle routing: you enjoy planning how vehicles should move throughout the world.\n• Software engineering skills: you are able to read and develop production quality C++ software in a Linux environment.\n• System design skills: you are able to keep broad cross-system issues in mind and and produce designs which not only meet your immediate needs, but also integrate cleanly with an entire software stack.\n• Fast Learner: you are able to learn new technologies and create innovative solutions on a collaborative team.\n• Team Player: you believe that you can achieve more on a team. You support and encourage your teammates to excel. You rely on others’ feedback for continuous improvement.\n• Self Starter: you have a desire to take initiative and provide leadership with composure. You enjoy getting into the details, resolving problems, building things, and drawing out the best in others. You are a motivator.\n• Analytics: you have an ability to analyze test results to illustrate your solutions and build, use and configure automated reporting systems to ensure those systems’ reliability.","What You’ll Need\n• Strong background in graph theory, operations research or other approaches to vehicle routing: you delight in planning how vehicles should move throughout the world.\n• Excellent software engineering skills: you are comfortable reading and developing production quality C++ software in a Linux environment.\n• Excellent system design skills: you are able to keep broad cross-system issues in mind and and produce designs which not only meet your immediate needs, but also integrate cleanly with an entire software stack.\n• Fast Learner: you thrive on learning new technologies and creating innovative solutions on a collaborative team.\n• Team Player: you believe that you can achieve more on a team. You support and encourage your teammates to excel. You rely on others’ feedback for continuous improvement.\n• Self Starter: you have a desire to take initiative and provide leadership with composure. You enjoy getting into the details, resolving problems, building things, and drawing out the best in others. You are a motivator.\n• Analytics: you have an ability to analyze test results to prove your solutions and build, use and configure automated reporting systems to ensure those systems’ reliability.\n \nBonus Points If \n• Proficiency with Machine Learning systems\n• General Experience with Autonomy and Robotics\n• Proficiency with Python\n\n","?iisp=he-6594079","?iisp=he-6584079",null,"Software Engineer - Vehicle Command","2018-08-13T13:59:00","2019-03-07T13:45:00",null,null,null,"2018-12-14T06:46:00"]
["https://www.uber.com/careers/list/40876/","What You’ll Need\n \n• 1-2 years of management experience in customer support\n• Willingness to work flexible hours in an operational 24/7 environment\n• Ability to manage, set team goals, develop people to their highest levels of performance, and guide through challenging situations\n• You don't let the stressors of the customer service industry negatively impact team attitude or morale\n• Leading by example - maintain a positive, can-do attitude and encourage others to do the same\n• Able to deliver tough feedback\n• Written and verbal communication skills\n• Optimistic leadership - you have a positive attitude and are interested in making a positive impact in our communities. You view every support interaction as a chance to impact our riders and driver partners in a positive way","What You’ll Need\n \n• Bachelor's degree or college experience preferred. 1-2 years of management experience in customer support\n• Willingness to work flexible hours in an operational 24/7 environment\n• Proven ability to manage effectively, set team goals, develop people to their highest levels of performance, and guide through challenging situations\n• You don't let the stressors of the customer service industry negatively impact team attitude or morale\n• Leading by example - maintain a positive, can-do attitude and encourage others to do the same\n• Comfortable delivering tough feedback\n• Exceptional written and verbal communication skills\n• Optimistic leadership - you have an enthusiastic attitude and are passionate about making magic for our communities. You view every support interaction as a chance to impact our riders and driver partners in a positive way\n \nBonus Points If\n \n• Experience in service, customer support, manufacturing or distribution in a high-volume and extremely fast-paced environment\n• Experience working in an operations role or event planning\n• Previous experience in logistics industry is welcome, but not needed\n\n","?iisp=he-6594079","?iisp=he-6584079",null,"Tracking Customer Service Team Lead, Special Project","2018-08-13T13:59:00","2018-08-17T07:00:00","2018-08-22T14:44:00",null,null,"2018-12-14T06:46:00"]
["https://www.uber.com/careers/list/40874/","What You'll Need\n \n• Minimum 2 years of customer support experience or relevant prior experience\n• Interpersonal skills and ability to establish trust and effective working relationships with others on an external and internal basis\n• Ability to “learn on the fly” and adjust and adapt in a dynamic, fast paced work environment \n• Commitment to excellence in behavior, performance and work product\n• Written and verbal communication skills including ability to listen; to diplomatically express opinions and voice concerns with other team members\n• Attention to detail\n• Computer and time management skills\n• Willingness to work weekends, holidays and outside a standard 8 to 5 shift","What You'll Need\n \n• Minimum 2 years of customer support experience or relevant prior experience\n• Excellent interpersonal skills and ability to establish trust and effective working relationships with others on an external and internal basis\n• Ability to “learn on the fly” and adjust and adapt in a dynamic, fast paced work environment \n• Commitment to excellence in behavior, performance and work product\n• Excellent written and verbal communication skills including ability to listen effectively; to confidently and diplomatically express opinions and voice concerns with other team members\n• High attention to detail\n• Solid computer and time management skills\n• Willingness to work weekends, holidays and outside a standard 8 to 5 shift\n \nBonus Points If\n \n• Experience in the logistics or Freight industry \n• Bachelor’s Degree in Business, Communications, English or Journalism\n\n","?iisp=he-6594079","?iisp=he-6584079",null,"Customer Service Representative - Inbound Shipper Support, Uber Freight","2018-08-13T13:59:00","2018-08-14T06:00:00","2018-08-22T14:44:00",null,null,"2018-12-14T06:46:00"]
["https://www.uber.com/careers/list/40829/","What you'll need\n• A minimum of 7 years of relevant HR experience\n• Understanding of HR programs including compensation, performance management, and leadership development.\n• Understanding of various employment laws and their impact on HR matters.\n• Experience providing HR consultation to senior leadership on strategic initiatives.\n• Ability to partner within and outside of HR, particularly from a distributed (non-HQ perspective).\n• Knowledge and experience in technology businesses including a familiarity with global HR practices and policies.\n• Integrity with presence. Influencing skills at all levels in the organization and flexibility to be proactive in a fast paced, ever changing environment. Competence in making timely, effective, principles-based decisions.\n• Tenacity and ability to build from scratch are imperative.\n• Written and verbal communication skills; must be an articulate and persuasive communicator including presentation skills; analytical and problem solving abilities.\n• Must be able to travel, including short-term assignments based upon business requirements.\n• Bachelor’s degree required.\n","What you'll need\n• A minimum of 7 years of relevant HR experience, preferably partnering with technical and/or Engineering functions.\n• Strong understanding of HR programs including compensation, performance management, and leadership development.\n• Understanding of various employment laws and their impact on HR matters.\n• A track record of providing HR consultation to senior leadership on strategic initiatives.\n• Demonstrated ability to partner within and outside of HR, particularly from a distributed (non-HQ perspective).\n• Knowledge and experience in technology businesses including a familiarity with global HR practices and policies.\n• Unquestioned integrity with assertiveness, presence, and confidence. Excellent influencing skills at all levels in the organization and extreme flexibility to be proactive in a fast paced, ever changing environment. Competence in making timely, effective, principles-based decisions.\n• Tenacity and ability to build from scratch are imperative.\n• Outstanding written and verbal communication skills; must be an articulate and persuasive communicator including excellent presentation skills; analytical and problem solving abilities.\n• Must be able to travel, including short-term assignments based upon business requirements.\n• Bachelor’s degree required;  Master’s degree preferred.\n \nBonus Points\n• Authentic leader.  You create relationships quickly. People look to you for direction and feel supported by you.\n• Self-driven. You have superior organizational skills, integrity and great follow through on tasks.\n• Naturally curious. You're innovative, extremely creative and constantly looking for ways to improve upon things.\n• Obsessive about all things People Ops. You are self-aware and well-spoken on the phone, video conferences, email and in-person. You’re respectful of the culture we’ve built and the work put in to get us this far.\n• Fun. You're a charismatic people person who can talk to anyone; you're flexible, fearless, and excited about your part in our growth.\n• Motivated. You understand the impact of a highly satisfied, excited crew; you are slightly obsessive-compulsive about grinding away at issues.\n• A utility player. You're willing to help out wherever needed.\n\n","?iisp=he-6594079","?iisp=he-6584079",null,"HR Business Partner","2018-08-13T13:59:00","2018-11-19T18:40:00","2018-12-04T07:08:00",null,null,"2018-12-14T06:46:00"]
["https://www.uber.com/careers/list/40744/","What You'll Need\n \n• A minimum of 3-5 years of legal experience at a mid to large size law firm, government regulatory entity or in-house corporate role\n• Writing, research, negotiating, and interpersonal skills\n• Oral advocacy and presentation skills \n• Experience crafting strategies to achieve ambitious regulatory goals, and advocacy in rulemaking proceedings before a regulatory body\n• Business judgment, communication and interpersonal skills\n• Experience leading and managing regulatory, compliance, and/or policy initiatives for your clients\n• Ability to multitask and carry out important projects with limited oversight\n• Good academic performance in law school\n• Ability to work in high impact/high profile situations\n• Interested in Uber\n\n","What You'll Need\n \n• A minimum of 3-5 years of legal experience at a mid to large size law firm, government regulatory entity or in-house corporate role\n• Prior experience in dealing with unique technology issues is preferred\n• Prior experience advising on regulatory risk and compliance issues in complex and heavily regulated industries is preferred\n• Outstanding writing, research, negotiating, and interpersonal skills\n• Excellent oral advocacy and presentation skills \n• Experience crafting strategies to achieve ambitious regulatory goals, and advocacy in rulemaking proceedings before a regulatory body\n• Experience before federal or state regulatory bodies (PUC, NHTSA, state DMVs) and federal is a plus\n• Experience in legislative drafting, public policy or political roles is a plus\n• Excellent business judgment, communication and interpersonal skills\n• Experience leading and managing regulatory, compliance, and/or policy initiatives for your clients\n• Ability to multitask and carry out important projects with limited oversight\n• Outstanding academic performance in law school and additional preference for joint JD/MBA holders\n• Ability to thrive in high impact/high profile situations\n• Enthusiastic about Uber!\n\n","?iisp=he-6594079","?iisp=he-6584079",null,"Associate Counsel - Regulatory (Central Ops)","2018-08-13T13:59:00","2018-10-17T15:00:00","2018-10-23T06:21:00",null,null,"2018-12-14T06:46:00"]
["https://www.uber.com/careers/list/40734/","What You’ll Need\n \n• Bachelor’s degree with 2 yrs experience or Master Degree with 1 yr experience in Economics, Math, Computer Science, Statistics, Management Science or other quantitative field.\n• Data, statistics, and analytical skills with a grasp of SQL. \n• An interest in working together in order to solve the hardest problems\n• Communication and organization skills \n• Minimum 4 years experience in functional and configuration including project implementation involvement \n• Understanding and possess skills in AR, Credit & Cash Applications and manage risk to production systems \n• Knowledge of Customer and Material master data knowledge \n• AR Cash Applications, Credit, Collections experience\n ","What You’ll Need\n \n• Bachelor’s degree with 2 yrs experience or Master Degree with 1 yr experience in Economics, Math, Computer Science, Statistics, Management Science or other quantitative field.\n• Strong data, statistics, and analytical skills with a good grasp of SQL. Experience with Hive & Presto is a plus.\n• A passion for hacking things together in order to solve the hardest problems\n• Strong communication and organization skills \n• Minimum 4 years experience in functional and configuration including project implementation involvement \n• Understanding and possess in depth skills in AR, Credit & Cash Applications and manage risk to production systems \n• In depth knowledge of Customer and Material master data knowledge \n• In depth AR Cash Applications, Credit, Collections experience\n \nBonus Points If\n \n• You understand how to execute, build, and get things done with limited resources\n• Highradius/Getpaid/Creditpoint software, c-foria experience a plus\n• You have experience with OLAP tools eg., Oracle, TM1, Hyperion etc.\n• You have exposure to machine learning\n \n\n","?iisp=he-6594079","?iisp=he-6584079","FIXED - typos in last 2 bullets","Cash Application & Collections Analyst","2018-08-13T13:59:00","2018-10-29T08:30:00","2018-11-07T11:33:00",null,null,"2018-12-14T06:46:00"]
["https://www.uber.com/careers/list/40731/","What You’ll Need\n \n• 2 or more years of Insurance claims experience\n• Computer skills required to navigate in a paperless environment\n• Technical claim knowledge - coverage, liability\n• Communication skills\n• The ability to adapt in a fast paced environment\n• Flexible schedule that may include evenings or weekends\n\n","What You’ll Need\n \n• 2 or more years of Insurance claims experience, preferably in Commercial Auto or General Liability claims, with a strong preference for candidates that have experience in complex coverage, liability and/or represented \n• Experience with process implementation, workflow improvement, or program management is a plus\n• Bachelor’s degree preferred, but not required\n• Proficient computer skills required to navigate in a paperless environment; Experience with Google Docs, Sheets, Forms, or Excel is a ++\n• Technical claim knowledge - coverage, liability\n• Excellent communication skills\n• The ability to adapt in a fast paced environment\n• Flexible schedule that may include evenings or weekends\n\n","?iisp=he-6594079","?iisp=he-6584079",null,"Claims Process and Programs Specialist","2018-08-13T13:59:00","2018-09-25T17:00:00","2018-10-01T14:50:00",null,null,"2018-12-14T06:46:00"]
["https://www.uber.com/careers/list/40724/","What you'll need\n• Bachelor's degree in Computer Science, Mathematics, Statistics, Finance, or related technical field\n• 3+ years of years of SQL Programming\n• Experience in BI projects converting business needs to reporting requirements\n• Experience identifying and communicating analytical outcomes in person and in writing to both business and technical teams\n• Experience in Data Profiling, Data Analysis, Data Discovery and Source to Target mapping documentation.\n• Project management skills and ability to prioritize issues\n• Balance attention to detail with swift execution\n• Experience translating complex and technical subject matter\n• Ability to work in conditions, which include multiple and sometime conflicting priorities\n• Team player. You rely on others' candid feedback for continuous improvement\n• Interest in Uber","What you'll need\n• Bachelor's degree in Computer Science, Mathematics, Statistics, Finance, or related technical field\n• 3+ years of years of SQL Programming\n• Experience in BI projects converting business needs to reporting requirements\n• Experience identifying and communicating analytical outcomes in person and in writing to both business and technical teams\n• Experience in Data Profiling, Data Analysis, Data Discovery and Source to Target mapping documentation.\n• Excellent project management skills and ability to prioritize issues\n• Balance attention to detail with swift execution\n• Demonstrated experience translating complex and technical subject matter\n• Ability to work in conditions, which include multiple and sometime conflicting priorities\n• Team player. You rely on others' candid feedback for continuous improvement\n• Enthusiasm about Uber! \n\nBonus Points If\n• Previous experience in Product Analytics and Master Data Management\n• Strong understanding of software development life cycle and/or agile development environment with emphasis on BI practices\n• Both technically deep and business savvy enough to interface with all levels and disciplines within the organization\n• Demonstrated ability to coordinate projects across functional teams\n• Experience with big data frameworks such as Hive and Presto\n\n","?iisp=he-6594079","?iisp=he-6584079",null,"Business Intelligence Analyst / Business Analyst","2018-08-13T13:59:00","2018-10-02T10:15:00","2018-10-08T12:55:00",null,null,"2018-12-14T06:46:00"]
["https://www.uber.com/careers/list/40723/","What you'll need\n• Bachelor's degree in Computer Science, Mathematics, Statistics, Finance, or related technical field\n• 5+ years of years of relevant professional work experience in analytics, data engineering, business intelligence, market research or related field with global operations\n• Experience gathering business requirements, using industry standard business intelligence tools to extract data, formulate metrics and build reports\n• Experience using advanced SQL (OLAP, CTE etc) and databases in a business environment with large-scale, big data, complex datasets\n• Experience with analytical software (such as R, SAS, Micro Strategy, Qlik, Power BI, Tableau, etc.)\n• Experience identifying and communicating analytical outcomes in person and in writing to both business and technical teams\n• Communication skills, organized, able to multitask and be a teammate\n• Balance attention to detail with swift execution\n• Experience translating complex and technical subject matter\n• Ability to work in conditions, which include multiple and sometime conflicting priorities\n• Interest in Uber\n\n","What you'll need\n• Bachelor's degree in Computer Science, Mathematics, Statistics, Finance, or related technical field\n• 5+ years of years of relevant professional work experience in analytics, data engineering, business intelligence, market research or related field with global operations\n• Experience gathering business requirements, using industry standard business intelligence tools to extract data, formulate metrics and build reports\n• Experience using advanced SQL (OLAP, CTE etc) and databases in a business environment with large-scale, big data, complex datasets\n• Experience with analytical software (such as R, SAS, Micro Strategy, Qlik, Power BI, Tableau, etc.)\n• Experience identifying and communicating analytical outcomes in person and in writing to both business and technical teams\n• Great communication skills, organized, able to multitask and be a great teammate\n• Balance attention to detail with swift execution\n• Demonstrate experience translating complex and technical subject matter\n• Ability to work in conditions, which include multiple and sometime conflicting priorities\n• Enthusiasm about Uber!\n\nBonus Points If\n• Master’s Degree\n• Previous experience in product analytics\n• Previous experience in safety or insurance\n• Experience surfacing automated insights using descriptive analytics\n• Experience in BI projects converting business needs to data warehousing and reporting solutions\n• Both technically deep and business savvy enough to interface with all levels and disciplines within the organization\n• Demonstrated ability to coordinate projects across functional teams\n• Experience writing ETL scripts in python or any other language \n\n","?iisp=he-6594079","?iisp=he-6584079",null,"Senior Business Intelligence Analyst","2018-08-13T13:59:00","2018-12-15T08:50:00","2018-10-30T07:19:00","2018-10-22T14:46:00",null,"2018-12-14T06:46:00"]
["https://www.uber.com/careers/list/40720/","What You'll Need:\n• 6+ years experience of investment banking / consulting / business intelligence / strategy or related experience\n\n• Bachelor's degree required\n \n• Analytical Rigor: Critical thinking and problem solving skills heavily utilizing data as a foundation for decision making\n \n• Communication Skills: You are a clear and concise communicator with the ability to synthesize a lot of information quickly, highlight the key takeaways, and disseminate actionable insights\n \n• High Bar: A high bar across the board from your own contributions to the people you work with to the products you work on\n \n• Technical Skills: Excel and data management skills\n\n","What You'll Need:\n• 6+ years experience of investment banking / consulting / business intelligence / strategy or related experience; some high-growth operations or startup experience is strongly preferred\n \n• Bachelor's degree required, MBA a plus\n \n• Analytical Rigor: Strong critical thinking and problem solving skills heavily utilizing data as a foundation for decision making\n \n• Exceptional Communication Skills: You are a clear and concise communicator with the ability to synthesize a lot of information quickly, highlight the key takeaways, and disseminate actionable insights\n \n• High Bar: A high bar across the board from your own contributions to the people you work with to the products you work on\n \n• Advanced Technical Skills: Exceptional Excel and data management skills; SQL proficiency strongly preferred\n\n","?iisp=he-6594079","?iisp=he-6584079",null,"Senior Strategic Operations Manager - Seattle","2018-08-13T13:59:00","2018-10-08T14:30:00","2018-10-16T07:51:00",null,null,"2018-12-14T06:46:00"]
["https://www.uber.com/careers/list/40702/","What You’ll Need\n• Minimum 2 years experience uses data to facilitate pricing decisions\n• Minimum 1 year experience in a pricing management role\n• Experience with Excel\n\n","What You’ll Need\n• Minimum 2 years experience uses data to drive pricing decisions\n• Minimum 1 year experience in a pricing management role\n• Knowledge of RFP cycles preferred \n• Advanced in Excel\n• SQL experience a plus\n\n","?iisp=he-6594079","?iisp=he-6584079",null,"Strategic Pricing Associate - Uber Freight","2018-08-13T13:59:00","2018-08-22T14:00:00","2018-08-29T16:02:00",null,null,"2018-12-14T06:46:00"]
["https://www.uber.com/careers/list/40697/","What You’ll Need\n \n• Analytics : Excel & Google Sheets experience necessary\n• Presentation: experience in creating and presenting slides required\n• Entrepreneurial: quick to take ownership of your work areas\n• Problem Solver: someone who enjoys the challenges of tough, ambiguous problems\n","What You’ll Need\n \n• Analytics : Excel & Google Sheets proficiency necessary\n• Presentation: proficiency in creating and presenting slides required\n• Entrepreneurial: quick to take ownership of your work areas\n• Problem Solver: someone who is excited by the challenges of tough, ambiguous problems\n \nBonus Points If\n• Leadership and / or people management experience a plus\n• Basic to intermediate SQL knowledge\n\n","?iisp=he-6594079","?iisp=he-6584079",null,"Uber Eats Senior Operations Manager, Restaurants","2018-08-13T13:59:00","2018-11-21T10:30:00","2018-09-05T15:52:00",null,"2018-08-29T16:30:00","2018-12-14T06:46:00"]
["https://www.uber.com/careers/list/40693/","What You’ll Need\n• Analytics : Excel & Google Sheets experience necessary\n• Presentation: experience in creating and presenting slides required\n• Entrepreneurial: quick to take ownership of your work areas\n• Problem Solver: someone who enjoys the challenges of tough, ambiguous problems\n","What You’ll Need\n• Analytics : Excel & Google Sheets proficiency necessary\n• Presentation: proficiency in creating and presenting slides required\n• Entrepreneurial: quick to take ownership of your work areas\n• Problem Solver: someone who is excited by the challenges of tough, ambiguous problems\n\nBonus Points If\n• Leadership and / or people management experience a plus\n• Basic to intermediate SQL knowledge\n\n","?iisp=he-6594079","?iisp=he-6584079",null,"Uber Eats Operations Manager, Restaurants","2018-08-13T13:59:00","2019-01-25T06:50:00","2018-09-05T15:52:00",null,"2018-08-29T16:30:00","2018-12-14T06:46:00"]
["https://www.uber.com/careers/list/40689/","What You’ll Need\n• Problem solving skills with ability to support decisions with data\n• Ability to work across time zones and maturity to manage performance of remote COE teams\n• Entrepreneurial spirit and bias for developing practical approaches with frequent incremental wins at an accelerated pace\n• Interest in process development, optimization and continuous improvements\n• Cross-functional communication and organization skills\n• Excel / data management skills and SQL experience \n \n","What You’ll Need\n• Strong problem solving skills with keen ability to support decisions with data\n• Ability to work across time zones and maturity to manage performance of remote COE teams\n• Entrepreneurial spirit and bias for developing practical approaches with frequent incremental wins at an accelerated pace\n• Passion for process development, optimization and continuous improvements\n• Stellar cross-functional communication and organization skills\n• Exceptional Excel / data management skills and SQL proficiency\n \n \nBonus Points If\n• Familiarity with a scripting language\n\n","?iisp=he-6594079","?iisp=he-6584079",null,"Uber Eats Operations Manager, Marketplace","2018-08-13T13:59:00","2019-01-30T07:30:00",null,null,null,"2018-12-14T06:46:00"]
["https://www.uber.com/careers/list/40686/","What You’ll Need\n \n• 2+ years of operations management experience; 1+ of those years in investment banking / consulting / business intelligence / strategy or related experience\n• Thinks big (and out of the box) to facilitate step changes in our growth and innovation strategy\n• Analytical skills and the ability to solve problems logically\n• Bias toward action and disambiguator/simplifier - striving for clarity and execution\n• Collaborator and someone who proactively partners across teams while holding them accountable for business results\n• Excel / data management skills\n• Project management skills\n\n","What You’ll Need\n \n• 2+ years of operations management experience; 1+ of those years in investment banking / consulting / business intelligence / strategy or related experience; some high-growth operations or startup experience is strongly preferred\n• Thinks big (and out of the box) to drive step changes in our growth and innovation strategy\n• Strong analytical skills and the ability to solve problems logically\n• Bias toward action and master disambiguator/simplifier - constantly pushing toward clarity and execution\n• Great collaborator and someone who proactively partners across teams while holding them accountable for business results\n• Exceptional Excel / data management skills\n• Strong project management skills\n• SQL proficiency strongly preferred\n• People management skills a plus\n\n","?iisp=he-6594079","?iisp=he-6584079",null,"Uber Eats Operations Manager, Marketplace","2018-08-13T13:59:00","2019-02-01T06:20:00",null,null,null,"2018-12-14T06:46:00"]
["https://www.uber.com/careers/list/40684/","What You’ll Need\n• 5+ years of operations management experience; 3+ of those years in investment banking / consulting / business intelligence / strategy or related experience\n• Analytical mindset and experience with Excel\n• Knowledge of SQL or ability to quickly gain expertise in SQL\n• Data-driven decision making mentality, business judgment, and the ability to back your analysis up with analytical thinking\n","What You’ll Need\n• 5+ years of operations management experience; 3+ of those years in investment banking / consulting / business intelligence / strategy or related experience; some high-growth operations or startup experience is strongly preferred\n• Highly analytical mindset and proficiency in Excel\n• Knowledge of SQL or ability to quickly gain expertise in SQL\n• Data-driven decision making mentality, sound business judgment, and the ability to back your analysis up with meaningful analytical thinking\n• Other skills that are a plus:\no Thinks big (and out of the box) to drive step changes in our growth and innovation strategy\no Bias toward action and master disambiguator/simplifier - constantly pushing toward clarity and execution\no Great collaborator and someone who proactively partners across teams while holding them accountable for business results\no Strong project management skills\n\n","?iisp=he-6594079","?iisp=he-6584079",null,"Uber Eats Senior Regional Operations Manager, Cities & Launch","2018-08-13T13:59:00","2018-11-12T19:45:00","2018-12-04T07:08:00",null,null,"2018-12-14T06:46:00"]
["https://www.uber.com/careers/list/40682/","What You’ll Need\n• Communication and project management skills\n• Excel / data management skills\n• A “driver” personality - biased toward action, collaborator and simplifier - striving for clarity and delivery\n• Self-motivated, works independently and possesses organization and time management skills\n\n","What You’ll Need\n• Exceptional communication and project management skills\n• Strong Excel / data management skills\n• SQL proficiency is a big plus\n• A “driver” personality - biased toward action, great collaborator and master simplifier - constantly pushing toward clarity and delivery\n• Self-motivated, works independently and possesses strong organization and time management skills\n\n","?iisp=he-6594079","?iisp=he-6584079",null,"Uber Eats Senior Operations Manager, Courier","2018-08-13T13:59:00","2019-01-26T07:05:00",null,null,null,"2018-12-14T06:46:00"]
["https://www.uber.com/careers/list/40681/","What You’ll Need\n• Communication and project management skills\n• Excel / data management skills\n• A “driver” personality - biased toward action, collaborator and simplifier - striving for clarity and delivery\n• Self-motivated, works independently and possesses organization and time management skills\n\n","What You’ll Need\n• Exceptional communication and project management skills\n• Strong Excel / data management skills\n• SQL proficiency is a big plus\n• A “driver” personality - biased toward action, great collaborator and master simplifier - constantly pushing toward clarity and delivery\n• Self-motivated, works independently and possesses strong organization and time management skills\n\n","?iisp=he-6594079","?iisp=he-6584079",null,"Uber Eats Operations Manager, Courier","2018-08-13T13:59:00","2019-01-26T07:05:00",null,null,null,"2018-12-14T06:46:00"]
["https://www.uber.com/careers/list/40677/","What You’ll Need\n• Communication and project management skills\n• Excel / data management skills\n• A “driver” personality - biased toward action, collaborator and simplifier - striving for clarity and delivery\n• Self-motivated, works independently and possesses organization and time management skills\n\n","What You’ll Need\n• Exceptional communication and project management skills\n• Strong Excel / data management skills\n• SQL proficiency is a big plus\n• A “driver” personality - biased toward action, great collaborator and master simplifier - constantly pushing toward clarity and delivery\n• Self-motivated, works independently and possesses strong organization and time management skills\n\n","?iisp=he-6594079","?iisp=he-6584079",null,"Uber Eats Operations Manager, Courier","2018-08-13T13:59:00","2019-01-30T07:30:00",null,null,null,"2018-12-14T06:46:00"]
["https://www.uber.com/careers/list/40651/","What You’ll Need\n \n• Experience leading major site-focused programs and projects in a fast paced technology environment\n• Experience in scaling and forecasting growth in an engineering site\n• A desire for continuous improvement, working to build upon previous successes, and looking to make it better next time\n• Optimistic, problem solving attitude when facing challenges\n• Real world experience in project management and program management\n• Communication skills and the ability to align with internal and external partners\n• Organizational skills, following through objectives and commitments \n• An interest in Uber\n\n","What You’ll Need\n \n• A Bachelor's degree and/or an understanding of engineering concepts is preferred\n• Demonstrated success in leading major site-focused programs and projects in a fast paced technology environment\n• Experience in scaling and forecasting growth in an engineering site\n• An insatiable appetite for continuous improvement, working to build upon previous successes, and always creatively looking to make it better next time\n• Optimistic, problem solving attitude when facing challenges\n• Real world experience in project management and program management\n• Strong communication skills and the ability to align with internal and external partners\n• Superior organizational skills, diligently following through objectives and commitments \n• A passion for Uber!\n\n","?iisp=he-6594079","?iisp=he-6584079",null,"Engineering Site Program Manager","2018-08-13T13:59:00","2018-09-12T08:22:00","2018-09-23T12:29:00",null,null,"2018-12-14T06:46:00"]
["https://www.uber.com/careers/list/40622/","What You’ll Need\n• BS/BA or MS/MA in Finance, Accounting, Engineering, Economics, or similar with good academic record\n• Minimum 4 years in (Investment) Banking / Consulting / Accounting / Corporate Finance or operational FP&A\n• Excel skills: you have experience with Excel.  You strive for best practices, your models are efficient, scalable, and intuitive. You can handle complexity but strive for simplicity.\n• Attention to detail, balanced with swift execution\n• Communication and people skills: you have to build relationships with many stakeholders, both inside and outside of the Finance organization\n• Team player: this is a highly collaborative and supportive team environment, and your team will be dispersed across the US and the Globe","What You’ll Need\n• BS/BA or MS/MA in Finance, Accounting, Engineering, Economics, or similar with excellent academic record\n• Minimum 4 years in (Investment) Banking / Consulting / Accounting / Corporate Finance or operational FP&A\n• Elite Excel skills: you're an expert with Excel.  Best practices are second-nature, your models are efficient, scalable, and intuitive. You can handle extreme complexity but strive for beautiful simplicity.\n• Attention to detail, balanced with swift execution: we need to do things quickly and we need to do them well.  Balancing those can be challenging and this should be a strength of yours\n• Excellent communication and people skills: you have to build relationships with many stakeholders, both inside and outside of the Finance organization\n• Team player: this is a highly collaborative and supportive team environment, and your team will be dispersed across the US and the Globe\n\n\nBonus Points If\n• Financial systems: a working knowledge of enterprise-level financial planning systems will give you a headstart\n• SQL skills: the ability to self-serve, investigate and get the data we require will make you much more effective in this role\n• Presentation skills: knowing how to structure effective presentations will increase your impact\n\n","?iisp=he-6594079","?iisp=he-6584079",null,"Sr Associate - Strategic Finance, US & Canada Rides Finance","2018-08-13T13:59:00","2019-01-30T07:30:00",null,null,null,"2018-12-14T06:46:00"]
["https://www.uber.com/careers/list/40603/","What You'll Need\n\n\n• BS/BA in Finance, Accounting, Economics, or similar\n• Minimum of 5 years in Corporate Finance/Operational FP&A at either a high-growth company or a large, well-established organization with a focus in Infrastructure Finance\n• Excel / financial modeling skills\n• Attention to detail combined with swift execution\n• Communication (written and verbal) and relationship building skills - numbers are key, but a business is built with people\n• The ability to distill complex analyses and nuanced problems into simple, logical frameworks with concrete action plans\n• Emotional intelligence and communication are required in our fast-moving environment\n• Standout colleague - this is a highly collaborative and supportive team environment\n• Entrepreneurial self-starter - You will take initiative, be optimistic and resourceful, set and work toward solutions / goals in a fast-paced, rapidly-evolving environment","What You'll Need\n\n\n• BS/BA in Finance, Accounting, Economics, or similar\n• Minimum of 5 years in Corporate Finance/Operational FP&A at either a high-growth company or a large, well-established organization with a focus in Infrastructure Finance\n• Extraordinary Excel / financial modeling skills\n• Attention to detail combined with swift execution\n• Excellent communication (written and verbal) and relationship building skills - numbers are key, but a business is built with people\n• The ability to distill complex analyses and nuanced problems into simple, logical frameworks with concrete action plans\n• High emotional intelligence and adept communication are required in our fast-moving environment\n• Standout colleague - this is a highly collaborative and supportive team environment\n• Entrepreneurial self-starter - You will take initiative, be enthusiastic and resourceful, set and drive toward solutions / goals in a fast-paced, rapidly-evolving environment\n \nBonus Points If\n \n• Prior experience in Cloud or Data Center Infrastructure finance\n• Systems - working knowledge of enterprise-level financial planning systems\n\n","?iisp=he-6594079","?iisp=he-6584079",null,"Sr Associate - Strategic Finance, Infrastructure Finance (Capacity Planning)","2018-08-13T13:59:00","2018-11-07T17:30:00","2018-11-15T14:48:00",null,null,"2018-12-14T06:46:00"]
["https://www.uber.com/careers/list/40515/","What you need:\n• 5+ years of product management experience.\n• An interest in data, metrics and the way they inform the business.\n• Experience working cross-functionally not just with engineers and data scientists, but with operational & business teams, local and remote.\n• A desire to improve the lives of our riders and drivers using technology.\n ","What you need:\n• 5+ years of product management experience.\n• A love of data, metrics and the way they inform the business.\n• Experience working cross-functionally not just with engineers and data scientists, but with operational & business teams, local and remote.\n• A desire to improve the lives of our riders and drivers using technology.\n \nBonus points if:\n• You have experience with 2-sided marketplaces. \n• You have experience with control systems, spatio-temporal problems, and/or high-frequency trading systems.\n• You have experience with different modeling paradigms including statistical models, bayesian, machine learning and frameworks like TensorFlow or PyTorch. \n \n\n","?iisp=he-6594079","?iisp=he-6584079",null,"Sr Product Manager - Marketplace - Forecasting","2018-08-13T13:59:00","2018-08-22T14:00:00","2018-08-29T16:02:00",null,null,"2018-12-14T06:46:00"]
["https://www.uber.com/careers/list/40837/","What You’ll Need\n \n• Be a team player\n• Ability to operate under pressure\n• Ability to learn and adapt to new technology\n• Motivator (self and others)\n\n","What You’ll Need\n \n• Be a team player\n• Ability to operate under pressure\n• Comfort with learning and adapting to new technology\n• Great motivator (self and others)\n \n \nBonus Points if\n• You speak multiple languages (Spanish, Portuguese, Mandarin)  \n• You have worked in customer service \n• You are personable, highly organized, and a patient teacher\n• You have a passion for helping and empowering others\n\n","?iisp=he-6594079","?iisp=he-6584079",null,"Uber Expert, In-Person Support - Boston (Saugus)","2018-08-13T13:59:00","2018-10-31T11:20:00","2018-11-07T11:33:00",null,null,"2018-12-14T06:46:00"]
["https://www.uber.com/careers/list/40790/","What You’ll Need\n• Bachelor's degree in computer science, business or other relevant discipline required. \n• 10+ years of experience in operations, consulting or other relevant field.\n• People management experience and cross functional collaboration skills\n• Focus on organization and attention to detail are critical\n• Verbal and written communications skills\n• Ability to handle ambiguity and ability to facilitate results\n• Startup, all-hands-on-deck approach\n\n","What You’ll Need\n• Bachelor's degree in computer science, business or other relevant discipline required. \n• 10+ years of experience in operations, consulting or other relevant field.\n• People management experience and strong cross functional collaboration skills\n• Experience collaborating with product and engineering teams preferred\n• Payments and banking systems knowledge preferred\n• Focus on organization and attention to detail are critical\n• Exceptional verbal and written communications skills\n• Comfort with ambiguity and ability to drive results\n• Startup, all-hands-on-deck approach\n\n","?iisp=he-6594079","?iisp=he-6584079",null,"Senior Manager, Partner Payments","2018-08-13T13:59:00","2018-08-15T08:00:00","2018-08-22T14:44:00",null,null,"2018-12-14T06:46:00"]
["https://www.uber.com/careers/list/40690/","What You’ll Need\n \n• 3+ years of operations management experience; 3+ of those years in investment banking / consulting / business intelligence / strategy or related experience\n• People management skills and track record\n• Thinks big (and out of the box) to facilitate step changes in our growth and innovation strategy\n• Analytical skills and the ability to solve problems logically\n• Bias toward action and disambiguator/simplifier - striving for clarity and execution\n• Collaborator and someone who proactively partners across teams while holding them accountable for business results\n• Excel / data management skills\n• Project management skills\n\n","What You’ll Need\n \n• 3+ years of operations management experience; 3+ of those years in investment banking / consulting / business intelligence / strategy or related experience; some high-growth operations or startup experience is strongly preferred\n• Strong people management skills and proven track record\n• Thinks big (and out of the box) to drive step changes in our growth and innovation strategy\n• Strong analytical skills and the ability to solve problems logically\n• Bias toward action and master disambiguator/simplifier - constantly pushing toward clarity and execution\n• Great collaborator and someone who proactively partners across teams while holding them accountable for business results\n• Exceptional Excel / data management skills\n• Strong project management skills\n• SQL proficiency strongly preferred\n\n","?iisp=he-6594079","?iisp=he-6584079",null,"Uber Eats Senior Operations Manager, Marketplace","2018-08-13T13:59:00","2018-11-06T11:00:00","2018-11-15T14:48:00",null,null,"2018-12-14T06:46:00"]
["https://www.uber.com/careers/list/40683/","What You’ll Need\n• 5+ years of operations management experience; 3+ of those years in investment banking / consulting / business intelligence / strategy or related experience\n• Thinks big (and out of the box) to facilitate step changes in our growth and innovation strategy\n• Analytical skills and the ability to solve problems logically\n• Bias toward action and disambiguator/simplifier - striving for clarity and execution\n• Collaborator and someone who proactively partners across teams while holding them accountable for business results\n• Excel / data management skills\n• Project management skills\n\n","What You’ll Need\n• 5+ years of operations management experience; 3+ of those years in investment banking / consulting / business intelligence / strategy or related experience; some high-growth operations or startup experience is strongly preferred\n• Thinks big (and out of the box) to drive step changes in our growth and innovation strategy\n• Strong analytical skills and the ability to solve problems logically\n• Bias toward action and master disambiguator/simplifier - constantly pushing toward clarity and execution\n• Great collaborator and someone who proactively partners across teams while holding them accountable for business results\n• Exceptional Excel / data management skills\n• Strong project management skills\n• SQL proficiency strongly preferred\n \n\n","?iisp=he-6594079","?iisp=he-6584079",null,"Uber Eats Senior Operations Manager, Cities & Launch","2018-08-13T13:59:00","2019-02-04T09:50:00",null,null,null,"2018-12-14T06:46:00"]
["https://www.uber.com/careers/list/40649/","What You'll Need\n• Be capable of performing system/design/software FMEAs, FTAs, or other risk assessments\n• Have interest beyond implementing according to standard procedures\n• Be familiar with principles of safety critical system design and validation\n• Understand methods of statistical analysis\n• Have creativity, practicality, and maturity in approaching safety on a project\n• Have an ability to move fast and achieve results\n• Able to work in non-traditional environments \n• Have experience working on systems with a significant software component\n ","What You'll Need\n• Be capable of performing system/design/software FMEAs, FTAs, or other risk assessments\n• Have interest beyond implementing according to standard procedures\n• Be familiar with principles of safety critical system design and validation\n• Understand methods of statistical analysis\n• Have demonstrated creativity, practicality, and maturity in approaching safety on a project\n• Have a confirmed ability to move fast and achieve results\n• Be comfortable in non-traditional environments -- will be highly beneficial to have worked with startups, in a student project team, or in a dynamic skunkworks division\n• Have demonstrated experience working on systems with a significant software component\n \nBonus Points If\n• Working on sophisticated automated vehicles and/or other robotic or cyber-physical systems\n• Collaborating with hardware/software engineering teams to understand and implement system safety concepts\n• Assessing risk and making/defending smart analyses\n• Adapting traditional standard safety processes to rare new technology applications\n• Tailoring functional safety standards such as ISO 26262 to highly automated driving\n• Applying standards/principles such as IEC 61508, DO-178, STPA, ALARA, etc. from another industry (e.g., aerospace, defense, medical) to a new domain\n• You flourish with learning new technologies, pivot easily but thoughtfully to new ideas, and don’t believe in one-size-fits-all solutions.\n• Versatile standout colleague - You are willing to adapt to whatever role is most needed in a given moment, and you rely on others' candid feedback for continuous improvement\n• Passionate - You feel ownership over everything you work on, and you hold yourself to higher standards and expectations than your current leader does\n• Business savvy - You understand requirements beyond the written word and how your technical contributions will influence the viability of future products\n\n","?iisp=he-6594079","?iisp=he-6584079",null,"Systems Engineer","2018-08-13T13:59:00","2018-10-10T08:30:00","2018-08-22T14:44:00","2018-08-13T17:00:00",null,"2018-12-14T06:46:00"]
["https://www.uber.com/careers/list/40648/","What You’ll Need\n• Familiar with system architecture diagrams, concept of operations documents, ICDs, APIs, requirements management processes, and system verification plans\n• Understand how to assess risks, weigh potential trade-offs, and generate an analysis of alternative solutions when required\n• Differentiate between meaningful and unimportant issues and help others do the same\n• Continually craft a systems engineering framework to be complementary to, and augmented by, rapid system prototyping iterations happening in parallel\n• Communicate with external partners thoughtfully and with deference to intellectual property and business relationship considerations\n• Have an ability to move fast and the confidence to innovate where industry standard methodologies come up short","What You’ll Need\n• Be fluent in system architecture diagrams, concept of operations documents, ICDs, APIs, requirements management processes, and system verification plans\n• Understand how to assess risks, weigh potential trade-offs, and swiftly generate an insightful analysis of alternative solutions when required\n• Differentiate between meaningful and unimportant issues and help others do the same\n• Continually craft a systems engineering framework to be complementary to, and augmented by, rapid system prototyping iterations happening in parallel\n• Communicate with external partners thoughtfully and with deference to intellectual property and business relationship considerations\n• Have a confirmed ability to move fast and the confidence to innovate where industry standard methodologies come up short\n \nBonus Points If\n• Product systems engineering responsibilities or a prior product/program manager role requiring strong technical background in an engineering discipline\n• Success at a startup, within an Agile development process, as a member of a dynamic skunkworks division, or in another non-traditional engineering environment\n• Effective adaptation of standard systems engineering processes to unusual new technology applications\n• Familiarity with sophisticated, safety-critical software within automotive or another industry (e.g., aerospace, defense, medical, transportation)\n• Exposure to automotive functional safety standards such as ISO 26262\n• Regular collaboration, in person and via video conference, with international business partners\n• You flourish with learning new technologies, pivot easily but thoughtfully to new ideas, and don’t believe in one-size-fits-all solutions.\n• Versatile teammate - You are willing to adapt to whatever role is most needed in a given moment, and you rely on others' candid feedback for continuous improvement\n• Passionate - You feel ownership over everything you work on, and you hold yourself to higher standards and expectations than your current leader does\n• Business savvy -You understand requirements beyond the written word and how your technical contributions will influence the viability of future products\n\n","?iisp=he-6594079","?iisp=he-6584079",null,"Sr Systems Engineer","2018-08-13T13:59:00","2018-12-19T18:20:00","2018-08-22T14:44:00","2018-08-13T17:00:00",null,"2018-12-14T06:46:00"]
["https://www.uber.com/careers/list/40634/","What You’ll Need\n \n• At least 6+ years of relevant experience\n• Bachelor's degree in Finance, Accounting, or similar\n• International tax operations knowledge and familiarity of tax issues for a multinational company operating globally\n• Experience with ASC 740\n• Organizational, technical, analytical, problem solving skills and attention to detail\n• Ability to guide and inspire a team\n• Written and verbal communication and interpersonal skills\n• Experience with Microsoft Excel and Word, and research programs (i.e. RIA, BNA)\n• Ability to balance multiple priorities and meet deadlines\n\n","What You’ll Need\n \n• At least 6+ years of relevant experience\n• Bachelor's degree in Finance, Accounting, or similar\n• CPA and/or Master's in Taxation preferred\n• Excellent international tax operations knowledge and familiarity of tax issues for a multinational company operating globally\n• Experience with ASC 740\n• Excellent organizational, technical, analytical, problem solving skills and attention to detail\n• Ability to effectively guide and inspire a team\n• Excellent written and verbal communication and interpersonal skills\n• Proficiency in Microsoft Excel and Word, and research programs (i.e. RIA, BNA)\n• Ability to balance multiple priorities and meet deadlines\n\n","?iisp=he-6594079","?iisp=he-6584079",null,"Manager, Internal Tax Reporting","2018-08-13T13:59:00","2018-11-27T15:30:00","2018-12-10T08:23:00",null,null,"2018-12-14T06:46:00"]
["https://www.uber.com/careers/list/40628/","What You’ll Need\n \n• Minimum of five years experience as a security engineer\n• Experience in systems engineering or as a site reliability engineer at a organization with significant traffic or transaction volume\n• Experience implementing monitoring and alerting for systems\n• Experience with one high-level compiled programming language (Java, C++, etc)\n• Experience with one high-level scripting language (Python, JavaScript, Ruby, SQL, etc)\n• Experience with Puppet, Nagios\n• Experience in Linux environment, knowledge of internals and fundamentals\n• BS in Computer Science, Computer Engineering or closely related degree","What You’ll Need\n \n• Minimum of five years experience as a security engineer\n• Experience in systems engineering or as a site reliability engineer at a organization with significant traffic or transaction volume\n• Experience implementing monitoring and alerting for systems\n• Experience with at least one high-level compiled programming language (Java, C++, etc)\n• Experience with at least one high-level scripting language (Python, JavaScript, Ruby, SQL, etc)\n• Experience with Puppet, Nagios\n• Experience in Linux environment, knowledge of internals and fundamentals\n• BS in Computer Science, Computer Engineering or closely related degree\n \nBonus Points If…\n \n• MS/PhD in Computer Science or related degree\n• Experience with forensic collection of disk imaging, memory, and other sources\n• Experience with OS Scripting languages (Bash, PowerShell, etc)\n• Experience with Chef, Splunk, PagerDuty, M3QL\n• Prior work experience as a security incident responder\n\n","?iisp=he-6594079","?iisp=he-6584079",null,"Sr. Security Engineer - Detection Platform","2018-08-13T13:59:00","2018-11-03T19:35:00","2018-10-01T14:50:00","2018-09-05T20:00:00",null,"2018-12-14T06:46:00"]
["https://www.uber.com/careers/list/40627/","What You'll Need\n• At least 2 years of experience\n• Bachelor’s degree required\n• Leadership on projects and initiatives at your organization\n• Attention to detail and able to handle ambiguity in an ever-changing environment\n\n","What You'll Need\n• At least 2 years of experience\n• Bachelor’s degree required\n• Preference given to those already proficient in SQL, Excel, and data analysis\n• Demonstrated leadership on projects and initiatives at your organization\n• Attention to detail and comfort with ambiguity in an ever-changing environment\n\n","?iisp=he-6594079","?iisp=he-6584079",null,"Strategic Operations Manager - Chicago","2018-08-13T13:59:00","2018-11-09T11:50:00","2018-12-04T07:08:00",null,null,"2018-12-14T06:46:00"]
["https://www.uber.com/careers/list/40625/","What You’ll Need\n• BS degree in Computer Science, engineering or other related field. \n• A minimum of 5 years of related experience in Technology Procurement.\n• Able to influence in matrixed capacity and build business partnerships.\n• Ability, interest, and self-driven to do what it takes to deliver results.\n• Problem solving, critical thinking, and organizational, interpersonal & motivational skills.\n\n","What You’ll Need\n• BS degree in Computer Science, engineering or other related field.  CPM a Plus.\n• Experience as an engineer, in an IT or Engineering department is helpful but not required.\n• A minimum of 5 years of related experience in Technology Procurement.\n• Able to influence in matrixed capacity and build strong business partnerships.\n• Ability, interest, and self-driven to do what it takes to deliver truly world class results.\n• Excellent problem solving, critical thinking, and organizational, interpersonal & motivational skills.\n\n","?iisp=he-6594079","?iisp=he-6584079",null,"Technology Commodity Manager","2018-08-13T13:59:00","2018-11-17T11:35:00","2018-12-04T07:08:00",null,null,"2018-12-14T06:46:00"]
["https://www.uber.com/careers/list/40624/","What you'll need\n \n• Understanding of HR programs including compensation, performance management, and talent development\n• Ability to partner within and outside of HR\n• Resourceful, creative, self-starter\n• Tenacity and interest in making an impact \n• Approachable, responsive, and able to connect with employees at all levels\n• Foundation in HR concepts and principles\n• Problem-solving skills; ability to make decisions independently in a fast-paced environment \n• Integrity; resolve, presence, and judgment. Influencing skills at all levels in the organization and flexibility to be proactive in a fast-paced, ever changing environment. Ability to make timely, effective, ethics-based decisions.\n• Written and verbal communication skills; must be an articulate and persuasive communicator including presentation skills; analytical and problem solving abilities.\n\n","What you'll need\n \n• Bachelor’s degree in an HR-related field or equivalent applicable experience preferred\n• 3 years experience in an HR role or 5 years of work experience preferred\n• Deep understanding of HR programs including compensation, performance management, and talent development\n• Demonstrated ability to partner within and outside of HR\n• Resourceful, creative, self-starter\n• Tenacity and passion about making an impact \n• Approachable, responsive, and able to connect with employees at all levels\n• Strong foundation in HR concepts and principles\n• Strong problem-solving skills; ability to make decisions independently in a fast-paced environment \n• Unquestioned integrity; resolve, presence, and judgment. Strong influencing skills at all levels in the organization and flexibility to be proactive in a fast-paced, ever changing environment. Proficiency in making timely, effective, ethics-based decisions.\n• Outstanding written and verbal communication skills; must be an articulate and persuasive communicator including excellent presentation skills; analytical and problem solving abilities.\n\n","?iisp=he-6594079","?iisp=he-6584079",null,"Associate HR Business Partner- ATG","2018-08-13T13:59:00","2018-09-12T08:22:00","2018-09-23T12:29:00",null,null,"2018-12-14T06:46:00"]
["https://www.uber.com/careers/list/40486/","What You’ll Need\n• Minimum of 5+ years of experience managing an operations and/or team of analysts\n• Ability to build and scale a team \n• Excel and SQL skills to monitor KPIs and business health\n• Communication and organizational skills\n• The ability to balance attention to detail with swift execution\n• Bachelor's Degree\n","What You’ll Need\n• Minimum of 5+ years of experience managing an operations and/or team of analysts\n• Experience in freight industry with shippers and carriers preferred\n• Demonstrated ability to build and scale a team \n• Excel and SQL skills to monitor KPIs and business health\n• Strong communication and organizational skills\n• The ability to balance attention to detail with swift execution - we need to do things quickly, and we need to do them well\n• Bachelor's Degree, MBA or relevant masters degree a plus\n\n","?iisp=he-6594079","?iisp=he-6584079",null,"Powerloop Program Manager, Uber Freight","2018-08-13T13:59:00","2018-09-18T11:21:00","2018-08-29T16:02:00","2018-08-20T15:30:00",null,"2018-12-14T06:46:00"]
["https://www.uber.com/careers/list/39837/","What you’ll need\n\n• 1-3 years of experience as a data scientist at a company with global operations\n• Experience with R and Python\n• Experience with machine learning techniques and analytics (e.g. time series, econometrics, mathematical optimization).\n• SQL skills - able to work with very large data sets.\n• Communication skills, organized, able to multitask and be a team player\n• Balance attention to detail with swift execution \n• Desire to learn complex topics \n• Interest in Uber\n\n","What you’ll need\n\n• 1-3 years of experience as a data scientist at a company with global operations\n• Expertise with R and Python\n• Experience with machine learning techniques and advanced analytics (e.g. time series, econometrics, mathematical optimization).\n• Prior knowledge of Bayesian statistical modeling highly preferred\n• Advanced SQL skills - comfortable working with very large data sets.\n• Experience with big data using technologies like Hadoop, Hive, and Spark a plus.\n• Previous experience in marketing tech is a plus\n• Great communication skills, organized, able to multitask and be a team player\n• Balance attention to detail with swift execution \n• Hunger and drive to learn complex topics \n• Enthusiasm about Uber!\n\n","?iisp=he-6594079","?iisp=he-6584079",null,"Data Scientist - Global Forecasting and Planning, AdTech","2018-08-13T13:59:00","2019-03-11T22:20:00",null,null,null,"2018-12-14T06:46:00"]
["https://www.uber.com/careers/list/38681/","What You’ll Need\n• Experience building highly scalable, cloud-based, full-stack data platforms\n• Computer science undergraduate degree or equivalent\n• Minimum 8 years product management experience delivering innovative software products\n• Verbal and written communication skills, with experience leading presentations to executives and large groups of people\n• Experience leading, recruiting, and mentoring teams of product managers\n• Experience with a variety of development processes, including agile / lean startup\n• Interest in Uber’s mission and self-driving vehicles","What You’ll Need\n• Experience building highly scalable, cloud-based, full-stack data platforms\n• Computer science undergraduate degree or equivalent\n• Minimum 8 years product management experience delivering highly successful, innovative, and delightful software products\n• Exceptional verbal and written communication skills, with experience leading presentations to executives and large groups of people\n• Experience leading, recruiting, and mentoring teams of product managers\n• Experience with a variety of development processes, including agile / lean startup\n• Deep passion for Uber’s mission and self-driving vehicles\n \nBonus Points If\n• Experience with autonomous systems of any kind \n• Experience building machine learning based products\n• Masters or PhD in computer science or equivalent field (with focus on big data, artificial intelligence)\n• Professional experience as a software engineer\n\n","?iisp=he-6594079","?iisp=he-6584079",null,"Product Manager - Data Platforms, Self-Driving","2018-08-13T13:59:00","2018-09-17T17:50:00","2018-10-01T14:50:00",null,null,"2018-12-14T06:46:00"]
["https://www.uber.com/careers/list/40375/","What You’ll Need\n \n• BS or MS in Computer/Information Science or Engineering.\n• 2+ years professional experience as a Software Engineer.\n• Understanding of a high level programming language such as Go, Java, C# or C++.\n• Experience with building backend services.\n• Experience working with database technologies (relational or NoSQL).\n• Willingness to work on end-to-end feature development, including frontend, backend and database.","What You’ll Need\n \n• BS or MS in Computer/Information Science or Engineering.\n• 2+ years professional experience as a Software Engineer.\n• Solid understanding of a high level programming language such as Go, Java, C# or C++.\n• Experience with building backend services.\n• Experience working with database technologies (relational or NoSQL).\n• Strong willingness to work on end-to-end feature development, including frontend, backend and database.\n\nBonus Points If\n \n• You have prior experience working on features end-to-end, including frontend, backend and database.\n• You have prior experience with client-side technologies such as Javascript, React or Redux.\n• You have worked on large-scale microservices based distributed systems.\n• You have worked in a team that follows agile software engineering practices (scrum/kanban)\n\n","?iisp=he-6594079","?iisp=he-6584079",null,"Software Engineer - Fleets Engineering","2018-08-13T13:59:00","2019-02-14T19:10:00",null,null,null,"2018-12-14T06:46:00"]
["https://www.uber.com/careers/list/38629/","What You’ll Need\n \n• Must have a BS/BA with at least 3+ years of relevant experience\n• Experience with project management and asset management tools (e.g., JIRA, Confluence, Box, Google Drive, etc.)\n• Self-directed and takes initiative in addressing problems big and small\n• Team player with experience working cross-collaboratively with multiple stakeholders\n• Written, verbal, and visual communication skills\n• Organizational, time management, and prioritization skills\n• Experience with learning management systems (LMS) or similar systems","What You’ll Need\n \n• Must have a BS/BA with at least 3+ years of relevant experience\n• Proficiency with project management and asset management tools (e.g., JIRA, Confluence, Box, Google Drive, etc.)\n• Self-directed and takes initiative in tackling problems big and small\n• Excellent team player with experience working cross-collaboratively with multiple stakeholders\n• Clear and effective written, verbal, and visual communication skills\n• Superior organizational, time management, and prioritization skills\n• Experience in education, learning & development, training, instructional design desired\n• Experience with learning management systems (LMS) or similar systems\n \nBonus Points if\n \n• Experience working in an Agile or Product team\n• Experience with elearning content authoring tools (e.g., Captivate, Articulate, etc.)\n• Experience working in a customer service environment (business process outsourcing, call centers, etc.)\n• Experience in digital graphic design \n\n","?iisp=he-6594079","?iisp=he-6584079",null,"Learning Experience Project Manager","2018-08-13T13:59:00","2019-03-12T20:22:00","2018-08-22T14:44:00","2018-08-14T17:00:00",null,"2018-12-14T06:46:00"]
["https://www.uber.com/careers/list/35393/","What You’ll Need\n \n• Minimum 3 years of experience in operations / investment banking / consulting / business intelligence / strategy or related experience.\n• A desire to learn, motivated self-starter, with an interest in learning and growing\n• A \"driver\" personality - biased toward action, collaborator and disambiguator/simplifier - striving for clarity and delivery.\n• Communicator,, the ability to engage internal and external customers\n• Prioritization\n\n","What You’ll Need\n \n• Minimum 3 years of experience in operations / investment banking / consulting / business intelligence / strategy or related experience; some high-growth operations or startup experience is very much preferred.\n• A desire to learn, highly motivated self-starter, with an eagerness to learn and grow\n• A \"driver\" personality - biased toward action, great collaborator and master disambiguator/simplifier - constantly pushing toward clarity and delivery.\n• Excellent communicator,, the ability to engage internal and external customers\n• Effective prioritization\n\nBonus Points if\n \n• Previous Restaurant Operations experience\n• Experience salesforce and/or US/CAD support tooling\n• SQL Proficiency highly preferred.\n\n","?iisp=he-6594079","?iisp=he-6584079",null,"Operations Manager US/CAN, Restaurant Support Program","2018-08-13T13:59:00","2018-08-22T14:00:00","2018-08-29T16:02:00",null,null,"2018-12-14T06:46:00"]
["https://www.uber.com/careers/list/40544/","What You’ll Need\n• Minimum 3 years leading or contributing to complex projects involving cross-functional teams\n• Minimum 3 years of business development or sales experience \n• Written and oral communication skills\n• Listening, communication and organizational skills.\n• Ability to multi-task and follow through while paying attention to detail\n• Coachability, interest in implementing feedback, and dedication to improvement of your craft\n• Curiosity about people and business and an interest in JUMP\n• A positive attitude and desire to win; hard work and determination\n• Desire to build and maintain long-term professional relationships\n• Adaptability to change in a fast-paced environment\n• Ability to travel nationally up to 50% of the time\n ","What You’ll Need\n• Minimum 3 years leading or contributing to complex projects involving cross-functional teams\n• Minimum 3 years of business development and/or sales experience \n• Strong written and oral communication skills\n• Exceptional listening, communication and organizational skills.\n• Proven ability to multi-task and follow through while paying strict attention to detail\n• Coachability, interest in implementing feedback, and dedication to improvement of your craft\n• Genuine curiosity about people and business and a passion for JUMP\n• An infectiously positive attitude and drive to win; hustle and determination\n• Desire to build and maintain long-term professional relationships\n• Adaptability to change in a fast-paced environment\n• Ability to travel nationally up to 50% of the time\n \n \nBonus Points If\n \n• Prior experience in bike share system operations or management\n• Strong demonstrated commitment to multimodal transportation\n \n\n","?iisp=he-6594079","?iisp=he-6584079",null,"Business Development Associate, JUMP","2018-08-13T13:59:00","2018-09-14T20:34:00","2018-09-23T12:29:00",null,null,"2018-12-14T06:46:00"]
["https://www.uber.com/careers/list/40490/","What you’ll need\n \n• 2-4 years of experience as a copywriter for an advertising agency or in-house for a global brand. \n• A portfolio showcasing applicable projects. \n• Editing skills. \n• An understanding of how design and copy work together. \n• Organization skills; you can manage your time and prioritize your workload. \n• An ability to make complex marketing programs and products sound simple. \n• An ability to adapt to a new tone of voice, helping to define and move it forward. \n• An ability to work in a fast paced environment, collaborating with a broad in-house team. \n• Experience conceiving of campaign ideas, collaborating with design and brand teams. \n• Experience managing your own workload efficiently. \n• Familiarity with Google Docs and Slides. \n\n","What you’ll need\n \n• 2-4 years of experience as a copywriter for an advertising agency or in-house for a global brand. \n• A portfolio showcasing applicable projects. \n• Degree in marketing, communications or journalism a plus. \n• Ecommerce/retail experience a plus. \n• Strong editing skills. \n• A good understanding of how design and copy work together. \n• Organization skills; you can effectively manage your time and prioritize your workload. \n• An ability to make complex marketing programs and products sound simple. \n• An ability to adapt to a new tone of voice, helping to define and push it forward. \n• An ability to work in a fast paced environment, collaborating with a broad in-house team. \n• Experience conceiving of campaign ideas, collaborating with design and brand teams. \n• A track record managing your own workload efficiently. \n• Familiarity with Google Docs and Slides. \n\n","?iisp=he-6594079","?iisp=he-6584079",null,"CRM Copywriter","2018-08-13T13:59:00","2018-10-26T15:35:00","2018-11-07T11:33:00",null,null,"2018-12-14T06:46:00"]
["https://www.uber.com/careers/list/40501/","What You’ll Need\n• 7+ years working on intercompany transactions between domestic and international entities in industry.\n• Communication skills, both written and verbal.\n\n","What You’ll Need\n• 7+ years working on intercompany transactions between domestic and international entities in industry.\n• Big 4 experience and CPA certification is a plus.\n• Oracle R12 experience and Oracle AGI (Advanced Global Intercompany) experience is highly preferred.\n• HFM experience is highly preferred.\n• Strong communication skills, both written and verbal.\n\n","?iisp=he-6594079","?iisp=he-6584079",null,"Intercompany Accounting Manager","2018-08-13T13:59:00","2018-10-03T12:22:00","2018-10-08T12:55:00",null,null,"2018-12-14T06:46:00"]
["https://www.uber.com/careers/list/40484/","What You’ll Need\n \n• Bachelor and/or Master’s degree in Business, Economics, or other business operations focus\n• 5+ years of management consulting, operations, finance or other analytical related experience. \n• Quantitative analysis experience in one analytical tool. Fluency with spreadsheets is a minimum.\n• Stakeholder management skills with the ability to influence \n• Data-driven and analytical - you’re able to translate data and insights into a story to facilitate strategy, action, and decision-making at an executive level\n• Self-starter attitude - you pursue your work and enjoy the responsibility of being personally empowered\n• Curiosity - you're innovative, creative, and you look for opportunities to tweak and optimize\n• Communication skills - you have the ability to communicate information in a clear and concise manner\n• Partnership skills - you are supportive, you are able to listen to and influence others\n\n","What You’ll Need\n \n• Bachelor and/or Master’s degree in Business, Economics, or other business operations focus\n• 5+ years of management consulting, operations, finance or other analytical related experience. People Analytics experience in a high-growth or tech environment a plus\n• Strong quantitative analysis expertise in one or more analytical tools. Fluency with spreadsheets is a minimum; SQL, Python, R a plus\n• Strong stakeholder management skills with the ability to influence effectively\n• Data-driven and highly analytical - you’re able to translate data and insights into a meaningful story to drive strategy, action, and decision-making at an executive level\n• Self-starter attitude - you boldly pursue your work and love the responsibility of being personally empowered\n• Curiosity - you're innovative, creative, and constantly looking for opportunities to tweak and optimize\n• Communication skills - you have the ability to communicate information in a clear and concise manner\n• Partnership skills - you are supportive, you are able to listen to and influence others\n\n","?iisp=he-6594079","?iisp=he-6584079",null,"Senior People Analytics Business Partner","2018-08-13T13:59:00","2018-09-11T08:20:00","2018-09-23T12:29:00",null,null,"2018-12-14T06:46:00"]
["https://www.uber.com/careers/list/40482/","What You’ll Need\n \n• Minimum 5 years experience working in business development or sales and contributing to complex projects involving cross-functional teams\n• Written and verbal communication skills\n• Experience managing contract negotiation and administration\n• Listening, communication and organizational skills\n• Ability to travel nationally up to 50% of the time\n• Ability to multi-task and follow through while paying attention to detail\n• Coachability, interest in implementing feedback, and dedication to improvement of your craft\n• Curiosity about people and business and an interest in JUMP\n• A positive attitude and desire to win\n• Desire to build and maintain long-term professional relationships\n• Adaptability in a fast-paced environment\n ","What You’ll Need\n \n• Minimum 5 years experience working in business development and/or sales and contributing to complex projects involving cross-functional teams\n• Strong written and verbal communication skills\n• Experience managing contract negotiation and administration\n• Exceptional listening, communication and organizational skills\n• Ability to travel nationally up to 50% of the time\n• Proven ability to multi-task and follow through while paying attention to detail\n• Coachability, interest in implementing feedback, and dedication to improvement of your craft\n• Genuine curiosity about people and business and a passion for JUMP\n• An infectiously positive attitude and drive to win\n• Desire to build and maintain long-term professional relationships\n• Adaptability in a fast-paced environment\n \n\nBonus Points If\n\n• Prior experience in bike share system operations or management\n• Strong demonstrated commitment to multimodal transportation\n\n","?iisp=he-6594079","?iisp=he-6584079",null,"Senior Business Development Associate, JUMP","2018-08-13T13:59:00","2019-01-17T08:50:00",null,null,null,"2018-12-14T06:46:00"]
["https://www.uber.com/careers/list/40444/","What You’ll Need\n• 5-7 years of software delivery project management experience and managing teams through technology implementations\n• Experience of delivering results in high pressure environments using standard project management techniques and disciplines\n• Experience with technology implementation, across both Agile and Waterfall methods, and working across Business and Technology groups\n• Ability to adapt and evolve methodologies and procedures to continually improve the delivery method and support channels\n• Ability to demonstrate Uber core behaviors\n• Ability to handle multiple projects simultaneously\n• Team oriented and able to interface with all level of Uber employees, management, executives","What You’ll Need\n• 5-7 years of software delivery project management experience and managing teams through technology implementations\n• Proven experience of delivering results in high pressure environments using standard project management techniques and disciplines\n• Proven experience with technology implementation, across both Agile and Waterfall methods, and working across Business and Technology groups\n• Strong aptitude to adapt and evolve methodologies and procedures to continually improve the delivery method and support channels\n• Ability to consistently demonstrate Uber core behaviors\n• Ability to juggle multiple projects simultaneously\n• Team oriented and comfortable interfacing with all level of Uber employees, management, executives\n\nBonus Points If\n• Accounting and Finance background\n• Oracle experience\n• Experience with Finance domain or ERP software\n• Basic SQL query skills\n• Google Gmail, Docs, Slides, Calendar, Drive and Sheets\n\n","?iisp=he-6594079","?iisp=he-6584079",null,"RPA Solution Architect","2018-08-13T13:59:00","2018-09-06T21:33:00","2018-10-01T14:50:00",null,null,"2018-12-14T06:46:00","Expired on 8/13/2018 13:59 PM PST, but came back alive on 10/16/2018 13:00 PM PST. Removed. Expired again on 12/13/2018 7:20am PST.\n"]
["https://www.uber.com/careers/list/40442/","What You’ll Need\n• 6-8 years of program management or leadership experience including managing IT project portfolios\n• Hands-on experience designing and implementing RPA solutions using tools such as BluePrism, Automation Anywhere, etc.\n• Knowledge about various software delivery lifecycle (SDLC) models\n• PMP certification\n• Ability to demonstrate Uber core behaviors\n• Influencing skills and ability to interact with senior leaders\n• Communicator and can bridge effectively with leaders\n• Ability to handle multiple projects simultaneously\n• Team oriented and able to interface with all level of Uber employees, management, executives\n\n","What You’ll Need\n• 6-8 years of program management or leadership experience including managing IT project portfolios\n• Hands-on experience designing and implementing RPA solutions using tools such as BluePrism, Automation Anywhere, etc.\n• Knowledge about various software delivery lifecycle (SDLC) models\n• PMP certification\n• Ability to consistently demonstrate Uber core behaviors\n• Strong influencing skills and ability to interact with senior leaders\n• Excellent Communicator and can bridge effectively with leaders\n• Ability to juggle multiple projects simultaneously\n• Team oriented and comfortable interfacing with all level of Uber employees, management, executives\n\nBonus Points If\n• Accounting and Finance background\n• Oracle experience\n• Experience with Finance domain or ERP software\n• Basic SQL query skills\n• Google Gmail, Docs, Slides, Calendar, Drive and Sheets\n\n","?iisp=he-6594079","?iisp=he-6584079",null,"COE Program Manager","2018-08-13T13:59:00","2018-08-23T17:00:00","2018-08-29T16:02:00",null,null,"2018-12-14T06:46:00"]
["https://www.uber.com/careers/list/40440/","What you’ll need\n\n• 1-3 years of experience as a data scientist at a company with global operations\n• Experience with R and Python\n• SQL skills - able to work with very large data sets\n• Experience with A/B Testing, machine learning techniques and advanced analytics (e.g. regression, classification, clustering, time series, econometrics) \n• Statistics knowledge\n• Communication skills, organized, able to multitask and be a team player\n• Balance attention to detail with swift execution \n• Desire to learn complex topics \n• Interest in Uber \n\n","What you’ll need\n\n• 1-3 years of experience as a data scientist at a company with global operations\n• Expertise with R and Python\n• Advanced SQL skills - comfortable working with very large data sets\n• Experience with A/B Testing, machine learning techniques and advanced analytics (e.g. regression, classification, clustering, time series, econometrics) \n• Strong statistics knowledge; ability to explain marketing analytics models (such as MMM) to key stakeholders preferred\n• Experience with big data using technologies like Hadoop, Hive, and Spark a plus.\n• Previous experience in advertising tech is a plus\n• Great communication skills, organized, able to multitask and be a team player\n• Balance attention to detail with swift execution \n• Hunger and drive to learn complex topics \n• Enthusiasm about Uber!\n\n","?iisp=he-6594079","?iisp=he-6584079",null,"Data Scientist, Marketing Analytics, Web Analytics & Experimentation","2018-08-13T13:59:00","2019-01-11T17:20:00","2018-08-22T14:44:00","2018-08-17T15:30:00",null,"2018-12-14T06:46:00"]
["https://www.uber.com/careers/list/40437/","What You’ll Need \n \n• 10 years of experience in delivering large complex operations transformation initiatives\n• Hands-on experience designing and implementing RPA solutions using tools such as BluePrism, Automation Anywhere, etc.\n• Experience in and familiarity with tools and solutions across the cognitive spectrum\n• Knowledge about various software delivery lifecycle (SDLC) models\n• Ability to manage and inspire a team by assigning goals and responsibilities, assisting with technical questions and issues, provide guidance on day-to-day and project activities with a positive outlook, assess strengths and weaknesses, provide constructive feedback, and mentor for career growth.\n• Organization skills with attention to detail and completeness\n• Ability to manage and prioritize multiple complex cross-functional projects given competing priorities and perspectives, and ensure that deadlines are met\n• Problem-solving, critical thinking, deductive reasoning, and analytical skills, resulting in recommendations for process improvement and issue resolution\n• Hands-on, work ethic and can-do attitude.  Ability to adapt and change when needed\n• Communication skills and ability to articulate key information and status to stakeholders\n• Ability to work in a fast paced and evolving environment\n \n\n","What You’ll Need \n \n• 10 years of experience in delivering large complex operations transformation initiatives\n• Hands-on experience designing and implementing RPA solutions using tools such as BluePrism, Automation Anywhere, etc.\n• Experience in and familiarity with tools and solutions across the cognitive spectrum\n• Knowledge about various software delivery lifecycle (SDLC) models\n• Ability to manage and inspire a team by assigning goals and responsibilities, assisting with technical questions and issues, provide guidance on day-to-day and project activities with a positive outlook, assess strengths and weaknesses, provide constructive feedback, and mentor for career growth.\n• Excellent organization skills with attention to detail and completeness\n• Ability to manage and prioritize multiple complex cross-functional projects given competing priorities and perspectives, and ensure that deadlines are met\n• Excellent problem-solving, critical thinking, deductive reasoning, and analytical skills, resulting in solid recommendations for process improvement and issue resolution\n• Hands-on, strong work ethic and can-do attitude.  Ability to adapt and change when needed\n• Strong communication skills and ability to articulate key information and status to stakeholders\n• Ability to work in a fast paced and evolving environment\n \nBonus Points If\n \n• Accounting and Finance background\n• Experience with Finance domain or ERP software\n• Google Gmail, Docs, Slides, Calendar, Drive and Sheets\n \n\n","?iisp=he-6594079","?iisp=he-6584079",null,"COE Lead","2018-08-13T13:59:00","2018-08-31T21:50:00","2018-09-05T15:52:00",null,null,"2018-12-14T06:46:00"]
["https://www.uber.com/careers/list/40427/","What you'll need\n• Bachelor's degree in Accounting or Finance\n• 5+ years professional experience, with at least 2 years relevant month-end close experience\n• Teammate, you have the ability to work independently and willingness to take on challenges\n• Ability to interact with all departments and levels throughout our organization\n• Time management skills, ability to prioritize and multitask\n","What you'll need\n• Bachelor's degree in Accounting or Finance\n• 5+ years professional experience, with at least 2 years relevant month-end close experience\n• Great teammate, you have the ability to work independently and willingness to take on challenges\n• Ability to interact with all departments and levels throughout our organization\n• Excellent time management skills, ability to prioritize and multitask\n• Experience with Oracle R12 or another large scale ERP is preferred\n• CPA preferred\n\n","?iisp=he-6594079","?iisp=he-6584079",null,"Accounting Manager, Insurance","2018-08-13T13:59:00","2018-10-30T11:50:00","2018-11-07T11:33:00",null,null,"2018-12-14T06:46:00"]
["https://www.uber.com/careers/list/40411/","What You’ll Need\n• 5+ years of relevant experience.\n• A willingness to pitch ideas to cross-functional stakeholders and an understanding of when it makes sense to push back. \n• Ability to strategically prioritize multiple projects. \n• An ability to express your ideas clearly in writing. \n• An interest in problem solving in a landscape that changes quickly. You enjoy identifying gaps in processes, inefficiencies that could be smoothed over, or things that could work better.","What You’ll Need\n• 5+ years of relevant experience.\n• A willingness to pitch ideas to cross-functional stakeholders and an understanding of when it makes sense to push back. \n• Ability to strategically prioritize multiple projects. You'll have plenty to do—know where your efforts will have the most impact.\n• This should go without saying, but you should be able to express your ideas clearly in writing. Hopefully, in very concise writing.\n• An appetite for problem solving in a landscape that changes quickly. If you like to identify gaps in processes, inefficiencies that could be smoothed over, or things that simply could work better, you'll fit right in.\n \nBonus Points If You Have...\n• A degree in English, Psychology, Design, Marketing, Advertising, Journalism, HCI or any area that emphasizes storytelling and systematic thinking.\n• Background in user experience or product design. Copywriting or content strategy experience in other environments is also useful, as long as you can articulate how your approach would or wouldn’t adapt to the world of apps.\n• Experience writing spoken dialog or designing conversational or multichannel interactions.\n• A love of restaurants and great food.\n\n","?iisp=he-6594079","?iisp=he-6584079",null,"Sr UX Writer, Uber Eats","2018-08-13T13:59:00","2019-02-14T19:10:00",null,null,null,"2018-12-14T06:46:00"]
["https://www.uber.com/careers/list/40393/","What You'll Need\n \n• Bachelor’s degree in Economics, Business, Engineering or other quantitative fields\n• Minimum 8 years of Strategy consulting, operations or related experience\n• Communication and organization skills\n• Experience managing a team\n• Ability to work with cross functional teams\n• Balance attention to detail with swift implementation\n• Ability to self-serve, investigate and get the data we require\n• PowerPoint skills\n• Interest in launching new and exciting projects in a fast paced working environment\n\n","What You'll Need\n \n• Bachelor’s degree in Economics, Business, Engineering or other quantitative fields\n• Minimum 8 years of Strategy consulting, operations or related experience\n• Excellent communication and organization skills\n• Experience managing a team\n• Ability to work with cross functional teams\n• Balance attention to detail with swift implementation\n• Ability to self-serve, investigate and get the data we require\n• Exceptional PowerPoint skills\n• Passion for launching new and exciting projects in a fast paced working environment\n \nBonus Points if\n \n• MBA or Master's degree in Economics, Business, Engineering or other quantitative fields\n• High-growth start-up experience\n\n","?iisp=he-6594079","?iisp=he-6584079",null,"Global Strategic Projects Senior Manager","2018-08-13T13:59:00","2018-12-04T07:15:00","2018-12-10T08:23:00",null,null,"2018-12-14T06:46:00"]
["https://www.uber.com/careers/list/40392/","What You'll Need\n \n• Bachelor’s degree in Economics, Business, Engineering or other quantitative fields\n• Minimum 4 years of Strategy consulting, operations or related experience\n• Communication and organization skills\n• Ability to work with cross functional teams\n• Balance attention to detail with swift implementation\n• Ability to self-serve, investigate and get the data we require\n• PowerPoint skills\n• Interest in launching new and exciting projects in a fast paced working environment\n","What You'll Need\n \n• Bachelor’s degree in Economics, Business, Engineering or other quantitative fields\n• Minimum 4 years of Strategy consulting, operations or related experience\n• Excellent communication and organization skills\n• Ability to work with cross functional teams\n• Balance attention to detail with swift implementation\n• Ability to self-serve, investigate and get the data we require\n• Exceptional PowerPoint skills\n• Passion for launching new and exciting projects in a fast paced working environment\n \nBonus Points if\n \n• MBA or Master's degree in Economics, Business, Engineering or other quantitative fields\n• High-growth start-up experience\n\n","?iisp=he-6594079","?iisp=he-6584079",null,"Global Strategic Projects Manager","2018-08-13T13:59:00","2018-08-16T07:30:00","2018-08-22T14:44:00",null,null,"2018-12-14T06:46:00","Expired on 8/16/2018 7:30 AM PST, but came back alive on 8/23/2018 5:00 PM PST. Removed. Expired again on 11/19/2018 18:40 PM PST. "]
["https://www.uber.com/careers/list/40369/","What You'll Need\n \n• Minimum 8 years of relevant HR experience.\n• Understanding of HR domains including compensation, performance management, and leadership development.\n• Understanding of various employment laws and their impact on HR matters.\n• Experience providing HR consultation to senior leadership on strategic initiatives.\n• Ability to partner within and outside of HR.\n• Knowledge and experience in technology businesses and familiarity with their global HR practices and policies.\n• Integrity with presence and confidence.\n• Influencing skills at all levels in the organization and flexibility to be proactive in a fast paced, ever changing environment. Competence in making timely, effective, principles-based decisions.\n• Tenacity and ability to build from scratch are imperative.\n• Written and verbal communication skills,  presentation skills; analytical and problem solving abilities.\n• Must be able to travel, including short-term assignments based upon business requirements.\n• Bachelor’s degree required.\n\n","What You'll Need\n \n• Minimum 8 years of relevant HR experience ideally with sales/ customer support functions and their leadership teams. Experience in managing non-exempt employees is a plus.\n• Strong understanding of HR domains including compensation, performance management, and leadership development.\n• Understanding of various employment laws and their impact on HR matters.\n• A track record of providing HR consultation to senior leadership on strategic initiatives.\n• Demonstrated ability to partner within and outside of HR.\n• Knowledge and experience in technology businesses and familiarity with their global HR practices and policies.\n• Unquestioned integrity with assertiveness, presence, and confidence.\n• Excellent influencing skills at all levels in the organization and extreme flexibility to be proactive in a fast paced, ever changing environment. Competence in making timely, effective, principles-based decisions.\n• Tenacity and ability to build from scratch are imperative.\n• Strong written and verbal communication skills,  presentation skills; analytical and problem solving abilities.\n• Must be able to travel, including short-term assignments based upon business requirements.\n• Bachelor’s degree required;  Master’s degree preferred.\n\n","?iisp=he-6594079","?iisp=he-6584079",null,"HR Business Partner, Comm Ops","2018-08-13T13:59:00","2018-10-23T10:10:00","2018-10-30T07:19:00",null,null,"2018-12-14T06:46:00"]
["https://www.uber.com/careers/list/40351/","What You’ll Need\n \n• 5+ years of experience as a data scientist at a company with global operations\n• Experience with R and Python\n• Experience with machine learning techniques and advanced analytics (e.g. regression, classification, clustering, time series, econometrics, mathematical optimization).\n• SQL skills - able to work with very large data sets.\n• Communication skills, organized, able to multitask and be a team player\n• Balance attention to detail with swift execution \n• Desire to learn complex topics \n• Interest in Uber\n\n","What You’ll Need\n \n• 5+ years of experience as a data scientist at a company with global operations\n• Prior peoples management experience is strongly preferred \n• Expertise with R and Python\n• Experience with machine learning techniques and advanced analytics (e.g. regression, classification, clustering, time series, econometrics, mathematical optimization).\n• Advanced SQL skills - comfortable working with very large data sets.\n• Experience with big data using technologies like Hadoop, Hive, and Spark a plus.\n• Previous experience in advertising tech is a plus\n• Great communication skills, organized, able to multitask and be a team player\n• Balance attention to detail with swift execution \n• Hunger and drive to learn complex topics \n• Enthusiasm about Uber!\n\n","?iisp=he-6594079","?iisp=he-6584079",null,"Senior Data Scientist - Machine Learning, AdTech","2018-08-13T13:59:00","2019-02-06T08:05:00",null,null,null,"2018-12-14T06:46:00"]
["https://www.uber.com/careers/list/40314/","What You’ll Need\n• You are a veteran of the security industry and are familiar reasoning about, and working to improve, all areas of security. \n• You have hands-on coding experience.\n• Problem solving and collaboration skills.\n• Ability to distill complex security problems and work toward creative solutions.\n• Organizational, communications, and relationship skills.\n• An understanding, and desire to improve, organization's cultures.\n","What You’ll Need\n• You are a veteran of the security industry and are comfortable reasoning about, and working to improve, all areas of security. \n• You have significant hands-on coding experience, preferably in the following languages: Go, Java, C/C++, Python, Node.js.\n• Exceptional problem solving and collaboration skills.\n• Ability to distill complex security problems and drive toward creative solutions.\n• Strong organizational, communications, and relationship skills.\n• An amazing understanding, and desire to improve, organization's cultures.\n\nBonus Points If\n• Bachelor’s degree (or higher) in Computer Science or related areas\n• Startup experience\n\n","?iisp=he-6594079","?iisp=he-6584079",null,"Staff Security Engineer","2018-08-13T13:59:00","2019-03-06T08:05:00",null,null,null,"2018-12-14T06:46:00"]
["https://www.uber.com/careers/list/40307/","What You’ll Need\n \n• Minimum of 5+ years Program Management Experience\n• Prior experience managing programs that is used by millions of customers and generates +$1B revenues for the company\n• Experience managing technical roadmaps and influencing cross-functional teams’ roadmaps as well\n• Experience in creating strategic business pitch cases. Candidate should have experience analyzing problems and using data to create business cases.\n• Interpersonal skills and ability to establish trust with internal/external partners\n• Organized, self-driven, and able to handle competing priorities.\n• Written and verbal communication skills\n\n","What You’ll Need\n \n• Minimum of 5+ years Program Management Experience\n• Prior experience managing programs that is used by millions of customers and generates +$1B revenues for the company\n• Experience managing technical roadmaps and influencing cross-functional teams’ roadmaps as well\n• Experience in creating strategic business pitch cases. Candidate should have had a history of analyzing problems and using data to create business cases.\n• Excellent interpersonal skills and ability to establish trust with internal/external partners\n• Organized, self-driven, and comfortable handling competing priorities.\n• Strong written and verbal communication skills\n\n\nBonus Points if (optional)\n \n• MBA from top tier school is preferred\nExperience with top tier consulting companies\n\n","?iisp=he-6594079","?iisp=he-6584079",null,"Sr Program Manager - Vehicle Solutions - Fleets","2018-08-13T13:59:00","2018-08-31T21:50:00","2018-09-05T15:52:00",null,null,"2018-12-14T06:46:00"]
["https://www.uber.com/careers/list/40306/","What You’ll Need\n \n• Minimum of 8-10 years Product Management Experience\n• Prior experience managing programs that is used by millions of customers and generates +$1B revenues for the company.\n• Experience managing technical roadmaps and influencing cross-functional teams’ roadmaps as well\n• Experience in creating strategic business pitch cases. Candidate should have experience analyzing problems and using data to create business cases.\n• Interpersonal skills and ability to establish trust with internal/external partners\n• Organized, self-driven, and able to handle competing priorities.\n• Written and verbal communication skills\n\n","What You’ll Need\n \n• Minimum of 8-10 years Product Management Experience\n• Prior experience managing programs that is used by millions of customers and generates +$1B revenues for the company.\n• Experience managing technical roadmaps and influencing cross-functional teams’ roadmaps as well\n• Experience in creating strategic business pitch cases. Candidate should have had a history of analyzing problems and using data to create business cases.\n• Excellent interpersonal skills and ability to establish trust with internal/external partners\n• Organized, self-driven, and comfortable handling competing priorities.\n• Strong written and verbal communication skills\n\n\nBonus Points if (optional)\n \n• MBA from top tier school is preferred\n• Experience with top tier consulting companies\n\n","?iisp=he-6594079","?iisp=he-6584079",null,"Sr Product Manager - Vehicle Solutions","2018-08-13T13:59:00","2019-02-09T08:25:00","2018-12-04T07:08:00","2018-11-15T17:00:00",null,"2018-12-14T06:46:00"]
["https://www.uber.com/careers/list/40257/","What You'll Need\n\n• At least 6 years of legal experience at a mid to large size law firm, government regulatory entity or in-house corporate role. \n• Good academic performance in law school.\n• Experience crafting strategies to achieve ambitious regulatory goals, and advocacy in rulemaking proceedings before a regulatory body;\n• Business judgment, communication and interpersonal skills\n• Experience leading and managing regulatory or policy initiatives for your clients\n• Ability to multitask and carry out important projects with limited oversight.\n• Writing, research, negotiating, and interpersonal skills.\n• Oral advocacy and presentation skills a must.\n• Ability to work in high impact/high profile situations.\n• Interested in Uber\n\n","What You'll Need\n\n• At least 6 years of legal experience at a mid to large size law firm, government regulatory entity or in-house corporate role. Prior experience in dealing with unique technology issues is preferred. \n• Outstanding academic performance in law school and additional preference for joint JD/MBA holders.\n• Experience crafting strategies to achieve ambitious regulatory goals, and advocacy in rulemaking proceedings before a regulatory body; experience before federal or state regulatory bodies (CPUC, NHTSA, state DMVs) is a plus;\n• Public utilities law experience is preferred;\n• Excellent business judgment, communication and interpersonal skills\n• Experience leading and managing regulatory or policy initiatives for your clients\n• Ability to multitask and carry out important projects with limited oversight.\n• Outstanding writing, research, negotiating, and interpersonal skills.\n• Excellent oral advocacy and presentation skills a must.\n• Ability to thrive in high impact/high profile situations.\n• Enthusiastic about Uber!\n\n","?iisp=he-6594079","?iisp=he-6584079",null,"Counsel, Regulatory (West Coast)","2018-08-13T13:59:00","2018-09-25T17:00:00","2018-10-01T14:50:00",null,null,"2018-12-14T06:46:00"]
["https://www.uber.com/careers/list/40251/","What you'll need:\n• Ability to solve complex problems under pressure\n• Ability to collaborate and work with a highly diverse set of shippers, transportation partners, and internal partners\n• Analytical and critical thinking ability\n• Communication and organization skills\n• The ability to balance attention to detail with swift execution\n\n","What you'll need:\n• Minimum 2 year experience in the transportation industry strongly preferred\n• Demonstrated ability to solve complex problems under pressure\n• Ability to collaborate and work with a highly diverse set of shippers, transportation partners, and internal partners\n• Analytical and critical thinking ability\n• Strong communication and organization skills\n• Logistics background is not required, but operational experience is preferred\n• Bachelor's degree strongly preferred\n• The ability to balance attention to detail with swift execution - we need to do things quickly, and we need to do them well\n\n","?iisp=he-6594079","?iisp=he-6584079",null,"Account Executive, Carrier Sales - Reefer Team","2018-08-13T13:59:00","2018-09-29T09:21:00","2018-10-08T12:55:00",null,null,"2018-12-14T06:46:00"]
["https://www.uber.com/careers/list/40212/","What You’ll Need\n \n• 3+ years of managing 8+ team members\n• 5+ years of  Software Development experience\n• Experience with multiple programming languages (Go, Java, Python)\n• Experience with multiple data stores (MySQL, Cassandra, Redis, etc.)\n• Experience managing software systems supporting 1K+ QPS\n• Experience with managing stream processing systems processing 1K+ events/second\n• Experience managing software systems participating in $100M+ in transactions\n• Ability to work in a fast paced and dynamic environment\n• Communication, leadership and presentation skills\n• Understanding of software development lifecycle from conception to delivery\n• Project management - prioritization , planning of projects and features, stakeholder management and tracking of external commitments\n• Experience delivering operational excellence - monitoring, operation, and escalation management of customer facing production services\n• Bachelor’s Degree in Computer Science or related field\n\n","What You’ll Need\n \n• 3+ years of managing 8+ team members\n• 5+ years of  Software Development experience\n• Experience with multiple programming languages (Go, Java, Python)\n• Experience with multiple data stores (MySQL, Cassandra, Redis, etc.)\n• Experience managing software systems supporting 1K+ QPS\n• Experience with managing stream processing systems processing 1K+ events/second\n• Experience managing software systems participating in $100M+ in transactions\n• Ability to thrive in a fast paced and dynamic environment\n• Excellent communication, leadership and presentation skills\n• Thorough understanding of software development lifecycle from conception to delivery\n• Project management - prioritization , planning of projects and features, stakeholder management and tracking of external commitments\n• Proven track record of delivering operational excellence - monitoring, operation, and escalation management of customer facing production services\n• Bachelor’s Degree in Computer Science or related field\n\nBonus Points If\n \n• Experience with managing systems serving customer facing mobile applications\n• Experience with managing systems integrating with accounting systems\n• Experience with managing systems with web-service APIs supporting 10K+ QPS\n• Experience with managing systems participating in $1B+ in transactions\n• Experience with managing systems processing 10TB+ data\n• Experience with implementing compliance requirements\n\n","?iisp=he-6594079","?iisp=he-6584079",null,"Engineering Manager - Marketplace Fares (Seattle)","2018-08-13T13:59:00","2018-09-19T22:00:00","2018-10-01T14:50:00",null,null,"2018-12-14T06:46:00"]
["https://www.uber.com/careers/list/40175/","What You’ll Need\n \n• Relevant experience leading permissions management and processes at a tech firm \n• Analytical oriented: can curate and analyze complex data sets to create insights that are the most important qualities to customers and business\n• Interpersonal skills and ability to establish trust with internal/external partners \n• Organized, self-driven, and able to handle several high-profile deals\n• Written and verbal communication skills\n• Ability to facilitate, contribute to, and communicate solutions to technical product challenges\n• Data analysis skills; Ability to make data-driven business decisions","What You’ll Need\n \n• Relevant experience leading permissions management and processes at a tech firm \n• Analytical oriented: can curate and analyze complex data sets to create insights that are the most important qualities to customers and business\n• Excellent interpersonal skills and ability to establish trust with internal/external partners \n• Organized, self-driven, and comfortable handling several high-profile deals\n• Strong written and verbal communication skills\n• Ability to drive, contribute to, and communicate solutions to technical product challenges\n• Outstanding data analysis skills; Ability to make data-driven business decisions\n \nBonus Points If\n \n• Permissions and Identity Experience - owned the platform that improves the user and service account experience for multi-user organizations\n• Self-Service Environment Infrastructure - owned orchestration system for automating provisioning and deployment of runtime environments\n• Holistic understanding of systems and various elements of permissions management\n• Automation Platform - owned automation platform and drove adoption across all eng teams to increase team velocity\n• Seasoned leader who can execute by managing teams, both directly and indirectly, in matrixed team environment\n• Excellent communicator who is seen as a subject matter expert, and can influence at all levels of an organization\n• Experience in change management and contemporary approaches to navigate change\n\n","?iisp=he-6594079","?iisp=he-6584079",null,"Security Program Manager - IAM Permissions Lead","2018-08-13T13:59:00","2019-01-16T12:05:00",null,null,null,"2018-12-14T06:46:00"]
["https://www.uber.com/careers/list/39836/","What You’ll Need\n• BS/MS in Engineering, Computer Science, Math, Economics, Statistics, or equivalent experience.\n• At least 2 years of analytical and database experience. \n• Programming skills in SQL and Python. \n• Experience with multiple analytical and database tools (e.g Jupyter notebooks, Hive, Presto, Vertica, Tableau)\n• Data visualization skills. \n• Speed, resourcefulness and a go-getter attitude. Moving quickly and executing to allow for continual iteration is a core qualification of our team.\n• Someone who is willing to contribute new ideas and articulate them to a variety of stakeholders and not just execute on existing ones\n• A commitment to learning - We want someone who seeks to deliver impact, but also invests in themselves and others. You will need to consistently seek to innovate and raise the bar\n• An interest in data - you are able to get the data you need and turn it into a story. You know how to convert data into decisions without getting stuck in paralysis by analysis\n\n","What You’ll Need\n• BS/MS in Engineering, Computer Science, Math, Economics, Statistics, or equivalent experience.\n• At least 2 years of analytical and database experience. Marketing analytics or consulting experience is a plus.\n• Excellent programming skills in SQL and Python. R is a plus.\n• Proficiency with multiple analytical and database tools (e.g Jupyter notebooks, Hive, Presto, Vertica, Tableau)\n• Excellent data visualization skills. Experience creating dashboard reporting in Tableau or a similar visualization tool a plus.\n• Speed, resourcefulness and a go-getter attitude. Moving quickly and executing to allow for continual iteration is a core qualification of our team.\n• Someone who is willing to contribute new ideas and articulate them to a variety of stakeholders and not just execute on existing ones\n• A commitment to learning - We want someone who seeks to deliver impact, but also invests in themselves and others. We don’t get better by standing still, so you will need to consistently seek to innovate and raise the bar\n• A love of data - you just go get the data you need and turn it into an insightful story. You know how to convert data into decisions without getting stuck in paralysis by analysis\n\n","?iisp=he-6594079","?iisp=he-6584079",null,"Data Analyst","2018-08-13T13:59:00","2019-03-08T18:45:00",null,null,null,"2018-12-14T06:46:00"]
["https://www.uber.com/careers/list/40110/","What You’ll Need\n\n• Candidate with 1+ CAS Exams and a minimum of 1 year of P&C actuarial experience\n• BA/BS in Math, Statistics, Economics, or similar\n• Excel skills, experience with SQL\n• Communication and organization skills, ability to multitask and be a team player\n• Balance attention to detail with swift and practical execution\n• Desire to learn complex topics\n• Interested in Uber\n\n","What You’ll Need\n\n• Candidate with 1+ CAS Exams and a minimum of 1 year of P&C actuarial experience\n• BA/BS in Math, Statistics, Economics, or similar\n• Personal or commercial auto insurance experience a plus\n• Excellent Excel skills, proficient with SQL, experience with VBA, R, or Python preferred\n• Great communication and organization skills, ability to multitask and be a team player\n• Balance attention to detail with swift and practical execution\n• Drive to learn complex topics\n• Enthusiasm about Uber!\n\n","?iisp=he-6594079","?iisp=he-6584079",null,"Claims Analytics - Actuarial Analyst","2018-08-13T13:59:00","2018-12-13T07:20:00",null,null,null,"2018-12-14T06:46:00"]
["https://www.uber.com/careers/list/40249/","What You’ll Need\n \n• A minimum of 2 years of experience writing developer-facing documentation and other forms of technical content. \n• Ability to write technically accurate, concise, and thorough content.\n• Ability to independently scope out and manage writing projects.\n• Ability to learn technical concepts quickly.\n• Experience writing for web, software, hardware, or cloud technologies.\n• Familiarity with database and data warehouse concepts like ETL, schemas, and queries.\n• Experience using or writing about SQL.\n• Experience creating code examples.\n• Senior level candidates will also need to show leadership and coaching ability.","What You’ll Need\n \n• A minimum of 2 years of experience writing developer-facing documentation and other forms of technical content. \n• Demonstrated ability to write technically accurate, concise, and thorough content.\n• Demonstrated ability to independently scope out and manage writing projects.\n• Established ability to learn technical concepts quickly.\n• Experience writing for web, software, hardware, or cloud technologies.\n• Familiarity with database and data warehouse concepts like ETL, schemas, and queries.\n• Experience using or writing about SQL.\n• Experience creating code examples.\n• Senior level candidates will also need to show leadership and coaching ability.\n \nBonus Points If\n \n• You can use R or Python for data analysis and visualization. \n• You have written about or used analytic and database tools (Hive, Presto, Vertica, Jupyter notebooks).\n• You have design skills and/or experience conducting user research.\n\n","?iisp=he-6594079","?iisp=he-6584079",null,"Technical Writer - Data Tools","2018-08-13T13:59:00","2018-10-03T12:22:00","2018-09-23T12:29:00","2018-09-14T11:50:00",null,"2018-12-14T06:46:00"]
["https://www.uber.com/careers/list/40261/","What You’ll Need\n \n• Bachelor’s degree with 2 yrs experience or Master Degree with 1 yr experience in Economics, Math, Computer Science, Statistics, Management Science or other quantitative field. \n• Experience with building dashboards in R Shiny or Tableau or other data visualization tools such as D3\n• Experience of a scripting language such as R or Python\n• Data, statistics, and analytical skills with a grasp of SQL.\n• An interest in working together in order to solve the hardest problems\n• Communication and organization skills with the ability to work with multiple stakeholders","What You’ll Need\n \n• Bachelor’s degree with 2 yrs experience or Master Degree with 1 yr experience in Economics, Math, Computer Science, Statistics, Management Science or other quantitative field. \n• Experience with building dashboards in R Shiny or Tableau or other data visualization tools such as D3\n• Demonstrated experience of a good scripting language such as R or Python\n• Strong data, statistics, and analytical skills with a good grasp of SQL. Experience with Hive & Presto is a plus.\n• A passion for hacking things together in order to solve the hardest problems\n• Strong communication and organization skills with the ability to work with multiple stakeholders\n \n \nBonus Points If\n \n• You understand how to execute, build, and get things done with limited resources\n• You have experience with OLAP tools eg., TM1, Hyperion etc.\n• You have exposure to machine learning\n \n\n","?iisp=he-6594079","?iisp=he-6584079",null,"Data Analyst - Financial Products","2018-08-13T13:59:00","2018-09-18T11:21:00","2018-10-01T14:50:00",null,null,"2018-12-14T06:46:00"]
["https://www.uber.com/careers/list/40285/","What You’ll Need\n \n• Minimum of 2 years of relevant experience.  \n• Experience solving complex problems, exercising judgement in ambiguous circumstances, and communicating across a diverse team.\n• Able to learn and use new software tools.\n• Interpersonal skills. Ability to build relationships, lead a team, manage employees, and create a hard-working but fun workplace\n• Self-motivated, self-directed, and interested in taking ownership of tasks to ensure solution.\n• Problem-solving skills.\n• Organization and time management systems for yourself and your team.\n• Valid driver’s license and ability to pass MVR check required (No more than 2 minor violations, and no major violations, in past 3 years)\n\n\n","What You’ll Need\n \n• Minimum of 2 years of relevant experience.  The ideal candidate will have leadership experience in a fast-paced work environment.\n• Experience solving complex problems, exercising good judgement in ambiguous circumstances, and effectively communicating across a diverse team.\n• Comfortable learning and using new software tools.\n• Strong interpersonal skills. Ability to build relationships, lead a team, manage employees, and create a hard-working but fun workplace\n• Proven to be self-motivated, self-directed, and eager to take ownership of tasks to ensure solution.\n• Black belt in problem-solving.\n• Excellent organization and time management systems for yourself and your team.\n• Valid driver’s license and ability to pass MVR check required (No more than 2 minor violations, and no major violations, in past 3 years)\n• Knowledge or passion for any of the following a plus: local markets, bikeshare, bike mechanics, mobility, and data/analytics.\n\n","?iisp=he-6594079","?iisp=he-6584079",null,"Operations Manager (D.C.) - JUMP","2018-08-13T13:59:00","2018-08-21T09:00:00","2018-08-29T16:02:00",null,null,"2018-12-14T06:46:00"]
["https://www.uber.com/careers/list/40338/","What You’ll Need\n• 8+ years of experience in developing, and executing massive scale data-driven campaigns\n• Must have digital and linear planning background for National brands\n• Ability to synthesize data, make data-driven decisions and balance that with the ‘art’ of media strategy\n• Verbal, written communication and presentation skills, ability to organize information in a high level way to communicate key points to partners\n• Self-motivated and a collaborator\n","What You’ll Need\n• 8+ years of experience in developing, and executing massive scale data-driven campaigns\n• Must have digital AND linear planning background for National brands\n• Both in-house and agency experience would be a plus\n• Ability to synthesize data, make data-driven decisions and balance that with the ‘art’ of media strategy\n• Excellent verbal, written communication and presentation skills, ability to organize information in a high level way to communicate key points to partners\n• Self-motivated and strong collaborator\n","?iisp=he-6594079","?iisp=he-6584079",null,"Sr Performance Marketing Manager, Regional Planning","2018-08-13T13:59:00","2018-09-18T11:21:00","2018-08-29T16:02:00",null,"2018-08-24T20:00:00","2018-12-14T06:46:00"]
["https://www.uber.com/careers/list/40217/","What You’ll Need\n \n• A minimum of 4 years of experience in a law firm or in-house environment\n• Bachelors degree required\n• Technical Knowledge – can create/use Word documents, Excel templates, Adobe Acrobat, Google Drive, e-signing tools, and open to learning/exploring new technical tools to help the team\n\n\n","What You’ll Need\n \n• A minimum of 4 years of experience in a law firm and/or in-house environment, strong preference for at least 2 years supporting an in-house commercial legal team.\n• Bachelors degree required\n• Technical Savvy – can create/use Word documents, Excel templates, Adobe Acrobat, Google Drive, e-signing tools, and open to learning/exploring new technical tools to help the team\n• Experience with contract/information management systems and standardized contracts a plus\n\n","?iisp=he-6594079","?iisp=he-6584079",null,"Sr Paralegal, Transactions","2018-08-13T13:59:00","2018-10-02T10:15:00","2018-10-08T12:55:00",null,null,"2018-12-14T06:46:00"]
["https://www.uber.com/careers/list/40213/","What You’ll Need\n \n• Minimum 3 years industry experience\n• BS in Computer Engineering, Electrical Engineering or related discipline\n• Coding skills in C, C++ and Python\n• Knowledge of OpenEmbedded and FreeRTOS\n• Experience with STM32 and/or ARM Microcontrollers\n• Background with SPI, UART, I2C\n• Network stack experience\n• Communication skills especially with diverse groups of team members including technicians, software and hardware engineers\n• General Linux experience","What You’ll Need\n \n• Minimum 3 years industry experience\n• BS in Computer Engineering, Electrical Engineering or related discipline\n• Strong coding skills in C, C++ and Python\n• Knowledge of OpenEmbedded and FreeRTOS\n• Experience with STM32 and/or ARM Microcontrollers\n• Background with SPI, UART, I2C\n• Network stack experience\n• Excellent communication skills especially with diverse groups of team members including technicians, software and hardware engineers\n• Strong general Linux experience\n \nBonus Points If\n \n• Knowledge and background in implementation of ASIL Safety standards.\n• FPGA design, Verilog.\n• Background working with a high speed serial bus technology, such as SGMII or PCIe.\n• Background with motor controllers.\n• Interest or background in lidar and robotics.\n\n","?iisp=he-6594079","?iisp=he-6584079",null,"Firmware Engineer-LiDAR","2018-08-13T13:59:00","2018-09-28T12:00:00","2018-10-01T14:50:00",null,null,"2018-12-14T06:46:00","Expired on 9/28/2018  12:00:00 PM PST, but came back alive on 10/29/2018 8:30 AM PST. Removed. "]
["https://www.uber.com/careers/list/40211/","What You’ll Need\n \n• Familiarity with statistical concepts\n• Experience with data ingestion from packets (sockets, pcaps, protobuf)\n• Ability to explain complex technical issues to a wide variety of audiences\n• BS in Electrical/Mechanical Engineering, Computer Science or similar technical discipline\n\n","What You’ll Need\n \n• Familiarity with statistical concepts\n• Experience with data ingestion from packets (sockets, pcaps, protobuf)\n• Ability to explain complex technical issues to a wide variety of audiences\n• BS in Electrical/Mechanical Engineering, Computer Science or similar technical discipline\n \nBonus Points If\n \n• Experience with analyzing sensor data\n• Experience with hardware analysis\n• Experience working with contract manufacturers\n• Parquet/ORC columnar data ETL experience\n\n","?iisp=he-6594079","?iisp=he-6584079",null,"Data Engineer-LiDAR","2018-08-13T13:59:00","2018-12-08T11:30:00",null,null,null,"2018-12-14T06:46:00"]
["https://www.uber.com/careers/list/40210/","What You’ll Need\n \n• Minimum 3 years industry experience\n• BS in Computer Science, Electrical Engineering or related discipline\n• General Linux experience\n• Coding skills in C++ and Python\n• Communication skills especially with diverse groups of team members including technicians, software and hardware engineers\n\n","What You’ll Need\n \n• Minimum 3 years industry experience\n• BS in Computer Science, Electrical Engineering or related discipline\n• Strong general Linux experience\n• Strong coding skills in C++ and Python\n• Excellent communication skills especially with diverse groups of team members including technicians, software and hardware engineers\n\nBonus Points If\n \n• Experience working with following frameworks and technologies: QT, VTK, Docker, Google Protocol Buffers\n• Experience developing image processing, computer graphics, 3D visualization software\n• Background in mapping, localization, or object detection\n• Interest in robotics, embedded programming or FPGA development\n\n","?iisp=he-6594079","?iisp=he-6584079",null,"Software Engineer-LiDAR","2018-08-13T13:59:00","2018-11-15T17:00:00","2018-12-04T07:08:00",null,null,"2018-12-14T06:46:00"]
["https://www.uber.com/careers/list/40190/","What You’ll Need\n \n• A graduate degree or equivalent in computer science or a quantitative domain plus hands-on software engineering or data science experience. \n• 10+ years experience delivering innovative risk detection, security or data management systems \n• Communicator that is good at listening and influencing. Visionary with framing ability and executive presence\n• Hands on technical background, know product and engineering team’s work in depth; Able to directly engage in the work\n• Standards across the board - from your own contributions to the people you work with to the products you work on\n• A “driver” personality - biased toward action, collaborator and disambiguator/simplifier - striving for clarity and delivery\n• Resolve.  You are able to engage and address something hands-on, you persevere\n \n","What You’ll Need\n \n• A graduate degree or equivalent in computer science or a quantitative domain plus hands-on software engineering and/or data science experience. Technical understanding must go from the highest abstractions down to the metal.\n• 10+ years experience delivering highly successful and innovative risk detection, security or data management systems with your fingerprints all over them - you’re extremely proud of what you’ve accomplished\n• Excellent communicator that is good at listening and influencing. Visionary with strong framing ability and executive presence\n• Hands on technical background, know product and engineering team’s work in depth; Get your hands dirty a lot\n• A high bar across the board - from your own contributions to the people you work with to the products you work on\n• A “driver” personality - biased toward action, great collaborator and master disambiguator/simplifier - constantly pushing toward clarity and delivery\n• Grittiness.  You never hesitate to roll up your sleeves and tackle something hands-on, you persevere when others fall away\n \nBonus Points\n \n• Worked at a company with international presence to truly understand the advantages and disadvantages of centralized vs. decentralized problem solving\n• Close working relationship or leading operational teams in the past\n• Deep understanding of regulatory requirements for AML, KYC, and transaction monitoring\n\n","?iisp=he-6594079","?iisp=he-6584079",null,"Group Product Manager, Risk","2018-08-13T13:59:00","2019-02-14T19:10:00",null,null,null,"2018-12-14T06:46:00"]
["https://www.uber.com/careers/list/40185/","What You’ll Need\n• A minimum of 5 years of industry or consulting experience in policy, risk mitigation, compliance, global operations, or related fields\n• Ability to tell stories out of complex issues and analysis\n• Influential with communication skills, both written and verbal\n• Analytical and data driven. Interest in problem solving\n• Analytical skills, including SQL\n• Experience working cross-functionally\n• Ability to design processes and policies without a prescribed template\n• Interest in improving Uber user experience with a focus on safety\n\n","What You’ll Need\n• A minimum of 5 years of industry or consulting experience in policy, risk mitigation, compliance, global operations, or related fields\n• Ability to tell clear, compelling stories out of complex issues and analysis\n• Influential with great communication skills, both written and verbal\n• Analytical and data driven. Passion for problem solving\n• Excellent analytical skills, including SQL\n• Experience working cross-functionally\n• Ability to design processes and policies without a prescribed template\n• Passion for improving Uber user experience with a focus on safety\n• MBA or Master's degree a plus\n• International experience a plus\n\n","?iisp=he-6594079","?iisp=he-6584079",null,"Program Manager, Safety Policy","2018-08-13T13:59:00","2018-11-27T15:30:00","2018-08-29T16:02:00","2018-08-22T20:45:00",null,"2018-12-14T06:46:00"]
["https://www.uber.com/careers/list/40181/","What You’ll Need:\n \n• Ability to solve complex problems under pressure\n• Ability to work over the weekend (Thursday - Monday)\n• Analytical and critical thinking ability\n• Ability to collaborate and work with a highly diverse set of shippers, transportation partners, and internal partners\n• Communication, organizational and stakeholder management skills\n• Ability to balance attention to detail with swift execution\n\n","What You’ll Need:\n \n• Demonstrated ability to solve complex problems under pressure\n• Ability to work over the weekend (Thursday - Monday)\n• Analytical and critical thinking ability\n• Ability to collaborate and work with a highly diverse set of shippers, transportation partners, and internal partners\n• Bachelor's degree strongly preferred\n• Strong communication, organizational and stakeholder management skills\n• Ability to balance attention to detail with swift execution - we need to do things quickly, and we need to do them well\n\n","?iisp=he-6594079","?iisp=he-6584079",null,"Freight Operations Coordinator - Thursday to Monday Shift","2018-08-13T13:59:00","2019-01-16T12:05:00",null,null,null,"2018-12-14T06:46:00"]
["https://www.uber.com/careers/list/40179/","What You’ll Need\n \n• Minimum 3 years of procurement or vendor management experience, project management experience, with knowledge in process management, operations based projects and experience with implementation of these projects\n• Experience in negotiating contracts\n• Experience managing multiple projects concurrently through to implementation in an operational environment\n• Experience working with internal/external stakeholders in multiple geographic regions\n• 25% domestic and international travel\n \n\n","What You’ll Need\n \n• Minimum 3 years of procurement or vendor management experience, project management experience, with knowledge in process management, operations based projects and a track record in implementation of these projects\n• Experience in negotiating contracts\n• Experience managing multiple projects concurrently through to implementation in an operational environment\n• Experience working with internal/external stakeholders in multiple geographic regions\n• 25% domestic and international travel\n \nBonus Points if\n \n• Experience in leading operations teams is of benefit, e.g. in outsourced environment\n\n","?iisp=he-6594079","?iisp=he-6584079",null,"Global Program Manager, BPO Solutions","2018-08-13T13:59:00","2018-10-17T15:00:00","2018-09-23T12:29:00","2018-09-13T08:05:00",null,"2018-12-14T06:46:00"]
["https://www.uber.com/careers/list/40158/","What You’ll Need\n• The ability to operate independently with little or no supervision\n• Ability to communicate with vehicle technicians, test engineers, and senior management\n• Organizational and management background\n• The ability to develop, train and mentor future engineers, managers, and specialists\n• Must have a valid U.S. driver’s license and clean driving history\n \n\n","What You’ll Need\n• The ability to operate independently with little or no supervision\n• Comfort with computers and a familiarity with Linux is preferred\n• Proficient in communicating with vehicle technicians, test engineers, and senior management\n• Strong organizational and management background\n• The ability to develop, train and mentor future engineers, managers, and specialists\n• Must have a valid U.S. driver’s license and clean driving history\n \nBonus Points If\n• Bachelor of Science in a technical field\n• Autonomous vehicle test execution experience\n\n","?iisp=he-6594079","?iisp=he-6584079",null,"Mission Manager","2018-08-13T13:59:00","2018-10-02T10:15:00","2018-10-08T12:55:00",null,null,"2018-12-14T06:46:00","Expired on 10/2/2018  10:15:00 AM PST, but came back alive on 10/18/2018 11:25 AM PST. Expired again on 11/07/2018 5:30 PM PST. Removed. "]
["https://www.uber.com/careers/list/40151/","What You'll Need\n \n• Experience executing technical projects or complex programs\n• Ability to build trust with a diverse range of internal partners\n• Written and verbal communication skills\n• Understanding of Privacy by Design principles\n• Familiarity with Privacy technologies and tools\n\n","What You'll Need\n \n• Experience executing technical projects and/or complex programs\n• Ability to build trust with a diverse range of internal partners\n• Strong written and verbal communication skills\n• Understanding of Privacy by Design principles\n• Familiarity with Privacy technologies and tools\n \nBonus Points If\n \n• Experience working in Privacy or a related field\n• Experience in a Legal, Consulting or Compliance role\n• Experience working in a dynamic environment\n\n","?iisp=he-6594079","?iisp=he-6584079",null,"Program Manager - Privacy","2018-08-13T13:59:00","2019-05-01T22:25:00",null,null,null,"2018-12-14T06:46:00"]
["https://www.uber.com/careers/list/40140/","What You’ll Need \n \n• An undergraduate degree or equivalent in computer science or a quantitative domain plus hands-on software engineering and/or data science experience. \n• 5+ years experience delivering products\n• Standards across the board - from your own contributions to the people you work with to the products you work on.\n• A “driver” personality - biased toward action, collaborator and  disambiguator/simplifier - striving for clarity and delivery.\n• Resolve.  You are able to engage and address something hands-on, you persevere.\n• Finger-tippiness with data:  you are able to get the data you need and can turn it into a story.  You know how to leverage data to make decisions without getting stuck in analysis paralysis.\n• User-focused - examples from your past of product challenges that you powered through because you were unwilling to make your problems your users’ problems.\n• Interest in Uber’s mission and the company’s hybrid technology / operations nature.\n• A desire to grow and learn.\n\n\n","What You’ll Need \n \n• An undergraduate degree or equivalent in computer science or a quantitative domain plus hands-on software engineering and/or data science experience. Technical understanding must go from the highest abstractions down to the metal.\n• 5+ years experience delivering highly successful products with your fingerprints all over them - you’re extremely proud of what you’ve accomplished.\n• A high bar across the board - from your own contributions to the people you work with to the products you work on.\n• A “driver” personality - biased toward action, great collaborator and master disambiguator/simplifier - constantly pushing toward clarity and delivery.\n• Grittiness.  You never hesitate to roll up your sleeves and tackle something hands-on, you persevere when others fall away.\n• Finger-tippiness with data:  you just go get the data you need with no muss/fuss and can whip it into an insightful story with no help.  You know how to leverage data to make decisions without getting stuck in analysis paralysis.\n• User-focused - examples from your past of tough product challenges that you powered through because you were unwilling to make your problems your users’ problems.\n• True passion for Uber’s mission and the company’s hybrid technology / operations nature.\n• A never-ending desire to grow and learn.\n\nBonus Points If\n \n• Deep prior experience in risk, security or payments. \n\n","?iisp=he-6594079","?iisp=he-6584079",null,"Product Manager, Risk","2018-08-13T13:59:00","2019-02-14T19:10:00",null,null,null,"2018-12-14T06:46:00"]
["https://www.uber.com/careers/list/40119/","What You’ll Need\n \n• 8+ years of experience in relevant field, such as management consulting, finance, business strategy\n• Communication - you are a communicator with the ability to synthesize a lot of information quickly, highlight the key takeaways, and work with diverse stakeholders\n• A \"driver\" personality - biased toward action, collaborator and disambiguator/simplifier - striving for clarity and delivery\n• Self-starter attitude is a must\n• Flexibility -- we’re a global team, and often trade off late-night meeting slots between our India, EMEA and US teams\n• Ability to travel -- you’ll need to visit several GSS sites in the US and India, expect travel 6-12 times / year","What You’ll Need\n \n• 8+ years of experience in relevant field, such as management consulting, finance, business strategy\n• Exceptional communication - you are a clear and concise communicator with the ability to synthesize a lot of information quickly, highlight the key takeaways, and work with diverse stakeholders\n• A \"driver\" personality - biased toward action, great collaborator and master disambiguator/simplifier - constantly pushing toward clarity and delivery\n• Explorer - you have the ability to self-serve, investigate and get the data we require will make you much more effective in this role. Self-starter attitude is a must!\n• Flexibility -- we’re a global team, and often trade off late-night meeting slots between our India, EMEA and US teams\n• Ability to travel -- you’ll need to visit several GSS sites in the US and India, expect travel 6-12 times / year\n \nBonus Points If\n \n• Experience with shared services functions at global, product-oriented companies\n• MBA or other relevant advanced degree\n\n","?iisp=he-6594079","?iisp=he-6584079",null,"Strategy and Planning Head - Global Scale Solutions / Shared Services","2018-08-13T13:59:00","2018-12-12T07:30:00",null,null,null,"2018-12-14T06:46:00"]
["https://www.uber.com/careers/list/40117/","What you'll need\n \n• Bachelor’s degree in Economics, Business, Engineering, or other quantitative focus\n• Minimum 3 years of experience in an Operations role (Technology or Business)\n• Experience with SQL, Google sheets, Excel, and Google slides\n• Communication skills both written and verbal skills. Ability to influence others by using data\n• Decision making skills in an environment with ambiguity regarding data and business conditions\n• Up to 20% travel \n\n","What you'll need\n \n• Bachelor’s degree in Economics, Business, Engineering, or other quantitative focus\n• Minimum 3 years of experience in an Operations role (Technology or Business)\n• Mastery of SQL, Google sheets, Excel, and Google slides\n• Excellent communication skills both written and verbal skills. Ability to influence others by using data\n• Excellent decision making skills in an environment with ambiguity regarding data and business conditions\n• Up to 20% travel \n \nBonus points\n• 2+ Workforce Management Experience \n• Knowledge of additional programming languages to automate processes (e.g. Python)\n• Yellow/Green Belt Six Sigma\n\n","?iisp=he-6594079","?iisp=he-6584079",null,"Workforce Management Global Program Manager","2018-08-13T13:59:00","2018-12-12T07:30:00","2018-08-29T16:02:00",null,"8/22/2018  2:00:00 PM; 10/3/2018  12:22:00 PM","2018-12-14T06:46:00"]
["https://www.uber.com/careers/list/40114/","What You’ll Need\n \n• Minimum 1 year of experience in customer service or quality assurance role \n• Experience working in a highly detail-oriented environment, with diligence and accountability\n• Written and verbal communication skills\n• Interest in data analysis and the ability to facilitate quality improvement, process improvement, and tool enhancements\n• Ability to present findings to upper management\n• Experience with productivity tools (email, calendar), Google Suite or Microsoft Suite (excel, PowerPoint) \n• Proactive in thinking about the bigger picture and how we can improve as a team and company\n\n","What You’ll Need\n \n• Minimum 1 year of experience in customer service or quality assurance role \n• Experience working in a highly detail-oriented environment, demonstrating a high degree of diligence and accountability\n• Exceptional written and verbal communication skills\n• Passion for data analysis and the ability to drive quality improvement, process improvement, and tool enhancements\n• Confident presenting findings to upper management\n• Proficiency in productivity tools (email, calendar), Google Suite or Microsoft Suite (excel, PowerPoint) \n• Proactive in thinking about the bigger picture and how we can improve as a team and company\n \nBonus Points If:\n \n• Bachelor's degree or college experience\n• Specific examples of how you managed stakeholders\n• Specific examples of how you initiated a project and saw it through from beginning to end\n\n","?iisp=he-6594079","?iisp=he-6584079",null,"Service Quality Specialist","2018-08-13T13:59:00","2018-08-30T21:38:00","2018-09-05T15:52:00",null,null,"2018-12-14T06:46:00"]
["https://www.uber.com/careers/list/40108/","What you'll need\n \n• BS/BA in Finance, Accounting, Economics, or similar \n• 7+ years in Corporate finance / operational FP&A or Investment Banking/Corporate Finance at a large, well-established company\n• Experience building, training and developing a team\n• Excel / financial modeling skills. You strive for best practices, you can handle complexity but strive for simplicity\n• Attention to detail combined with swift execution. \n• Communication (written and verbal) and relationship building skills - numbers are key, but a business is built with people. \n• You possess the ability to distill complex analyses and nuanced problems into simple, logical frameworks with concrete action plans. \n• Teammate - this is a highly collaborative and supportive team environment\n","What you'll need\n \n• BS/BA in Finance, Accounting, Economics, or similar (MBA a plus)\n• 7+ years in Corporate finance / operational FP&A or Investment Banking/Corporate Finance at a large, well-established company\n• Experience building, training and developing a team\n• Extraordinary Excel / financial modeling skills. Best practices are second-nature, you can handle complexity but strive for simplicity\n• Attention to detail combined with swift execution. We need to do things quickly and we need to do them well.\n• Excellent communication (written and verbal) and relationship building skills - numbers are key, but a business is built with people. \n• You possess the ability to distill complex analyses and nuanced problems into simple, logical frameworks with concrete action plans. \n• Real teammate - this is a highly collaborative and supportive team environment\n• Nice to have - Systems - working knowledge of enterprise-level financial planning systems\n\n","?iisp=he-6594079","?iisp=he-6584079",null,"Sr Manager - Strategic Finance, Corporate Functions","2018-08-13T13:59:00","2018-11-17T11:35:00","2018-12-04T07:08:00",null,null,"2018-12-14T06:46:00"]
["https://www.uber.com/careers/list/40095/","What You’ll Need\n• Minimum of 2 years of relevant experience.  \n• Experience solving complex problems, exercising judgement in ambiguous circumstances, and communicating across a diverse team.\n• Ability to learn and use new software tools.\n• Interpersonal skills. Ability to build relationships, lead a team, manage employees, and create a hard-working but fun workplace\n• Self-motivated, self-directed, and willing to take ownership of tasks to ensure solution.\n• Problem-solving skills.\n• Organization and time management systems for yourself and your team.\n• Valid driver’s license and ability to pass MVR check required (No more than 2 minor violations, and no major violations, in past 3 years)\n\n","What You’ll Need\n• Minimum of 2 years of relevant experience.  The ideal candidate will have leadership experience in a fast-paced work environment.\n• Experience solving complex problems, exercising good judgement in ambiguous circumstances, and effectively communicating across a diverse team.\n• Comfortable learning and using new software tools.\n• Strong interpersonal skills. Ability to build relationships, lead a team, manage employees, and create a hard-working but fun workplace\n• Proven to be self-motivated, self-directed, and eager to take ownership of tasks to ensure solution.\n• Black belt in problem-solving.\n• Excellent organization and time management systems for yourself and your team.\n• Valid driver’s license and ability to pass MVR check required (No more than 2 minor violations, and no major violations, in past 3 years)\n• Knowledge or passion for any of the following a plus: local markets, bikeshare, bike mechanics, mobility, and data/analytics.\n\n","?iisp=he-6594079","?iisp=he-6584079",null,"Operations Manager, Field (Providence) - JUMP","2018-08-13T13:59:00","2018-09-05T19:29:00","2018-10-01T14:50:00",null,null,"2018-12-14T06:46:00"]
["https://www.uber.com/careers/list/40090/","What You’ll Need\n• Bachelor’s degree in Accounting\n• CPA/CA or equivalent\n• A minimum of 7 years of relevant work experience in public accounting and/or a high tech organization\n• Knowledge of accounting policies/procedures and financial statements\n• Organization skills with an ability to plan and perform multiple tasks\n• Ability to independently resolve complex problems where analysis requires the in-depth evaluation of numerous factors\n\n","What You’ll Need\n• Bachelor’s degree in Accounting\n• CPA/CA or equivalent\n• A minimum of 7 years of relevant work experience in public accounting and/or a high tech organization\n• Solid knowledge of accounting policies/procedures and financial statements\n• Strong organization skills with an ability to plan and perform multiple tasks\n• Ability to independently resolve complex problems where analysis requires the in-depth evaluation of numerous factors\n• Experience with Oracle R12 or another large scale ERP is preferred\n• International accounting experience is a plus\n\n","?iisp=he-6594079","?iisp=he-6584079",null,"Accounting Manager","2018-08-13T13:59:00","2018-08-18T08:00:00","2018-08-22T14:44:00",null,null,"2018-12-14T06:46:00"]
["https://www.uber.com/careers/list/40085/","What You’ll Need\n• 4+ years of IT experience\n• Minimum of 2-3 years’ experience with executive level support\n• Bachelor's Degree in Computer Science, or equivalent combination of education and experience\n• Working knowledge with Microsoft, MAC, Desktop/Laptops, basic networking, and A/V equipment\n• Ability to multi-task, manage time and follow through with assignments\n• Problem solving, organization and project management skills\n• A service-oriented attitude with discretion in handling sensitive/private technical issues and other matters\n• Audio/Video knowledge\n• Prior experience setting-up, installing, cabling, and maintaining executive home offices including all networking equipment (Apple, Cisco, VoIP)\n• Ability to work in a fast-paced, highly technical environment\n• Customer Service experience\n• Ability to be on site and on call\n• Verbal and written communication skills\n• Experience supporting mobile devices\n• Ability to communicate with executive team as well as others in Tech Services\n• Ability to take initiative and work independently, as well as part of a team\n• Willing to work after hours and weekends as needed \n\n","What You’ll Need\n• 4+ years of IT experience\n• Minimum of 2-3 years’ experience with executive level support\n• Bachelor's Degree in Computer Science, or equivalent combination of education and experience\n• Working knowledge with Microsoft, MAC, Desktop/Laptops, basic networking, and A/V equipment\n• Ability to multi-task, manage time and follow through with assignments\n• Strong problem solving, organization and project management skills\n• A service-oriented attitude with the utmost discretion in handling sensitive/private technical issues and other matters\n• Audio/Video knowledge\n• Prior experience setting-up, installing, cabling, and maintaining executive home offices including all networking equipment (Apple, Cisco, VoIP)\n• Ability to work in a fast-paced, highly technical environment\n• Demonstrable strong Customer Service experience\n• Ability to be on site and on call\n• Excellent verbal and written communication skills\n• Experience supporting mobile devices\n• Ability to communicate effectively with executive team as well as others in Tech Services\n• Ability to take initiative and work independently, as well as part of a team\n• Willing to work after hours and weekends as needed \n \nBonus Points If\n• High end restaurant experience\n• High end hotel concierge experience\n• 5+ years in a help desk role supporting Apple and PC hardware and software\n• Apple Certification(s) i.e. ACMT\n\n","?iisp=he-6594079","?iisp=he-6584079",null,"Executive Support Analyst","2018-08-13T13:59:00","2019-01-29T06:50:00",null,null,null,"2018-12-14T06:46:00"]
["https://www.uber.com/careers/list/40084/","What You’ll Need\n \n• 10+ years of relevant engineering experience.\n• BS degree in Computer Science or related engineering field. Masters/Ph.D.\n• 5+ years of experience managing engineering teams.\n• Managed through leaders and other manager.\n• Experience building large scale distributed systems in machine learning, computation and business application.\n• Experience with engineering design and operations of business applications.\n• Domain knowledge in Finance, business forecasting and optimization.\n• Experience managing a budget.\n• Interest in facilitating continual improvement initiatives on related business domains.\n• Written and verbal communication skills, including the ability to write detailed technical documents.\n• Interested in helping the team grow by inspiring and mentoring engineers.","What You’ll Need\n \n• 10+ years of relevant engineering experience.\n• BS degree in Computer Science or related engineering field. Masters/Ph.D.\n• 5+ years of experience managing engineering teams.\n• Managed through leaders and other manager.\n• Track record of building large scale distributed systems in machine learning, computation and business application.\n• Experience with engineering design and operations of business applications.\n• Strong domain knowledge in Finance, business forecasting and optimization.\n• Experience managing a budget.\n• Passion for driving continual improvement initiatives on related business domains.\n• Excellent written and verbal communication skills, including the ability to write detailed technical documents.\n• Passionate about helping the team grow by inspiring and mentoring engineers.\n \nBonus Points If\n \n• Experience in Finance, corporate business processes and large enterprise operations.\n\n","?iisp=he-6594079","?iisp=he-6584079",null,"Sr Engineering Manager - Finance Intelligence","2018-08-13T13:59:00","2018-08-30T21:38:00","2018-09-05T15:52:00",null,null,"2018-12-14T06:46:00"]
["https://www.uber.com/careers/list/40082/","What You’ll Need\n• 3-5+ years experience serving as the SME of one or more critical, company-wide SaaS services\n• Previous experience using Google Apps Manager (GAM) to manipulate a Google G Suite environment at scale for a global company\n• Previous experience deploying and managing Slack for a medium to large company\n• Previous experience designing and performing cloud-to-cloud migration projects with your hands on the keyboard performing the work\n• Previous experience working with a SaaS SSO solution and connecting applications to it\n• Familiarity with key integration points for messaging / collaboration services, including BetterCloud, CloudLock, Proofpoint, Valimail, et al.\n• Knowledge of BASH or PowerShell, including the ability to write basic scripts\n• Knowledge of one or more development languages (Python, JavaScript, Google Apps Script), including previous experience building something deployed to production\n• Familiar with consuming RESTful APIs for SaaS applications, including those that may be completely new to you\n• Appreciation for thorough implementation of a new solution, including gathering data, proof-of-concept of ideas / testing and validating that solution meets the business need\n• Written, verbal, and interpersonal communication skills, including the ability to give constructive feedback / objections\n• Experience with engaging vendors regarding critical issues, enhancements, and roadmaps\n• Experience operationalizing and standardizing the support framework of applications at scale via the creation of high-quality technical documentation and the design of policies, processes, and procedures\n• Experience building highly-detailed project proposal and implementation documentation\n• Previously a member of a team that performed one or more projects that impacted the company\n\n","What You’ll Need\n• 3-5+ years experience serving as the SME of one or more critical, company-wide SaaS services, ideally including a cloud-based messaging and collaboration service such as Google G Suite or Office 365\n• Previous experience using Google Apps Manager (GAM) to manipulate a Google G Suite environment at scale for a global company\n• Previous experience deploying and managing Slack for a medium to large company\n• Previous experience designing and performing cloud-to-cloud migration projects with your hands on the keyboard performing the work\n• Previous experience working with a SaaS SSO solution and connecting applications to it\n• Familiarity with key integration points for messaging / collaboration services, including BetterCloud, CloudLock, Proofpoint, Valimail, et al.\n• Intermediate knowledge of BASH or PowerShell, including the ability to comfortably write basic scripts\n• Intermediate to advanced knowledge of one or more development languages (Python, JavaScript, Google Apps Script), including previous experience building something notable deployed to production\n• Comfortable with consuming RESTful APIs for SaaS applications, including those that may be completely new to you\n• Appreciation for thorough implementation of a new solution, including gathering data, proof-of-concept of ideas / testing and validating that solution meets the business need\n• Excellent written, verbal, and interpersonal communication skills, including the ability to give constructive feedback / objections\n• Experience with engaging vendors regarding critical issues, enhancements, and roadmaps\n• Experience operationalizing and standardizing the support framework of applications at scale via the creation of high-quality technical documentation and the design of policies, processes, and procedures\n• Experience building highly-detailed project proposal and implementation documentation\n• Previously a member of a high-functioning team that performed one or more projects that impacted the entire company\n\n","?iisp=he-6594079","?iisp=he-6584079",null,"Sr Systems Engineer - Collaboration Apps","2018-08-13T13:59:00","2019-01-29T06:50:00",null,null,null,"2018-12-14T06:46:00"]
["https://www.uber.com/careers/list/40081/","What You’ll Need\n• 3+ years’ experience in accounting.\n• Knowledge of US GAAP and SEC rules and regulations\n• Attention to detail, written and verbal communication, organizational and analytical skills required\n• Ability to work independently toward the team’s objectives in a dynamic environment, and propose solutions to issues as they arise\n• Ability to suggest and implement process improvements\n","What You’ll Need\n• 3+ years’ experience in accounting, preferably public accounting with big four. CPA certification is a big plus.\n• Excellent knowledge of US GAAP and SEC rules and regulations\n• Attention to detail, excellent written and verbal communication, organizational and analytical skills required\n• Ability to work independently toward the team’s objectives in a dynamic environment, and propose solutions to issues as they arise\n• Ability to suggest and implement process improvements\n• Oracle R12, Workiva, or HFM experience preferred\n\n","?iisp=he-6594079","?iisp=he-6584079",null,"Sr Accountant, Financial Reporting","2018-08-13T13:59:00","2018-09-04T16:43:00","2018-10-01T14:50:00",null,null,"2018-12-14T06:46:00"]
["https://www.uber.com/careers/list/40080/","What You’ll Need\n• A minimum of 5 years of experience in Supplier Management  \n• Ability to deal with ambiguity and shifting priorities with the additional complexity of serving different international geographical regions.\n• Knowledge of ERP systems such as Oracle\n• Knowledge of the Procure-to-Pay process\n• Analytical, verbal and written skills with attention to detail\n• Experience in facilitating continuous improvement and process optimization\n• Microsoft Excel skills\n• Team player, able to work independently while knowing when to speak up for help\n• Time and self-management skills, ability to deal with overlapping priorities in a fast-moving environment\n• Keep apprised of process changes downstream that might require process redesign","What You’ll Need\n• A minimum of 5 years of experience in Supplier Management  \n• Ability to deal with ambiguity and shifting priorities with the additional complexity of serving different international geographical regions.\n• Excellent knowledge of ERP systems such as Oracle\n• Knowledge of the Procure-to-Pay process\n• Excellent analytical, verbal and written skills with a high attention to detail\n• Experience in driving continuous improvement and process optimization\n• Advanced Microsoft Excel skills\n• Team player, work well independently while knowing when to speak up for help\n• Excellent time and self-management skills, ability to deal with overlapping priorities in a fast-moving environment\n• Keep apprised of process changes downstream that might require process redesign\n \nBonus Points If\n• Oracle ERP experience (i-Supplier) and/or supplier set-up portals\n• Experience in a global environment\n• Experience in a start-up or fast-growth environment\n\n","?iisp=he-6594079","?iisp=he-6584079",null,"Supplier Management Process Manager","2018-08-13T13:59:00","2018-10-03T12:22:00","2018-10-08T12:55:00",null,null,"2018-12-14T06:46:00"]
["https://www.uber.com/careers/list/40073/","What You’ll Need\n• 2 years of Product Management Experience in high growth and impact Internet businesses;\n• Experience building product strategies and executing against roadmaps in incremental prioritized steps;\n• Interpersonal skills and ability to establish trust with internal/external partners;\n• Resolve and self determination to execute;\n• Truth seeker who uses hypotheses and collects data to inform decision making;\n• Interest in and ability to, travel internationally (10-15% travel is expected.)\n \n","What You’ll Need\n• 2 years of Product Management Experience in high growth and impact Internet businesses;\n• Experience building successful product strategies and executing against ambitious roadmaps in incremental prioritized steps;\n• Excellent interpersonal skills and ability to establish trust with internal/external partners;\n• Grit and self determination to execute;\n• Strong record as a truth seeker who uses hypotheses and collects data to inform decision making;\n• Interest in and ability to, travel internationally (10-15% travel is expected.)\n \nBonus points\n• Management or Strategy Consulting experience;\n• Startup experience, as founder or founding team;\n• MBA;\n• Experience working or living abroad\n\n","?iisp=he-6594079","?iisp=he-6584079",null,"Product Manager - Vehicle Solutions - Marketplace","2018-08-13T13:59:00","2018-08-16T07:30:00","2018-08-22T14:44:00",null,null,"2018-12-14T06:46:00"]
["https://www.uber.com/careers/list/40067/","What You’ll Need\n• 6+ years experience of investment banking / consulting / business intelligence / strategy or related experience.\n• Communication and organization skills.\n• Communicator\n• Leadership capabilities\n• A “driver” personality - biased toward action, collaborator and disambiguator/simplifier - striving for clarity and delivery.\n• Excel / data management skills.\n• Self-motivated, works independently and possesses organization and time management skills\n• Bachelor's degree required\n","What You’ll Need\n• 6+ years experience of investment banking / consulting / business intelligence / strategy or related experience; some high-growth operations or startup experience is strongly preferred.\n• Exceptional communication and organization skills.\n• Clear communicator\n• Strong, demonstrated leadership capabilities\n• A “driver” personality - biased toward action, great collaborator and master disambiguator/simplifier - constantly pushing toward clarity and delivery.\n• Exceptional Excel / data management skills.\n• Self-motivated, works independently and possesses strong organization and time management skills\n• Bachelor's degree required\n• SQL Proficiency strongly preferred\n\n","?iisp=he-6594079","?iisp=he-6584079",null,"Sr. Central Operations Manager, Airport Ops - Product Configuration","2018-08-13T13:59:00","2018-10-10T08:30:00","2018-10-16T07:51:00",null,null,"2018-12-14T06:46:00"]
["https://www.uber.com/careers/list/40066/","What You’ll Need\n• 6+ years experience of investment banking / consulting / business intelligence / strategy or related experience.\n• Communication and organization skills.\n• Communicator\n• Leadership capabilities\n• A “driver” personality - biased toward action, collaborator and disambiguator/simplifier - striving for clarity and delivery.\n• Excel / data management skills.\n• Self-motivated, works independently and possesses organization and time management skills\n• Bachelor's degree required\n\n","What You’ll Need\n• 6+ years experience of investment banking / consulting / business intelligence / strategy or related experience; some high-growth operations or startup experience is strongly preferred.\n• Exceptional communication and organization skills.\n• Clear communicator\n• Strong, demonstrated leadership capabilities\n• A “driver” personality - biased toward action, great collaborator and master disambiguator/simplifier - constantly pushing toward clarity and delivery.\n• Exceptional Excel / data management skills.\n• Self-motivated, works independently and possesses strong organization and time management skills\n• Bachelor's degree required\n• SQL Proficiency strongly preferred\n\n","?iisp=he-6594079","?iisp=he-6584079",null,"Sr. Central Operations Manager, Airport Ops - Deal & Growth Analytics","2018-08-13T13:59:00","2018-11-05T08:30:00","2018-11-15T14:48:00",null,null,"2018-12-14T06:46:00"]
["https://www.uber.com/careers/list/40061/","What you'll need\n• Experience leading and growing product design teams\n• Experience with mobile product design\n• At least 10 years of design experience, and at least 5 as a manager\n• Ability to mentor junior and senior designers, and bring out their best work\n• An understanding of designing based on metrics to achieve business objectives\n• Written, verbal, and visual communication skills\n\n\n","What you'll need\n• Experience leading and growing product design teams\n• Experience with mobile product design\n• At least 10 years of design experience, and at least 5 as a manager\n• Ability to mentor junior and senior designers, and bring out their best work\n• A solid understanding of designing based on metrics to achieve business objectives\n• Clear and effective written, verbal, and visual communication skills\n• Bonus points if you have experience with marketplace businesses or service design\n\n","?iisp=he-6594079","?iisp=he-6584079",null,"Sr Design Manager, Uber Eats","2018-08-13T13:59:00","2018-10-19T08:50:00","2018-10-30T07:19:00",null,null,"2018-12-14T06:46:00"]
["https://www.uber.com/careers/list/40054/","What You'll Need\n \nTo succeed you’ll need to be:\n• A self starter: Uber Eats is a startup within a startup, and growing quickly. We want to work with people who enjoy building things from the bottom up too. Stuff changes fast in our world so you'll need to be adaptable as well as calm under pressure.\n• An advocate: We're looking for people who can distill complex ideas into simple, but intellectually credible, arguments. You'll need to write well and have the ability to tell stories - about our product, people and the ways we're helping to restaurants, eaters and couriers.\n• A team player: Success at Uber depends on the ability to organize different teams (internally and externally) around shared goals. It's why we're looking for people who enjoy working with others to get stuff done - and who can handle the ambiguity that sometimes comes from working cross-functionally.\n \nIdeal candidates will have 5+ years experience either for a company, a third party or in government, with experience facilitating public policy and regulatory outcomes. \n\n","What You'll Need\n \nTo succeed you’ll need to be:\n• A self starter: Uber Eats is a startup within a startup, and growing quickly. We want to work with people who enjoy building things from the bottom up too. Stuff changes fast in our world so you'll need to be highly adaptable as well as calm under pressure.\n• A great advocate: We're looking for people who can distill complex ideas into simple, but intellectually credible, arguments. You'll need to write well and have the creative ability to tell stories - about our product, people and the ways we're helping to restaurants, eaters and couriers.\n• A team player: Success at Uber depends on the ability to organize different teams (internally and externally) around shared goals. It's why we're looking for people who enjoy working with others to get stuff done - and who can deal with the ambiguity that sometimes comes from working cross-functionally.\n \nIdeal candidates will have 5+ years experience either for a company, a third party or in government, with a proven track record of driving public policy and regulatory outcomes. Experience of food and restaurant industry issues, as well as working with industry groups trade associations is considered an advantage. International experience also desirable.\n \n\n","?iisp=he-6594079","?iisp=he-6584079",null,"Senior Associate, Public Policy - Restaurants & Food","2018-08-13T13:59:00","2018-09-13T07:35:00","2018-09-23T12:29:00",null,null,"2018-12-14T06:46:00"]
["https://www.uber.com/careers/list/40048/","What You’ll Need\n• Minimum of 1 year of experience\n• Bachelor’s degree required\n• Excel and data analysis skills \n• Leadership on projects and initiatives at your organization\n• Attention to detail and able to handle ambiguity in an ever-changing environment\n","What You’ll Need\n• Minimum of 1 year of experience\n• Bachelor’s degree required\n• Excellent advanced Excel and data analysis skills (SQL strongly preferred)\n• Demonstrated leadership on projects and initiatives at your organization\n• Attention to detail and comfort with ambiguity in an ever-changing environment\n","?iisp=he-6594079","?iisp=he-6584079",null,"Operations & Logistics Manager - NYC","2018-08-13T13:59:00","2018-09-25T17:00:00","2018-10-01T14:50:00",null,null,"2018-12-14T06:46:00"]
["https://www.uber.com/careers/list/40027/","What You’ll Need\n• Minimum 1 year of experience in customer service or quality assurance role \n• Experience working in a highly detail-oriented environment, with diligence and accountability\n• Written and verbal communication skills in both English and Spanish \n• Interest in data analysis and the ability to facilitate quality improvement, process improvement, and tool enhancements\n• Ability to present findings to upper management\n• Experience with productivity tools (email, calendar), Google Suite or Microsoft Suite (excel, PowerPoint) \n• Proactive in thinking about the bigger picture and how we can improve as a team and company\n \n\n","What You’ll Need\n• Minimum 1 year of experience in customer service or quality assurance role \n• Experience working in a highly detail-oriented environment, demonstrating a high degree of diligence and accountability\n• Exceptional written and verbal communication skills in both English and Spanish \n• Passion for data analysis and the ability to drive quality improvement, process improvement, and tool enhancements\n• Confident presenting findings to upper management\n• Proficiency in productivity tools (email, calendar), Google Suite or Microsoft Suite (excel, PowerPoint) \n• Proactive in thinking about the bigger picture and how we can improve as a team and company\n \nBonus Points If:\n• Bachelor's degree or college experience \n• Specific examples of how you managed stakeholders\n• Specific examples of how you initiated a project and saw it through from beginning to end \n\n","?iisp=he-6594079","?iisp=he-6584079",null,"Bilingual Service Quality Specialist","2018-08-13T13:59:00","2019-02-07T08:45:00",null,null,null,"2018-12-14T06:46:00"]
["https://www.uber.com/careers/list/40020/","What You'll Need\n• Must possess communications skills.\n• Knowledge of Automotive systems, tooling  \n• Electrical skills, Read wiring schematics\n• Ability to problem solve, diagnose, analyze and isolate problems. \n• A can-do customer service attitude with abilities to multitask under pressure in an unstructured environment.\n\n","What You'll Need\n• 5 years of direct experience in the Automotive industry preferred.\n• Must possess excellent communications skills.\n• Deep knowledge of Automotive systems, tooling  \n• Strong electrical skills, Read wiring schematics\n• Ability to problem solve, diagnose, analyze and isolate problems. \n• Windows, Mac, and Linux experience preferred\n• A can-do customer service attitude with abilities to multitask under pressure in an unstructured environment.\n• Pa State Inspection and Emission License is preferred.\n• Bonus points if you have Fleet and Heavy Truck experience. \n\n","?iisp=he-6594079","?iisp=he-6584079",null,"Self-Driving Automotive Technician","2018-08-13T13:59:00","2018-08-17T07:00:00","2018-08-22T14:44:00",null,null,"2018-12-14T06:46:00"]
["https://www.uber.com/careers/list/40018/","What You’ll Need\n• Bachelor's degree or higher in an engineering field (e.g. Computer Science, Computer Engineering, etc.)\n• Past experience in designing and building large-scale distributed systems with reliability and availability in mind.\n• Past experience in productionize and apply machine learning techniques in different problem domains. \n• Past experience in scaling the systems to work in multiple availability zones.\n• 10+ years experience designing, implementing large-scale distributed systems.\n• Experience with multiple programming languages (Go, Java, Python) and data stores (MySQL, Cassandra, Redis, etc)\n• Past experience in large scale data systems, and data warehouse services. \n• Experience as a Staff Engineer level or above at a technology company\n\n","What You’ll Need\n• Bachelor's degree or higher in an engineering field (e.g. Computer Science, Computer Engineering, etc.)\n• Past experience in successfully designing and building large-scale distributed systems with reliability and availability in mind.\n• Past experience in productionize and apply machine learning techniques in different problem domains. \n• Past experience in scaling the systems to work in multiple availability zones.\n• 10+ years experience designing, implementing large-scale distributed systems.\n• Experience with multiple programming languages (Go, Java, Python) and data stores (MySQL, Cassandra, Redis, etc)\n• Past experience in large scale data systems, and data warehouse services. \n• Proven track record of results as a Staff Engineer level or above at a premier technology company\n \nBonus Points If\n• Experience in Finance, corporate business processes and large enterprise operations.\n\n","?iisp=he-6594079","?iisp=he-6584079",null,"Staff Software Engineer","2018-08-13T13:59:00","2019-03-07T13:45:00",null,null,null,"2018-12-14T06:46:00"]
["https://www.uber.com/careers/list/40001/","What You'll Need\n \n• BS degree and minimum 2 years of finance, operational FP&A or related experience\n• Critical thinking skills. While this is a finance role, the ability to understand strategic business drivers will be essential\n• Excel skills. You strive for best practices, your models are efficient, scalable and intuitive\n• Communication and people skills. Numbers are key, but a business is built with people\n• Team player. This is a highly collaborative and supportive function\n• Balance attention to detail with swift follow through.\n\n","What You'll Need\n \n• BS degree and minimum 2 years of finance, operational FP&A or related experience\n• Critical thinking skills. While this is a finance role, the ability to understand strategic business drivers will be essential\n• Excellent Excel skills. Best practices are second-nature, your models are efficient, scalable and intuitive\n• Exceptional communication and people skills. Numbers are key, but a business is built with people\n• Team player. This is a highly collaborative and supportive function\n• Balance attention to detail with swift follow through. We need to do things quickly, and we need to do them well\n \nBonus Points if \n \n• Consulting, Accounting, or Investment Banking experience\n• Experience with startup / high-growth operations\n• Customer service experience\n• SQL proficiency\n• Accounting qualifications\n\n","?iisp=he-6594079","?iisp=he-6584079",null,"Global Financial Analyst","2018-08-13T13:59:00","2018-11-07T17:30:00","2018-11-15T14:48:00",null,null,"2018-12-14T06:46:00"]
["https://www.uber.com/careers/list/39999/","What You’ll Need\n \n• Minimum of several years experience with advocacy within a tech organization\n• Prior experience with open source, including community contributions\n• Familiarity with GitHub, and version control systems\n• Writing and communication skills \n• Initial responsibilities and role commensurate with experience\n\n","What You’ll Need\n \n• Minimum of several years experience with advocacy within a tech organization\n• Prior experience with open source, including community contributions\n• Familiarity with GitHub, and version control systems\n• Technical background preferred\n• Good writing and communication skills \n• Public speaking experience on technical topics a plus\n• Initial responsibilities and role commensurate with experience\n\n","?iisp=he-6594079","?iisp=he-6584079",null,"Open Source Developer Advocate","2018-08-13T13:59:00","2019-01-30T07:30:00",null,null,null,"2018-12-14T06:46:00"]
["https://www.uber.com/careers/list/39997/","What You’ll Need\n \n• Critical thinking, deductive reasoning, and project management skills. You’re able to break a problem down into its constituent parts to identify the best solution\n• Monitor Uber Freight’s customers agings and recommend process improvement across all internal and external stakeholders.\n• Written and verbal communication skills\n• A minimum of 2 - 3 years of progress experience in Accounting / Operations team.\n• Bachelor’s Degree in Accounting/finance/Business Administration\n• Experience with Excel with ability in data modeling\n• Ability to work in a fast paced dynamic environment – we have no shortage of asks but limited time. You need to be able to assess, prioritize, and execute autonomously\n• Time management skills; multi-task and prioritize workloads; analytical capabilities; identify and resolve problems.\n• Interpersonal skills; participate in a team environment and build working relationships.\n• Ability to handle stressful situations resulting from high volume of emails, technical problems, and changes in departmental priorities or procedures.\n• Attention to detail oriented tasks.\n• Functional knowledge of credit management, customer invoicing, receivable aging and collections.\n\n","What You’ll Need\n \n• Critical thinking, deductive reasoning, and project management skills. You’re easily able to break a problem down into its constituent parts to identify the best solution\n• Effectively monitor Uber Freight’s customers agings and recommend process improvement across all internal and external stakeholders.\n• Excellent written and verbal communication skills\n• A minimum of 2 - 3 years of progress experience in Accounting / Operations team.\n• Bachelor’s Degree in Accounting/finance/Business Administration\n• Highly proficient in Excel with ability in data modeling\n• Ability to thrive in a fast paced dynamic environment – we have no shortage of asks but limited time. You need to be able to effectively assess, prioritize, and execute autonomously\n• Strong time management skills; multi-task and prioritize workloads; demonstrated analytical capabilities; effectively identify and resolve problems.\n• Strong interpersonal skills; participate in a team environment and build strong working relationships.\n• Ability to handle stressful situations resulting from high volume of emails, technical problems, and changes in departmental priorities or procedures.\n• Exceptional attention to detail oriented tasks.\n• Experience in Oracle is highly desired.\n• Solid functional knowledge of credit management, customer invoicing, receivable aging and collections.\n\n","?iisp=he-6594079","?iisp=he-6584079",null,"Credit & Collections Project Analyst","2018-08-13T13:59:00","2018-09-22T15:44:00","2018-10-01T14:50:00",null,null,"2018-12-14T06:46:00"]
["https://www.uber.com/careers/list/39974/","What You’ll Need\n \n• 5+ years of UX writing or related experience writing user interface copy in a global software development environment\n• A portfolio of samples that show your skill and effectiveness as a UX Writer in a digital product development team.\n• Clear, precise writing.\n• An interest in designing products for a global audience: not just through translation, but reimagining products so that they’re effective in cultures around the world.\n• A desire to use research and metrics to discover the most effective language for every context and to measure the impact of your work at furthering customer and product goals.\n• A willingness to pitch ideas to cross-functional stakeholders, and an understanding of when it makes sense to push back and when it doesn't.  \n• The ability to strategically prioritize multiple projects for yourself and more junior writers and designers. \n• An ability to teach the craft of UX Writing to other writers, as well our design and product partners.\n• An interest in problem solving in a landscape that changes quickly. You enjoy identifying gaps in processes, inefficiencies that could be smoothed over, or things that could work better.\n \n","What You’ll Need\n \n• 5+ years of UX writing or related experience writing user interface copy in a global software development environment\n• A portfolio of samples that demonstrate your skill and effectiveness as a UX Writer in a digital product development team.\n• A mastery of clear, precise writing that sometimes even sings.\n• A passion for designing products for a global audience: not just through translation, but reimagining products so that they’re effective in cultures around the world.\n• An eagerness to use research and metrics to discover the most effective language for every context and to measure the impact of your work at furthering customer and product goals.\n• A willingness to pitch ideas to cross-functional stakeholders, and an understanding of when it makes sense to push back and when it doesn't.  \n• The ability to strategically prioritize multiple projects for yourself and more junior writers and designers. You'll have plenty to do—know where our efforts will have the most impact.\n• A gift for teaching the craft of UX Writing to other writers, as well our design and product partners.\n• An appetite for problem solving in a landscape that changes quickly. If you like to identify gaps in processes, inefficiencies that could be smoothed over, or things that simply could work better, you'll fit right in.\n \nBonus Points If\n \n• A degree in English, Psychology, Design, Linguistics, HCI or any area that emphasizes the analysis and use of language or narrative and systematic thinking.\n• Background in user experience or product design. Copywriting or content strategy experience in other environments is also useful, as long as you can articulate how your approach would or wouldn’t adapt to the world of apps.\n• Experience writing for spoken interfaces or other writing that’s meant to be spoken in apps, on the air, or on the stage. \n\n","?iisp=he-6594079","?iisp=he-6584079",null,"Sr UX Writer","2018-08-13T13:59:00","2019-01-29T06:50:00","2018-08-22T14:44:00","2018-08-17T15:30:00",null,"2018-12-14T06:46:00"]
["https://www.uber.com/careers/list/39968/","What You’ll Need\n• BS/BA in Finance, Accounting, Economics, or similar\n• Minimum of 1 year in Banking and/or Corporate finance /operational FP&A at either a high-growth company or a large, well-established organization\n• Excel skills - You strive for best practices, your models are efficient, scalable, and intuitive\n• Communication and people skills - numbers are key, but a business is built with people\n• Self-starter - You will take initiative, be dedicated, set and work toward goals\n• Working knowledge of GAAP\n• Systems - working knowledge of enterprise-level financial planning systems\n• Attention to detail - consistent with swift execution\n \n","What You’ll Need\n• BS/BA in Finance, Accounting, Economics, or similar\n• Minimum of 1 year in Banking and/or Corporate finance /operational FP&A at either a high-growth company or a large, well-established organization\n• Elite Excel skills - Best practices are second-nature, your models are efficient, scalable, and intuitive\n• Excellent communication and people skills - numbers are key, but a business is built with people\n• Self-starter - You will take initiative, be dedicated, set and drive toward goals\n• Strong working knowledge of GAAP\n• Systems - working knowledge of enterprise-level financial planning systems\n• Attention to detail - consistent with swift execution\n \nBonus Points If\n• MBA, CFA or CPA\n• SQL skills - the ability to self-serve, investigate and get the data we require will make you much more effective in this role\n\n","?iisp=he-6594079","?iisp=he-6584079",null,"Strategic Finance (Analyst, Associate & Sr Associate levels)","2018-08-13T13:59:00",{"$nulls":4},"2018-12-14T06:46:00"]
["https://www.uber.com/careers/list/39960/","What You’ll Need\n• At least 10 years experience delivering b2b go-to-market, demand generation and growth strategies \n• BS/MS in Computer Science, Mathematics, Economics, Business or related field\n• A lead generation expert: You can devise programs to generate qualified leads for your product. You're creative and can execute on your ideas\n• Email skills: You possess an ability to run and iterate on automated email marketing campaigns\n• Experience with data: You are able to get the data you need and can turn it into a story. You know how to leverage data to make decisions and facilitate growth\n• Able to articulate the essence of products and the value they create. You can develop a messaging hierarchy and content strategy plan. You can also act as a copywriter\n• Experience with market research: You know your market, customers and competition, and you're able to integrate this information into your growth strategies\n• A \"driver\" personality: You're biased toward action, a collaborator and disambiguator/simplifier. You strive for clarity and delivery\n• Rider-centricity - you have many examples from your past of product challenges that you persevered through because you were unwilling to make your problems your riders' problems\n• Interest in Uber's mission and the company's hybrid technology / operations nature\n\n","What You’ll Need\n• At least 10 years experience delivering highly successful b2b go-to-market, demand generation and growth strategies with your fingerprints all over them - you're extremely proud of what you've accomplished\n• BS/MS in Computer Science, Mathematics, Economics, Business or related field\n• A lead generation expert: You can devise highly effective programs to generate qualified leads for your product. You're extremely creative and can rapidly execute on your ideas\n• Excellent email skills: You possess an uncanny ability to run and iterate on highly effective automated email marketing campaigns\n• Comfort with data: You go get the data you need with no muss/fuss and can turn it into an insightful story. You know how to leverage data to make decisions and drive growth\n• Skilled at articulating the essence of products and the value they create. You can develop a meaningful messaging hierarchy and effective content strategy plan. You can also play copywriter\n• Top-notch at market research: You're a truth-seeker. You know your market, customers and competition, and you're excellent at integrating this information into your growth strategies\n• A \"driver\" personality: You're biased toward action, a great collaborator and master disambiguator/simplifier. You never stop pushing towards clarity and delivery\n• Rider-centricity - you have many examples from your past of difficult product challenges that you persevered through because you were unwilling to make your problems your riders' problems\n• True passion for Uber's mission and the company's hybrid technology / operations nature\n\n","?iisp=he-6594079","?iisp=he-6584079",null,"Director of Marketing, Uber for Business","2018-08-13T13:59:00","2019-04-22T11:51:00",null,null,null,"2018-12-14T06:46:00"]
["https://www.uber.com/careers/list/39959/","What You’ll Need\n• 6+ years experience of investment banking / consulting / business intelligence / strategy or related experience.\n• Communication and organization skills.\n• Communicator\n• Leadership capabilities\n• A “driver” personality - biased toward action, collaborator and disambiguator/simplifier - striving for clarity and delivery.\n• Excel / data management skills.\n• Self-motivated, works independently and possesses organization and time management skills\n• Bachelor's degree required\n\n","What You’ll Need\n• 6+ years experience of investment banking / consulting / business intelligence / strategy or related experience; some high-growth operations or startup experience is strongly preferred.\n• Exceptional communication and organization skills.\n• Clear communicator\n• Strong, demonstrated leadership capabilities\n• A “driver” personality - biased toward action, great collaborator and master disambiguator/simplifier - constantly pushing toward clarity and delivery.\n• Exceptional Excel / data management skills.\n• Self-motivated, works independently and possesses strong organization and time management skills\n• Bachelor's degree required\n• SQL Proficiency strongly preferred\n\n","?iisp=he-6594079","?iisp=he-6584079",null,"Senior Central Operations Manager (Chicago)","2018-08-13T13:59:00","2018-10-18T11:25:00","2018-10-23T06:21:00",null,null,"2018-12-14T06:46:00"]
["https://www.uber.com/careers/list/39957/","What You’ll Need\n \n• A minimum of 3 years of experience in Accounts Payables \n• Technical knowledge of ERP systems such as Oracle\n• Knowledge of the Procure-to-Pay process\n• Analytical, verbal and written skills with attention to detail\n• Experience in facilitating continuous improvement and process optimization initiatives\n• Microsoft Excel skills\n• Team player, able to work independently while knowing when to speak up for help\n• Time and self-management skills, ability to deal with overlapping priorities in a fast-moving environment\n","What You’ll Need\n \n• A minimum of 3 years of experience in Accounts Payables \n• Excellent technical knowledge of ERP systems such as Oracle\n• Knowledge of the Procure-to-Pay process\n• Excellent analytical, verbal and written skills with a high attention to detail\n• Experience in driving continuous improvement and process optimization initiatives\n• Advanced Microsoft Excel skills\n• Team player, work well independently while knowing when to speak up for help\n• Excellent time and self-management skills, ability to deal with overlapping priorities in a fast-moving environment\n \nBonus Points If\n \n• Oracle ERP (Accounts Payables module)\n• GL accounting experience\n• Experience in a start-up or fast-growth environment\n\n","?iisp=he-6594079","?iisp=he-6584079",null,"GPO- Accounts Payable","2018-08-13T13:59:00","2018-10-25T11:30:00","2018-10-30T07:19:00",null,null,"2018-12-14T06:46:00"]
["https://www.uber.com/careers/list/39955/","What You'll Need:\n• Minimum 4-5 years of experience in paid social performance and brand marketing.\n• Analytical skills with multivariate testing experience.\n• Ability to set goals and execute under tight deadlines.. \n• Knowledge of both pixel and mobile app measurement and tracking.\n\n","What You'll Need:\n• Minimum 4-5 years of experience in paid social performance and brand marketing.\n• Excellent analytical skills with multivariate testing experience.\n• Ability to set goals and execute under tight deadlines.\n• Experience in/around a start-up or mobile culture a plus - i.e. you can adapt to quick changes within both the company and mobile industry.\n• An understanding of the nuances of both the demand and supply side of a marketplace also a plus. \n• Knowledge of both pixel and mobile app measurement and tracking.\n\n","?iisp=he-6594079","?iisp=he-6584079","extra period in treated version, 3rd bullet","Paid Social Manager - Uber Eats","2018-08-13T13:59:00","2019-01-15T09:20:00",null,null,null,"2018-12-14T06:46:00"]
["https://www.uber.com/careers/list/39917/","Requirements\n• 4-5+ years in digital ad operations managing complex operational processes in online advertising industry for agency or advertiser\n• 2+ years managing teams, both local and remote\n• Experience with Google’s DoubleClick platforms including DFP, DCM, DBM, DFA, Doubleclick Search, Google AdWords\n• Experience with Doubleclick Floodlight tags\n• Experience is most major ad serving platforms, bid management tools, ad verification tools, tag management tools, and debugging tools\n• Experience with tracking pixels for audience and conversion tracking\n• Experience with Audience segments and DMPs\n• Experience with MS Excel and Powerpoint\n• Working knowledge of rich media ad formats, adtech vendor products, and reporting analytics tools\n• Familiar with JIRA \n• The ability to learn new technologies & platforms\n• Ability to identify problems and areas of improvement \n• Leadership, relationship management, and communications skills\n• Ability to multitask in a fast-paced environment with minimal supervision\n\n","Requirements\n• 4-5+ years in digital ad operations managing complex operational processes in online advertising industry for agency or advertiser\n• 2+ years managing teams, both local and remote\n• Extensive experience with Google’s DoubleClick platforms including DFP, DCM, DBM, DFA, Doubleclick Search, Google AdWords\n• Experience with Doubleclick Floodlight tags\n• Experience is most major ad serving platforms, bid management tools, ad verification tools, tag management tools, and debugging tools\n• Experience with tracking pixels for audience and conversion tracking\n• Experience with Audience segments and DMPs\n• Knowledge of HTML, JavaScript and Flash a plus\n• Proficient with MS Excel and Powerpoint\n• Working knowledge of rich media ad formats, adtech vendor products, and reporting analytics tools\n• Familiar with JIRA \n• Basic knowledge of SQL or a similar language is preferable, but not essential\n• The ability to learn new technologies & platforms\n• Strong aptitude for identifying problems and areas of improvement \n• Exceptional leadership, relationship management, and communications skills\n• Ability to multitask in a fast-paced environment with minimal supervision\n\n","?iisp=he-6594079","?iisp=he-6584079",null,"Ad Operations Manager, Campaigns","2018-08-13T13:59:00","2018-08-27T15:30:00","2018-09-05T15:52:00",null,null,"2018-12-14T06:46:00"]
["https://www.uber.com/careers/list/39899/","What You'll Need\n \n• Minimum 6 years of experience in consulting, operations, or similar knowledge-based fields\n• Experience work with tools/platforms\n• Ability to build and guide initiatives to capture, develop, and disseminate knowledge across large organizations leading to enhanced efficiency and organizational leverage\n• Analytical abilities; able to dig into complex data sets to help inform decisions\n• Ability to scope, design, and implement enterprise-wide programs and initiatives through collaboration across functions, geographies, and organization levels\n• Program management skills\n• Written, verbal, and visual communication skills, and ability to influence and gain consensus at senior levels\n• Available for business travel both domestic and international as needed\n• Minimum of BA/BS\n ","What You'll Need\n \n• Minimum 6 years of experience in consulting, operations, or similar knowledge-based fields\n• Experience work with tools/platforms\n• Proven ability to build and guide initiatives to capture, develop, and disseminate knowledge across large organizations leading to enhanced efficiency and organizational leverage\n• Excellent analytical abilities; able to dig into complex data sets to help inform decisions\n• Effective at scoping, designing, and implementing enterprise-wide programs and initiatives through collaboration across functions, geographies, and organization levels\n• Superb program management skills\n• Excellent written, verbal, and visual communication skills, and demonstrated ability to influence and gain consensus at senior levels\n• Available for business travel both domestic and international as needed\n \nBonus Points if\n \n• Minimum of BA/BS; MBA or graduate degree in related field preferred\n\n","?iisp=he-6594079","?iisp=he-6584079",null,"Program Leader, Service Quality","2018-08-13T13:59:00","2018-08-16T07:30:00","2018-08-22T14:44:00",null,null,"2018-12-14T06:46:00"]
["https://www.uber.com/careers/list/39585/","What You'll Need\n• 6+ years experience of investment banking / consulting / business intelligence / strategy or related experience.\n• Communication and organization skills\n• Communicator\n• Leadership capabilities\n• A \"driver\" personality - biased toward action, collaborator and disambiguator/simplifier - striving for clarity and delivery.\n• Excel / data management skills\n• Self-motivated, works independently and possesses organization and time management skills\n• Bachelor's degree required\n\n","What You'll Need\n• 6+ years experience of investment banking / consulting / business intelligence / strategy or related experience; some high-growth operations or startup experience is strongly preferred.\n• Exceptional communication and organization skills\n• Clear communicator\n• Strong, demonstrated leadership capabilities\n• A \"driver\" personality - biased toward action, great collaborator and master disambiguator/simplifier - constantly pushing toward clarity and delivery.\n• Exceptional Excel / data management skills\n• Self-motivated, works independently and possesses strong organization and time management skills\n• Bachelor's degree required\n• SQL Proficiency strongly preferred\n\n","?iisp=he-6594079","?iisp=he-6584079",null,"Senior Central Operations Manager, Fraud (SF)","2018-08-13T13:59:00","2018-08-22T14:00:00","2018-08-29T16:02:00",null,null,"2018-12-14T06:46:00"]
["https://www.uber.com/careers/list/39551/","What You’ll Need\n• 7+ years experience in a similar role - leading operations/logistics, leading diverse teams, developing procedures, optimizing systems, and achieving benchmark operational goals\n• Analytical Thinking. Data-driven mentality and business judgment.  Able to engage and analyze the data and pull key insights for your team.\n• Interpersonal skills.  Able to build and manage relationships with their team, cross-functional colleagues, and external partners\n• Experience with executing marketing campaigns and driving data-backed, creative marketing initiatives.\n• Entrepreneurship mentality. Must be a self-starter and leader that assumes the risks and rewards of running an innovative sustainable operation.\n• Communication and organizational skills. Able to communicate and listen; written, verbal and presentation skills\n• Leadership by example.  Able to motivate, inspire and create an inclusive and positive work environment for all.  \n• An interest in bikeshare, JUMP, and growing and leading a team. Interest in the overall goals of bike share and sustainable transportation\n• BA/BS with good academic record. \n\n","What You’ll Need\n• 7+ years proven success in a similar role - leading operations/logistics, leading diverse teams, developing procedures, optimizing systems, and achieving benchmark operational goals\n• Analytical Thinking. Data-driven mentality and strong business judgment.  Able to roll up your sleeves and analyze the data and pull key insights for your team.\n• Strong interpersonal skills.  Able to build and manage strong relationships with their team, cross-functional colleagues, and external partners\n• Experience with executing marketing campaigns and driving data-backed, creative marketing initiatives.  Experience with CRM tools and A/B testing a plus.\n• Entrepreneurship mentality. Must be a self-starter and leader that assumes the risks and rewards of running an innovative sustainable operation.\n• Exceptional communication and organizational skills. Able to communicate and listen effectively; great written, verbal and presentation skills\n• Leadership by example.  Able to motivate, inspire and create an inclusive and positive work environment for all.  \n• A passion for bikeshare, JUMP, and growing and leading a team. Passionate about the overall goals of bike share and sustainable transportation\n• BA/BS with impressive academic record. Advanced degree a plus.\n\n","?iisp=he-6594079","?iisp=he-6584079",null,"City General Manager (NYC) - JUMP","2018-08-13T13:59:00","2018-11-19T18:40:00","2018-10-01T14:50:00",null,"2018-09-19T22:00:00","2018-12-14T06:46:00"]
["https://www.uber.com/careers/list/39460/","What You’ll Need\n \n• A minimum of 4-6 years of contracts administration and management experience in a law firm or in-house environment\n• Experience with contracts. You have the experience to review and negotiate a broad variety of agreements, including non-disclosure agreements, services agreements, basic technology licenses, and purchase terms and conditions. You spot issues, are able to ask questions and possess the judgement to escalate certain type of agreements and issues to others on the legal team.\n• Technical Knowledge. Can create/use Word documents, Excel templates, Google Docs, project management tools and e-signing tools.\n• Be a communicator. You know how to communicate clearly whether writing or speaking.\n• A utility player. You're willing to help out wherever needed.\n• Detail- Oriented and self-motivated. You have organizational skills, integrity and you follow-through on tasks.\n","What You’ll Need\n \n• A minimum of 4-6 years of contracts administration and management experience in a law firm and/or in-house environment, with in-house experience and direct experience working with enterprise sales organizations to negotiate, draft and finalize sales agreements strongly preferred.\n• Be a contracts pro. You have the experience and confidence to review and negotiate a broad variety of agreements, including non-disclosure agreements, services agreements, basic technology licenses, and purchase terms and conditions. You spot issues, are not afraid to ask questions and possess the judgement to escalate certain type of agreements and issues to others on the legal team.\n• Technical Savvy. Can create/use Word documents, Excel templates, Google Docs, project management tools and e-signing tools.\n• Be a good communicator. You know how to communicate clearly whether writing or speaking.\n• A utility player. You're willing to help out wherever needed.\n• Detail- Oriented and self-motivated. You have superior organizational skills, high integrity and you follow-through on tasks.\n• Experience with contract / information management systems a plus.\n• B.A./B.S. preferred.\n\n","?iisp=he-6594079","?iisp=he-6584079",null,"Paralegal- Uber Eats","2018-08-13T13:59:00","2018-10-10T08:30:00","2018-10-16T07:51:00",null,null,"2018-12-14T06:46:00"]
["https://www.uber.com/careers/list/39452/","What You’ll Need\n• Minimum of 2 years of relevant experience. \n• Experience solving complex problems, exercising judgement in ambiguous circumstances, and communicating across a diverse team.\n• Ability to learn and use new software tools.\n• Interpersonal skills. Ability to build relationships, lead a team, manage employees, and create a hard-working but fun workplace\n• Self-motivated, self-directed, and desire to take ownership of tasks to ensure solution.\n• Problem-solving skills.\n• Organization and time management systems for yourself and your team.\n• Valid driver’s license and ability to pass MVR check required (No more than 2 minor violations, and no major violations, in past 3 years)\n\n","What You’ll Need\n• Minimum of 2 years of relevant experience. The ideal candidate will have leadership experience in a fast-paced work environment.\n• Experience solving complex problems, exercising good judgement in ambiguous circumstances, and effectively communicating across a diverse team.\n• Comfortable learning and using new software tools.\n• Strong interpersonal skills. Ability to build relationships, lead a team, manage employees, and create a hard-working but fun workplace\n• Proven to be self-motivated, self-directed, and eager to take ownership of tasks to ensure solution.\n• Black belt in problem-solving.\n• Excellent organization and time management systems for yourself and your team.\n• Valid driver’s license and ability to pass MVR check required (No more than 2 minor violations, and no major violations, in past 3 years)\n• Knowledge or passion for any of the following a plus: local markets, bikeshare, bike mechanics, mobility, and data/analytics.\n\n","?iisp=he-6594079","?iisp=he-6584079",null,"Operations Manager, Field (NYC) - JUMP","2018-08-13T13:59:00","2018-10-06T14:00:00","2018-10-16T07:51:00",null,null,"2018-12-14T06:46:00"]
["https://www.uber.com/careers/list/39195/","What You’ll Need\n• 7+ years experience in a similar role - leading operations/logistics, leading diverse teams, developing procedures, optimizing systems, and achieving benchmark operational goals\n• Analytical Thinking. Data-driven mentality and business judgment.  Able to engage and analyze the data and pull key insights for your team.\n• Interpersonal skills.  Able to build and manage relationships with their team, cross-functional colleagues, and external partners\n• Experience with executing marketing campaigns and facilitating data-backed, creative marketing initiatives. \n• Entrepreneurship mentality. Must be a self-starter and leader that assumes the risks and rewards of running an innovative sustainable operation.\n• Communication and organizational skills. Able to communicate and listen; written, verbal and presentation skills\n• Leadership by example.  Able to motivate, inspire and create an inclusive and positive work environment for all.  \n• An interest in bikeshare, JUMP, and growing and leading a team. Interest in the overall goals of bike share and sustainable transportation\n• BA/BS with good academic record. \n\n","What You’ll Need\n• 7+ years proven success in a similar role - leading operations/logistics, leading diverse teams, developing procedures, optimizing systems, and achieving benchmark operational goals\n• Analytical Thinking. Data-driven mentality and strong business judgment.  Able to roll up your sleeves and analyze the data and pull key insights for your team.\n• Strong interpersonal skills.  Able to build and manage strong relationships with their team, cross-functional colleagues, and external partners\n• Experience with executing marketing campaigns and driving data-backed, creative marketing initiatives.  Experience with CRM tools and A/B testing a plus.\n• Entrepreneurship mentality. Must be a self-starter and leader that assumes the risks and rewards of running an innovative sustainable operation.\n• Exceptional communication and organizational skills. Able to communicate and listen effectively; great written, verbal and presentation skills\n• Leadership by example.  Able to motivate, inspire and create an inclusive and positive work environment for all.  \n• A passion for bikeshare, JUMP, and growing and leading a team. Passionate about the overall goals of bike share and sustainable transportation\n• BA/BS with impressive academic record. Advanced degree a plus\n\n","?iisp=he-6594079","?iisp=he-6584079",null,"City General Manager (Chicago) - JUMP","2018-08-13T13:59:00","2018-11-06T11:00:00","2018-11-15T14:48:00",null,null,"2018-12-14T06:46:00"]
["https://www.uber.com/careers/list/39194/","What You’ll Need\n• 7+ years experience in a similar role - leading operations/logistics, leading diverse teams, developing procedures, optimizing systems, and achieving benchmark operational goals\n• Analytical Thinking. Data-driven mentality and business judgment.  Able to engage and analyze the data and pull key insights for your team.\n• Interpersonal skills.  Able to build and manage relationships with their team, cross-functional colleagues, and external partners\n• Experience with executing marketing campaigns and facilitating data-backed, creative marketing initiatives.  \n• Entrepreneurship mentality. Must be a self-starter and leader that assumes the risks and rewards of running an innovative sustainable operation.\n• Communication and organizational skills. Able to communicate and listen; written, verbal and presentation skills\n• Leadership by example.  Able to motivate, inspire and create an inclusive and positive work environment for all.  \n• An interest in bikeshare, JUMP, and growing and leading a team. Interested in the overall goals of bike share and sustainable transportation\n• BA/BS with good academic record. \n\n","What You’ll Need\n• 7+ years proven success in a similar role - leading operations/logistics, leading diverse teams, developing procedures, optimizing systems, and achieving benchmark operational goals\n• Analytical Thinking. Data-driven mentality and strong business judgment.  Able to roll up your sleeves and analyze the data and pull key insights for your team.\n• Strong interpersonal skills.  Able to build and manage strong relationships with their team, cross-functional colleagues, and external partners\n• Experience with executing marketing campaigns and driving data-backed, creative marketing initiatives.  Experience with CRM tools and A/B testing a plus.\n• Entrepreneurship mentality. Must be a self-starter and leader that assumes the risks and rewards of running an innovative sustainable operation.\n• Exceptional communication and organizational skills. Able to communicate and listen effectively; great written, verbal and presentation skills\n• Leadership by example.  Able to motivate, inspire and create an inclusive and positive work environment for all.  \n• A passion for bikeshare, JUMP, and growing and leading a team. Passionate about the overall goals of bike share and sustainable transportation\n• BA/BS with impressive academic record. Advanced degree a plus\n\n","?iisp=he-6594079","?iisp=he-6584079",null,"City General Manager (DC) - JUMP","2018-08-13T13:59:00","2018-09-21T10:42:00","2018-10-01T14:50:00",null,null,"2018-12-14T06:46:00"]
["https://www.uber.com/careers/list/33636/","What You'll Need\n• Familiarity with Cocoa Touch development in Swift\n• Focus on high-quality mobile experiences\n• Experience shipping high-quality features\n\n","What You'll Need\n• Deep familiarity with Cocoa Touch development in Swift\n• Strong focus on high-quality mobile experiences\n• Consistent record of shipping high-quality features\n \nBonus Points If\n• BS/MS/PhD in Computer Science or a related field\n• Comfortable working at different levels of our very deep tech stack\n• Contribute to the wider iOS community via open source\n• Handy with design tools such as Sketch or Illustrator\n• Passionate about accessible user design\n\n","?iisp=he-6594079","?iisp=he-6584079",null,"iOS Engineer - Handheld Experience, Self-Driving - Pittsburgh","2018-08-13T13:59:00","2018-09-20T10:20:00","2018-10-01T14:50:00",null,null,"2018-12-14T06:46:00"]
["https://www.uber.com/careers/list/31794/","What You'll Need: \n• BS/MS/Phd in Computer Science or related field required\n• 2+ years front-end web development experience.\n• Experience of shipping high-quality product features on schedule\n• Experience with Javascript fand experience with frameworks like React, Angular, Backbone\n• Experience with Node.js, Grunt, Gulp, or other server-side Javascript technologies and tools\n• Familiarity with principles of good user experience.\n\n\n","What You'll Need: \n• BS/MS/Phd in Computer Science or related field required\n• 2+ years front-end web development experience.\n• Demonstrated experience of shipping high-quality product features on schedule\n• Expertise in Javascript fand experience with frameworks like React, Angular, Backbone\n• Experience with Node.js, Grunt, Gulp, or other server-side Javascript technologies and tools\n• Familiarity with principles of good user experience.\n\nBonus Points If\n• Experience with WebGL / Web Assembly / 3D rendering.\n• Experience with network optimization, especially WebSockets, data compression and latency reduction.\n• Experience with algorithm design and selection to optimize CPU and memory usage for large N’s with limited system resources.\n• Strong open-source background.\n\n","?iisp=he-6594079","?iisp=he-6584079",null,"Front-End Software Engineer, Self-Driving - San Francisco","2018-08-13T13:59:00",{"$nulls":4},"2018-12-14T06:46:00"]
["https://www.uber.com/careers/list/31514/","What You'll Need: \n• BS/MS/Phd in Computer Science or related field required\n• 2+ years front-end web development experience.\n• Experience of shipping high-quality product features on schedule\n• Experience with Javascript fand experience with frameworks like React, Angular, Backbone\n• Experience with Node.js, Grunt, Gulp, or other server-side Javascript technologies and tools\n• Familiarity with principles of good user experience.\n\n","What You'll Need: \n• BS/MS/Phd in Computer Science or related field required\n• 2+ years front-end web development experience.\n• Demonstrated experience of shipping high-quality product features on schedule\n• Expertise in Javascript fand experience with frameworks like React, Angular, Backbone\n• Experience with Node.js, Grunt, Gulp, or other server-side Javascript technologies and tools\n• Familiarity with principles of good user experience.\n\nBonus Points If\n• Experience with WebGL / Web Assembly / 3D rendering.\n• Experience with network optimization, especially WebSockets, data compression and latency reduction.\n• Experience with algorithm design and selection to optimize CPU and memory usage for large N’s with limited system resources.\n• Strong open-source background.\n\n","?iisp=he-6594079","?iisp=he-6584079",null,"Front-End Software Engineer, Self-Driving - Pittsburgh","2018-08-13T13:59:00",{"$nulls":4},"2018-12-14T06:46:00"]
["https://www.uber.com/careers/list/30269/","What You'll Need\n• Minimum 3 years industry experience.\n• BS in Computer Science, Physics, Mathematics, or related discipline.\n• General Linux experience.\n• Coding skills in C++, Python, Go, Java.\n• Familiarity with open source software development tools and frameworks.\n \n","What You'll Need\n• Minimum 3 years industry experience.\n• BS in Computer Science, Physics, Mathematics, or related discipline.\n• Strong general Linux experience.\n• Strong coding skills in C++, Python, Go, Java.\n• Familiarity with open source software development tools and frameworks.\n \nBonus Points If\n• Master’s or PhD level training in Computer Science, Physics, Mathematics, or related discipline.\n• Experience with building web-scale distributed systems, common open source components supporting such systems\n• Knowledge of computer vision and machine learning fundamentals\n• Prior experience in software engineering within the autonomous vehicle field.\n• Excellent communication skills especially with diverse groups of team including technicians, software and hardware engineers, as well as managers and executives.\n\n","?iisp=he-6594079","?iisp=he-6584079",null,"Backend Engineer, Self-Driving - San Francisco","2018-08-13T13:59:00",{"$nulls":4},"2018-12-14T06:46:00"]
["https://www.uber.com/careers/list/30087/","What You'll Need\n• Experience with probabilistic filtering theory, or geometric computer vision, or inertial pose theory\n• Results in real-world applications\n• Experience programming in C++. \n• Ability to produce computationally intensive software that runs and produces high quality results in real time\n\n","What You'll Need\n• Highly skilled in probabilistic filtering theory, or geometric computer vision, or inertial pose theory\n• Extensive, demonstrable results in real-world applications\n• Good experience and experience programming in C++. Python skills are also desirable but not essential.\n• Shown ability to produce computationally intensive software that runs and produces high quality results in real time\n• Prior experience in any of pose estimation, probabilistic filtering, SLAM, nonlinear optimization, autonomy, networking, or user interfaces desired\n\n","?iisp=he-6594079","?iisp=he-6584079",null,"Localization Engineer, Self-Driving - San Francisco","2018-08-13T13:59:00","2019-05-24T20:30:00","2018-10-01T14:50:00","2018-09-24T09:36:00",null,"2018-12-14T06:46:00"]
["https://www.uber.com/careers/list/29652/","What You'll Need\n• A PhD, MS, or BS in a robotics related discipline\n• A quantitative background\n• Software development skills in C, C++, or Python\n• Presentation and communication skills\n","What You'll Need\n• A PhD, MS, or BS in a robotics related discipline\n• A strong quantitative background\n• Excellent software development skills in one or more of C, C++, or Python\n• Good presentation and communication skills\n \nBonus Points If\n• Prior work in automotive applications \n\n","?iisp=he-6594079","?iisp=he-6584079",null,"Computer Vision Engineer, Self-Driving - San Francisco","2018-08-13T13:59:00",{"$nulls":4},"2018-12-14T06:46:00"]
["https://www.uber.com/careers/list/29094/","What You'll Need:\n \n• 5+ years of relevant experience in product management\n• Minimum of a Bachelor’s degree \n• Experience launching software products from 0 to 1 on a large scale\n• Experience communicating technical concepts to a non-technical audience\n• Technical expertise and the ability to question, understand, and challenge software implementation decisions and priorities.\n• Curiosity to learn and adapt to dynamic research, development and industry knowledge\n• An optimistic personality: We’re coming to work everyday challenging the status quo, and we’re looking for people able to ask quirky questions, along with the mental resilience to know we’re just at the start of a long journey.\n\n","What You'll Need:\n \n• 5+ years of relevant experience in product management\n• Minimum of a Bachelor’s degree (preferably in either computer science/engineering or a quantitative domain (math/stats/physics) with engineering work experience)\n• Track record of successfully launching software products from 0 to 1 on a large scale\n• Experience communicating technical concepts to a non-technical audience\n• Technical expertise and the ability to question, understand, and challenge software implementation decisions and priorities.\n• Passionate curiosity to learn and adapt to dynamic research, development and industry knowledge\n• A bold and optimistic personality: We’re coming to work everyday challenging the status quo, and we’re looking for people comfortable asking bold, quirky questions, along with the mental resilience to know we’re just at the start of a long journey.\n\n","?iisp=he-6594079","?iisp=he-6584079",null,"Product Manager - Uber Freight - Operations Experience","2018-08-13T13:59:00","2018-11-30T15:50:00","2018-08-29T16:02:00","2018-08-22T20:45:00",null,"2018-12-14T06:46:00"]
["https://www.uber.com/careers/list/27843/","What You'll Need:\n• Deep interest in aviation \n• A computer science undergraduate degree or equivalent plus hands-on software engineering experience. \n• 2-5 years experience delivering innovative consumer Internet products \n• Design instincts and product taste\n• Standards across the board - from your own contributions to the people you work with to the products you work on.\n• A “driver” personality - biased toward action, collaborator and disambiguator/simplifier - striving for clarity and delivery.\n• Finger-tippiness with data: you are able to get the data you need and turn it into a story. You know how to leverage data to make decisions without getting stuck in analysis paralysis.\n• Rider-centricity - examples from your past of product challenges that you powered through because you were unwilling to make your problems your riders’ problems.\n• Interest in Uber’s mission and the company’s hybrid technology / operations nature.\n• A desire to grow and learn.\n\n","What You'll Need:\n• Deep interest in aviation and, ideally experience with aviation or robotics/hardware (preferred but not required)\n• A computer science undergraduate degree or equivalent plus hands-on software engineering experience. Technical understanding must go from the highest abstractions down to the metal.\n• 2-5 years experience delivering highly successful and innovative consumer Internet products with your fingerprints all over them - you’re extremely proud of what you’ve accomplished\n• Stellar design instincts and product taste\n• A high bar across the board - from your own contributions to the people you work with to the products you work on.\n• A “driver” personality - biased toward action, great collaborator and master disambiguator/simplifier - constantly pushing toward clarity and delivery.\n• Finger-tippiness with data: you just go get the data you need with no muss/fuss and can whip it into an insightful story with no help. You know how to leverage data to make decisions without getting stuck in analysis paralysis.\n• Rider-centricity - examples from your past of tough product challenges that you powered through because you were unwilling to make your problems your riders’ problems.\n• True passion for Uber’s mission and the company’s hybrid technology / operations nature.\n• A never-ending desire to grow and learn.\n\n","?iisp=he-6594079","?iisp=he-6584079",null,"Product Manager, Elevate","2018-08-13T13:59:00","2018-10-12T07:15:00","2018-10-23T06:21:00",null,null,"2018-12-14T06:46:00"]
["https://www.uber.com/careers/list/38204/","What You’ll Need\n \n• 2 years of experience in a professional, productive environment. \n• Experience in Excel with regard to formulas and charting. Possess  knowledge of Word, internet and other software applications\n• Analytical skills are needed to analyze data and create meaningful, understandable models, reports and metrics\n• Ability to work in a self-guided manner and within a team, conduct research, formulate conclusions and present conclusions regarding business issues\n• Ability to develop concise presentation decks to illustrate and communicate related information\n","What You’ll Need\n \n• 2 years of experience in a professional, productive environment. A deep background in Compensation, Mathematics, Finance, Statistics or Economics preferred \n• Previous experience in consulting is also a plus\n• Experience in Excel with regard to formulas and charting. Possess superb knowledge of Word, internet and other software applications\n• Excellent analytical skills are needed to effectively analyze data and create meaningful, understandable models, reports and metrics\n• Demonstrated ability to work in a self-guided manner and within a team, conduct research, formulate conclusions and present conclusions regarding business issues\n• Ability to develop concise presentation decks to illustrate and communicate related information\n \nBonus Points If\n• Proficiency with SQL, R, and/or spreadsheet software\n","?iisp=he-6594079","?iisp=he-6584079",null,"Business Analyst, Compensation","2018-08-13T13:59:00","2019-01-11T17:20:00",null,null,null,"2018-12-14T06:46:00"]
["https://www.uber.com/careers/list/39905/","What You’ll Need\n \n• 4+ years of relevant experience\n• Bachelor’s degree in Finance, Accounting, or similar fields\n• International tax operations knowledge and familiarity of tax issues for a multinational technology company operating globally\n• Have organizational and analytical skills, with ability to communicate findings in a precise and simple manner\n• Results driven with initiative, teamwork, urgency, accountability and integrity\n• Hands-on willingness to accept challenging projects outside areas of experience\n• Experience with Microsoft Excel and Word, and research tools (e.g., RIA, CCH, and BNA)\n\n","What You’ll Need\n \n• 4+ years of relevant experience\n• Bachelor’s degree in Finance, Accounting, or similar fields\n• CPA and/or Master’s in Taxation preferred\n• Proficiency in ONESOURCE Tax Provision and Income Tax is highly preferred\n• Strong international tax operations knowledge and familiarity of tax issues for a multinational technology company operating globally\n• Have excellent organizational and analytical skills, with ability to communicate findings in a precise and simple manner\n• Results driven with high level of initiative, teamwork, urgency, accountability and integrity\n• Demonstrates hands-on willingness to accept challenging projects outside areas of experience\n• Proficiency in Microsoft Excel and Word, and research tools (e.g., RIA, CCH, and BNA)\n\n","?iisp=he-6594079","?iisp=he-6584079",null,"International Tax Reporting Project Coordinator","2018-08-13T13:59:00","2018-09-14T20:34:00","2018-09-23T12:29:00",null,null,"2018-12-14T06:46:00"]
["https://www.uber.com/careers/list/39924/","What you'll need\n• 10-12 years of experience in the healthcare industry\n• Knowledge of government programs, including Medicare, Medicaid\n• At least 10 years of business development, consulting, sales, operations, or partner management related roles\n• Staff and team management experience; leadership established through leading by example for staff, peers, and senior leaders across all company functions\n• Communication and interpersonal skills, with the ability to identify and provide comprehensive solutions for varying partner needs\n• Business judgement and critical thinking skills with the ability to use data to quickly establish highest value priorities and develop a strategy to pursue them\n• Experience working closely and communicating with internal and external stakeholders in an ever-changing, rapid growth environment\n• Experience with business development, growing a customer base, and the ability to consistently exceed KPIs, revenue targets, and company goals\n• Team Player: this is a small team iterating toward important goals. You are interested in engaging and solving problems as a team - whether the solution is listed in this job description or someone else’s.\n\n","What you'll need\n• 10-12 years of experience in the healthcare industry; ideally medical transport\n• Extensive knowledge of government programs, including Medicare, Medicaid\n• At least 10 years of business development, consulting, sales, operations, or partner management related roles\n• Strong staff and team management experience; enthusiastic and motivational leadership established through leading by example for staff, peers, and senior leaders across all company functions\n• Excellent communication and interpersonal skills, with the ability to identify and provide comprehensive solutions for varying partner needs\n• Exceptional business judgement and critical thinking skills with the ability to use data to quickly establish highest value priorities and develop a strategy to pursue them\n• Experience working closely and communicating effectively with internal and external stakeholders in an ever-changing, rapid growth environment\n• Demonstration of achievement business development, growing a customer base, and the ability to consistently exceed KPIs, revenue targets, and company goals\n• Proven Team Player: this is a small team iterating toward important goals. You are excited to dive in and solve problems as a team - whether the solution is listed in this job description or someone else’s.\n\n","?iisp=he-6594079","?iisp=he-6584079",null,"Head of Uber Health","2018-08-13T13:59:00","2018-10-05T11:55:00","2018-10-08T12:55:00",null,null,"2018-12-14T06:46:00"]
["https://www.uber.com/careers/list/39926/","What You’ll Need\n \n• 2+ year of people management experience \n• BA/BS degree or equivalent practical experience\n• 5+ years of localization project/program management experience in high-tech industry on the client side (multiple content types)\n• Understanding of localization and internationalization issues\n• Experience using CAT tools as an LPgM to manage localization pipeline & workflows (e.g. Smartling, Idiom WorldServer, Memsource, and Trados)\n• Ability to navigate ambiguity, work independently and be able to chart direction of projects/programs for LPgM team\n• Analytical and problem solving experience, coupled with business judgment \n• Detail-oriented, quality-focused and proactive\n• Ability to quickly switch perspective from macro to micro, from high level vision to task level execution so that LPgMs can be guided on their OKRs\n• Written and verbal communication skills and the ability to manage multiple and diverse stakeholders across businesses and leadership levels\n• Ability to learn new tools/systems quickly\n• Team player\n• Travel to regions to manage relationships \n• Interested in Uber and our mission\n\n","What You’ll Need\n \n• 2+ year of people management experience \n• BA/BS degree or equivalent practical experience\n• 5+ years of localization project/program management experience in high-tech industry on the client side (multiple content types)\n• Great understanding of localization and internationalization issues\n• Experience using CAT tools as an LPgM to manage localization pipeline & workflows (e.g. Smartling, Idiom WorldServer, Memsource, and Trados)\n• Ability to navigate ambiguity, work independently and be able to chart direction of projects/programs for LPgM team\n• Strong analytical and problem solving experience, coupled with excellent business judgment \n• Very detail-oriented, quality-focused and proactive\n• Ability to quickly switch perspective from macro to micro, from high level vision to task level execution so that LPgMs can be guided on their OKRs\n• Excellent written and verbal communication skills and the ability to manage multiple and diverse stakeholders across businesses and leadership levels\n• Ability to learn new tools/systems quickly\n• Excellent team player\n• Travel to regions to manage relationships \n• Passionate about Uber and our mission\n \nBonus Points If\n \n• Master’s degree in related fields\n• PMP Certification\n\n","?iisp=he-6594079","?iisp=he-6584079",null,"Manager of Localization Project/Program Managers (LPgM manager)","2018-08-13T13:59:00","2018-08-22T14:00:00","2018-08-29T16:02:00",null,null,"2018-12-14T06:46:00"]
["https://www.uber.com/careers/list/34168/","WHAT YOU’LL NEED:\n \n• Work experience developing an understanding of databases, data relationships and data integrity \n• BS/Masters in Math, Physics, CS, Statistics, Economics or another quantitative field\n• Analytical skills - interested in deciphering huge data sets and cutting through irrelevant distractions to the heart of core data questions\n• Communication skills through past experience\n• Attention to detail; accuracy is a must\n• Humble & resourceful - not afraid to take on lower-level projects when it will clear roadblocks\n• Experience with SQL required\n• Experience in at least one scripting language \n• Experience building dashboards and reporting tools\n ","WHAT YOU’LL NEED:\n \n• Work experience developing a best-in-class understanding of databases, data relationships and data integrity \n• BS/Masters in Math, Physics, CS, Statistics, Economics or another quantitative field\n• Analytical Ninja - get pumped up by deciphering huge data sets and cutting through irrelevant distractions to the heart of core data questions\n• Strong communication skills proven through past experience\n• Attention to detail; accuracy is a must!\n• Humble & scrappy - not afraid to take on lower-level projects when it will clear roadblocks\n• Experience with SQL required\n• Experience in at least one scripting language (Python preferred) \n• Demonstrated experience building dashboards and reporting tools\n \nNICE TO HAVE:\n \n• Knowledge of statistical methods (sampling, inference and statistical modelling)\n• Experience with statistical programming languages (R, SPSS, STATA)\n• Experience developing data pipelines and infrastructure\n• Understanding of Linux and Git\n\n","?iisp=he-6594079","?iisp=he-6584079",null,"Data Analyst I","2018-08-13T13:59:00","2018-09-07T15:35:00","2018-10-01T14:50:00",null,null,"2018-12-14T06:46:00"]
["https://www.uber.com/careers/list/39852/","What You’ll Need\n• Bachelors degree in Accounting\n• 2+ years of accounting experience\n• Microsoft Excel skills, with the ability to manipulate and digest large amounts of data required\n• Written and verbal communications skills\n• Team player, able to work independently while knowing when to speak up for help\n• Time and self-management skills, ability to prioritize and multitask\n\n","What You’ll Need\n• Bachelors degree in Accounting\n• 2+ years of accounting experience\n• Advanced Microsoft Excel skills, with the ability to manipulate and digest large amounts of data required\n• Strong written and verbal communications skills\n• Team player, work well independently while knowing when to speak up for help\n• Excellent time and self-management skills, ability to prioritize and multitask\n\nBonus Points If\n• Public accounting experience\n• Oracle R12\n• ERP implementation experience \n\n","?iisp=he-6594079","?iisp=he-6584079",null,"Cost Accountant","2018-08-13T13:59:00","2018-10-03T12:22:00","2018-10-08T12:55:00",null,null,"2018-12-14T06:46:00"]
["https://www.uber.com/careers/list/39867/","What You’ll Need\n• At least 1 year of sales experience (sales internships welcome)\n• Interest in sales and curiosity about Uber Eats' business partners\n• Listening, communication, and organizational skills\n• Ability to multi-task and follow through while paying attention to detail\n• Coachability, interest in implementing feedback, and dedication to improvement of your craft\n• A positive attitude and desire to win; a self-starter attitude and determination\n• Bachelor's Degree required\n","What You’ll Need\n• At least 1 year of sales experience (sales internships welcome)\n• Prior cold calling experience preferred\n• Genuine interest in sales and curiosity about Uber Eats' business partners\n• Extraordinary listening, communication, and organizational skills\n• Demonstrated ability to multi-task and follow through while paying attention to detail\n• Coachability, interest in implementing feedback, and dedication to improvement of your craft\n• An infectiously positive attitude and drive to win; a self-starter attitude and determination\n• Bachelor's Degree required\n","?iisp=he-6594079","?iisp=he-6584079",null,"Account Representative (Inside Sales), Uber Eats - Austin","2018-08-13T13:59:00","2018-10-26T15:35:00","2018-11-07T11:33:00",null,null,"2018-12-14T06:46:00"]
["https://www.uber.com/careers/list/37673/","What You'll Need\n \n•  J.D. and license to practice law in at least one state is required\n• Minimum of nine (9) years of legal experience in a combination of law firm and in-house settings\n• Experience with reviewing, drafting and negotiating a variety of technology and manufacturing contracts\n• Must be collaborative, and able to operate in a fast-paced environment\n• Business aptitude and ability to move quickly\n• Interest in being a key player in a rapidly growing company\n• Interest in new technologies. \n• Experience facilitating efficient and strategic use of resources, including technical groups, in-house counsel, vendors, and outside counsel\n• Global perspective with experience in matters involving multiple nations\n• Flexibility to perform in nimble, and rapidly changing and growing environments; experience scaling\n• Inquisitiveness, along with the ability to spot issues, get to the heart of a matter, and articulate plans to address\n• Communication skills and experience working with business leaders\n• Ability to present information/complex legal matters clearly, and concisely\n• Collaborative approach with both business and legal groups, with ability to build relationships, gain credibility, and partner with others\n• Interested in your work and a desire to have an impact. \n• Interested in Uber \n\n","What You'll Need\n \n•  J.D. and license to practice law in at least one state is required\n• Minimum of nine (9) years of legal experience in a combination of law firm and in-house settings\n• Experience with reviewing, drafting and negotiating a variety of technology and manufacturing contracts\n•  Experience working for an engineering-driven technology company preferred\n• Must be confident, collaborative, and able to operate in a fast-paced environment\n• Demonstrated business aptitude and ability to move quickly\n• Appetite for being a key player in a rapidly growing company\n• Genuine interest in new technologies. Bonus points for a technical background and a willingness to get into the weeds with engineers and other clients!\n• History of driving efficient and strategic use of resources, including technical groups, in-house counsel, vendors, and outside counsel\n• Global perspective with experience in matters involving multiple nations\n• Flexibility to perform in nimble, and rapidly changing and growing environments; adept at scaling\n• Inquisitiveness, along with the ability to spot issues, get to the heart of a matter, and articulate plans to address\n• Strong communication skills and demonstrated experience working with business leaders\n• Ability to present information/complex legal matters clearly, and concisely\n• Collaborative approach with both business and legal groups, with strong ability to build relationships, gain credibility, and partner with others\n• Passionate about your work and a desire to have a big impact. Your job will matter – you will never be bored\n• Enthusiastic about Uber!\n\n","?iisp=he-6594079","?iisp=he-6584079",null,"Sr. Counsel, Emerging Technologies (Hardware/GPO/Vehicle Programs)","2018-08-13T13:59:00","2018-09-25T17:00:00","2018-10-01T14:50:00",null,null,"2018-12-14T06:46:00"]
["https://www.uber.com/careers/list/39804/","What You'll Need\n• Experience recruiting for Design, Creative or Product management organizations\n• Degreed or equivalent work experience.\n• Technical Knowledge.\n\n","What You'll Need\n• Experience recruiting for Design, Creative or Product management organizations\n• Both in-house and agency experience is preferred, but not required (with available metrics to back up how great you are).\n• Degreed or equivalent work experience.\n• Technical Savvy.\n\n","?iisp=he-6594079","?iisp=he-6584079",null,"Sr Product Design Recruiter","2018-08-13T13:59:00","2019-03-02T10:45:00",null,null,null,"2018-12-14T06:46:00"]
["https://www.uber.com/careers/list/37128/","What You’ll Need\n• Organization and attention to detail\n• High volume recruiting, sourcing, and recruiting coordination experience in a fast-paced department or organization\n• Experience managing candidate pipeline and executing against a timeline\n• Technical knowledge - you're able to learn new tools and processes\n• Bachelor's Degree or equivalent work experience\n\n","What You’ll Need\n• Outstanding organization and attention to detail\n• High volume recruiting, sourcing, and recruiting coordination experience in a fast-paced department or organization\n• Expertise in managing candidate pipeline and executing against a timeline\n• Technical savvy - you're comfortable learning new tools and processes\n• Bachelor's Degree or equivalent work experience\n\nBonus Points If\n• You have direct experience recruiting for high volume customer support or retail organizations\n\n","?iisp=he-6594079","?iisp=he-6584079","FIXED. typo - I fixed the spelling of \"coordination\" in 2nd bullet","Recruiter, Uber Customer Support (Contract) - San Francisco-based","2018-08-13T13:59:00","2018-09-14T20:34:00","2018-09-23T12:29:00",null,null,"2018-12-14T06:46:00","Expired on 9/14/2018 20:34:00 PM PST, but came back alive on 10/08/2018 2:30 PM PST. Removed.  Expired again on 10/26/2018 3:35 PM PST. Came back alive on 12/15/2018 8:50 AM PST. "]
["https://www.uber.com/careers/list/39798/","What You'll Need\n\n• Resourceful, creative, self-starter\n• Interested in making an impact \n• Approachable, responsive, and able to connect with employees at all levels\n• Judgement, integrity, and ability to maintain confidentiality\n• Foundation in HR concepts and principles\n• Problem-solving skills; ability to make decisions independently in a fast-paced environment\n\n","What You'll Need\n \n• Bachelor’s degree in an HR-related field or equivalent applicable experience preferred\n• 2 years experience in an HR role or 5 years of work experience preferred\n• Resourceful, creative, self-starter\n• Passionate about making an impact \n• Approachable, responsive, and able to connect with employees at all levels\n• Solid judgement, integrity, and ability to maintain confidentiality\n• Strong foundation in HR concepts and principles\n• Strong problem-solving skills; ability to make decisions independently in a fast-paced environment\n\n","?iisp=he-6594079","?iisp=he-6584079",null,"Associate HR Business Partner- Engineering","2018-08-13T13:59:00","2018-10-02T10:15:00","2018-10-08T12:55:00",null,null,"2018-12-14T06:46:00"]
["https://www.uber.com/careers/list/39729/","What You’ll Need\n\n• BS/BA in Finance, Accounting, Economics, or similar\n• Minimum of 3 years in Commercial / Real Estate Finance /operational FP&A at either a high-growth company or a large, well-established organization\n• Excel skills - You strive for best practices, your models are efficient, scalable, and intuitive \n• Communication and people skills - numbers are key, but a business is built with people\n• Self-starter - You will take initiative, be dedicated, set and work toward goals\n• Working knowledge of GAAP\n• Systems - working knowledge of enterprise-level financial planning systems\n• Attention to detail - consistent with swift execution\n• Working knowledge of GAAP","What You’ll Need\n\n• BS/BA in Finance, Accounting, Economics, or similar\n• Minimum of 3 years in Commercial / Real Estate Finance /operational FP&A at either a high-growth company or a large, well-established organization\n• Elite Excel skills - Best practices are second-nature, your models are efficient, scalable, and intuitive \n• Excellent communication and people skills - numbers are key, but a business is built with people\n• Self-starter - You will take initiative, be dedicated, set and drive toward goals\n• Strong working knowledge of GAAP\n• Systems - working knowledge of enterprise-level financial planning systems\n• Attention to detail - consistent with swift execution\n• Strong working knowledge of GAAP\n\nBonus Points If\n\n• MBA, CFA or CPA\n• SQL skills - the ability to self-serve, investigate and get the data we require will make you much more effective in this role\n\n","?iisp=he-6594079","?iisp=he-6584079","FIXED. typo - added in a bullet symbol before \"Attention to detail…\" in 7th bullet ","Sr Associate - Strategic Finance, Uber Eats (Innovation Initiatives)","2018-08-13T13:59:00","2018-10-31T11:20:00","2018-11-07T11:33:00",null,null,"2018-12-14T06:46:00"]
["https://www.uber.com/careers/list/39463/","What you’ll need:\n \n• 5+ years of product management leadership experience.\n• An interest in data, metrics and the way they inform the business.\n• Experience working cross-functionally not just with engineers and data scientists, but with operational & business teams, local and remote.\n• An interest in improving the lives of our riders and drivers using technology.\n","What you’ll need:\n \n• 5+ years of product management leadership experience.\n• A love of data, metrics and the way they inform the business.\n• Experience working cross-functionally not just with engineers and data scientists, but with operational & business teams, local and remote.\n• A strong desire to improve the lives of our riders and drivers using technology.\n \nBonus points if:\n \n• You have experience with 2-sided marketplaces. \n• You’ve developed new metrics or techniques that change the way you do business.\n• You have experience using geospatial data as it applies to data pipelines.\n\n","?iisp=he-6594079","?iisp=he-6584079","FIXED. typo - I added the word \"desire\" after \"strong\" in 4th bullet ","Sr Product Manager - Marketplace - Health and Intelligence","2018-08-13T13:59:00","2018-08-14T06:00:00","2018-08-22T14:44:00",null,null,"2018-12-14T06:46:00"]
["https://www.uber.com/careers/list/39618/","What You'll Need\n• A minimum of 10 years of experience as an operations or facilities manager\n• Ability to take initiative in a constantly changing work environment\n• Creative solutions driven mindset, with a get things done attitude\n• Experience building and implementing a site safety program\n• Ability to learn new tools and systems on the fly\n• OSHA 30 hour certification\n• Experience working closely and communicating with diverse set of stakeholders in an ever-changing, results driven environment\n• Interest and technical capability to work with modern automotive systems\n• Must have a valid U.S. driver’s license and clean driving history\n \n","What You'll Need\n• A minimum of 10 years of experience as an operations or facilities manager\n• Ability to take initiative in a constantly changing work environment\n• Creative solutions driven mindset, with a get things done attitude\n• Experience building and implementing a site safety program\n• Ability to learn new tools and systems on the fly\n• OSHA 30 hour certification\n• Experience working closely and communicating effectively with diverse set of stakeholders in an ever-changing, results driven environment\n• Proven interest and technical capability to work with modern automotive systems\n• Must have a valid U.S. driver’s license and clean driving history\n \nBonus Points\n \n• Background in self-driving vehicle testing\n• BS in Civil Engineering\n\n","?iisp=he-6594079","?iisp=he-6584079",null,"Track Manager","2018-08-13T13:59:00","2018-09-17T17:50:00","2018-10-01T14:50:00",null,null,"2018-12-14T06:46:00"]
["https://www.uber.com/careers/list/39795/","What You’ll Need\n• Experience in the field of location and state estimation: GPS/GNSS, building wifi models for semantic location, SLAM.\n• Experience applying state estimation (Kalman filters, etc.), signal processing, sensor fusion for determining position\n• Prior management experience leading a team of 5 to 10 people\n• Programming and algorithmic skills (we mainly use Java & Python)\n• 10+ years experience with record of shipping high-impact research projects\n \n\n","What You’ll Need\n• Experience in the field of location and state estimation: GPS/GNSS, building wifi models for semantic location, SLAM.\n• Experience applying state estimation (Kalman filters, etc.), signal processing, sensor fusion for determining position\n• Prior management experience leading a team of 5 to 10 people\n• Excellent programming and algorithmic skills (we mainly use Java & Python)\n• 10+ years experience with track record of shipping high-impact research projects\n \nBonus Points\n• PhD in related field (signal processing)\n• Prior work in the areas of indoor location, pedestrian dead reckoning at the software layer.\n• Experience working with other sensor types (audiovisual, barometric, etc.) or with mobile devices of varying quality\n\n","?iisp=he-6594079","?iisp=he-6584079",null,"Technical Lead Manager - Location Intelligence","2018-08-13T13:59:00","2018-10-27T09:55:00","2018-11-07T11:33:00",null,null,"2018-12-14T06:46:00"]
["https://www.uber.com/careers/list/39796/","What You’ll Need\n• Experience in the field of location and state estimation: GPS/GNSS, building wifi models for semantic location, SLAM.\n• Experience applying state estimation (Kalman filters, etc.), signal processing, sensor fusion for determining position\n• Programming and algorithmic skills (we mainly use Java & Python)\n• 10+ years experience with record of shipping high-impact research projects\n\n","What You’ll Need\n• Experience in the field of location and state estimation: GPS/GNSS, building wifi models for semantic location, SLAM.\n• Experience applying state estimation (Kalman filters, etc.), signal processing, sensor fusion for determining position\n• Excellent programming and algorithmic skills (we mainly use Java & Python)\n• 10+ years experience with track record of shipping high-impact research projects\n \nBonus Points\n• PhD in related field (signal processing)\n• Prior work in the areas of indoor location, pedestrian dead reckoning at the software layer.\n• Experience working with other sensor types (audiovisual, barometric, etc.) or with mobile devices of varying quality\n\n","?iisp=he-6594079","?iisp=he-6584079",null,"Staff Software Engineer - Location Intelligence","2018-08-13T13:59:00","2019-01-24T07:10:00",null,null,null,"2018-12-14T06:46:00"]
["https://www.uber.com/careers/list/39367/","What You’ll Need\n• 10+years of relevant Sourcing / Recruiting experience\n• A builder’s mentality, optimizing for scale and able to operate and influence at different altitudes; from the Head of Engineering to inspiring action among individual contributors.\n• Ability to provide Sourcing / Recruiting consultation to senior leadership on strategic initiatives and an ability to be a thought partner within and outside of your direct organization.\n• An inclusive and diverse sensibility in your approach to assessing and executing channel solutions.\n• Leadership and decision-making capabilities, with a sourcing point of view grounded in systematic thinking, analytics and wins relevant to the above.\n• A growth vs fixed mindset by having made big bets or taken some calculated risks, even if they didn’t prove to be successful.\n• Knowledge and experience in technology businesses including a familiarity with global Sourcing / Recruiting practices and policies.\n• Integrity with presence. Influencing skills at all levels in the organization, flexibility in a dynamic, ever changing environment. Competence in making timely, effective, principles-based decisions.\n• Tenacity and ability to build from scratch are essential.\n• Written and verbal communication skills; you are an articulate and persuasive communicator with presentation skills; analytical and problem solving abilities.\n• Ought to be able to travel, including short-term assignments based upon business requirements.\n• Bachelor’s degree required\n","What You’ll Need\n• 10+years of relevant Sourcing / Recruiting experience, ideally supporting technically-focused teams.\n• A builder’s mentality, optimizing for scale and comfortable operating and influencing at different altitudes; from the Head of Engineering to inspiring action among individual contributors.\n• Proven ability to provide Sourcing / Recruiting consultation to senior leadership on strategic initiatives and a demonstrated ability to be a thought partner within and outside of your direct organization.\n• Proven track record of an inclusive and diverse sensibility in your approach to assessing and executing channel solutions.\n• Strong leadership and decision-making capabilities, with a sourcing point of view grounded in systematic thinking, analytics and demonstrated wins relevant to the above.\n• A growth vs fixed mindset as demonstrated by having made big bets or taken some calculated risks, even if they didn’t prove to be successful.\n• Knowledge and experience in technology businesses including a familiarity with global Sourcing / Recruiting practices and policies.\n• Unquestioned integrity with assertiveness, presence, and confidence. Excellent influencing skills at all levels in the organization, acute flexibility in a dynamic, ever changing environment. Competence in making timely, effective, principles-based decisions.\n• Tenacity and ability to build from scratch are essential.\n• Excellent written and verbal communication skills; you are an articulate and persuasive communicator with excellent presentation skills; analytical and problem solving abilities.\n• Ought to be able to travel, including short-term assignments based upon business requirements.\n• Bachelor’s degree required; Master’s degree preferred.\n\n","?iisp=he-6594079","?iisp=he-6584079",null,"Director of Channels","2018-08-13T13:59:00","2018-10-11T09:10:00","2018-10-16T07:51:00",null,null,"2018-12-14T06:46:00"]
["https://www.uber.com/careers/list/36733/","What You'll Need\n \n• BS degree in Computer Science or related engineering field.\n• 5+ years of relevant software engineering experience.\n• Background in multiple programming languages, e.g. Go, Python or C/C++.\n• Prior experience with infrastructure automation, Data Center Infrastructure Management (DCIM), Linux environments, imaging solutions, and configuration management (Puppet, Chef, Salt).\n• Written and verbal communication skills and the ability to write detailed design documents.\n• Experience with helping the team grow by inspiring and mentoring less experienced engineers.\n• Experience with partnering with internal customers and creating solutions spanning multiple teams.\n• Experience with Operating Systems.You should have experience in the Linux environment and an understanding of its fundamentals such as kernel parameters.","What You'll Need\n \n• BS degree in Computer Science or related engineering field.\n• 5+ years of relevant software engineering experience.\n• Solid background in multiple programming languages, e.g. Go, Python or C/C++.\n• Prior experience with infrastructure automation, Data Center Infrastructure Management (DCIM), Linux environments, imaging solutions, and configuration management (Puppet, Chef, Salt).\n• Excellent written and verbal communication skills and the ability to write detailed design documents.\n• Experience with helping the team grow by inspiring and mentoring less experienced engineers.\n• Experience with partnering with internal customers and creating solutions spanning multiple teams.\n• Strong experience with Operating Systems.You should have strong experience in the Linux environment and a solid understanding of its fundamentals such as kernel parameters.\n \nBonus Points\n• Understanding of DHCP, PXE, DNS and TCP/IP are also a bonus.\n• Experience developing service oriented systems, REST\n\n","?iisp=he-6594079","?iisp=he-6584079","FIXED. typo - I changed \"span\" to \"spanning\" in 7th bullet","(Senior) Software Engineer, Hardware Systems - uMetal","2018-08-13T13:59:00","2019-02-14T19:10:00","2018-08-22T14:44:00","2018-08-15T15:45:00","2018-10-01T08:20:00","2018-12-14T06:46:00"]
["https://www.uber.com/careers/list/39676/","What You’ll Need:\n \n• 3 + years experience creating engaging and interactive training in a variety of formats (live courses, online, written instructions, etc) for engineers on a global scale.\n• Experience with full stack web technologies: Understand technical concepts (data storage, microservice architecture, RIBS framework, etc)  and how to break them down to teach them. Your job will be to learn Uber’s complex technical stack in order to aid in translation for learning\n• Exposure to Golang, Java, iOS, Android, Python\n• Experience with course development and instructional design, for both live and online environments and synchronous and asynchronous delivery\n• Project management experience with cross-functional teams\n• At least 1 year teaching technical content\n• Presentation skills\n• Experience developing learning resources, such as guides, presentations, documentation, and interactive course exercises\n• Analytical and data driven decision-making ability\n• An interest in the education space\n• Experience with software engineering best practices: unit testing, code reviews, design documentation, debugging, troubleshooting skills\n\n","What You’ll Need:\n \n• 3 + years experience creating engaging and interactive training in a variety of formats (live courses, online, written instructions, etc) for engineers on a global scale.\n• Intermediate experience with full stack web technologies: Understand technical concepts (data storage, microservice architecture, RIBS framework, etc)  and how to break them down to teach them. Your job will be to learn Uber’s complex technical stack in order to aid in translation for effective learning\n• Exposure to Golang, Java, iOS, Android, Python\n• Expert in course development and instructional design expertise, for both live and online environments and synchronous and asynchronous delivery\n• Project management experience with cross-functional teams\n• At least 1 year teaching technical content\n• Exceptional presentation skills\n• Experience developing learning resources, such as guides, presentations, documentation, and interactive course exercises\n• Analytical and data driven decision-making ability\n• A passion for the education space\n• Experience with software engineering best practices: unit testing, code reviews, design documentation, excellent debugging, troubleshooting skills\n \nBonus Points If:\n \n \n• Experience with Phabricator, Jira\n• Experience with Absorb or Trello\n• Experience developing training for Object Oriented Design (OOD), microservices architecture, Go, iOS/Swift, Android/Java\n\n","?iisp=he-6594079","?iisp=he-6584079",null,"Technical Curriculum Developer","2018-08-13T13:59:00","2018-10-31T11:20:00","2018-11-07T11:33:00",null,null,"2018-12-14T06:46:00","Expired on 10/13/2018 11:20:00 AM PST, but came back alive on 11/13/2018 20:52 PM PST. Removed. "]
["https://www.uber.com/careers/list/39647/","What you'll need\n \n• Bachelor’s Degree\n• Business leader and a minimum of 7 years of professional experience in operations, consulting, strategy or related experience\n• Experience managing high-performing teams \n• Experience managing cross-functional projects, powered by data-driven insight, from start to finish\n• Self-motivated with an ability for vision setting, strategic problem solving and facilitating action\n• Written and verbal communication skills across diverse functions and teams\n• Ability to own and handle multiple projects or work streams at once\n• Interest in launching new and exciting projects in a fast paced working environment\n• Experience telling stories with data \n\n","What you'll need\n \n• Bachelor’s Degree\n• Proven business leader and a minimum of 7 years of professional experience in operations, consulting, strategy or related experience\n• Experience managing high-performing teams successfully\n• Experience managing cross-functional projects, powered by data-driven insight, from start to finish\n• Self-motivated with a strong affinity for vision setting, strategic problem solving and driving action\n• Persuasive written and verbal communication skills across diverse functions and teams\n• Comfortable owning and juggling multiple projects or work streams at once\n• Passion for launching new and exciting projects in a fast paced working environment\n• Experience telling compelling stories with data \n \nBonus points for\n \n• Experience working in a support environment\n\n","?iisp=he-6594079","?iisp=he-6584079",null,"Program Leader, Operations Strategy","2018-08-13T13:59:00",{"$nulls":4},"2018-12-14T06:46:00"]
["https://www.uber.com/careers/list/39656/","What You’ll Need\n \n• At least 5 years of people engagement, office management, team administration, event planning responsibilities; experience preferred if from a startup/tech environment\n• Project management skills, experience with project management software.\n• Energy, engagement and professionalism\n• Organizational skills and follow-through on tasks.\n• Communication skills and ability to interact professionally and efficiently with internal and external partners.\n• A problem solver who is solution-oriented and has an interest in helping.\n","What You’ll Need\n \n• At least 5 years of people engagement, office management, team administration, event planning responsibilities; experience preferred if from a startup/tech environment\n• Strong project management skills, experience with project management software.\n• High energy, enthusiasm and professionalism\n• Superior organizational skills and impeccable follow-through on tasks.\n• Strong communication skills and ability to interact professionally and efficiently with internal and external partners.\n• An outstanding problem solver who is solution-oriented and has a genuine interest in helping.\n• High level of proficiency with Google Drive/Office Suite desirable. \n\n","?iisp=he-6594079","?iisp=he-6584079",null,"Project Manager","2018-08-13T13:59:00","2018-08-15T08:00:00","2018-08-22T14:44:00",null,null,"2018-12-14T06:46:00"]
["https://www.uber.com/careers/list/39689/","What You’ll Need\n• Minimum of 3+ years of experience managing fast paced accounts in the logistics or freight industry\n• Ability to solve complex problems under pressure\n• Ability to collaborate and work with a highly diverse set of shippers, transportation partners, and internal partners\n• Analytical and critical thinking ability\n• Communication and organizational skills\n• The ability to balance attention to detail with swift execution\n• Bachelor's Degree\n\n","What You’ll Need\n• Minimum of 3+ years of experience managing fast paced accounts in the logistics or freight industry\n• Experience in both account management and carrier sales preferred\n• Demonstrated ability to solve complex problems under pressure\n• Ability to collaborate and work with a highly diverse set of shippers, transportation partners, and internal partners\n• Analytical and critical thinking ability\n• Strong communication and organizational skills\n• The ability to balance attention to detail with swift execution - we need to do things quickly, and we need to do them well\n• Bachelor's Degree\n \nBonus Points If\n• You have experience in both customer and carrier operations management \n• You have dispatching experience \n\n","?iisp=he-6594079","?iisp=he-6584079",null,"Account Manager, Asset Solutions - Uber Freight","2018-08-13T13:59:00","2019-01-19T20:15:00",null,null,null,"2018-12-14T06:46:00"]
["https://www.uber.com/careers/list/39646/","What you'll need\n \n• Bachelor’s Degree\n• At least 4 years work experience in operations, consulting, strategy or related experience\n• Experience managing cross-functional projects, powered by data-driven insight, from start to finish\n• Self-motivated with an ability for vision setting, strategic problem solving and driving action\n• Written and verbal communication skills across diverse functions and teams\n• Ability to own and handle multiple projects or work streams at once\n• Interest in launching new and exciting projects in a fast paced working environment\n• Detail oriented \n• Experience telling stories with data ","What you'll need\n \n• Bachelor’s Degree\n• At least 4 years work experience in operations, consulting, strategy or related experience\n• Experience managing cross-functional projects, powered by data-driven insight, from start to finish\n• Self-motivated with a strong affinity for vision setting, strategic problem solving and driving action\n• Persuasive written and verbal communication skills across diverse functions and teams\n• Comfortable owning and juggling multiple projects or work streams at once\n• Passion for launching new and exciting projects in a fast paced working environment\n• Highly detail oriented \n• Experience telling compelling stories with data \n \nBonus points for\n \n• SQL fluency\n• Experience working in a support environment\n\n\n","?iisp=he-6594079","?iisp=he-6584079",null,"Senior Operations Strategy Manager","2018-08-13T13:59:00",{"$nulls":4},"2018-12-14T06:46:00"]
["https://www.uber.com/careers/list/39678/","What You'll Need\n \n• Minimum 3 years of working experience in a high-volume and fast-paced service-industry or customer support environment including minimum 2 years of leading large teams\n• Willingness to work weekends and occasional holidays, in an operational 24/7 environment\n• Ability to manage, set team goals, develop people to their highest levels of performance, and guide through challenging situations\n• Written and verbal communication skills\n• Self motivated with experience problem solving, challenging the status quo and never settling for how something ‘has always been done’\n• Willing to engage and take on something hands-on\n• Leadership: You have a positive attitude and are interested in making a positive impact in our Community. You view every support interaction as a chance to impact our riders and driver partners in a positive way","What You'll Need\n \n• Minimum 3 years of working experience in a high-volume and fast-paced service-industry or customer support environment including minimum 2 years of leading large teams\n• Willingness to work weekends and occasional holidays, in an operational 24/7 environment\n• Demonstrated ability to manage effectively, set team goals, develop people to their highest levels of performance, and guide through challenging situations\n• Exceptional written and verbal communication skills\n• Self motivated with a deep affinity for problem solving, always challenging the status quo and never settling for how something ‘has always been done’\n• Always willing to roll up your sleeves and take on something hands-on\n• Optimistic leadership: You have an enthusiastic attitude and are passionate about making magic for our Community. You view every support interaction as a chance to impact our riders and driver partners in a positive way\n \nBonus Points if\n \n• Experience in service-industry, customer support, manufacturing or distribution in a high-volume environment\n \n\n","?iisp=he-6594079","?iisp=he-6584079",null,"Customer Service Manager, Freight","2018-08-13T13:59:00","2018-10-30T11:50:00","2018-11-07T11:33:00",null,null,"2018-12-14T06:46:00"]
["https://www.uber.com/careers/list/39679/","What You’ll Need\n \n• A computer science undergraduate degree or equivalent plus hands-on software engineering experience. \n• At least 5 years experience leading product teams that delivered solutions/products related to data infrastructure at scale\n• A personality that encourages action, collaboration and simplification for communication.\n• You are able to engage and address something hands-on.\n• Customer-centricity - you have examples from your past of tough product issues that you worked through to ensure customer satisfaction\n","What You’ll Need\n \n• A computer science undergraduate degree or equivalent plus hands-on software engineering experience. Technical understanding must go from the highest abstractions down to the hardware\n• At least 5 years experience leading product teams that delivered solutions/products related to data infrastructure at scale\n• A personality that encourages action, great collaboration and excellent simplification for communication.\n• You never hesitate to roll up your sleeves and address something hands-on.\n• Customer-centricity - you have many examples from your past of tough product issues that you persevered through to ensure customer satisfaction\n• Bonus: Familiarity with exciting and new data technologies, including HDFS, Hive, Kafka, Spark, Presto, Docker, Mesos, data warehousing solutions, and in-memory databases\n\n","?iisp=he-6594079","?iisp=he-6584079",null,"Product Manager- Data Infrastructure","2018-08-13T13:59:00","2018-12-05T07:00:00","2018-12-10T08:23:00",null,null,"2018-12-14T06:46:00"]
["https://www.uber.com/careers/list/39648/","What you'll need\n \n• Bachelor’s Degree\n• At least 4 years work experience in operations, consulting, strategy or related experience\n• Experience managing cross-functional projects, powered by data-driven insight, from start to finish\n• Self-motivated with an ability for vision setting, strategic problem solving and driving action\n• Written and verbal communication skills across diverse functions and teams\n• Ability to own and handle multiple projects or work streams at once\n• Interest in launching new and exciting projects to improve the employee experience in a fast-paced working environment\n","What you'll need\n \n• Bachelor’s Degree\n• At least 4 years work experience in operations, consulting, strategy or related experience\n• Experience managing cross-functional projects, powered by data-driven insight, from start to finish\n• Self-motivated with a strong affinity for vision setting, strategic problem solving and driving action\n• Persuasive written and verbal communication skills across diverse functions and teams\n• Comfortable owning and juggling multiple projects or work streams at once\n• Passion for launching new and exciting projects to improve the employee experience in a fast-paced working environment\n \nBonus points for\n \n• Previous people management experience\n• Experience working in a support environment\n\n","?iisp=he-6594079","?iisp=he-6584079",null,"Senior People Strategy Manager","2018-08-13T13:59:00","2018-12-06T07:45:00","2018-12-10T08:23:00",null,null,"2018-12-14T06:46:00"]
["https://www.uber.com/careers/list/39595/","Requirements:\n• The ideal candidate for this role should have:\n• 3 – 5+ years partnership or social media influencer marketing experience.\n• Relationship management skills with an eye for detail\n• Understanding of the social media landscape.\n• Experience working cross-functionally with an array of internal teams.\n• Comprehension of deal performance metrics and opportunities to optimize\n• Creative outlook with inspired brand content ideas\n\n","Requirements:\n• The ideal candidate for this role should have:\n• 3 – 5+ years partnership or social media influencer marketing experience.\n• Effective relationship management skills with an eye for detail\n• Deep understanding of the social media landscape.\n• Experience working cross-functionally with an array of internal teams.\n• Comprehension of deal performance metrics and opportunities to optimize\n• Creative outlook with inspired brand content ideas\n \nPreferred Qualifications:\n•    Lover of great food and culinary cultures\n•    Flexible, with the ability to excel in a fast-paced environment.\n\n","?iisp=he-6594079","?iisp=he-6584079",null,"Influencer & Partnership Marketing Manager - Uber Eats","2018-08-13T13:59:00","2018-12-06T07:45:00","2018-12-10T08:23:00",null,null,"2018-12-14T06:46:00"]
["https://www.uber.com/careers/list/31067/","What you'll need\n \n• Computer science fundamentals\n• Programming skills\n• Experience writing high performance, multi-threaded code.\n• Experience designing apps, frameworks or SDK.\n• A desire to learn and teach.\n","What you'll need\n \n• Thorough computer science fundamentals\n• Excellent programming skills, preferably in C/C++\n• Experience writing high performance, multi-threaded code.\n• Experience designing apps, frameworks or SDK.\n• An eagerness to learn and teach.\n• Mobile graphics (OpenGL ES) knowledge would be a plus.\n\n","?iisp=he-6594079","?iisp=he-6584079",null,"Maps SDK Engineer - Map Display","2018-08-13T13:59:00",{"$nulls":4},"2018-12-14T06:46:00"]
["https://www.uber.com/careers/list/35600/","What You’ll Need\n• BS, MS in computer science or equivalent\n• Coding skills in C++, Python, or Go in a Linux or other Unix environment\n• Understanding of statistical analysis and visualization\n","What You’ll Need\n• BS, MS in computer science or equivalent\n• Strong coding skills in C++, Python, or Go in a Linux or other Unix environment\n• Understanding of statistical analysis and visualization\n \nBonus Points If You Have\n• Worked with simulation systems before\n• Developed and validated fault tolerant software\n• Worked with large-scale distributed systems\n\n","?iisp=he-6594079","?iisp=he-6584079",null,"Simulation Validation Engineer, Self-Driving","2018-08-13T13:59:00","2018-08-30T21:38:00","2018-09-05T15:52:00",null,null,"2018-12-14T06:46:00"]
["https://www.uber.com/careers/list/39625/","What You’ll Need\n• At least 4 years of operations management, retail management, or support management experience\n• At least 2 years of operational people management\n• Data-driven decision mentality and business judgment through analytical thinking\n• Adaptable to change and ability to execute quickly\n• Determined - You are able to engage and do the in-depth work that comes along with the higher-level thinking\n• A leader - You lead by example and have experience empowering a team to execute under pressure and tight deadlines\n• Creative solutions driven mindset, with a get it done attitude\n• Emotional IQ – You manage relationships with partners, influencers, and co-workers\n• Flexible and forward thinking - We need someone smart and interested in playing with different models to help us scale\n\n","What You’ll Need\n• At least 4 years of operations management, retail management, or support management experience\n• At least 2 years of operational people management, preferably in a start up capacity\n• Data-driven decision mentality and sound business judgment through strong analytical thinking\n• Adaptable to change and ability to execute quickly\n• Determined - You have no problem getting your hands dirty and doing the gritty work that comes along with the higher-level thinking\n• A leader - You lead by example and have experience empowering a team to execute under pressure and tight deadlines\n• Creative solutions driven mindset, with a get it done attitude\n• High Emotional IQ – You expertly manage relationships with partners, influencers, and co-workers\n• Flexible and forward thinking - We need someone sharp and eager to play with different models to help us scale\n \nBonus points if\n• You have an MBA degree\n \n\n","?iisp=he-6594079","?iisp=he-6584079",null,"Senior Regional Operations Manager, Greenlight - Northeast","2018-08-13T13:59:00","2018-10-04T11:25:00","2018-10-08T12:55:00",null,null,"2018-12-14T06:46:00"]
["https://www.uber.com/careers/list/39589/","What You’ll Need:\n• Listening, communication and organizational skills.\n• Ability to multi-task and follow through while paying attention to detail\n• Coachability, interest in implementing feedback, and dedication to improvement of your craft\n• Curiosity about people and business and an interest in UberEATS and food\n• A positive attitude and desire to win; work ethic and determination\n• Desire to build and maintain long-term professional relationships\n• Adaptability to change in a fast-paced environment\n• 8-12 years of sales experience required\n• Ability to travel nationally up to 25% of the time\n\n","What You’ll Need:\n• Exceptional listening, communication and organizational skills.\n• Proven ability to multi-task and follow through while paying strict attention to detail\n• Coachability, interest in implementing feedback, and dedication to improvement of your craft\n• Genuine curiosity about people and business and a passion for UberEATS and food\n• An infectiously positive attitude and drive to win; hustle and determination\n• Desire to build and maintain long-term professional relationships\n• Adaptability to change in a fast-paced environment\n• Restaurant industry or hospitality experience preferred\n• 8-12 years of sales experience required, C-suite preferred\n• Ability to travel nationally up to 25% of the time\n\n","?iisp=he-6594079","?iisp=he-6584079",null,"Enterprise Account Executive, Uber Eats","2018-08-13T13:59:00","2019-04-01T21:10:00",null,null,null,"2018-12-14T06:46:00"]
["https://www.uber.com/careers/list/39651/","What You’ll Need\n• A minimum of 10+ years of experience in a law firm or in-house and/or Big 4 with an understanding Section 6050W\n• Written and verbal communications skills; ability to communicate with senior management team\n• Tax research and tax analytical skills\n\n","What You’ll Need\n• MST or JD / LLM preferred\n• A minimum of 10+ years of experience in a law firm or in-house and/or Big 4 with a solid understanding Section 6050W\n• Strong written and verbal communications skills; ability to communicate effectively with senior management team\n• Strong tax research and tax analytical skills\n\n","?iisp=he-6594079","?iisp=he-6584079",null,"Senior Manager, Tax Strategy","2018-08-13T13:59:00","2018-10-03T12:22:00","2018-10-08T12:55:00",null,null,"2018-12-14T06:46:00","Expired on 10/3/2018 12:22 PM PST, but came back alive on 10/13/2018 9:40 AM PST. Removed. Expired again on 01/02/2019 1:20 PM PST."]
["https://www.uber.com/careers/list/39652/","What You'll Need\n• Bachelor's degree in Computer Science, Mathematics, Statistics, Finance, or related technical field\n• 5+ years of years of relevant professional work experience in analytics, data engineering, business intelligence, market research or related field\n• 5+ years of Experience with BI tools with at least 2 years working in Tableau\n• Experience gathering business requirements, using industry standard business intelligence tools to extract data, formulate metrics and build reports\n• Experience using advanced SQL (OLAP, CTE etc) and databases in a business environment with large-scale, big data, complex datasets\n• Experience identifying and communicating analytical outcomes in person and in writing to both business and technical teams\n• Experience with statistical modeling and analyzing large data sets","What You'll Need\n• Bachelor's degree in Computer Science, Mathematics, Statistics, Finance, or related technical field\n• 5+ years of years of relevant professional work experience in analytics, data engineering, business intelligence, market research or related field\n• 5+ years of Experience with BI tools with at least 2 years working in Tableau\n• Experience gathering business requirements, using industry standard business intelligence tools to extract data, formulate metrics and build reports\n• Experience using advanced SQL (OLAP, CTE etc) and databases in a business environment with large-scale, big data, complex datasets\n• Experience identifying and communicating analytical outcomes in person and in writing to both business and technical teams\n• Experience with statistical modeling and analyzing large data sets\n \nBonus Points If\n• Experience surfacing automated insights using descriptive analytics\n• Experience in BI projects converting business needs to data warehousing and reporting solutions\n• Both technically deep and business savvy enough to interface with all levels and disciplines within the organization\n• Demonstrated ability to coordinate projects across functional teams, including engineering, marketing, finance, and operations\n• Experience writing ETL scripts in python or any other language.\n\n","?iisp=he-6594079","?iisp=he-6584079",null,"Sr. Business Intelligence Analyst","2018-08-13T13:59:00","2018-09-25T17:00:00","2018-10-01T14:50:00",null,null,"2018-12-14T06:46:00"]
["https://www.uber.com/careers/list/39549/","What You’ll Need\n \n• Minimum of 6 years as a litigation or employment paralegal in either big firm or in-house legal department\n• B.A./B.S. degree\n• Paralegal certificate or completed law school\n• Experience with state and federal courts including understanding of court rules, calendaring requirements, and filing procedures\n• Understanding of the litigation/arbitration process, from start to finish, especially with single plaintiff, multi-plaintiff, complex and class actions\n• Ability to create and execute searches across vast repositories of data\n• Experience with Microsoft Suites (Word, Excel, PowerPoint, Outlook), Google Suites (Google Docs, Google Sheets, Google Slides, Google Forms, Gmail, Calendar), Acrobat Adobe\n• Experience with legal database management (Relativity, Concordance, Ringtail, iManage, FileSite) \n• Motivated, efficient, organized, and focused on the details\n• Able to handle multiple projects at a time in a fast-paced environment, \n• Experience collaborating as a team and working independently to get the job done, no matter how big or small the project\n• Calm in deadline-driven situations; self-reliant and able to prioritize workload\n• Have written and verbal communication skills\n• Be able to work overtime, sometimes on short notice\n\n","What You’ll Need\n \n• Minimum of 6 years as a litigation or employment paralegal in either big firm or in-house legal department\n• B.A./B.S. degree\n• Paralegal certificate or completed law school\n• Experience with state and federal courts including solid understanding of court rules, calendaring requirements, and filing procedures\n• Strong understanding of the litigation/arbitration process, from start to finish, especially with single plaintiff, multi-plaintiff, complex and class actions\n• Adept at creating and executing searches across vast repositories of data\n• Proficient with Microsoft Suites (Word, Excel, PowerPoint, Outlook), Google Suites (Google Docs, Google Sheets, Google Slides, Google Forms, Gmail, Calendar), Acrobat Adobe\n• Experience with legal database management (Relativity, Concordance, Ringtail, iManage, FileSite) \n• Highly motivated, efficient, organized, and laser-focused on the details\n• Able to juggle multiple projects at a time in a fast-paced environment, \n• Comfortable collaborating as a team and working independently to get the job done, no matter how big or small the project\n• Calm in deadline-driven situations; self-reliant and able to prioritize workload\n• Have excellent written and verbal communication skills\n• Be able to work overtime, sometimes on short notice\n \nBonus Points If\n \n• e-Discovery background\n• Experience with Salesforce\n• Some knowledge about SQL, queries, or desire to learn is a big plus\n• Other web-based applications such as Box, DocuSign, JIRA, Zoom\n• Experience with administrative agencies, such as the DFEH, EEOC, workers’ compensation, insurance claims, state unemployment claims\n\n","?iisp=he-6594079","?iisp=he-6584079",null,"Paralegal, Employment","2018-08-13T13:59:00","2018-12-13T07:20:00","2018-09-05T15:52:00","2018-08-28T16:15:00",null,"2018-12-14T06:46:00"]
["https://www.uber.com/careers/list/39550/","What You’ll Need\n• 2-4 years of claims or legal experience in a law firm or in-house legal department\n• A./B.S. or paralegal certificate\n• Ability to create and execute searches across vast repositories of data\n• Experience with Microsoft Suites (Word, Excel, PowerPoint, Outlook), Google Suites (Google Docs, Google Sheets, Google Slides, Google Forms, Gmail, Calendar), Acrobat Adobe\n• Motivated, efficient, organized, and focused on the details\n• Able to handle multiple projects at a time in a fast-paced environment, \n• Calm in deadline-driven situations; self-reliant and able to prioritize workload\n• Have written and verbal communication skills\n• Be able to work overtime, sometimes on short notice","What You’ll Need\n• 2-4 years of claims or legal experience in a top-tier law firm or in-house legal department\n• A./B.S. or paralegal certificate\n• Adept at creating and executing searches across vast repositories of data\n• Proficient with Microsoft Suites (Word, Excel, PowerPoint, Outlook), Google Suites (Google Docs, Google Sheets, Google Slides, Google Forms, Gmail, Calendar), Acrobat Adobe\n• Highly motivated, efficient, organized, and laser-focused on the details\n• Able to juggle multiple projects at a time in a fast-paced environment, \n• Calm in deadline-driven situations; self-reliant and able to prioritize workload\n• Have excellent written and verbal communication skills\n• Be able to work overtime, sometimes on short notice\n \nBonus Points If\n \n• Experience with Salesforce\n• Some knowledge about SQL, queries, or desire to learn is a big plus\n• Other web-based applications such as Box, DocuSign, JIRA, Zoom\n• Some experience with administrative agencies, such as workers’ compensation, insurance claims, state unemployment claims\n\n","?iisp=he-6594079","?iisp=he-6584079",null,"Legal Assistant, Employment","2018-08-13T13:59:00","2018-09-04T16:43:00","2018-10-01T14:50:00",null,null,"2018-12-14T06:46:00"]
["https://www.uber.com/careers/list/39525/","What You'll Need\n• Minimum 5 years of professional experience in a high-volume and highly productive service-industry or customer support environment and minimum 3 years of managing managers\n• An ability to manage, set team goals, develop people to their highest levels of performance, and manage through challenging situations\n• Prior professional experience with optimization, processes, systematic organization, program/project management\n• Performance management of large teams, creating and implementing policy, mentoring and coaching, as well as stakeholder manager and communications about high visibility and time sensitive issues\n• Data/Analytics experience; Excel proficiency\n• Attention to detail & project management skills\n• Communication skills. Including public speaking and ability to present  in front of peers and senior leadership\n• To handle change and operate flexibly\n• To have a bias towards action","What You'll Need\n• Minimum 5 years of professional experience in a high-volume and highly productive service-industry or customer support environment and minimum 3 years of managing managers\n• A demonstrated ability to manage effectively, set team goals, develop people to their highest levels of performance, and manage through challenging situations\n• Prior professional experience with optimization, processes, systematic organization, program/project management\n• Performance management of large teams, creating and implementing policy, mentoring and coaching, as well as stakeholder manager and communications about high visibility and time sensitive issues\n• Demonstrated Data/Analytics experience; Excel proficiency\n• Excellent attention to detail & project management skills\n• Outstanding communication skills. Including public speaking and ability to present effectively in front of peers and senior leadership\n• To thrive on change and operate flexibly\n• To have a deep bias towards action\n\nBonus Points if\n• Knowledge of Lean, Six Sigma and Kaizen methodologies is highly advantageous\n• SQL proficiency\n\n","?iisp=he-6594079","?iisp=he-6584079",null,"Senior Customer Support Manager, Night Shift","2018-08-13T13:59:00","2018-09-19T22:00:00","2018-10-01T14:50:00",null,null,"2018-12-14T06:46:00"]
["https://www.uber.com/careers/list/39590/","What You’ll Need:\n• Listening, communication and organizational skills.\n• Ability to multi-task and follow through while paying attention to detail\n• Coachability, interest in implementing feedback, and dedication to improvement of your craft\n• Curiosity about people and business and an interest in UberEATS and food\n• A positive attitude and desire to win; work ethic and determination\n• Desire to build and maintain long-term professional relationships\n• Adaptability to change in a fast-paced environment\n• 5-8 years of sales experience required\n• Ability to travel nationally up to 25% of the time\n\n","What You’ll Need:\n• Exceptional listening, communication and organizational skills.\n• Proven ability to multi-task and follow through while paying strict attention to detail\n• Coachability, interest in implementing feedback, and dedication to improvement of your craft\n• Genuine curiosity about people and business and a passion for UberEATS and food\n• An infectiously positive attitude and drive to win; hustle and determination\n• Desire to build and maintain long-term professional relationships\n• Adaptability to change in a fast-paced environment\n• Restaurant industry or hospitality experience preferred\n• 5-8 years of sales experience required, C-suite preferred\n• Ability to travel nationally up to 25% of the time\n\n","?iisp=he-6594079","?iisp=he-6584079",null,"Sr Account Executive, Uber Eats","2018-08-13T13:59:00","2018-10-26T15:35:00","2018-11-07T11:33:00",null,null,"2018-12-14T06:46:00"]
["https://www.uber.com/careers/list/39626/","Requirements:\nThe ideal candidate for this role should have:\n• 3 – 5 years social media content development experience.\n• Understanding of social media platforms and management tools.\n• Writing skills with attention to detail, grammar, and tone.\n• Experience working cross-functionally with an array of internal teams.\n• Creative outlook with inspired brand content ideas","Requirements:\nThe ideal candidate for this role should have:\n• 3 – 5 years social media content development experience.\n• Deep understanding of social media platforms and management tools.\n• Exceptional writing skills with strong attention to detail, grammar, and tone.\n• Experience working cross-functionally with an array of internal teams.\n• Creative outlook with inspired brand content ideas\n \nPreferred Qualifications:\n• Lover of great food and culinary cultures\n• Elevated sense of humor, writing skills infused with wit and charm.\n• Experience with Sprinklr, Brandwatch, or similar tools.\n• Flexible, with the ability to excel in a fast-paced environment.\n• Copywriting experience is a plus.","?iisp=he-6594079","?iisp=he-6584079",null,"Social Media Manager, Uber Eats","2018-08-13T13:59:00","2018-09-21T10:42:00","2018-10-01T14:50:00",null,null,"2018-12-14T06:46:00"]
["https://www.uber.com/careers/list/39649/","What You’ll Need\n• A minimum of 5 – 7 years combined in-house and/or law firm experience at mid to large size law firm\n• Direct experience working with enterprise sales organizations to negotiate, draft and finalize sales agreements, and provide ongoing legal support to product implementation and client management\n• Experienced with supporting product development and release, commercial transactions, strategic partnership agreements, marketing agreements, services and supplier relationships, privacy and data use\n• Academic credentials and law degree from a good law school\n• California Bar Admission Preferred\n• Business judgment, communication and interpersonal skills, ability to advise clients on a wide variety of legal and compliance issues in the context of fast-moving global operations\n• Interest in expanding scope of your practice to other areas of law as part of a growing legal team\n• Interested in Uber\n\n","What You’ll Need\n• A minimum of 5 – 7 years combined in-house and/or law firm experience at mid to large size law firm\n• Direct experience working with enterprise sales organizations to negotiate, draft and finalize sales agreements, and provide ongoing legal support to product implementation and client management\n• Experienced with supporting product development and release, commercial transactions, strategic partnership agreements, marketing agreements, services and supplier relationships, privacy and data use\n• Strong academic credentials and law degree from a top law school\n• California Bar Admission Preferred\n• Excellent business judgment, communication and interpersonal skills, ability to advise clients on a wide variety of legal and compliance issues in the context of fast-moving global operations\n• Interest in expanding scope of your practice to other areas of law as part of a growing legal team\n• Enthusiastic about Uber!\n\n","?iisp=he-6594079","?iisp=he-6584079",null,"Counsel, Enterprise Product Team (Uber for Business and Uber Freight)","2018-08-13T13:59:00","2018-09-14T20:34:00","2018-09-23T12:29:00",null,null,"2018-12-14T06:46:00"]
["https://www.uber.com/careers/list/39490/","What You’ll Need\n• 3+ years’ experience in accounting.\n• Understanding of ASC guidance, emphasis on ASC 718 / equity accounting experience\n• Ability to work independently toward the team’s objectives in a dynamic environment, and propose solutions to issues as they arise\n• Ability to suggest and implement process improvements\n• Written and verbal communication, organizational and analytical skills required\n\n","What You’ll Need\n• 3+ years’ experience in accounting with experiences in equity accounting highly preferred. CPA certification is a big plus.\n• Comprehensive understanding of ASC guidance, emphasis on ASC 718 / equity accounting experience\n• Knowledge of equity platform or Oracle R12 preferred\n• Ability to work independently toward the team’s objectives in a dynamic environment, and propose solutions to issues as they arise\n• Ability to suggest and implement process improvements\n• Excellent written and verbal communication, organizational and analytical skills required\n\n","?iisp=he-6594079","?iisp=he-6584079",null,"Sr Equity Reporting Accountant","2018-08-13T13:59:00","2018-08-15T08:00:00","2018-08-22T14:44:00",null,null,"2018-12-14T06:46:00"]
["https://www.uber.com/careers/list/39288/","What You’ll Need\n• 1-2 years of management experience in customer support\n• Willingness to work weekends, early mornings, late nights, and occasional holidays, in an operational 24/7 environment\n• Ability to manage, set team goals, develop people to their highest levels of performance, and guide through challenging situations\n• Motivational skills - your team depends on you to inspire them to reach their full potential.\n• You don’t let the stressors of the customer service industry negatively impact team attitude or morale\n• Leading by example - maintain a positive, can-do attitude and encourage others to do the same\n• Ability to deliver tough feedback - you’ll need to tune into CSRs’ performance, give reinforcing feedback where necessary, and offer critical feedback for growth opportunities as they arise\n• Written and verbal communication skills\n• Leadership - you have a positive attitude and are interested in making a positive impact in our communities. You view every support interaction as a chance to impact our riders and driver partners in a positive way","What You’ll Need\n• Bachelor's degree or college experience preferred. Bachelor’s in Business, Communications, English or Journalism a plus; 1-2 years of management experience in customer support\n• Willingness to work weekends, early mornings, late nights, and occasional holidays, in an operational 24/7 environment\n• Proven ability to manage effectively, set team goals, develop people to their highest levels of performance, and guide through challenging situations\n• Motivational skills - your team depends on you to inspire them to reach their full potential.\n• You don’t let the stressors of the customer service industry negatively impact team attitude or morale\n• Leading by example - maintain a positive, can-do attitude and encourage others to do the same\n• Comfortable delivering tough feedback - you’ll need to tune into CSRs’ performance, give reinforcing feedback where necessary, and offer critical feedback for growth opportunities as they arise\n• Exceptional written and verbal communication skills\n• Optimistic leadership - you have an enthusiastic attitude and are passionate about making magic for our communities. You view every support interaction as a chance to impact our riders and driver partners in a positive way\nBonus Points If\n• Experience in service, customer support, manufacturing or distribution in a high-volume and extremely fast-paced environment  \n• Past experience leading and managing diverse teams of individuals, such as an Assistant Store Manager\n• Experience rallying individuals behind a cause, such as coaching athletics or after-school tutoring and mentor programs\n• Previous experience in logistics industry is welcome, but not needed\n\n","?iisp=he-6594079","?iisp=he-6584079",null,"Tracking Customer Service, Team Lead","2018-08-13T13:59:00","2018-10-02T10:15:00","2018-10-08T12:55:00",null,null,"2018-12-14T06:46:00"]
["https://www.uber.com/careers/list/39478/","Minimum Qualifications:\n• BA/BS degree\n• 5+ years of staffing experience\n• Experience developing, mentoring and managing large, high-output recruitment teams.\n• Ability to digest and use data to facilitate decisions making\n• Experience collaborating with internal stakeholders in regards to documenting and implementing process changes.\n• Experience developing junior sourcers/recruiters and managing sourcing teams of 8+\n• Minimum of two years of lead or managerial duties.  \n\n","Preferred Qualifications:\n• Experience leading a sourcing/recruiting team & supporting a high tech business.\n• Has trained sourcers and clients on non traditional sourcing strings or techniques in the past that maximize the impact of passive candidates\n• Proven success in the realm of implementing sourcing best practices to a larger team\n• Solid experience working with multiple hiring managers and other demanding internal clients.\n• Moderate to advanced knowledge of Google’s application suite.\n• Strong proficiency for data analysis and inefficiency identification.  Uses findings to influence change across their direct team and the entirety of Uber Staffing.  \n• Curiosity about technology, specifically in the area of robotics and autonomous vehicles.\n• Ability to look ahead to the future instead of what is causing concerns in the present.  Aptitude to consider aspects of scale, scope, and impact.\n• Demonstrated ability to foster a winning, psychologically safe culture where all employees feel empowered to take risks, continuously learn, and challenge the status quo.  \n \nMinimum Qualifications:\n• BA/BS degree\n• 5+ years of staffing experience with, preferably, in house managerial experience\n• History of developing, mentoring and managing large, high-output recruitment teams.\n• Demonstrated ability to digest and use data to drive decisions making\n• Experience collaborating with internal stakeholders in regards to documenting and implementing process changes.\n• Success in developing junior sourcers/recruiters and managing sourcing teams of 8+\n• Minimum of two years of lead or managerial duties.  \n\n","?iisp=he-6594079","?iisp=he-6584079",null,"Manager, Sourcing","2018-08-13T13:59:00","2018-10-24T11:10:00","2018-10-30T07:19:00",null,null,"2018-12-14T06:46:00"]
["https://www.uber.com/careers/list/39524/","What You’ll Need\n• Qualified accountant with bachelor degree in Finance/Accounting or related discipline\n• IPO exposure and understanding of what it takes to go and be public\n• A minimum of 7 years or above working experience in accounting/advisory role\n• Project management and presentation experience\n• Detail minded, analytical, logical\n• Communication skills\n\n","What You’ll Need\n• Qualified accountant with bachelor degree in Finance/Accounting or related discipline\n• Successful IPO exposure and detailed understanding of what it takes to go and be public\n• CPA, Experience in a Big 4 firm highly desired\n• A minimum of 7 years or above working experience in accounting/advisory role\n• Strong project management and presentation experience\n• Detail minded, analytical, logical\n• Great communication skills\n\n","?iisp=he-6594079","?iisp=he-6584079",null,"Manager, IPO Readiness (Accounting and Finance)","2018-08-13T13:59:00","2018-09-18T11:21:00","2018-10-01T14:50:00",null,null,"2018-12-14T06:46:00"]
["https://www.uber.com/careers/list/39493/","What You’ll Need\n• Minimum 1 year of experience in customer service or quality assurance role \n• Experience working in a highly detail-oriented environment, with diligence and accountability\n• Written and verbal communication skills\n• Interest in data analysis and the ability to facilitate quality improvement, process improvement, and tool enhancements\n• Able to present findings to upper management\n• Experience with productivity tools (email, calendar), Google Suite or Microsoft Suite (excel, PowerPoint) \n• Proactive in thinking about the bigger picture and how we can improve as a team and company\n","What You’ll Need\n• Minimum 1 year of experience in customer service or quality assurance role \n• Experience working in a highly detail-oriented environment, demonstrating a high degree of diligence and accountability\n• Exceptional written and verbal communication skills\n• Passion for data analysis and the ability to drive quality improvement, process improvement, and tool enhancements\n• Confident presenting findings to upper management\n• Proficiency in productivity tools (email, calendar), Google Suite or Microsoft Suite (excel, PowerPoint) \n• Proactive in thinking about the bigger picture and how we can improve as a team and company\n \nBonus Points If:\n• Bachelor's degree or college experience\n• Specific examples of how you managed stakeholders\n• Specific examples of how you initiated a project and saw it through from beginning to end \n\n","?iisp=he-6594079","?iisp=he-6584079",null,"Service Quality Specialist","2018-08-13T13:59:00","2018-11-02T14:15:00","2018-11-15T14:48:00",null,null,"2018-12-14T06:46:00","Expired on 11/2/2018 14:15 PM PST, but came back alive on 11/28/2018 12:30 AM PST. Removed. Expired on 1/11/2019 17:20 PM PST."]
["https://www.uber.com/careers/list/39461/","What You'll Need\n \n• 3-5 or more years of motor vehicle liability and personal accident claims handling experience \n• Leadership experience as either a formal leader or as a peer leader within a claim organization\n• Computer skills required to navigate a paperless environment\n• Technical claim knowledge\n• Communication skills\n• Adaptation to changing situations, requirements or priorities\n• Must be able to work four 10-hour shifts, Friday through Monday","What You'll Need\n \n• 3-5 or more years of motor vehicle liability and personal accident claims handling experience with a strong preference for candidates with experience in complex coverage, liability and/or represented claims\n• Leadership experience as either a formal leader or as a peer leader within a claim organization\n• Bachelor's Degree preferred not required\n• Proficient computer skills required to navigate a paperless environment\n• Technical claim knowledge\n• Excellent communication skills\n• Easy adaptation to changing situations, requirements or priorities\n• Must be able to work four 10-hour shifts, Friday through Monday","?iisp=he-6594079","?iisp=he-6584079",null,"Claims Lead","2018-08-13T13:59:00","2018-08-21T09:00:00","2018-08-29T16:02:00",null,null,"2018-12-14T06:46:00"]
["https://www.uber.com/careers/list/39459/","What You’ll Need\n• Minimum of 3 years experience in Product Management, delivering innovative products and solutions as a lead or sole product contributor\n• Experience and interest in taking great products to the next level, building and iterating to 10x growth, engagement, and business impact\n• Experience working with data, market research, and growth marketing \n• Ability to work collaboratively with technical and non-technical team members up to and including the executive-level\n• Grittiness. You are able to engage and address something hands-on.\n• Interest in Uber's mission, financial products/services, and emerging markets (LatAM, Middle East, Africa)","What You’ll Need\n• Minimum of 3 years experience in Product Management, delivering innovative products and solutions as a lead or sole product contributor\n• A track record and passion for taking great products to the next level, building and iterating to 10x growth, engagement, and business impact\n• Deep experience working with data, market research, and growth marketing \n• Ability to work collaboratively with technical and non-technical team members up to and including the executive-level\n• Grittiness. You never hesitate to roll up your sleeves and tackle something hands-on.\n• True passion for Uber's mission, financial products/services, and emerging markets (LatAM, Middle East, Africa)\n\nBonus Points If\n• Deep prior experience in payments and financial services (even if in a non-product management role)\n• Entrepreneurial experience building and leading businesses, including ownership and optimization of business performance metrics\n• Computer science undergraduate degree or equivalent\n","?iisp=he-6594079","?iisp=he-6584079",null,"Product Manager - Financial Products","2018-08-13T13:59:00","2018-11-22T07:36:00","2018-12-10T08:23:00",null,null,"2018-12-14T06:46:00"]
["https://www.uber.com/careers/list/39415/","What You’ll Need \n \n• Relevant experience conducting security due diligence and leading through integrations (both IT and Security) at a tech firm \n• Experience executing complex projects, delivering to time commitments with attention to detail\n• Interpersonal skills and ability to establish trust with internal/external partners \n• Organized, self-driven, and able to handle several high-profile deals\n• Written and verbal communication skills","What You’ll Need \n \n• Relevant experience conducting security due diligence and leading through integrations (both IT and Security) at a tech firm \n• Experience executing complex projects, delivering to time commitments with strong attention to detail\n• Excellent interpersonal skills and ability to establish trust with internal/external partners \n• Organized, self-driven, and comfortable handling several high-profile deals\n• Strong written and verbal communication skills\n \nBonus Points If\n \n• Previous experience in M&A, business development, and Security Engineering, primarily with technology companies that provides the knowledge, skills, and abilities to perform the job \n• Successful track record as a Security professional, including conducting diligence and completion of M&A or other equivalent transactions which were critical to the growth of the organization\n• Holistic understanding of Security Domains\n• Seasoned leader who can execute by managing teams, both directly and indirectly, in matrixed team environment\n• Excellent communicator who is seen as a subject matter expert, and can influence at all levels of an organization\n• Experience in change management and contemporary approaches to navigate change\n\n","?iisp=he-6594079","?iisp=he-6584079",null,"Sr Security Program Manager - Mergers and Acquisitions","2018-08-13T13:59:00","2018-10-18T11:25:00","2018-10-23T06:21:00",null,null,"2018-12-14T06:46:00"]
["https://www.uber.com/careers/list/35756/","Skills:\n• MS or PhD in computer science, statistics, or a quantitative domain\n• 3+ years professional experience (post-graduation) delivering, scaling, and managing innovative machine learning products\n• Experience with coding and programming concepts\n• Know core ML concepts (i.e. feature discovery and engineering, model validation, retraining strategies) \n• You bring depth in at least 1-2 ML specialities (i.e. NLP, deep learning, recommender systems) where you can teach/develop others\n• A commitment to learning - We want someone who seeks to deliver impact, but also invests in themselves and others.\n• A communicator who can partner with others to set a vision and then collaborate to deliver results that are well explained\n\n","Skills:\n• MS or PhD in computer science, statistics, or a quantitative domain\n• 3+ years professional experience (post-graduation) delivering, scaling, and managing highly successful and innovative machine learning products\n• Demonstrable proficiency in coding (Python, Spark, and R preferred) and programming concepts\n• Know core ML concepts (i.e. feature discovery and engineering, model validation, retraining strategies) like the back of your hand \n• You bring substantial depth in at least 1-2 ML specialities (i.e. NLP, deep learning, recommender systems) where you can teach/develop others\n• A commitment to learning - We want someone who seeks to deliver impact, but also invests in themselves and others.\n• A strong communicator who can partner with others to set a vision and then collaborate to deliver impactful results that are well explained\n\n","?iisp=he-6594079","?iisp=he-6584079",null,"Data Scientist - Applied Machine Learning","2018-08-13T13:59:00","2018-09-08T16:43:00","2018-10-01T14:50:00",null,null,"2018-12-14T06:46:00","Expired 9/8/2018 16:43 PM PST, but came back alive on 9/10/2018 3:52 PM PST. Removed. Expired again on 10/02/2018 10:15 AM PST."]
["https://www.uber.com/careers/list/36730/","What You’ll Need\n \n• Bachelor's degree in electrical engineering or equivalent experience\n• Minimum of 3 yrs experience validation and debug of the server systems and motherboards to ensure proper form/fit/functionality of the board with all of it's interfaces.\n• Minimum of 5 years experience as a program / project manager or engineering manager in a hardware specific role driving ODM, and OEM projects for server or storage systems.\n• Technical skill and an ability to understand technical hardware related issues from Commodity and ODM standpoint. Engineers enjoy working closely with you.\n• Experienced in project management. Familiar with both Agile and Waterfall methodologies and able to apply them where best suited.\n• Written and verbal communication skills and emotional intelligence shown through an ability to influence and motivate people across a broad variety of job functions through your relationships.\n• Organizational skills to handle many tasks without losing sight of the highest priority items.\n• Analytical and truth seeking. Ability to understand complex concepts and make reasoned decisions objectively.\n\n","What You’ll Need\n \n• Bachelor's degree in electrical engineering or equivalent experience\n• Minimum of 3 yrs experience validation and debug of the server systems and motherboards to ensure proper form/fit/functionality of the board with all of it's interfaces.\n• Minimum of 5 years experience as a program / project manager or engineering manager in a hardware specific role driving ODM, and OEM projects for server or storage systems.\n• Solid technical aptitude and an ability to understand technical hardware related issues from Commodity and ODM standpoint. Engineers enjoy working closely with you.\n• Experienced in project management. Familiar with both Agile and Waterfall methodologies and able to apply them where best suited.\n• Excellent written and verbal communication skills and exceptional emotional intelligence demonstrated through an ability to influence and motivate people across a broad variety of job functions through your relationships.\n• Strong organizational skills to juggle many tasks without losing sight of the highest priority items.\n• Analytical and truth seeking. Ability to understand complex concepts and make reasoned decisions objectively.\n\n","?iisp=he-6594079","?iisp=he-6584079",null,"Sr Hardware Technical Program Manager - uMetal","2018-08-13T13:59:00","2018-11-19T18:40:00","2018-12-04T07:08:00",null,null,"2018-12-14T06:46:00"]
["https://www.uber.com/careers/list/39373/","What You’ll Need\n \n• BA / BS degree required \n• Minimum 3 years of senior team level support experience\n• Attention to detail \n• Communication skills and ability to interact with internal and external partners\n• Ability to work under pressure in a rapidly changing environment\n• Organizational skills and follow through on tasks\n• A problem-solver with an interest in learning by helping","What You’ll Need\n \n• BA / BS degree required \n• Minimum 3 years of senior team level support experience\n• Legal experience or experience supporting a legal function preferred\n• Strong attention to detail \n• Strong communication skills and ability to interact with internal and external partners\n• Work well under pressure in a rapidly changing environment\n• Expert organizational skills and great follow through on tasks\n• A problem-solver at heart with a genuine interest in learning by helping","?iisp=he-6594079","?iisp=he-6584079","FIXED. typo - I corrected the spelling of \"expert\" in 7th bullet","Executive Assistant, Legal","2018-08-13T13:59:00","2018-10-03T12:22:00","2018-10-08T12:55:00",null,null,"2018-12-14T06:46:00"]
["https://www.uber.com/careers/list/39382/","What You’ll Need\n \n• 1+ years of experience as a data analyst at a company with global operations\n• Collaboration to identify, build, and maintain scalable processes\n• Google Docs/Sheets/Slides, Excel and SQL skills\n• Communication skills, organized, able to multitask and be a team player\n• Balance attention to detail with swift execution\n• Interest and desire to learn complex topics\n• Interest in Uber\n\n","What You’ll Need\n \n• 1+ years of experience as a data analyst at a company with global operations\n• Previous experience in safety, insurance or risk a plus\n• Collaboration to identify, build, and maintain scalable processes\n• Excellent Google Docs/Sheets/Slides, Excel and SQL skills\n• Experience with VBA, R or Python a plus\n• Great communication skills, organized, able to multitask and be a team player\n• Balance attention to detail with swift execution\n• Hunger and drive to learn complex topics\n• Enthusiasm about Uber!\n\n","?iisp=he-6594079","?iisp=he-6584079","FIXED. typo - I changed \"driver\" to \"drive\" in 8th bullet","Safety and Insurance Data Analyst","2018-08-13T13:59:00","2018-09-03T18:58:00","2018-09-05T15:52:00",null,null,"2018-12-14T06:46:00"]
["https://www.uber.com/careers/list/39369/","What You’ll Need\n• 6+ years experience of investment banking / consulting / business intelligence / strategy or related experience\n• Communication and organization skills.\n• Clear communicator\n• Leadership capabilities\n• A “driver” personality - biased toward action, collaborator and disambiguator/simplifier - striving for clarity and delivery.\n• Excel / data management skills.\n• Self-motivated, works independently and possesses organization and time management skills\n• Bachelor's degree required\n\n","What You’ll Need\n• 6+ years experience of investment banking / consulting / business intelligence / strategy or related experience; some high-growth operations or startup experience is strongly preferred.\n• Exceptional communication and organization skills.\n• Clear communicator\n• Strong, demonstrated leadership capabilities\n• A “driver” personality - biased toward action, great collaborator and master disambiguator/simplifier - constantly pushing toward clarity and delivery.\n• Exceptional Excel / data management skills.\n• Self-motivated, works independently and possesses strong organization and time management skills\n• Bachelor's degree required\n• SQL Proficiency strongly preferred\n\n","?iisp=he-6594079","?iisp=he-6584079",null,"Senior Central Operations Manager (DC)","2018-08-13T13:59:00","2018-11-07T17:30:00","2018-11-15T14:48:00",null,null,"2018-12-14T06:46:00"]
["https://www.uber.com/careers/list/39331/","What You’ll Need\n• Minimum 4 years industry experience in data analytics and quantitative modeling, with work experience as a technical contributor.\n• Prior management / team-lead experience. You'll be leading several direct reports initially and will have the opportunity to create, scale and nourish a team of experienced professionals.\n• Educational background in a quantitative field, such as Operations Research, Economics/Econometrics, or Machine Learning; graduate degree required.\n• Self-starter and collaborative leader. You mobilize people, build things, resolve problems, get into the details, go above and beyond, and draw out the best in people. You are a doer and motivator of others.\n• Execution and organization. This team will be working with engineers and product leads at the forefront of the development cycle. To excel in this role, you should be able to execute with little oversight and be able to adapt to problems quickly.\n• Strategic mindset - you're able to think a few steps ahead of where the team is at now.\n• Experience with common analysis tools - SQL, Python, R, etc. Familiarity with code and programming concepts.\n \n\n","What You’ll Need\n• Minimum 4 years industry experience in data analytics and quantitative modeling, with significant work experience as a technical contributor.\n• Prior management / team-lead experience. You'll be leading several direct reports initially and will have the opportunity to create, scale and nourish a team of experienced professionals.\n• Excellent educational background in a quantitative field, such as Operations Research, Economics/Econometrics, or Machine Learning; graduate degree required and PhD degree preferred.\n• Self-starter and collaborative leader. Everywhere you go, you can't help but mobilize people, build things, resolve problems, get into the details, go above and beyond, and draw out the best in people. You are a doer and motivator of others.\n• Excellent execution and organization. This team will be working with engineers and product leads at the forefront of the development cycle. To excel in this role, you should be comfortable executing with little oversight and be able to adapt to problems quickly.\n• Strategic mindset - you're comfortable thinking a few steps ahead of where the team is at now.\n• Experience with common analysis tools - SQL, Python, R, etc. Demonstrable familiarity with code and programming concepts.\n \n\n","?iisp=he-6594079","?iisp=he-6584079",null,"Data Science Manager, Uber Eats (SF)","2018-08-13T13:59:00","2018-10-15T08:45:00","2018-10-23T06:21:00",null,null,"2018-12-14T06:46:00"]
["https://www.uber.com/careers/list/39305/","What You’ll Need:\n\n• Conceptual and design skills\n• Ability to deliver design at high volumes under tight timelines\n• Experience working on advertising for paid media channels (Display, Facebook, Instagram, etc.)\n• Ability to work on multiple projects, manage time in an efficient way, and implement creative feedback from leads and our Executive Creative Director\n• Take direction from non-creative stakeholders and translate their business needs into a design aesthetic that motivates our audiences across a variety of channels\n• Articulate why specific design decisions were made to stakeholders\n• Minimum of 5 years of design experience \n• Bachelor’s degree or equivalent experience \n• An understanding of designing for digital platforms and experience with Adobe Creative Cloud \n• An online portfolio will be required to apply for this role\n\n","What You’ll Need:\n\n• Excellent conceptual and design skills\n• Demonstrated ability to deliver exceptional design at high volumes under tight timelines\n• Experience working on advertising for paid media channels (Display, Facebook, Instagram, etc.)\n• Ability to work on multiple projects, manage time in an efficient way, and effectively implement creative feedback from leads and our Executive Creative Director\n• Take direction from non-creative stakeholders and translate their business needs into a design aesthetic that effectively motivates our audiences across a variety of channels\n• Articulate why specific design decisions were made to stakeholders\n• Minimum of 5 years of design experience (agency experience preferred)\n• Bachelor’s degree or equivalent experience (Graphic Design or a similar major is preferred)\n• A thorough understanding of designing for digital platforms and expertise with Adobe Creative Cloud \n• An online portfolio will be required to apply for this role\n\n","?iisp=he-6594079","?iisp=he-6584079",null,"Designer","2018-08-13T13:59:00","2018-08-30T21:38:00","2018-09-05T15:52:00",null,null,"2018-12-14T06:46:00"]
["https://www.uber.com/careers/list/32523/","What You’ll Need\n \n• BS or MS in Computer Science or a related technical discipline, or equivalent experience\n• 5+ years of experience of systems software engineering. Understanding of computer architecture and CS fundamentals.\n• Experienced user of Deep Learning frameworks such as Tensorflow, PyTorch, Keras, Caffe, etc.\n• Experience with one of the following programming languages: Java, Go, C/C++. Scripting skills and ability to pick up new ones.\n• Systematic problem solving approach and knowledge of algorithms, data structures and complexity analysis.\n• Experience with a relational database (MySQL, PostgreSQL)\n• Working knowledge of networking (TCP/IP, HTTP, Thrift).\n• Resolve, drive and a feeling of ownership coupled with collaboration and leadership.","What You’ll Need\n \n• BS or MS in Computer Science or a related technical discipline, or equivalent experience\n• 5+ years of experience of systems software engineering. Sound understanding of computer architecture and CS fundamentals.\n• Experienced user of Deep Learning frameworks such as Tensorflow, PyTorch, Keras, Caffe, etc.\n• Highly proficient in one of the following programming languages: Java, Go, C/C++. Good scripting skills and ability to pick up new ones.\n• Systematic problem solving approach and knowledge of algorithms, data structures and complexity analysis.\n• Experience with a relational database (MySQL, PostgreSQL)\n• Good working knowledge of networking (TCP/IP, HTTP, Thrift).\n• Grit, drive and a strong feeling of ownership coupled with collaboration and leadership.\n \nBonus Points If\n \n• Experience in building and managing distributed systems. \n• Power-user Linux knowledge and willingness to explore Linux internals.\n• Power-user of big data analytics technologies such as Apache Hadoop, Hive, Spark, Presto. \n\n","?iisp=he-6594079","?iisp=he-6584079",null,"Sr Software Engineer - Deep Learning Platform (Seattle)","2018-08-13T13:59:00","2019-02-02T07:40:00",null,null,null,"2018-12-14T06:46:00"]
["https://www.uber.com/careers/list/38791/","What You’ll Need\n• Familiarity with system architecture diagrams, concept of operations documents, ICDs, APIs, requirements management processes, and system verification plans\n• Understand how to assess risks, weigh potential trade-offs, and generate an analysis of alternative solutions when required\n• Differentiate between meaningful and unimportant issues and help others do the same\n• Craft a systems engineering framework to be complementary to, and augmented by, rapid system prototyping iterations happening in parallel\n• Communicate with external partners and with deference to intellectual property and business relationship considerations\n• Have an ability to move fast and innovate where industry standard methodologies come up short\n ","What You’ll Need\n• Be fluent in system architecture diagrams, concept of operations documents, ICDs, APIs, requirements management processes, and system verification plans\n• Understand how to assess risks, weigh potential trade-offs, and swiftly generate an insightful analysis of alternative solutions when required\n• Differentiate between meaningful and unimportant issues and help others do the same\n• Continually craft a systems engineering framework to be complementary to, and augmented by, rapid system prototyping iterations happening in parallel\n• Communicate with external partners thoughtfully and with deference to intellectual property and business relationship considerations\n• Have a confirmed ability to move fast and the confidence to innovate where industry standard methodologies come up short\n \nBonus Points If\n• Experience working with complex systems building mission critical data and API representations for a department\n• Success at a startup, within an Agile development process, as a member of a dynamic skunkworks division, or in another non-traditional engineering environment\n• Effective adaptation of standard systems engineering processes to unusual new technology applications\n• Familiarity with sophisticated, safety-critical software within automotive or another industry (e.g., aerospace, defense, medical, transportation)\n• Exposure to automotive functional safety standards such as ISO 26262\n• Regular collaboration, in person and via video conference, with international business partners\n• You flourish with learning new technologies, pivot easily but thoughtfully to new ideas, and don’t believe in one-size-fits-all solutions.\n• Versatile teammate - You are willing to adapt to whatever role is most needed in a given moment, and you rely on others' candid feedback for continuous improvement\n• Passionate - You feel ownership over everything you work on, and you hold yourself to higher standards and expectations than your current leader does\n• Business savvy -You understand requirements beyond the written word and how your technical contributions will influence the viability of future products\n\n","?iisp=he-6594079","?iisp=he-6584079",null,"Senior System Engineer, Self Driving","2018-08-13T13:59:00",{"$nulls":4},"2018-12-14T06:46:00"]
["https://www.uber.com/careers/list/39294/","What You’ll Need\n \n• A minimum of 8 years in insurance operations or other relevant experience requiring project management, time management and attention to detail preferred\n• Bachelor's Degree\n• Verbal and written communication abilities\n","What You’ll Need\n \n• A minimum of 8 years in insurance operations or other relevant experience requiring project management, time management and attention to detail preferred\n• Bachelor's Degree\n• Exceptional verbal and written communication abilities\n \nBonus Points if\n \n• Experience in auto / transportation insurance industries\n• Advanced technical abilities (including Excel and MS Office Suite, Google Apps, Box, Salesforce and Origami) preferred\n• CPCU a strong plus\n\n","?iisp=he-6594079","?iisp=he-6584079",null,"Manager, Insurance","2018-08-13T13:59:00","2018-09-05T19:29:00","2018-10-01T14:50:00",null,null,"2018-12-14T06:46:00"]
["https://www.uber.com/careers/list/39292/","What You’ll Need\n \n• A minimum of 5 years of experience in protective services and/or state/federal law enforcement or Military \n• Experience working with C-Level personnel \n• Experience managing contract security services\n• Ability to work nights and weekends as required\n• CPR/AED certified \n• Road warrior\n\n","What You’ll Need\n \n• A minimum of 5 years of experience in protective services and/or state/federal law enforcement or Military \n• BA/BS degree preferred \n• Experience working with C-Level personnel \n• Experience managing contract security services\n• Ability to work nights and weekends as required\n• CPR/AED certified \n• Road warrior\n\n","?iisp=he-6594079","?iisp=he-6584079",null,"Protective Services Lead","2018-08-13T13:59:00","2018-10-03T12:22:00","2018-10-08T12:55:00",null,null,"2018-12-14T06:46:00"]
["https://www.uber.com/careers/list/39282/","What You’ll Need\n• Bachelor's degree in Economics, Finance, Statistics, Engineering or similar field.\n• At least 2 years of Strategy Consulting, Accounting, Banking, or Start-up background with previous experience using data to facilitate business decisions\n• Excel skills required\n• Experience leading initiatives and projects at your organization.\n\n","What You’ll Need\n• Bachelor's degree in Economics, Finance, Statistics, Engineering or similar field.\n• At least 2 years of Strategy Consulting, Accounting, Banking, or Start-up background with previous experience using data to drive business decisions\n• Excellent Excel skills required\n• SQL experience strongly preferred\n• R & Python preferred but not required\n• Demonstrated leadership of leading initiatives and projects at your organization.\n\n","?iisp=he-6594079","?iisp=he-6584079",null,"Carrier Operations Analyst","2018-08-13T13:59:00","2018-08-14T06:00:00","2018-08-22T14:44:00",null,null,"2018-12-14T06:46:00"]
["https://www.uber.com/careers/list/39072/","What You’ll Need\n \n• Bachelor's degree \n• Self-starter with the ability to adapt, improvise, and problem solve in a rapidly changing environment\n• Desire to learn and contribute value in a dynamic environment\n• Able to make quick, informed decisions with 80% information\n• Negotiation skills\n• Written and oral communication and interpersonal skills\n• Ability to work independently on multiple tasks and projects, with various teams including engineering and supply chain\n• Open to travel (25-30% depending on commodity)\n\n","What You’ll Need\n \n• Bachelor's degree (Engineering preferred)\n• Master's degree preferred (Engineering, Supply Chain, or Business preferred)\n• Self-starter with the ability to adapt, improvise, and problem solve with poise in a rapidly changing environment\n• Eagerness to learn and demonstrate value in a dynamic environment\n• Comfortable with making quick, informed decisions with 80% information\n• Excellent negotiation skills\n• Effective written and oral communication and interpersonal skills\n• Ability to work independently on multiple tasks and projects, with various teams including engineering and supply chain\n• Open to travel (25-30% depending on commodity)\n\n","?iisp=he-6594079","?iisp=he-6584079",null,"Global Supply Manager - Global Product Operations","2018-08-13T13:59:00",{"$nulls":4},"2018-12-14T06:46:00"]
["https://www.uber.com/careers/list/39138/","What You'll Need\n \n• A minimum of 7-10 years of legal experience at a mid to large size law firm, government regulatory entity or in-house corporate role \n• Good academic performance in law school\n• Experience crafting antitrust advice and strategic guidance to achieve business goals\n• Business judgment, communication and interpersonal skills\n• Ability to multitask and carry out projects with limited oversight\n• Writing, research, negotiating, and interpersonal skills\n• Oral advocacy and presentation skills a must\n• Ability to work in high impact/high profile situations.\n• Interested in Uber\n \n","What You'll Need\n \n• A minimum of 7-10 years of legal experience at a mid to large size law firm, government regulatory entity or in-house corporate role \n• Outstanding academic performance in law school\n• Experience crafting antitrust advice and strategic guidance to achieve ambitious business goals\n• Excellent business judgment, communication and interpersonal skills\n• Ability to multitask and carry out important projects with limited oversight\n• Outstanding writing, research, negotiating, and interpersonal skills\n• Excellent oral advocacy and presentation skills a must\n• Ability to thrive in high impact/high profile situations.\n• Enthusiastic about Uber!\n \nBonus Points If\n \n• Prior experience in dealing with technology issues is preferred.\n\n","?iisp=he-6594079","?iisp=he-6584079",null,"Sr Counsel US Competition","2018-08-13T13:59:00","2019-04-12T19:40:00",null,null,null,"2018-12-14T06:46:00"]
["https://www.uber.com/careers/list/39182/","What You’ll Need\n• JD required\n• A minimum of 2-4 years of experience in a law firm or in-house and/or Big 4 with an understanding of international tax concepts, including M&A and corporate transaction experience\n• Written and verbal communications skills; ability to communicate with senior management team\n• Tax research and tax analytical skills\n\n","What You’ll Need\n• JD required\n• A minimum of 2-4 years of experience in a law firm or in-house and/or Big 4 with a solid understanding of international tax concepts, including M&A and corporate transaction experience; tax controversy experience is a plus\n• Strong written and verbal communications skills; ability to communicate effectively with senior management team\n• Strong tax research and tax analytical skills\n\n","?iisp=he-6594079","?iisp=he-6584079","FIXED. typo - I deleted the words after \"plus\" in the 2nd bullet: \"M&A and corporate transaction experience and controversy experience\" (since it's repeated)","Associate Tax Counsel","2018-08-13T13:59:00","2018-11-30T15:50:00","2018-12-10T08:23:00",null,null,"2018-12-14T06:46:00"]
["https://www.uber.com/careers/list/39142/","What You’ll Need\n• A minimum of 4 years of investment banking / consulting / business intelligence / strategy / sales ops or related experience.\n• Communication and organization skills.\n• The ability to work with remote teams and across time zones to develop strategies and foster a cohesive and creative work environment.\n• The ability to balance attention to detail with swift execution.\n• Self-starter attitude.\n• Standards across the board - from your own contributions to the people you work with to the products you work on.\n• A \"driver\" personality - biased toward action, collaborator and disambiguator/simplifier - you strive for clarity and delivery.\n• Excel / data management skills.\n• Ownership. Commitment to contributing to Uber's growth in your city and getting the job done.\n• Communicator. You are a communicator with the ability to synthesize a lot of information quickly, highlight the key takeaways, and disseminate actionable insights.\n\n","What You’ll Need\n• A minimum of 4 years of investment banking / consulting / business intelligence / strategy / sales ops or related experience; some high-growth operations experience is highly preferred.\n• Exceptional communication and organization skills.\n• The ability to work with remote teams and across time zones to develop strategies and foster a cohesive and creative work environment.\n• The ability to balance attention to detail with swift execution - we need to do things quickly, and we need to do them well. Balancing those can be challenging, and this should be a strength.\n• Self-starter attitude - the ability to self-serve, investigate and get the data we require will make you much more effective in this role.\n• High standards across the board - from your own contributions to the people you work with to the products you work on.\n• A \"driver\" personality - biased toward action, great collaborator and excellent disambiguator/simplifier - you're constantly pushing toward clarity and delivery.\n• Exceptional Excel / data management skills; knowledge of SQL would be an asset.\n• Ownership. Commitment to contributing to Uber's growth in your city and getting the job done.\n• Clear communicator. You are a clear and concise communicator with the ability to synthesize a lot of information quickly, highlight the key takeaways, and disseminate actionable insights.\n\n","?iisp=he-6594079","?iisp=he-6584079",null,"Senior Sales Operations Associate, Strategy & Planning","2018-08-13T13:59:00","2019-01-02T13:20:00",null,null,null,"2018-12-14T06:46:00"]
["https://www.uber.com/careers/list/39165/","What You’ll Need\n• Minimum of 10+ years of senior recruiting, sourcing, HR experience\n• Minimum of 5+ years of Executive Search experience\n• Analytical mindset and detail-oriented.\n• Team player with interpersonal skills, self-motivated, energetic, \"can-do\" attitude in a fast-moving environment. Ability to facilitate and influence change, and change priorities as needed.\n• Business acumen & communication skills, written and verbal; the ability to present data and its implications in a clear, concise manner.\n• Will be a self-starter but team-oriented.\n\n","What You’ll Need\n• Minimum of 10+ years of senior recruiting, sourcing, HR experience\n• Minimum of 5+ years of Executive Search experience, preferably with a combination of top tier executive search and in-house leadership sourcing experience.\n• Prior experience in high-growth technology firm is a viewed as a strong plus.\n• Strong analytical mindset and extremely detail-oriented.\n• Team player with excellent interpersonal skills, self-motivated, energetic, \"can-do\" attitude in a fast-moving environment. Comfortable with driving and influencing change, and changing priorities as needed.\n• High business acumen & strong communication skills, written and verbal; the ability to present data and its implications in a clear, concise manner.\n• Will be a self-starter but team-oriented.\n\n","?iisp=he-6594079","?iisp=he-6584079",null,"Senior Executive Sourcer","2018-08-13T13:59:00","2018-09-05T19:29:00","2018-10-01T14:50:00",null,null,"2018-12-14T06:46:00"]
["https://www.uber.com/careers/list/39052/","What You'll Need:\n \n• 5+ years of experience building and managing distributed systems. Understanding of fundamentals and principles of distributed systems.\n• Resolve, drive, and a feeling of ownership coupled with collaboration and leadership.\n• Experience in one of the following: Python, Java, Go, C/C++, C#.\n• An understanding of operating and scaling large-scale distributed systems in practice including application security, monitoring, and managing incidents.\n• Understanding of networking basics: TCP/IP, UDP, DNS, load balancing and routing.\n• Customer focused.\n• Communication skills and the ability to work well within a team as well as cross teams.\n• BS/MS/Ph.D. in Computer Science, a related discipline, or equivalent experience.","What You'll Need:\n \n• 5+ years of experience building and managing distributed systems. Sound understanding of fundamentals and principles of distributed systems.\n• Grit, drive, and a strong feeling of ownership coupled with collaboration and leadership.\n• Expertise in at least one of the following (bonus for more than one): Python, Java, Go, C/C++, C#.\n• A good understanding of operating and scaling large-scale distributed systems in practice including application security, monitoring, and managing incidents.\n• Understanding of networking basics: TCP/IP, UDP, DNS, load balancing and routing.\n• Customer obsession.\n• Good communication skills and the ability to work well within a team as well as cross teams.\n• BS/MS/Ph.D. in Computer Science, a related discipline, or equivalent experience.\n\nBonus Points If:\n• Some knowledge of full stack infrastructure would be ideal.\n• Previous experience working with forward and reverse proxies, such as nginx.\n• You love making complicated things very simple.\n• You can work across teams.\n\n","?iisp=he-6594079","?iisp=he-6584079",null,"Sr Software Engineer- Backend (Seattle)","2018-08-13T13:59:00","2019-01-18T09:05:00",null,null,null,"2018-12-14T06:46:00"]
["https://www.uber.com/careers/list/38936/","What You'll Need\n• Minimum 5 years experience in operations, business consulting, finance or similar analytical role\n• Leadership experience\n• Communication, the ability to engage internal and external customers\n• Understanding of the user experience\n• Ability to leverage data to inform and support critical decisions\n• Strategic alignment, able to bring key stakeholders across functions together\n• A desire to learn, motivated self-starter, with an interest in learning and growing\n• Ability to foster collaboration and facilitate teamwork\n• Prioritization","What You'll Need\n• Minimum 5 years experience in operations, business consulting, finance or similar analytical role\n• Leadership experience\n• Excellent communication, the ability to engage internal and external customers\n• Deep understanding of the user experience\n• Ability to leverage data to inform and support critical decisions\n• Strategic alignment, able to bring key stakeholders across functions together\n• A desire to learn, highly motivated self-starter, with an eagerness to learn and grow\n• Ability to foster collaboration and facilitate teamwork\n• Effective prioritization\n \nBonus Points for\n• SQL proficiency\n• Deep analytical expertise\n• People management experience\n• Prior experience working in or with marketing technologies\n• Prior experience working on global projects, or in an international setting\n\n","?iisp=he-6594079","?iisp=he-6584079",null,"Senior Team Manager, Product Operations","2018-08-13T13:59:00","2018-11-13T20:52:00",null,null,null,"2018-12-14T06:46:00","Expired on 11/13/2018 13:59 PST, but came back alive on 11/19/2018 18:40:00 PM PST.  Expired again on 12/11/2018 8:50:00 AM PST. "]
["https://www.uber.com/careers/list/39096/","What You’ll Need\n• Minimum 4 years of experience in investment banking, management consulting, private equity or other analytical roles\n• BA/BS/Masters in Economics, Business, Engineering, or other quantitative focus\n• Analytical mindset and experience with data analysis tools like SQL and Excel\n• Communication and interpersonal skills, with the ability to identify and provide comprehensive solutions for varying partner needs\n• Balance attention to detail with swift execution. \n• Speed, resourcefulness, and go getter attitude\n• Interest in the on-demand delivery space and food delivery\n\n","What You’ll Need\n• Minimum 4 years of experience in investment banking, management consulting, private equity or other analytical roles\n• BA/BS/Masters in Economics, Business, Engineering, or other quantitative focus\n• Analytical mindset and proficient with data analysis tools like SQL and Excel\n• Excellent communication and interpersonal skills, with the ability to identify and provide comprehensive solutions for varying partner needs\n• Balance attention to detail with swift execution. We need to do things quickly and well\n• Explorer mentality with the ability to self-serve, investigate, and obtain the data to make you more effective in this role\n• Speed, resourcefulness, and go getter attitude\n• Passion for the on-demand delivery space and food delivery\n• High-growth startup experience a plus\n\n\n","?iisp=he-6594079","?iisp=he-6584079",null,"Sr. Associate, Strategic Partner Insights - Uber Eats","2018-08-13T13:59:00","2018-09-04T16:43:00","2018-10-01T14:50:00",null,null,"2018-12-14T06:46:00"]
["https://www.uber.com/careers/list/39097/","What You’ll Need\n• Minimum 4 years of experience in investment banking, management consulting, private equity or other analytical roles\n• BA/BS/Masters in Economics, Business, Engineering, or other quantitative focus\n• Experience building and managing a team\n• Analytical mindset and experience with data analysis tools like SQL and Excel\n• Communication and interpersonal skills, with the ability to identify and provide comprehensive solutions for varying partner needs\n• Balance attention to detail with swift execution.\n• Speed, resourcefulness, and go getter attitude\n• Interest in the on-demand delivery space and food delivery\n\n","What You’ll Need\n• Minimum 4 years of experience in investment banking, management consulting, private equity or other analytical roles\n• BA/BS/Masters in Economics, Business, Engineering, or other quantitative focus\n• Experience building and managing a team\n• Analytical mindset and proficient with data analysis tools like SQL and Excel\n• Excellent communication and interpersonal skills, with the ability to identify and provide comprehensive solutions for varying partner needs\n• Balance attention to detail with swift execution. We need to do things quickly and well\n• Explorer mentality with the ability to self-serve, investigate, and obtain the data to make you more effective in this role\n• Speed, resourcefulness, and go getter attitude\n• Passion for the on-demand delivery space and food delivery\n• High-growth startup experience a plus\n\n","?iisp=he-6594079","?iisp=he-6584079",null,"Associate, Strategy and Business Operations - Uber Eats","2018-08-13T13:59:00","2018-09-19T22:00:00","2018-10-01T14:50:00",null,null,"2018-12-14T06:46:00"]
["https://www.uber.com/careers/list/39095/","What You’ll Need\n• Minimum 6 years of experience in investment banking, management consulting, private equity or other analytical roles\n• BA/BS/Masters in Economics, Business, Engineering, or other quantitative focus\n• Experience building and managing a team\n• Analytical mindset and experience with data analysis tools like SQL and Excel\n• Communication and interpersonal skills, with the ability to identify and provide comprehensive solutions for varying partner needs\n• Balance attention to detail with swift execution. \n• Speed, resourcefulness, and go getter attitude\n• Interest in the on-demand delivery space and food delivery\n\n","What You’ll Need\n• Minimum 6 years of experience in investment banking, management consulting, private equity or other analytical roles\n• BA/BS/Masters in Economics, Business, Engineering, or other quantitative focus\n• Experience building and managing a team\n• Analytical mindset and proficient with data analysis tools like SQL and Excel\n• Excellent communication and interpersonal skills, with the ability to identify and provide comprehensive solutions for varying partner needs\n• Balance attention to detail with swift execution. We need to do things quickly and well\n• Explorer mentality with the ability to self-serve, investigate, and obtain the data to make you more effective in this role\n• Speed, resourcefulness, and go getter attitude\n• Passion for the on-demand delivery space and food delivery\n• High-growth startup experience a plus\n\n","?iisp=he-6594079","?iisp=he-6584079",null,"Strategic Partner Insights Manager, Uber Eats","2018-08-13T13:59:00","2018-12-20T17:15:00","2018-09-05T15:52:00","2018-08-29T17:00:00",null,"2018-12-14T06:46:00"]
["https://www.uber.com/careers/list/38662/","What You’ll Need\n \n• 5+ years of UX writing or related experience writing user interface copy in a global software development environment\n• A portfolio of samples that show your skill and effectiveness as a UX Writer in a digital product development team.\n• An ability to write clearly and precisely.\n• An interest in designing products for a global audience: not just through translation, but reimagining products so that they’re effective in cultures around the world.\n• A desire to use research and metrics to discover the most effective language for every context and to measure the impact of your work at furthering customer and product goals.\n• A willingness to pitch ideas to cross-functional stakeholders, and an understanding of when it makes sense to push back and when it doesn't.  \n• The ability to strategically prioritize multiple projects for yourself and more junior writers and designers. \n• Able to teach UX Writing to other writers, as well our design and product partners.\n• An interest in problem solving in a landscape that changes quickly. You enjoy identifying gaps in processes, inefficiencies that could be smoothed over, or things that could work better.\n\n\n","What You’ll Need\n \n• 5+ years of UX writing or related experience writing user interface copy in a global software development environment\n• A portfolio of samples that demonstrate your skill and effectiveness as a UX Writer in a digital product development team.\n• A mastery of clear, precise writing that sometimes even sings.\n• A passion for designing products for a global audience: not just through translation, but reimagining products so that they’re effective in cultures around the world.\n• An eagerness to use research and metrics to discover the most effective language for every context and to measure the impact of your work at furthering customer and product goals.\n• A willingness to pitch ideas to cross-functional stakeholders, and an understanding of when it makes sense to push back and when it doesn't.  \n• The ability to strategically prioritize multiple projects for yourself and more junior writers and designers. You'll have plenty to do—know where our efforts will have the most impact.\n• A gift for teaching the craft of UX Writing to other writers, as well our design and product partners.\n• An appetite for problem solving in a landscape that changes quickly. If you like to identify gaps in processes, inefficiencies that could be smoothed over, or things that simply could work better, you'll fit right in.\n \nBonus Points If\n \n• A degree in English, Psychology, Design, Linguistics, HCI or any area that emphasizes the analysis and use of language or narrative and systematic thinking.\n• Background in user experience or product design. Copywriting or content strategy experience in other environments is also useful, as long as you can articulate how your approach would or wouldn’t adapt to the world of apps.\n• Experience writing for spoken interfaces or other writing that’s meant to be spoken in apps, on the air, or on the stage.\n\n\n","?iisp=he-6594079","?iisp=he-6584079",null,"Sr UX Writer - Vehicle Solutions","2018-08-13T13:59:00","2018-10-19T08:50:00","2018-10-30T07:19:00",null,null,"2018-12-14T06:46:00"]
["https://www.uber.com/careers/list/39050/","What You’ll Need:\n• 3+ years of experience building and managing distributed systems. Understanding of fundamentals and principles of distributed systems.\n• Ability to learn on the go. We're looking for software engineers who enjoy learning new technologies.\n• Skills in a frontend stack (Javascript/HTML/CSS). \n• Knowledge of one object oriented programming language (e.g. Python, Go, Java, C/C++, C#).\n• Design skills and an interest in optimizing for intuitive and responsive layouts and maximizing for utility and efficiency.\n• Work closely with the stakeholders and team members to understand, articulate, and break down customer needs into technical requirements\n• Design scalable architecture and deliver code, while keeping operational issues in mind\n• Interest and energy. Because you enjoy what you do, you bring engagement to all your endeavors. You try to perform at your best and see new challenges as an opportunity to contribute, make an impact, and grow.\n\n\n","What You’ll Need:\n• 3+ years of experience building and managing distributed systems. Sound understanding of fundamentals and principles of distributed systems.\n• Ability to learn quickly on the go. We're looking for software engineers who thrive while learning new technologies.\n• Strong skills in a frontend stack (Javascript/HTML/CSS). Frameworks like React/Flux/Redux are a plus.\n• Knowledge of one or more object oriented programming language (e.g. Python, Go, Java, C/C++, C#).\n• Strong design skills and a passion for optimizing for intuitive and responsive layouts and maximizing for utility and efficiency.\n• Work closely with the stakeholders and team members to understand, articulate, and break down customer needs into technical requirements\n• Design scalable architecture and deliver code, while keeping operational issues in mind\n• Passion and energy. Because you love what you do, you bring infectious enthusiasm to all your endeavors. You always perform at your absolute best and see new challenges as an opportunity to contribute, make an impact, and grow.\n\nDesired:\n• BS/MS/PhD in Computer Science or a related field\n\n","?iisp=he-6594079","?iisp=he-6584079",null,"Fullstack Software Engineer - Software Networking Team (Seattle)","2018-08-13T13:59:00","2019-01-18T09:05:00",null,null,null,"2018-12-14T06:46:00"]
["https://www.uber.com/careers/list/39094/","What You’ll Need\n• Bachelor’s degree or higher in Computer Science or a related field.\n• 10+ years of experience designing, implementing and operating high performance and large scale distributed systems in production. \n• Experience in one of the following programming languages: Go, Java, C/C++, Python, C#\n• Experience with developer tools and frameworks in a large technology organization.\n• You have experience with containerization and job scheduling technologies (Docker, Mesos).\n• Prior experience working in a Linux environment and understanding of networking basics.\n• Communication skills and the ability to work well and influence technical direction across teams and offices.\n• Your code is an example for your company and you have the ability to build and design technical solutions from the ground up\n\n","What You’ll Need\n• Bachelor’s degree or higher in Computer Science or a related field.\n• 10+ years of experience designing, implementing and operating high performance and large scale distributed systems in production. \n• Expert level in one of the following programming languages: Go, Java, C/C++, Python, C#\n• Experience with developer tools and frameworks in a large technology organization.\n• You have experience with containerization and job scheduling technologies (Docker, Mesos).\n• Prior experience working in a Linux environment and understanding of networking basics.\n• Excellent communication skills and the ability to work well and influence technical direction across teams and offices.\n• Your code should be used as the example for your company and you have the ability to build and design technical solutions from the ground up\n \nBonus Points If\n• You have full stack experience from front-end to back-end.\n• You are not afraid to challenge existing preconceptions with a goal of making developer experience a pure magic.\n• You can work across teams in our rapidly growing company and drive standardization of engineering practices.\n• You care about writing clear documentation so that other engineers can jump in and get stuff done\n\n","?iisp=he-6594079","?iisp=he-6584079","FIXED. typo - I capitalized \"your\" in 8th bullet ","Staff Software Engineer","2018-08-13T13:59:00","2019-02-13T19:10:00","2018-11-07T11:33:00","2018-10-26T15:35:00",null,"2018-12-14T06:46:00"]
["https://www.uber.com/careers/list/39063/","What You’ll Need\n \n• A computer science undergraduate degree or other engineering degree equivalent.\n• Minimum of 7 years experience delivering innovative developer platforms or analytics platforms \n• Understanding of Mobile development life-cycle (ideation to rollout), technical challenges in Mobile Networking and Performance.\n• Bring business and product mindset and opportunity seeking for this area\n• Our processes and programs are data driven and you are able to tell a story using data\n","What You’ll Need\n \n• A computer science undergraduate degree or other engineering degree equivalent.\n• Minimum of 7 years experience delivering highly successful and innovative developer platforms or analytics platforms with your fingerprints all over them - you’re extremely proud of what you’ve accomplished\n• Strong understanding of Mobile development life-cycle (ideation to rollout), technical challenges in Mobile Networking and Performance.\n• Bring business and product mindset and opportunity seeking for this area\n• Our processes and programs are data driven and you should be adept in storytelling using data\n \nBonus Points For\n \n• Strong understanding of Mobile and backend development life-cycle (ideation to rollout)\n• Understand the user and technical challenges in Networking and Performance space\n\n","?iisp=he-6594079","?iisp=he-6584079",null,"Product Manager - Developer Platform - App Experience","2018-08-13T13:59:00","2018-12-08T11:30:00",null,null,null,"2018-12-14T06:46:00"]
["https://www.uber.com/careers/list/39035/","What You'll Need\n \n• Experience using computers (typing, quickly navigating between various tools)\n• Written and verbal communication skills including ability to listen; to diplomatically express opinions and voice concerns with other team members\n• Time management skills - you’ll be handling multiple issues at once to resolve a large number of inquiries\n• Ability to investigate and troubleshoot problems \n• The ability to work well in a team environment, contributing to a synergistic work environment where people learn from one another and continuously improve processes on behalf of users\n• Flexibility - weekend and/or evening shifts may be required\n• Calm under pressure - you have organizational skills, integrity, and  follow-through on tasks\n• Agility - you can move quickly with care and embrace change while absorbing new information\n• To be an Uber supporter - you care about the product and getting others interested to partner with Uber","What You'll Need\n \n• High proficiency using computers (typing, quickly navigating between various tools)\n• Excellent written and verbal communication skills including ability to listen effectively; to confidently and diplomatically express opinions and voice concerns with other team members\n• Time management skills - you’ll be handling multiple issues at once to efficiently resolve a large number of inquiries\n• Ability to investigate and troubleshoot problems efficiently\n• The ability to work well in a team environment, contributing to a synergistic work environment where people learn from one another and continuously improve processes on behalf of users\n• Flexibility - weekend and/or evening shifts may be required\n• Calm under pressure - you have excellent organizational skills, integrity, and great follow-through on tasks\n• Agility - you can move quickly with care and embrace change while absorbing new information with ease\n• To be an Uber evangelist - you care deeply about the product and getting others excited to partner with Uber\n \nBonus Points if\n \n• Experience in the logistics or Freight industry\n• Bachelor’s Degree or some college experience\n• Bilingual (Spanish speaking)\n\n","?iisp=he-6594079","?iisp=he-6584079",null,"Tracking Customer Service Representative, Uber Freight (Spanish speaking)","2018-08-13T13:59:00","2018-09-06T21:33:00","2018-10-01T14:50:00",null,null,"2018-12-14T06:46:00","Expired 9/6/2018 21:33 PM PST, but came back alive on 9/25/2018 5:00 PM PST. Expired again on 10/17/2018  3 PM PST. Removed. "]
["https://www.uber.com/careers/list/39062/","What You’ll Need\n \n• A computer science undergraduate degree or other engineering degree equivalent\n• Minimum 2 years experience delivering innovative developer productivity platforms \n• Minimum 7 years of product management\n• Understanding of Mobile/Services development and CI services/infrastructure technology\n• Our processes and programs are data driven and you are able to tell a story using data\n \n","What You’ll Need\n \n• A computer science undergraduate degree or other engineering degree equivalent\n• Minimum 2 years experience delivering highly successful and innovative developer productivity platforms with your fingerprints all over them - you’re extremely proud of what you’ve accomplished\n• Minimum 7 years of product management\n• Strong understanding of Mobile/Services development and CI services/infrastructure technology\n• Our processes and programs are data driven and you should be adept in storytelling using data\n \nBonus Points If\n \n• You have product managed broadly used IDEs\n• You understand the user and technical challenges in end to end developer experiences, local development to CI to safe releases.\n\n","?iisp=he-6594079","?iisp=he-6584079",null,"Product Manager - Developer Platform - Developer Productivity","2018-08-13T13:59:00","2019-03-07T13:45:00",null,null,null,"2018-12-14T06:46:00"]
["https://www.uber.com/careers/list/39034/","What You’ll Need\n \n• Avixa CTS certification\n• AutoCAD 2D experience in relation to wiring diagrams, to scale custom panels, operator consoles, and architectural design.\n• Minimum 6+ years’ experience working with a variety of A/V systems, in a corporate environment.\n• Minimum 3+ years relevant Project Management experience in related fields\n• Self motivated, organizational and time management skills.\n• Written and verbal communication skills. \n• Analytical problem solving skills.\n• Familiarity with Audio DSP ( ClearOne, Biamp, and QSC), web/desktop video conferencing applications (Zoom), USB peripherals and control systems (Crestron and Extron). \n• Ability to influence others; handle conflict appropriately, know when to delegate issues upward and when to apply common sense.\n• Strive to learn new things and want to improve and challenge your knowledge. You are dependable, have a sense of urgency, and are able to meet project deadlines\n• Experience with designing, running and trouble-shooting live events.\n• Research and Development technology on next generation solutions.\n• Possess ability to interpret and create construction and AV schematic drawings\n• Understanding of collaboration protocols such as, TCP, UDP, SIP, SCCP, QoS, H.323, G.711, H.264 and SVC\n• Knowledge of video codecs and compression, specifically H.264, IP protocols (RTMP, RTSP, http, https) and the architecture of their delivery, HTTP Live Streaming (HLS)\n\n","What You’ll Need\n \n• Bachelor’s degree in Computer Science/Engineering, Electrical/Electronic Engineering desired, or equivalent education and/or related work experience, \n• Avixa CTS certification (CTS-D and/or CTS-I preferred)\n• AutoCAD 2D experience in relation to wiring diagrams, to scale custom panels, operator consoles, and architectural design.\n• Minimum 6+ years’ experience working with a variety of A/V systems, in a corporate environment.\n• Minimum 3+ years relevant Project Management experience in related fields\n• Self motivated, excellent organizational and time management skills.\n• Excellent written and verbal communication skills. \n• Strong analytical problem solving skills.\n• Familiarity with Audio DSP ( ClearOne, Biamp, and QSC), web/desktop video conferencing applications (Zoom), USB peripherals and control systems (Crestron and Extron). \n• Ability to influence others; handle conflict appropriately, know when to delegate issues upward and when to apply common sense.\n• Strive to learn new things and continuously want to improve and challenge your knowledge. You are highly dependable, have a sense of urgency, and are able to meet project deadlines\n• Experience with designing, running and trouble-shooting live events.\n• Research and Development technology on next generation solutions.\n• Possess high aptitude to interpret and create construction and AV schematic drawings\n• Understanding of collaboration protocols such as, TCP, UDP, SIP, SCCP, QoS, H.323, G.711, H.264 and SVC\n• Knowledge of video codecs and compression, specifically H.264, IP protocols (RTMP, RTSP, http, https) and the architecture of their delivery, HTTP Live Streaming (HLS)\n\n","?iisp=he-6594079","?iisp=he-6584079",null,"Sr Audio Visual Engineer","2018-08-13T13:59:00","2018-10-18T11:25:00","2018-10-23T06:21:00",null,null,"2018-12-14T06:46:00"]
["https://www.uber.com/careers/list/38505/","What You'll Need:\n• 7-10 years of total work experience with an emphasis on operations management, finance, general management or project management\n• 5+ years of team management experience with experience managing managers\n• People management skills - you can set the tone for your team; facilitating results while also being empathetic to their challenges - EQ is a must-have\n• Data-driven decision mentality and business judgment through analytical thinking\n• Creative solutions-driven mindset\n• Networking and communication skills; you can make partnerships happen and inspire the people around you, in person and in the press\n• Entrepreneurial abilities \n","What You'll Need:\n• 7-10 years of total work experience with an emphasis on operations management, finance, general management or project management\n• 5+ years of team management experience with a proven track record of managing managers\n• Strong people management skills - you can set the tone for your team; driving towards results while also being empathetic to their challenges - EQ is a must-have\n• Data-driven decision mentality and sound business judgment through strong analytical thinking\n• Creative solutions-driven mindset\n• Stellar networking and communication skills; you can make smart partnerships happen and inspire the people around you, in person and in the press\n• Entrepreneurial DNA\n• MBA strongly preferred\n\n","?iisp=he-6594079","?iisp=he-6584079",null,"General Manager - West","2018-08-13T13:59:00","2018-09-12T08:22:00","2018-09-23T12:29:00",null,null,"2018-12-14T06:46:00"]
["https://www.uber.com/careers/list/39019/","What You’ll Need\n• Bachelor’s degree in Accounting, Finance or Business\n• Minimum 10 years of progressive experience including a management role\n• Hands-on financial reporting experience in a high growth global enterprise\n• Knowledge of US GAAP, FASB pronouncements and SEC rules and regulations\n• Verbal and written communication skills, an attention to details and the ability to work in a fast-paced environment with multiple, competing priorities\n\n","What You’ll Need\n• Bachelor’s degree in Accounting, Finance or Business\n• CPA license and experience in a large public accounting firm preferred\n• Minimum 10 years of progressive experience including a management role\n• Hands-on financial reporting experience in a high growth global enterprise\n• Excellent knowledge of US GAAP, FASB pronouncements and SEC rules and regulations\n• Strong verbal and written communication skills, a high level of attention to details and the ability to work in a fast-paced environment with multiple, competing priorities\n• Experience with Oracle preferred\n\n","?iisp=he-6594079","?iisp=he-6584079",null,"Senior Manager, Financial Reporting","2018-08-13T13:59:00","2018-08-23T17:00:00","2018-08-29T16:02:00",null,null,"2018-12-14T06:46:00"]
["https://www.uber.com/careers/list/39069/","What You’ll Need\n \n• A minimum of 5 years of industry or consulting experience in project or program management, global operations, or related fields\n• Change management in a large/international company\n• Analytical skills, including SQL\n• Ability to tell clear stories out of complex issues and analysis\n• Influential with communication skills, both written and verbal\n• Experience in planning, setting metrics, and roadmap development\n• Experience working cross-functionally\n• Ability to design processes without a prescribed template\n• Interest in improving Uber user experience with a focus on safety\n\n","What You’ll Need\n \n• A minimum of 5 years of industry or consulting experience in project or program management, global operations, or related fields\n• Change management in a large/international company\n• Excellent analytical skills, including SQL\n• Ability to tell clear, compelling stories out of complex issues and analysis\n• Influential with great communication skills, both written and verbal\n• Experience in planning, setting metrics, and roadmap development\n• Experience working cross-functionally\n• Ability to design processes without a prescribed template\n• Passion for improving Uber user experience with a focus on safety\n• MBA or Master's degree a plus\n• Experience working in the brand/marketing research space a plus\n• International experience a plus\n\n","?iisp=he-6594079","?iisp=he-6584079",null,"Global Safety Operations Program Manager II","2018-08-13T13:59:00","2018-09-21T10:42:00","2018-10-01T14:50:00",null,null,"2018-12-14T06:46:00"]
["https://www.uber.com/careers/list/39075/","What You’ll Need\n• At least 1 year of sales experience (sales internships welcome)\n• Interest in sales and curiosity about Uber Eats' business partners\n• Listening, communication, and organizational skills\n• Ability to multi-task and follow through while paying attention to detail\n• Coachability, interest in implementing feedback, and dedication to improvement of your craft\n• A positive attitude and desire to win; a self-starter attitude and determination\n• Bachelor's Degree required\n\n","What You’ll Need\n• At least 1 year of sales experience (sales internships welcome)\n• Prior cold calling experience preferred\n• Genuine interest in sales and curiosity about Uber Eats' business partners\n• Extraordinary listening, communication, and organizational skills\n• Demonstrated ability to multi-task and follow through while paying attention to detail\n• Coachability, interest in implementing feedback, and dedication to improvement of your craft\n• An infectiously positive attitude and drive to win; a self-starter attitude and determination\n• Bachelor's Degree required\n\n","?iisp=he-6594079","?iisp=he-6584079",null,"Account Representative, Uber Eats - Atlanta","2018-08-13T13:59:00","2018-10-26T15:35:00","2018-11-07T11:33:00",null,null,"2018-12-14T06:46:00"]
["https://www.uber.com/careers/list/39037/","What You'll Need\n \n• Minimum 2 years of phone support experience or relevant prior experience\n• Interpersonal skills and ability to establish trust and effective working relationships with others on an external and internal basis\n• Ability to “learn on the fly” and adjust and adapt in a dynamic, fast paced work environment\n• Commitment to excellence in behavior, performance and work product\n• Written and verbal communication skills including ability to listen; to diplomatically express opinions and voice concerns with other team members\n• Computer and time management skills\n• Willingness to work weekends, holidays and outside a standard 8 to 5 shift\n \n\n","What You'll Need\n \n• Minimum 2 years of phone support experience or relevant prior experience\n• Excellent interpersonal skills and ability to establish trust and effective working relationships with others on an external and internal basis\n• Ability to “learn on the fly” and adjust and adapt in a dynamic, fast paced work environment\n• Commitment to excellence in behavior, performance and work product\n• Excellent written and verbal communication skills including ability to listen effectively; to confidently and diplomatically express opinions and voice concerns with other team members\n• Solid computer and time management skills\n• Willingness to work weekends, holidays and outside a standard 8 to 5 shift\n \nBonus Points If\n \n• You are bilingual in both Spanish and English\n• Experience in the logistics or Freight industry\n• Bachelor’s Degree in Business, Communications, English or Journalism\n\n","?iisp=he-6594079","?iisp=he-6584079",null,"Customer Service Representative - Inbound Phone, Uber Freight","2018-08-13T13:59:00","2018-09-28T12:00:00","2018-08-29T16:02:00","2018-08-23T19:00:00",null,"2018-12-14T06:46:00"]
["https://www.uber.com/careers/list/39048/","What You’ll Need\n• 6+ years experience of investment banking / consulting / business intelligence / strategy or related experience.\n• Communication and organization skills.\n• Communicator\n• Leadership capabilities\n• A “driver” personality - biased toward action, collaborator and disambiguator/simplifier - striving for clarity and delivery.\n• Excel / data management skills.\n• Self-motivated, works independently and possesses organization and time management skills\n• Bachelor's degree required\n\n","What You’ll Need\n• 6+ years experience of investment banking / consulting / business intelligence / strategy or related experience; some high-growth operations or startup experience is strongly preferred.\n• Exceptional communication and organization skills.\n• Clear communicator\n• Strong, demonstrated leadership capabilities\n• A “driver” personality - biased toward action, great collaborator and master disambiguator/simplifier - constantly pushing toward clarity and delivery.\n• Exceptional Excel / data management skills.\n• Self-motivated, works independently and possesses strong organization and time management skills\n• Bachelor's degree required\n• SQL Proficiency strongly preferred\n\n","?iisp=he-6594079","?iisp=he-6584079",null,"Senior Central Operations Manager (SF)","2018-08-13T13:59:00","2018-11-09T11:50:00","2018-12-04T07:08:00",null,null,"2018-12-14T06:46:00"]
["https://www.uber.com/careers/list/39003/","What You’ll Need\n• Ability to solve complex problems under pressure\n• Ability to collaborate and work with a highly diverse set of shippers, transportation partners, and internal partners\n• Analytical and critical thinking ability\n• Communication and organization skills\n• The ability to balance attention to detail with swift execution \n\n","What You’ll Need\n• Minimum 2 year experience in the transportation industry strongly preferred\n• Demonstrated ability to solve complex problems under pressure\n• Ability to collaborate and work with a highly diverse set of shippers, transportation partners, and internal partners\n• Analytical and critical thinking ability\n• Strong communication and organization skills\n• Logistics background is not required, but operational experience is preferred\n• Bachelor's degree strongly preferred\n• The ability to balance attention to detail with swift execution - we need to do things quickly, and we need to do them well\n\n","?iisp=he-6594079","?iisp=he-6584079",null,"Account Executive, Carrier Sales","2018-08-13T13:59:00","2018-09-13T07:35:00","2018-09-23T12:29:00",null,null,"2018-12-14T06:46:00"]
["https://www.uber.com/careers/list/38991/","What You’ll Need\n• Spanish language skills\n• 1-4 years of cash management experience at a corporate or financial institution\n• Bachelor's degree in Business, Finance or Accounting\n• Communication skills, organized, project management skills, ability to multitask and be a team player is a must\n• Interest in Uber\n","What You’ll Need\n• Spanish language skills\n• 1-4 years of cash management experience at a top corporate or financial institution\n• Bachelor's degree in Business, Finance or Accounting\n• CTP, CFA or MBA is a plus\n• Experience in a high-growth start-up or large multi-national preferred\n• Great communication skills, well organized, strong project management skills, ability to multitask and be a team player is a must\n• Enthusiasm about Uber!\n","?iisp=he-6594079","?iisp=he-6584079",null,"Treasury Analyst","2018-08-13T13:59:00","2018-10-30T11:50:00","2018-11-07T11:33:00",null,null,"2018-12-14T06:46:00"]
["https://www.uber.com/careers/list/38955/","What You’ll Need\n \n• Bachelor’s Degree in Accounting or Finance required\n• Two to three years tax experience in a multi-state environment with solid sales and use tax concepts and laws required\n• Self starter with ability to prioritize and manage tasks from multiple teams and also partner with other team members to bring it all together in a fast-paced environment and flexible with change\n• Analytical and problem solving skills with understanding of complex tax concepts\n• Oral and written communication skills with ability to interact professionally with diverse groups\n• Experience with tax research tools, Excel and other Microsoft Office applications\n","What You’ll Need\n \n• Bachelor’s Degree in Accounting or Finance required\n• Two to three years tax experience in a multi-state environment with solid sales and use tax concepts and laws required\n• Self starter with ability to prioritize and manage tasks from multiple teams and also partner with other team members to bring it all together in a fast-paced environment and flexible with change\n• Strong analytical and problem solving skills with demonstrated understanding of complex tax concepts\n• Exceptional oral and written communication skills with ability to interact professionally with diverse groups\n• Proficient with tax research tools, Excel and other Microsoft Office applications\n\nBonus Points If\n \n• Masters Degree in Tax, JD and/or CPA certification preferred\n• Public Accounting and/or high tech industry experience a plus\n• Oracle or similar ERP system experience a plus\n\n","?iisp=he-6594079","?iisp=he-6584079",null,"Tax Analyst, U.S. Indirect Tax","2018-08-13T13:59:00","2018-10-02T10:15:00","2018-10-08T12:55:00",null,null,"2018-12-14T06:46:00"]
["https://www.uber.com/careers/list/38959/","What You’ll Need:\n• Listening, communication and organizational skills.\n• Ability to multi-task and follow through while paying attention to detail\n• Coachability, interest in implementing feedback, and dedication to improvement of your craft\n• Curiosity about people and business and an interest in UberEATS and food\n• A positive attitude and desire to win; hard work and determination\n• 4 or more years of sales experience required\n• Bachelor’s degree required\n\n","What You’ll Need:\n• Exceptional listening, communication and organizational skills.\n• Proven ability to multi-task and follow through while paying strict attention to detail\n• Coachability, interest in implementing feedback, and dedication to improvement of your craft\n• Genuine curiosity about people and business and a passion for UberEATS and food\n• An infectiously positive attitude and drive to win; hustle and determination\n• Restaurant industry or hospitality experience preferred\n• 4 or more years of sales experience required\n• Bachelor’s degree required\n\n","?iisp=he-6594079","?iisp=he-6584079",null,"Sr Account Executive,\nUber Eats","2018-08-13T13:59:00","2018-10-26T15:35:00","2018-11-07T11:33:00",null,null,"2018-12-14T06:46:00"]
["https://www.uber.com/careers/list/38957/","What You’ll Need\n \n• Bachelor’s Degree in Accounting or Finance required\n• Three to five years tax experience in a multi-state environment with solid sales and use tax concepts and laws required\n• Motivated, detail oriented, collaborative self starter with ability to engage in, prioritize and manage multiple tasks with multiple team members in a fast-paced environment and flexible with change\n• Analytical and problem solving skills with understanding of complex tax concepts\n• Oral and written communication skills with ability to interact professionally with diverse groups\n• Experience with tax research tools, Excel and other Microsoft Office applications\n","What You’ll Need\n \n• Bachelor’s Degree in Accounting or Finance required\n• Three to five years tax experience in a multi-state environment with solid sales and use tax concepts and laws required\n• Highly motivated, detail oriented, collaborative self starter with ability to engage in, prioritize and manage multiple tasks with multiple team members in a fast-paced environment and flexible with change\n• Strong analytical and problem solving skills with demonstrated understanding of complex tax concepts\n• Exceptional oral and written communication skills with ability to interact professionally with diverse groups\n• Proficient with tax research tools, Excel and other Microsoft Office applications\n \nBonus Points If\n \n• Masters Degree in Tax, JD and/or CPA certification preferred\n• Public Accounting and/or high tech industry experience a plus\n• Oracle or similar ERP system experience a plus\n• SQL and Python experience a plus\n\n","?iisp=he-6594079","?iisp=he-6584079",null,"Sr Tax Analyst, U.S.\nIndirect Tax","2018-08-13T13:59:00","2019-02-12T10:55:00",null,null,null,"2018-12-14T06:46:00"]
["https://www.uber.com/careers/list/38956/","What You’ll Need:\n• Listening, communication and organizational skills.\n• Ability to multi-task and follow through while paying attention to detail\n• Coachability, interest in implementing feedback, and dedication to improvement of your craft\n• Curiosity about people and business and an interest in UberEATS and food\n• A positive attitude and desire to win; hard work and determination\n• Desire to build and maintain long-term professional relationships\n• Adaptability to change in a fast-paced environment\n• Ability to travel nationally up to 25% of the time\n• 8-12 years of sales experience required\n\n","What You’ll Need:\n• Exceptional listening, communication and organizational skills.\n• Proven ability to multi-task and follow through while paying strict attention to detail\n• Coachability, interest in implementing feedback, and dedication to improvement of your craft\n• Genuine curiosity about people and business and a passion for UberEATS and food\n• An infectiously positive attitude and drive to win; hustle and determination\n• Desire to build and maintain long-term professional relationships\n• Adaptability to change in a fast-paced environment\n• Restaurant industry or hospitality experience preferred\n• 8-12 years of sales experience required, C-suite preferred\n• Ability to travel nationally up to 25% of the time\n\n","?iisp=he-6594079","?iisp=he-6584079",null,"Enterprise Account\nExecutive, Uber Eats","2018-08-13T13:59:00","2019-01-17T08:50:00",null,null,null,"2018-12-14T06:46:00"]
["https://www.uber.com/careers/list/38935/","What You'll Need\n \n• Minimum 5 years of professional experience in a high-volume and highly productive service-industry or customer support environment and minimum 3 years of managing managers\n• An ability to manage, set team goals, develop people to their highest levels of performance, and manage through challenging situations\n• Prior professional experience with optimization, processes, systematic organization, program/project management\n• Performance management of large teams, creating and implementing policy, mentoring and coaching, as well as stakeholder manager and communications about high visibility and time sensitive issues\n• Data/Analytics experience; experience with Excel\n• Attention to detail & project management skills\n• Communication skills. Including public speaking and ability to present  in front of peers and senior leadership\n• To embrace change and operate flexibly\n• To have a bias towards action\n ","What You'll Need\n \n• Minimum 5 years of professional experience in a high-volume and highly productive service-industry or customer support environment and minimum 3 years of managing managers\n• A demonstrated ability to manage effectively, set team goals, develop people to their highest levels of performance, and manage through challenging situations\n• Prior professional experience with optimization, processes, systematic organization, program/project management\n• Performance management of large teams, creating and implementing policy, mentoring and coaching, as well as stakeholder manager and communications about high visibility and time sensitive issues\n• Demonstrated Data/Analytics experience; Excel proficiency\n• Excellent attention to detail & project management skills\n• Outstanding communication skills. Including public speaking and ability to present effectively in front of peers and senior leadership\n• To thrive on change and operate flexibly\n• To have a deep bias towards action\n \nBonus Points if\n \n• Knowledge of Lean, Six Sigma and Kaizen methodologies is highly advantageous\n\n\n","?iisp=he-6594079","?iisp=he-6584079",null,"Senior Customer Support\nManager, COE","2018-08-13T13:59:00","2018-12-03T09:10:00","2018-12-10T08:23:00",null,null,"2018-12-14T06:46:00"]
["https://www.uber.com/careers/list/38927/","What You’ll Need\n\n• Bachelor's degree in Accounting or Finance\n• 4+ years professional experience, with at least 2 years relevant month-end close experience\n\n\n","What You’ll Need\n\n• Bachelor's degree in Accounting or Finance\n• 4+ years professional experience, with at least 2 years relevant month-end close experience\n• P&C Insurance experience preferred (this could include experience from a P&C insurance company, or a Big 4 firm with P&C insurance clients)\n• CPA preferred\n• Experience with Oracle and HFM a plus\n\n","?iisp=he-6594079","?iisp=he-6584079",null,"Senior Accountant,\nInsurance","2018-08-13T13:59:00","2018-10-10T08:30:00","2018-10-16T07:51:00",null,null,"2018-12-14T06:46:00"]
["https://www.uber.com/careers/list/38915/","What You’ll Need\n \n• Must have a BS/BA with at least 5 years of relevant experience\n• Knowledge and experience in leadership and personal development\n• Experience in education, learning & development, training, and instructional design essential\n• Ability to curate and coordinate experts and resources to deliver learning experiences\n• Ability to deliver large-scale programs across multiple geographies\n• Project management skills with organizational, time management, and prioritization skills\n• Self-starter with consulting skills \n• A team player with experience working cross-collaboratively with multiple stakeholders\n• Written, verbal, and visual communication skills with attention to detail\n","What You’ll Need\n \n• Must have a BS/BA (preferably an MSc/MA) with at least 5 years of relevant experience\n• Deep knowledge and subject matter expertise in leadership and personal development\n• Experience in education, learning & development, training, and instructional design essential\n• Exceptional ability to curate and coordinate experts and resources to deliver inspiring and impactful learning experiences\n• Demonstrated ability to deliver large-scale programs across multiple geographies\n• Strong project management skills with superior organizational, time management, and prioritization skills\n• Experience with project and asset management tools an advantage (e.g., JIRA, Confluence, Box, Google Drive, etc.)\n• Self-starter with polished consulting skills \n• A team player with experience working cross-collaboratively with multiple stakeholders\n• Excellent written, verbal, and visual communication skills with fine attention to detail\n \nBonus Points if\n \n• Experience working in a customer service environment (business process outsourcing, call centers, etc.)\n• Experience with multi-media design and content authoring tools \n• Coaching / Assessment / Leadership Tools accreditations\n\n","?iisp=he-6594079","?iisp=he-6584079",null,"Leadership & Employee\nDevelopment Lead","2018-08-13T13:59:00","2019-02-15T13:15:00",null,null,null,"2018-12-14T06:46:00"]
["https://www.uber.com/careers/list/38877/","What You’ll Need\n• Understanding and experience in Incident Response and associated best practices\n• Experience in identifying, analyzing, scoping, containing and eradicating real-world threats\n• Working knowledge of Linux, Windows, and OS X operating systems\n• Familiar with scripting languages and regular expressions\n• Knowledge of common network protocols\n• An understanding of network and host-based forensic methodologies\n• Knowledge of enterprise-scale security technologies and capabilities to include SIEM, log analysis, incident case management, HIDS/NIDS, antivirus, full packet capture, malware analysis, firewall, remote forensics, user behavior analytics\n• An understanding of the current threat landscape and adversary tactic, techniques and procedures (TTP's)\n• Experience with writing rules/alerts on a variety of security systems\n• A desire for continuous process improvement and excellence\n ","What You’ll Need\n• Expert-level understanding and experience in Incident Response and associated best practices\n• Experience in identifying, analyzing, scoping, containing and eradicating real-world threats\n• Working knowledge of Linux, Windows, and OS X operating systems\n• Comfortable with scripting languages (Python preferred) and regular expressions\n• Strong knowledge of common network protocols\n• An understanding of network and host-based forensic methodologies\n• Demonstrated knowledge of enterprise-scale security technologies and capabilities to include SIEM, log analysis, incident case management, HIDS/NIDS, antivirus, full packet capture, malware analysis, firewall, remote forensics, user behavior analytics\n• An understanding of the current threat landscape and adversary tactic, techniques and procedures (TTP's)\n• Experience with writing rules/alerts on a variety of security systems\n• A strong desire for continuous process improvement and excellence\n \nBonus Points If\n• Project management experience (or knowledge) / SDLC / Agile\n• Experience with advanced analysis methods: Analytics, Data Science, Heuristics, Metrics\n• Development experience or contributed to open-source projects\n• Do not know pain, and are a stranger to fear!  You are a spear with no branches.\n• Experience with automation and orchestration tools.\n\n","?iisp=he-6594079","?iisp=he-6584079","FIXED. typo - \"knowledge\" needs \"of\" after it in 5th bullet","Sr Security Response &\nInvestigations Engineer","2018-08-13T13:59:00","2018-12-14T06:45:00","2018-09-05T15:52:00","2018-08-28T16:15:00","2018-08-28T15:47:00","2018-12-14T06:46:00"]
["https://www.uber.com/careers/list/38875/","What You'll Need\n \n• Minimum 2 years of phone support experience or relevant prior experience\n• Interpersonal skills and ability to establish trust and effective working relationships with others on an external and internal basis\n• Ability to learn quickly and adjust and adapt in a dynamic, fast paced work environment\n• Commitment to excellence in behavior, performance and work product\n• Written and verbal communication skills including ability to listen; to diplomatically express opinions and voice concerns with other team members\n• Computer and time management skills\n• Willingness to work weekends, holidays and outside a standard 8 to 5 shift\n• Bilingual in both Spanish and English","What You'll Need\n \n• Minimum 2 years of phone support experience or relevant prior experience\n• Excellent interpersonal skills and ability to establish trust and effective working relationships with others on an external and internal basis\n• Ability to “learn on the fly” and adjust and adapt in a dynamic, fast paced work environment\n• Commitment to excellence in behavior, performance and work product\n• Excellent written and verbal communication skills including ability to listen effectively; to confidently and diplomatically express opinions and voice concerns with other team members\n• Solid computer and time management skills\n• Willingness to work weekends, holidays and outside a standard 8 to 5 shift\n• Bilingual in both Spanish and English\n \nBonus Points If\n \n• Experience in the logistics or Freight industry\n• Bachelor’s Degree in Business, Communications, English or Journalism\n\n","?iisp=he-6594079","?iisp=he-6584079",null,"Customer Service\nRepresentative - Inbound\nPhone, Uber Freight\n(Spanish speaking)","2018-08-13T13:59:00","2018-09-27T09:35:00","2018-08-29T16:02:00","2018-08-23T19:00:00",null,"2018-12-14T06:46:00"]
["https://www.uber.com/careers/list/38851/","Skills and Qualifications\n• Conceptual thinker\n• Ability to deliver design at high volumes under tight timelines\n• 2-4 years of visual design experience\n• Knowledge of Adobe Creative Suite - Photoshop, Illustrator, InDesign, and Adobe Creative Cloud Libraries\n• Beginner to intermediate experience with Sketch and Figma\n• Basic knowledge of HTML and working with Developers\n• Basic knowledge of email design best practices\n• Knowledge of different export file types and file optimization\n• Awareness of typographic best practices and design hierarchy\n\n\n","Skills and Qualifications\n• Excellent conceptual thinker\n• Demonstrated ability to deliver exceptional design at high volumes under tight timelines\n• 2-4 years of visual design experience\n• Expert knowledge of Adobe Creative Suite - Photoshop, Illustrator, InDesign, and Adobe Creative Cloud Libraries\n• Beginner to intermediate experience with Sketch and Figma\n• Basic knowledge of HTML and working with Developers\n• Basic knowledge of email design best practices\n• Deep knowledge of different export file types and file optimization\n• Awareness of typographic best practices and design hierarchy\n• Digital animation experience a plus\n\n","?iisp=he-6594079","?iisp=he-6584079",null,"CRM - Communications\nDesigner I","2018-08-13T13:59:00","2018-08-24T20:00:00","2018-08-29T16:02:00",null,null,"2018-12-14T06:46:00"]
["https://www.uber.com/careers/list/38842/","What You'll Need\n \n• Bachelor’s degree\n• Minimum 2 years of relevant content experience \n• Written and verbal communication skills\n• Attention to detail \n• Ability to manage multiple projects and priorities in a fast-paced, dynamic environment\n• An understanding of the correct tone for a situation and an ability to craft content that resonates as a result\n\n","What You'll Need\n \n• Bachelor’s degree\n• Minimum 2 years of relevant content experience \n• Exceptional written and verbal communication skills\n• Meticulous attention to detail \n• Proven ability to manage multiple projects and priorities in a fast-paced, dynamic environment\n• A good understanding of the correct tone for any given situation and an ability to craft content that resonates as a result\n \nBonus Points if\n \n• You have experience writing and editing content for a global audience\n• You’ve worked with content management systems (CMSs)\n• You have Knowledge management experience\n• You have customer support experience\n \n\n","?iisp=he-6594079","?iisp=he-6584079",null,"Support Content Specialist","2018-08-13T13:59:00","2018-11-12T19:45:00","2018-11-07T11:33:00",null,"2018-11-01T11:55:00","2018-12-14T06:46:00"]
["https://www.uber.com/careers/list/38841/","What You'll Need\n \n• Minimum 8 years of relevant HRBP experience\n• Understanding of HR programs including compensation, performance management, and leadership development\n• Understanding of various employment laws and their impact on HR matters\n• Experience in providing HR consultation to senior leadership on strategic initiatives\n• Ability to partner within and outside of HR\n• Knowledge and experience in technology businesses including a familiarity with global HR practices and policies\n• Integrity\n• Influencing skills at all levels in the organization and flexibility to be proactive in a fast-paced, ever changing environment. Ability to make timely, effective, ethics-based decisions\n• Ability to create from scratch are imperative\n• Written and verbal communication skills; must be a communicator including presentation skills; analytical and problem solving abilities\n• Bachelor's degree required\n\n","What You'll Need\n \n• Minimum 8 years of relevant HRBP experience\n• Excellent understanding of HR programs including compensation, performance management, and leadership development\n• Understanding of various employment laws and their impact on HR matters\n• Demonstrated experience in providing HR consultation to senior leadership on strategic initiatives\n• Demonstrated ability to partner within and outside of HR\n• Knowledge and experience in technology businesses including a familiarity with global HR practices and policies\n• Unquestioned integrity; resolve, presence, and sureness\n• Excellent influencing skills at all levels in the organization and flexibility to be proactive in a fast-paced, ever changing environment. Proficiency in making timely, effective, ethics-based decisions\n• Tenacity and ability to create from scratch are imperative\n• Outstanding written and verbal communication skills; must be an articulate and persuasive communicator including excellent presentation skills; analytical and problem solving abilities\n• Preferred prior experience supporting engineering and/or security organizations\n• Bachelor's degree required; Master's degree preferred\n\n","?iisp=he-6594079","?iisp=he-6584079",null,"HR Business Partner - Security","2018-08-13T13:59:00","2018-11-19T18:40:00","2018-12-04T07:08:00",null,null,"2018-12-14T06:46:00"]
["https://www.uber.com/careers/list/38807/","What You’ll need\n \n• A minimum of two to three years of related work experience in Public Accounting or Internal Audit.\n• Ability to analyze complex processes to identify potential financial, operational, systems and compliance risks and process improvement opportunities.\n• Organized and able to manage time, tasks, and deliverables.\n• Verbal and written communication skills, including interactions with stakeholders, the IA team, and in your written communications (especially when it comes to crafting messages and relaying findings and recommendations).\n• Ability to work independently or collaboratively on a team, with various stakeholders and outsourced audit teams, and on unstructured projects.\n• Bachelor's degree in Accounting, Finance or related field.\n• Ability and willingness to travel (up to 25 percent).\n","What You’ll need\n \n• A minimum of two to three years of related work experience in Public Accounting or Internal Audit.\n• Ability to analyze complex processes to identify potential financial, operational, systems and compliance risks and process improvement opportunities.\n• Highly organized and able to manage time, tasks, and deliverables.\n• Excellent verbal and written communication skills, including interactions with stakeholders, the IA team, and in your written communications (especially when it comes to crafting messages and relaying findings and recommendations).\n• Ability to work independently or collaboratively on a team, with various stakeholders and outsourced audit teams, and on unstructured projects.\n• Bachelor's degree in Accounting, Finance or related field.\n• Professional certification preferred (e.g. CPA, CIA, CFE, and/ or CISA, etc.).\n• Ability and willingness to travel (up to 25 percent).\n \nBonus points if\n• Public accounting and/or start-up experience.\n• Previous experience in high volume transactional payment environment.\n• Technology and/or media specific industry experience.\n• Ability to code SQL.\n\n","?iisp=he-6594079","?iisp=he-6584079",null,"Internal Audit Analyst, Operations","2018-08-13T13:59:00","2018-09-04T16:43:00","2018-10-01T14:50:00",null,null,"2018-12-14T06:46:00"]
["https://www.uber.com/careers/list/38804/","What You'll Need \n• Experience with writing, releasing, maintaining mobile code\n• Experience with Swift and Objective-C\n• Experience analyzing a feature in production using analytics and experiments\n• Focus on high-quality mobile UI experiences\n• Experience collaborating on projects\n• Understanding of iOS SDK\n \n","What You'll Need \n• Experience with writing, releasing, maintaining mobile code\n• Strong expertise in Swift and Objective-C\n• Experience analyzing a feature in production using analytics and experiments\n• Strong focus on high-quality mobile UI experiences\n• Experience efficiently collaborating on projects\n• Deep understanding of iOS SDK\n \nBonus points if\n• BS/MS/PhD in Computer Science or a related field\n• Experience with other programming languages\n• Contribute to the wider iOS community via open source\n\n","?iisp=he-6594079","?iisp=he-6584079","FIXED. typo - I added a \"What You'll Need\" title before the qualifications section ","Senior Software Engineer - iOS","2018-08-13T13:59:00","2019-05-01T22:25:00",null,null,null,"2018-12-14T06:46:00"]
["https://www.uber.com/careers/list/38781/","What You Need\n \n• Minimum of 3+ years experience delivering products: the product, go-to-market, and growth strategies \n• Experience with data-driven market research: you know your market, customers, and competition, and you’re able to bring this information into your marketing strategies\n• Positioning experience: You’re able to articulate the essence of products and the value they create; you can develop strategic positioning, a messaging hierarchy, and content strategy plan; you can also act as a copywriter\n• Execution-focused: You’re biased toward action, a collaborator and disambiguator/simplifier; you strive for clarity and delivery\n• Grittiness: You are able to engage and take on something head-on; you persevere;\n• Experience working with a cross-functional product team, experience managing stakeholders with diverse needs and perspectives\n• Interest in Uber’s mission and the company’s hybrid technology and operations model\n","What You Need\n \n• Minimum of 3+ years experience delivering highly successful products: the product, go-to-market, and growth strategies have your fingerprints all over them and you’re very proud of what you’ve accomplished\n• Top-notch at data-driven market research: you know your market, customers, and competition, and you’re skilled at bringing this information into your marketing strategies\n• Positioning guru: You’re scary-good at articulating the essence of products and the value they create; you can develop strategic positioning, a strong messaging hierarchy, and effective content strategy plan; you can also play copywriter\n• Execution-focused: You’re biased toward action, a great collaborator and master disambiguator/simplifier; you never stop pushing towards clarity and delivery\n• Grittiness: You never hesitate to roll up your sleeves and take on something head-on; you persevere when others fall away;\n• Experience working with a cross-functional product team, expertise managing stakeholders with diverse needs and perspectives\n• True passion for Uber’s mission and the company’s hybrid technology and operations model\n","?iisp=he-6594079","?iisp=he-6584079",null,"Product Marketing\nManager - Marketplace -\nDriver Pricing and\nMatching","2018-08-13T13:59:00","2019-02-12T10:55:00",null,null,null,"2018-12-14T06:46:00"]
["https://www.uber.com/careers/list/38780/","What You’ll Need\n \n• 5+ years of relevant experience in global mobility program management \n• Technical knowledge of mobility tax, payroll, and equity considerations for globally mobile employees\n• Strategic and consultative with interpersonal and project management skills\n• Self-starter, able to work in a fast-paced environment with quickly changing business needs\n• Interested in customer/client success shown in prior experience \n• Creative and innovative\n\n","What You’ll Need\n \n• 5+ years of relevant experience in global mobility program management \n• Technical knowledge of mobility tax, payroll, and equity considerations for globally mobile employees, EA or CPA preferred\n• Strategic and consultative with advanced interpersonal and project management skills\n• Experience in program design and development preferred\n• Motivated self-starter, able to thrive in a fast-paced environment with quickly changing business needs\n• Passionate about customer/client success with a track record to prove it\n• Creative and innovative\n\n","?iisp=he-6594079","?iisp=he-6584079",null,"Global Mobility Program Manager","2018-08-13T13:59:00","2018-08-27T15:30:00","2018-09-05T15:52:00",null,null,"2018-12-14T06:46:00"]
["https://www.uber.com/careers/list/38774/","What You'll Need\n \n• Experience using computers (typing, quickly navigating between various tools)\n• Written and verbal communication skills including ability to listen; to diplomatically express opinions and voice concerns with other team members\n• Time management skills - you’ll be handling multiple issues at once to resolve a large number of inquiries\n• Ability to investigate and troubleshoot problems \n• The ability to work in a team environment, contributing to a synergistic work environment where people learn from one another and continuously improve processes on behalf of users\n• Flexibility - weekend and/or evening shifts may be required\n• Calm under pressure - you have organizational skills, integrity, and follow-through on tasks\n• Agility - you can move quickly with care and embrace change while absorbing new information \n• To be an Uber supporter - you care about the product and getting others interested to partner with Uber","What You'll Need\n \n• High proficiency using computers (typing, quickly navigating between various tools)\n• Excellent written and verbal communication skills including ability to listen effectively; to confidently and diplomatically express opinions and voice concerns with other team members\n• Time management skills - you’ll be handling multiple issues at once to efficiently resolve a large number of inquiries\n• Ability to investigate and troubleshoot problems efficiently\n• The ability to work well in a team environment, contributing to a synergistic work environment where people learn from one another and continuously improve processes on behalf of users\n• Flexibility - weekend and/or evening shifts may be required\n• Calm under pressure - you have excellent organizational skills, integrity, and great follow-through on tasks\n• Agility - you can move quickly with care and embrace change while absorbing new information with ease\n• To be an Uber evangelist - you care deeply about the product and getting others excited to partner with Uber\n \nBonus Points if\n \n• Experience in the logistics or Freight industry\n• Bachelor’s Degree or some college experience\n","?iisp=he-6594079","?iisp=he-6584079",null,"Tracking Customer Service\nRepresentative, Uber\nFreight","2018-08-13T13:59:00","2018-09-06T21:33:00","2018-10-01T14:50:00",null,null,"2018-12-14T06:46:00","Expired 9/6/2018 21:33 PM PST, but came back alive on 9/25/2018 5:00 PM PST. Expired again on 10/17/2018  3 PM PST.  Removed. "]
["https://www.uber.com/careers/list/38769/","What We’re Looking For\n \n• Requires a BA or BS in Accounting, Finance, or similar\n• A minimum of 12+ years of multi-state indirect tax experience in Big 4 and industry\n• A communicator who can communicate effectively and manage a team\n• Able to work in a fast-paced environment and engage hands-on in the work\n• Analytical and problem solving skills with understanding of complex indirect tax concepts\n• Experience with tax research tools, Excel and other Microsoft Office applications","What We’re Looking For\n \n• Requires a BA or BS in Accounting, Finance, or similar\n• A minimum of 12+ years of multi-state indirect tax experience in Big 4 and industry\n• A strong communicator who can communicate effectively and manage a team\n• Thrives in a fast-paced environment and not afraid to roll up your sleeves to do the work\n• Strong analytical and problem solving skills with demonstrated understanding of complex indirect tax concepts\n• Proficient with tax research tools, Excel and other Microsoft Office applications\n• Oracle or similar ERP system experience a plus\n\n\nBonus Points if\n \n• Oracle or similar ERP system experience a plus\n• Public Accounting and/or high growth company experience a plus\n• CPA, MST and/or JD preferred\n\n","?iisp=he-6594079","?iisp=he-6584079",null,"Sr Manager, Indirect Tax","2018-08-13T13:59:00","2018-10-31T11:20:00","2018-11-07T11:33:00",null,null,"2018-12-14T06:46:00"]
["https://www.uber.com/careers/list/38757/","What You'll Need\n \n• Experience as a technical leader and manager for at least 5+ years.\n• Experience going through the full software cycle of requirements, design, coding/testing best practices and continuous integration in delivering software and services.\n• Leader and people manager with experience in setting a vision/roadmap for your team and delivering results while growing/mentoring engineers on your team.\n• Programming skills in either JavaScript, Python, C++ or Java.\n• Familiar with either of machine learning, computer graphics or Web technologies.\n","What You'll Need\n \n• Experience as a technical leader and manager for at least 5+ years.\n• Experience going through the full software cycle of requirements, design, coding/testing best practices and continuous integration in delivering world class software and services.\n• Strong leader and people manager with experience in setting a strong vision/roadmap for your team with a track record of delivering results while growing/mentoring engineers on your team.\n• Strong programming skills in either JavaScript, Python, C++ or Java.\n• Familiar with either of machine learning, computer graphics or Web technologies.\n \nBonus Points\n \n• Experience with machine learning/statistical inferencing technologies such as random forests, deep nets., bayesian nets, etc.\n• Experience in mapping, computer vision, or computational geometry.\n\n","?iisp=he-6594079","?iisp=he-6584079",null,"Engineering Manager,\nVisualization","2018-08-13T13:59:00","2018-10-26T15:35:00","2018-11-07T11:33:00",null,null,"2018-12-14T06:46:00"]
["https://www.uber.com/careers/list/38751/","WHAT WE’RE LOOKING FOR\n \nProgram Managers in Engineering play a critical role executing high-impact initiatives as well as defining, running, and improving process to increase the effectiveness of our programs, product and engineering organizations.\n \nProgram Managers move fluidly from the big picture to details so that the team can deliver complex cross-functional projects, often with tight deadlines. You are a bridge and a connector for the company. You work  through communication issues and develop relationships with stakeholders at all levels of the organization. You build trust across the organization. You are able to be direct, but you strive to act with empathy and integrity.\n \n• 3+ years experience as a program / project manager in a software, SaaS, or systems development environment.\n• Ability to understand technical concepts and work in highly engineering and product driven environments. Engineers enjoy working closely with you.\n• Experience with managing technical processes; able to identify process gaps, measure progress, and balance engineering and product efficiency with process overhead.\n• Written and verbal communication skills and emotional intelligence.\n• Ability to influence and motivate people across a broad variety of job functions through your relationships.\n• Organizational skills to handle many tasks without losing sight of the highest priority items.\n• Analytical and truth seeking. Ability to understand complex concepts and make reasoned decisions objectively.\n","WHAT WE’RE LOOKING FOR\n \nProgram Managers in Engineering play a critical role executing high-impact initiatives as well as defining, running, and improving process to increase the effectiveness of our programs, product and engineering organizations.\n \nProgram Managers move fluidly from the big picture to details so that the team can deliver complex cross-functional projects, often with tight deadlines. You are a bridge and a connector for the company. You are intuitive, focused, driven, organized, insightful and productive. You break through communication issues and effectively develop relationships with stakeholders at all levels of the organization. You build trust across the organization. You are not afraid to be direct, but you strive to act with empathy and integrity.\n \n• 3+ years experience as a program / project manager in a software, SaaS, or systems development environment.\n• Ability to understand technical concepts and work in highly engineering and product driven environments. Engineers enjoy working closely with you.\n• Experienced in managing technical processes; proficient in identifying process gaps, measuring progress, and balancing engineering and product efficiency with process overhead.\n• Excellent written and verbal communication skills and exceptional emotional intelligence.\n• Ability to influence and motivate people across a broad variety of job functions through your relationships.\n• Strong organizational skills to juggle many tasks without losing sight of the highest priority items.\n• Analytical and truth seeking. Ability to understand complex concepts and make reasoned decisions objectively.\n \nDESIRED BUT NOT REQUIRED\n \n• Worked at a high paced, fast growing, scrappy tech startup.\n• PgM in Engineering or TPM experience at an established company with strong PgM/TPM roles.\n\n","?iisp=he-6594079","?iisp=he-6584079",null,"Program Manager - Driver\nExperience (DX)","2018-08-13T13:59:00","2018-09-27T09:35:00","2018-10-01T14:50:00",null,null,"2018-12-14T06:46:00"]
["https://www.uber.com/careers/list/38744/","What You’ll Need\n• Bachelor's degree or higher in an engineering field (e.g. Computer Science, Computer Engineering, etc.)\n• Past experience in designing and building large-scale distributed systems with reliability and availability in mind.\n• Past experience in scaling the systems to work in multiple availability zones.\n• 10+ years experience designing, implementing large-scale distributed systems (serving 5K+ QPS, participating in 100M+ in transactions)\n• Experience with multiple programming languages (Go, Java, Python) and data stores (MySQL, Cassandra, Redis, etc)\n• Experience as a Staff Engineer level or above at a technology company\n","What You’ll Need\n• Bachelor's degree or higher in an engineering field (e.g. Computer Science, Computer Engineering, etc.)\n• Past experience in successfully designing and building large-scale distributed systems with reliability and availability in mind.\n• Past experience in scaling the systems to work in multiple availability zones.\n• 10+ years experience designing, implementing large-scale distributed systems (serving 5K+ QPS, participating in 100M+ in transactions)\n• Experience with multiple programming languages (Go, Java, Python) and data stores (MySQL, Cassandra, Redis, etc)\n• Proven track record of results as a Staff Engineer level or above at a premier technology company\n\nBonus Points If\n• Experience in building cloud-native architectures utilizing cloud data stores.\n\n","?iisp=he-6594079","?iisp=he-6584079",null,"Staff Engineer -\nMarketplace Platform\n(Fulfillment\nInfrastructure)","2018-08-13T13:59:00","2019-03-07T13:45:00",null,null,null,"2018-12-14T06:46:00"]
["https://www.uber.com/careers/list/38691/","What You’ll Need\n• Knowledge of revenue recognition in US GAAP and experience in performing technical revenue research\n• Ability to collaborate with Finance Engineering to build audit ready Revenue systems\n• Experience auditing, implementing or operating in a SOX effective environment\n• Exposure to electronic payment processing, working with PSPs, and have an understanding of a mature company order-to-cash cycle\n• Month-end close experience required\n• Time and self-management skills, ability to prioritize and multitask to meet deadlines is required\n• Excel skills, able to work with extremely large data set volume\n• 7+ years professional experience\n","What You’ll Need\n• Extensive knowledge of revenue recognition in US GAAP and experience in performing technical revenue research\n• Proven ability to collaborate with Finance Engineering to build audit ready Revenue systems\n• Experience auditing, implementing or operating in a SOX effective environment\n• Exposure to electronic payment processing, working with PSPs, and have an understanding of a mature company order-to-cash cycle\n• Ability to read and write SQL query is a big plus\n• Month-end close experience required; experience with Oracle preferred\n• Excellent time and self-management skills, ability to prioritize and multitask to meet deadlines is required\n• Strong Excel skills, comfortable with extremely large data set volume\n• Proven ability to succeed in a fast paced and constantly changing environment a plus\n• 7+ years professional experience; public accounting background at a Big 4 preferred\n• Bachelor’s degree in Accounting or Finance preferred.\n• CPA a plus\n","?iisp=he-6594079","?iisp=he-6584079",null,"Revenue Accounting\nManager","2018-08-13T13:59:00","2018-09-18T11:21:00","2018-10-01T14:50:00",null,null,"2018-12-14T06:46:00"]
["https://www.uber.com/careers/list/38689/","What You’ll Need\n \n• Have or pursuing certification in 1 or more of the following: CPA, CISA, CISSP, or CIA\n• Interest and willingness to learn in a challenging and continuously evolving environment\n• At least 2 years audit or controls experience with execution & documentation of IPO readiness reviews and implementation of internal controls\n• Working technical knowledge of US GAAP, SEC reporting requirements, COSO, SOX requirements, including PCAOB Auditing Standards, IIA  standards and audit processes and procedures\n• Ability and willingness to travel (up to 25 percent)","What You’ll Need\n \n• Bachelor's degree in Information Systems, Computer Science or Accounting preferred\n• Have or pursuing certification in 1 or more of the following: CPA, CISA, CISSP, or CIA\n• Passionate and willingness to learn in a challenging and continuously evolving environment\n• At least 2 years audit or controls experience with execution & documentation of IPO readiness reviews and implementation of internal controls\n• Working technical knowledge of US GAAP, SEC reporting requirements, COSO, SOX requirements, including PCAOB Auditing Standards, IIA  standards and audit processes and procedures\n• Ability and willingness to travel (up to 25 percent)\n \nBonus Points if\n \n• Knowledge of SQL and Python/R\n• Public accounting and/or high growth company experience\n• Experience with Oracle ERP solutions and ability to review SOC reports\n• Multi-industry experience a plus, including technology, agile software development, service-oriented architecture / micro-servers or insurance\n","?iisp=he-6594079","?iisp=he-6584079",null,"IT Internal Audit Analyst","2018-08-13T13:59:00","2018-10-29T08:30:00","2018-11-07T11:33:00",null,null,"2018-12-14T06:46:00"]
["https://www.uber.com/careers/list/38685/","Qualifications:\n• BA/BS degree in Human-Computer Interaction, Statistics, Psychology, Computer Science,  or a related field, or equivalent practical experience\n• 2 years of experience in a product development research setting\n• Ability to travel within the United States and abroad\n","Qualifications:\nMinimum qualifications:\n• BA/BS degree in Human-Computer Interaction, Statistics, Psychology, Computer Science,  or a related field, or equivalent practical experience\n• 2 years of experience in a product development research setting\n• Ability to travel within the United States and abroad\n\n\nPreferred qualifications:\n• MS or PhD degree in Human-Computer Interaction, Psychology, Statistics, Computer Science or a related field\n• 5 years of relevant experience in a product development research setting\n• Track record of demonstrating excellent command of research questions within a given domain and of technical tools for the analysis of data within that domain\n• Previous experience driving research programs that have had a lasting impact on product and design decisions\n \n\nBonus\n• Familiarity with a programming language commonly used for data manipulation and computational statistics (such as Python, R, Matlab, C++, Java or Go), and in SQL\n• Previous experience conducting research in APAC, EMEA, LATAM, SEA, and working on products with global impact\n• Ability to fluently communicate in languages other than English\n• Previous experience identifying, onboarding, and managing external research, translation, transcription, and tools vendors\n","?iisp=he-6594079","?iisp=he-6584079",null,"User Experience\nResearcher","2018-08-13T13:59:00","2018-08-15T08:00:00","2018-08-22T14:44:00",null,null,"2018-12-14T06:46:00"]
["https://www.uber.com/careers/list/38679/","What You’ll Need\n \n• BA/BS/Masters in Economics, Business, Engineering, Operations Research, or other quantitative focus\n• Minimum 3 years of experience in a quantitative/analytic role\n• Communication and organization skills. Able to structure a project from idea to design / prototype to implementation\n• Analytical thinking - you connect the dots between the data and operations and sense check every number you see\n• Experience with SQL - know how to access, interpret and package data so our team can deliver unique and innovative analysis to better our operations \n• Excel skills \n• Experience in scripting languages, such as Python or R\n• Team player\n• Balance attention to detail with swift execution","What You’ll Need\n \n• BA/BS/Masters in Economics, Business, Engineering, Operations Research, or other quantitative focus\n• Minimum 3 years of experience in a quantitative/analytic role, preferably within tech\n• Strong communication and organization skills. Able to structure a project from idea to design / prototype to implementation\n• Excellent analytical thinking - you connect the dots between the data and operations and gut check every number you see\n• SQL expertise - know how to access, interpret and package data so our team can deliver unique and innovative analysis to better our operations \n• Excellent Excel skills - many say they are great at Excel, fewer truly are. Ideal candidate brings some impressive know-how (and the understanding that there’s always more to learn)\n• Experience in scripting languages, such as Python or R\n• Team player\n• Balance attention to detail with swift execution - we need to do things quickly, and we need to do them well. Balancing those can be challenging, and this should be a strength\n \nBonus Points if\n \n• Experience in data visualization tools, such as Shiny or Tableau\n• Experience working with support data, contact management analytics or customer insights\n• Background in, or comfort with, statistical concepts\n\n","?iisp=he-6594079","?iisp=he-6584079",null,"Senior Program Analyst - Global Service Quality and CSAT program","2018-08-13T13:59:00","2018-09-14T20:34:00","2018-09-23T12:29:00",null,null,"2018-12-14T06:46:00"]
["https://www.uber.com/careers/list/38661/","What you'll need\n \n• Understanding of and experience with Inertial Measurement Unit (IMU) and GPS sensors in mobile devices, navigation component modeling, state estimation, signal processing, and sensor fusion.\n• Experience applying Machine Learning to motion sensor or other time series data.\n• Ability to build and interact with very large data processing pipelines, distributed data stores, and distributed file systems.\n• A computer science undergraduate degree or equivalent plus hands-on software engineering experience.\n• Minimum of 5+ years experience delivering creative consumer Internet products\n• Design instincts and product taste\n• Standards across the board - from your own contributions to the people you work with to the products you work on.\n• A “driver” personality - biased toward action, collaborator and disambiguator/simplifier - striving for clarity and delivery.\n• Grittiness. You are able to engage and can take on something hands-on, you persevere. \n• Finger-tippiness with data: you are able to get the data you need and turn it into a story. You know how to use data to make decisions without getting stuck in analysis paralysis.\n• Rider-centricity - examples from your past of tough product challenges that you handled because you were unwilling to make your problems your riders’ problems.\n• An interest in Uber’s mission and the company’s hybrid technology / operations nature.\n• A desire to grow and learn.\n\n","What you'll need\n \n• Deep understanding of and experience with Inertial Measurement Unit (IMU) and GPS sensors in mobile devices, navigation component modeling, state estimation, signal processing, and sensor fusion.\n• Prior experience working with mobile devices of varying quality is a big plus.\n• Experience applying Machine Learning to motion sensor or other time series data.\n• Ability to build and interact with very large data processing pipelines, distributed data stores, and distributed file systems.\n• Bonus points if you have built geospatial services and datasets before, such as maps data, routing algorithms, traffic patterns, etc.\n• A computer science undergraduate degree or equivalent plus hands-on software engineering experience. Technical understanding should go from the highest abstractions down to the metal.\n• Minimum of 5+ years experience delivering highly successful and creative consumer Internet products with your fingerprints all over them - you’re deeply proud of what you’ve accomplished\n• Stellar design instincts and product taste\n• A high bar across the board - from your own contributions to the people you work with to the products you work on.\n• A “driver” personality - biased toward action, great collaborator and master disambiguator/simplifier - constantly pushing toward clarity and delivery.\n• Grittiness. You never hesitate to roll up your sleeves and take on something hands-on, you persevere when others fall away.\n• Finger-tippiness with data: you just go get the data you need with no muss/fuss and can whip it into an insightful story with no help. You know how to use data to make decisions without getting stuck in analysis paralysis.\n• Rider-centricity - examples from your past of tough product challenges that you powered through because you were unwilling to make your problems your riders’ problems.\n• True passion for Uber’s mission and the company’s hybrid technology / operations nature.\n• A never-ending desire to grow and learn.\n\n","?iisp=he-6594079","?iisp=he-6584079",null,"Sr Product Manager -\nMaps - Sensing,\nInferencing, and Research","2018-08-13T13:59:00","2018-12-15T08:50:00",null,null,null,"2018-12-14T06:46:00"]
["https://www.uber.com/careers/list/38657/","What You’ll Need\n \n• Master’s degree in Industrial/Organizational Psychology or a closely related field required\n \n• At least three years of experience in conducting job analyses and validation of hiring and promotion practices consistent with the Uniform Guidelines on Employee Selection Procedures, with some experience preferably in the technology sector\n \n• Experience in employee selection, employee assessment, job analysis techniques, competency modeling, change management, performance appraisal, and survey design\n \n• Working knowledge of employment law relevant to job analysis, employee selection, and performance evaluation\n \n• Experience with statistics and data analysis\n \n• Interpersonal, consulting, and project management skills\n \n• Ability to persuade and influence without authority\n \n• Critical thinking and writing skills\n \n• Ability to manage complex projects\n \n• Experience with statistical software\n\n","What You’ll Need\n \n• Master’s degree in Industrial/Organizational Psychology or a closely related field required, Ph.D. preferred\n \n• At least three years of experience in conducting job analyses and validation of hiring and promotion practices consistent with the Uniform Guidelines on Employee Selection Procedures, with some experience preferably in the technology sector\n \n• Experience in employee selection, employee assessment, job analysis techniques, competency modeling, change management, performance appraisal, and survey design\n \n• Working knowledge of employment law relevant to job analysis, employee selection, and performance evaluation\n \n• Expertise in statistics and data analysis\n \n• Excellent interpersonal, consulting, and project management skills\n \n• Ability to persuade and influence without authority\n \n• Outstanding critical thinking and writing skills\n \n• Demonstrated ability to successfully manage complex projects\n \n• Highly skilled with statistical software, preferably SPSS\n\n","?iisp=he-6594079","?iisp=he-6584079",null,"People Scientist","2018-08-13T13:59:00","2018-08-17T07:00:00","2018-08-22T14:44:00",null,null,"2018-12-14T06:46:00"]
["https://www.uber.com/careers/list/38649/","What You’ll Need\n• Bachelors degree in Accounting\n• 2-3 years of accounting experience\n• Microsoft Excel skills, with the ability to manipulate and digest large amounts of data required\n• Written and verbal communications skills\n• Team player, work independently while knowing when to speak up for help\n• Time and self-management skills, ability to prioritize and multitask\n\n\n","What You’ll Need\n• Bachelors degree in Accounting\n• 2-3 years of accounting experience\n• Advanced Microsoft Excel skills, with the ability to manipulate and digest large amounts of data required\n• Strong written and verbal communications skills\n• Team player, work well independently while knowing when to speak up for help\n• Excellent time and self-management skills, ability to prioritize and multitask\n\nBonus Points If\n• Public accounting experience\n• Oracle R12\n• Experience in a start-up or high growth environment\n\n","?iisp=he-6594079","?iisp=he-6584079",null,"Staff Accountant","2018-08-13T13:59:00","2018-08-18T08:00:00","2018-08-22T14:44:00",null,null,"2018-12-14T06:46:00"]
["https://www.uber.com/careers/list/38642/","What You’ll Need\n• 2+ years of experience managing fast paced accounts \n• Ability to solve complex problems under pressure\n• Ability to collaborate and work with a highly diverse set of shippers, transportation partners, and internal partners\n• Analytical and critical thinking ability\n• Communication and organizational skills\n• The ability to balance attention to detail with swift execution \n• Bachelor's Degree\n\n","What You’ll Need\n• 2+ years of experience managing fast paced accounts \n• Demonstrated ability to solve complex problems under pressure\n• Ability to collaborate and work with a highly diverse set of shippers, transportation partners, and internal partners\n• Analytical and critical thinking ability\n• Strong communication and organizational skills\n• The ability to balance attention to detail with swift execution - we need to do things quickly, and we need to do them well\n• Bachelor's Degree\n \nBonus Points If\n• You have experience in the logistics industry\n\n","?iisp=he-6594079","?iisp=he-6584079",null,"Account Manager, Uber\nFreight","2018-08-13T13:59:00","2019-03-29T08:55:00","2018-10-01T14:50:00","2018-09-25T17:00:00",null,"2018-12-14T06:46:00"]
["https://www.uber.com/careers/list/38628/","What You’ll Need\n \n• Written and verbal communication skills\n• Familiarity with teaching and training, particularly in an engineering context\n• Experience with providing hands on help to end users of many different kinds of software\n• We value self direction. You have the ability to understand the needs of our customers (other engineers at ATG), and prioritize work accordingly\n\n","What You’ll Need\n \n• Seriously excellent written and verbal communication skills\n• Familiarity with teaching and training, particularly in an engineering context\n• Comfortability with providing hands on help to end users of many different kinds of software\n• While this job doesn’t strictly entail writing software, any software engineering proficiency will give candidates a distinct advantage\n• We highly value self direction. You should have the ability to understand the needs of our customers (other engineers at ATG), and prioritize work accordingly\n\n","?iisp=he-6594079","?iisp=he-6584079",null,"Technical Educator","2018-08-13T13:59:00","2019-03-07T13:45:00","2018-12-10T08:23:00","2018-11-30T15:50:00",null,"2018-12-14T06:46:00"]
["https://www.uber.com/careers/list/38542/","What You’ll Need\n\n• Computer science undergraduate degree or equivalent\n• Minimum 4 years product management experience delivering innovative software products\n• Verbal and written communication skills, with experience leading presentations to executives and large groups of people\n• Experience with a variety of development processes, including agile / lean startup\n• Interest in Uber’s mission and self-driving vehicles\n","What You’ll Need\n \n• Computer science undergraduate degree or equivalent\n• Minimum 4 years product management experience delivering highly successful, innovative, and delightful software products\n• Exceptional verbal and written communication skills, with experience leading presentations to executives and large groups of people\n• Experience with a variety of development processes, including agile / lean startup\n• Deep passion for Uber’s mission and self-driving vehicles\n \nBonus Points  (optional)\n\n• Experience building simulation software\n• Simulation experience for autonomous systems of any kind \n• Masters or PhD in computer science or equivalent field\n• Games, VFX and Animation production experience\n• Experience building highly scalable cloud-based platforms\n• Experience building machine learning based products\n\n","?iisp=he-6594079","?iisp=he-6584079",null,"Product Manager - Simulation, Self-Driving","2018-08-13T13:59:00","2018-09-17T17:50:00","2018-10-01T14:50:00",null,null,"2018-12-14T06:46:00"]
["https://www.uber.com/careers/list/38533/","What You’ll Need\n \n• Bachelor's degree \n• Minimum of 3 years of IT audit (internal or external), controls, IT, compliance or risk management experience\n• Organization skills with an ability to plan and perform multiple tasks\n• Ability to analyze complex processes to identify potential financial, operational, systems and compliance risks across major finance cycles\n• Ability to communicate in written and verbal form across a wide array of internal and external stakeholders, including senior management.\n• Ability to manage multiple complex projects concurrently, including managing a team.\n• Ability to work in environments of uncertainty","What You’ll Need\n \n• Bachelor's degree (IT focused and/or Accounting, Finance or Economics preferred)\n• Minimum of 3 years of IT audit (internal or external), controls, IT, compliance or risk management experience\n• Strong organization skills with an ability to plan and perform multiple tasks\n• Ability to analyze complex processes to identify potential financial, operational, systems and compliance risks across major finance cycles\n• Ability to effectively communicate in written and verbal form across a wide array of internal and external stakeholders, including senior management.\n• Demonstrated ability to manage multiple complex projects concurrently, including managing a team.\n• Ability to thrive in environments of uncertainty\n \nBonus Points If\n \n• Experience with SOX readiness assessments and control implementation\n• Big 4 accounting firm and/or internet/ technology industry experience\n• CPA/CA/CIA/CFA/CISSP/CISM/CISA\n• Demonstrated project management experience (PM certification a plus)\n• Experience managing, monitoring and remediating deficient financial controls\n• Process management experience, including process redesign and optimization\n• Working technical knowledge of US GAAP, SEC reporting requirements, SOX requirements, including PCAOB Auditing Standard No. 5\n• Experience with information technology general controls and automated business process controls and concepts using both homegrown and COTS ERP systems. \n• Experience with Oracle R12 or another large scale ERP \n\n","?iisp=he-6594079","?iisp=he-6584079",null,"Sr. Analyst, IT \nRisk and Controls Management","2018-08-13T13:59:00","2019-01-15T09:20:00",null,null,null,"2018-12-14T06:46:00"]
["https://www.uber.com/careers/list/38526/","What You'll Need\n• 10-15 years of executive management and operating experience in high growth environments\n• Experience building and leading teams, managing employees both directly and leading work that cuts across many different departments\n• Analytical and critical thinking skills, and an ability to problem solve in a new and unfamiliar environment\n• Written and verbal communication skills, and able to engage with C-level leaders all the way down to on-the-ground operations employees\n• Experience in partnership or business development; managing relationships with external parties whether government entities, trade groups, or private businesses\n","What You'll Need\n• 10-15 years of executive management and operating experience in high growth environments\n• Experience building and leading teams, managing employees both directly and leading work that cuts across many different departments\n• Strong analytical and critical thinking skills, and a demonstrated ability to problem solve in a new and unfamiliar environment\n• Excellent written and verbal communication skills, and comfort engaging with C-level leaders all the way down to on-the-ground operations employees\n• Experience in partnership or business development; managing relationships with external parties whether government entities, trade groups, or private businesses\n• Familiarity with tech and/or travel industries a plus\n","?iisp=he-6594079","?iisp=he-6584079",null,"Central Operations Group\nLead, Airports Operations","2018-08-13T13:59:00","2018-08-21T09:00:00","2018-08-29T16:02:00",null,null,"2018-12-14T06:46:00"]
["https://www.uber.com/careers/list/38506/","What You’ll Need\n\n• Interest in experimentation and a desire to promote its value.\n• Entrepreneurial spirit with an interest in learning and a data-driven mindset.\n• Experience formulating a product vision and guiding the narrative around that vision.\n• Communication skills, both within your team and with leadership and stakeholders.\n• Customer empathy, with the ability to transform complex customer insights into a prioritized roadmap.\n• Experience partnering with cross-functional teams of engineers, data scientists, and designers to deliver products.\n• Experience simplifying the complicated and conveying large amounts of data in intuitive and compelling ways.\n• 3 or more years of product management experience","What You’ll Need\n\n• Passion for experimentation and an eagerness to evangelize its value.\n• Entrepreneurial spirit with a thirst for learning and a data-driven mindset.\n• Experience formulating an inspiring product vision and driving the narrative around that vision.\n• Exceptional communication skills, both within your team and with leadership and stakeholders.\n• Strong customer empathy, with the ability to transform complex customer insights into a prioritized roadmap.\n• Experience partnering with cross-functional teams of engineers, data scientists, and designers to deliver extraordinary products.\n• A knack for simplifying the complicated and conveying large amounts of data in intuitive and compelling ways.\n• 3 or more years of product management experience\n \nBonus points if\n \n• You have worked on an experimentation platform \n• You have designed analytics tools and/or data products\n• You have obsessed about metrics that best measure success\n• You understand the strengths and weaknesses of different experiment designs\n\n","?iisp=he-6594079","?iisp=he-6584079",null,"Product Manager -\nMarketplace -\nExperimentation","2018-08-13T13:59:00","2019-02-22T15:37:00",null,null,null,"2018-12-14T06:46:00"]
["https://www.uber.com/careers/list/38493/","What you'll need\n \n• Listening, communication, and organizational skills\n• Ability to multi-task and follow through while paying attention to detail\n• Coachability, interest in implementing feedback, and dedication to the improvement of your craft\n• Curiosity about people and business and an interest in Uber Eats and food\n• A positive attitude and desire to win; hard work and determination\n• 4 or more years of sales experience required\n• Bachelor’s degree required\n\n","What you'll need\n \n• Exceptional listening, communication, and organizational skills\n• Proven ability to multi-task and follow through while paying strict attention to detail\n• Coachability, interest in implementing feedback, and dedication to the improvement of your craft\n• Genuine curiosity about people and business and a passion for Uber Eats and food\n• An infectiously positive attitude and drive to win; hustle and determination\n• Restaurant industry or hospitality experience preferred\n• 4 or more years of sales experience required\n• Bachelor’s degree required\n\n","?iisp=he-6594079","?iisp=he-6584079",null,"Account Executive, Uber\nEats","2018-08-13T13:59:00","2018-08-22T14:00:00","2018-08-29T16:02:00",null,null,"2018-12-14T06:46:00"]
["https://www.uber.com/careers/list/38488/","What You'll Need\n• A minimum of 6 years of legal experience at a mid to large size law firm, government regulatory entity or in-house corporate role\n• Writing, research, negotiating, and interpersonal skills\n• Oral advocacy and presentation skills \n• Experience crafting strategies to achieve regulatory goals, and advocacy in rulemaking proceedings before a regulatory body\n• Business judgment, communication and interpersonal skills\n• Experience leading and managing regulatory or policy initiatives for your clients\n• Ability to multitask and carry out projects with limited oversight\n• Good academic performance in law school\n• Ability to work in high impact/high profile situations\n• Interested in Uber","What You'll Need \n• A minimum of 6 years of legal experience at a mid to large size law firm, government regulatory entity or in-house corporate role\n• Prior experience in dealing with unique technology issues is preferred\n• Outstanding writing, research, negotiating, and interpersonal skills\n• Excellent oral advocacy and presentation skills \n• Experience crafting strategies to achieve ambitious regulatory goals, and advocacy in rulemaking proceedings before a regulatory body\n• Experience before federal or state regulatory bodies (CPUC, NHTSA, state DMVs) is a plus\n• Experience in legislative drafting, public policy or political roles is a plus\n• Excellent business judgment, communication and interpersonal skills\n• Experience leading and managing regulatory or policy initiatives for your clients\n• Ability to multitask and carry out important projects with limited oversight\n• Outstanding academic performance in law school and additional preference for joint JD/MBA holders\n• Ability to thrive in high impact/high profile situations\n• Enthusiastic about Uber!","?iisp=he-6594079","?iisp=he-6584079",null,"Counsel, Regulatory\n(Central Region)","2018-08-13T13:59:00","2018-08-23T17:00:00","2018-08-29T16:02:00",null,null,"2018-12-14T06:46:00"]
["https://www.uber.com/careers/list/38473/","What You’ll Need\n \n• Minimum 1 year of audit experience\n• Bachelor's degree in Accounting or Finance\n• Pursuing certification in 1 or more of the following: CPA, CISA, or CIA.\n• Ability and willingness to travel (up to 25 percent)\n \n","What You’ll Need\n \n• Minimum 1 year of audit experience\n• Bachelor's degree in Accounting or Finance\n• Pursuing certification in 1 or more of the following: CPA, CISA, or CIA.\n• Ability and willingness to travel (up to 25 percent)\n \nBonus Points if\n• Experience with execution and documentation of SOX readiness reviews or implementation of internal controls\n• Knowledge of business and IT processes and how they intersect with financial transactions.\n• Must be able to complete assignments on a timely basis within budget and deadline.\n• Working technical knowledge of US GAAP, SEC reporting requirements, COSO, SOX requirements, including PCAOB Auditing Standard No. 5, IIA  standards and audit processes and procedures..\n• Public accounting and/or start-up experience.\n• Oracle, ACL, and SQL knowledge.\n• Technology and/or media specific industry experience.\n\n","?iisp=he-6594079","?iisp=he-6584079",null,"Internal Audit Analyst,\nFinance","2018-08-13T13:59:00","2018-10-16T13:00:00","2018-10-23T06:21:00",null,null,"2018-12-14T06:46:00"]
["https://www.uber.com/careers/list/38468/","What you’ll need:\n• Minimum 2 years of experience as a Product Manager (candidates with minimum 4 years of experience as management consultants or software engineers also considered)\n• Written and oral communication skills. Experience delivering executive level presentations as well as detailed product requirement documentation\n• Prior experience collaborating with designers to launch front end features\n• Prior experience collaborating with engineers with ability to understand and tradeoff engineering cost against business goals\n• Analytic capability. \n","What you’ll need:\n• Minimum 2 years of experience as a Product Manager (candidates with minimum 4 years of experience as management consultants or software engineers also considered)\n• Strong written and oral communication skills. Demonstrated experience delivering executive level presentations as well as detailed product requirement documentation\n• Prior experience collaborating with designers to launch front end features\n• Prior experience collaborating with engineers with demonstrated ability to understand and tradeoff engineering cost against business goals\n• Demonstrated analytic capability. SQL competency a plus\n","?iisp=he-6594079","?iisp=he-6584079",null,"Sr Product Manager - Driver Engagement - Core\nDriver Earnings","2018-08-13T13:59:00","2019-02-12T10:55:00","2018-12-04T07:08:00","2018-11-10T15:40:00",null,"2018-12-14T06:46:00"]
["https://www.uber.com/careers/list/38462/","What You’ll Need:\n• Minimum of one year of  experience\n• Bachelor’s degree required\n• Excel and data analysis skills\n• Leadership on projects and initiatives at your organization\n• Attention to detail and able to handle ambiguity in an ever-changing environment\n","What You’ll Need:\n• Minimum of one year of  experience\n• Bachelor’s degree required\n• Excellent Excel and data analysis skills, SQL is a plus\n• Demonstrated leadership on projects and initiatives at your organization\n• Attention to detail and comfort with ambiguity in an ever-changing environment\n","?iisp=he-6594079","?iisp=he-6584079",null,"Strategic Operations\nManager - West (LA-Based)","2018-08-13T13:59:00","2018-10-03T12:22:00","2018-10-08T12:55:00",null,null,"2018-12-14T06:46:00"]
["https://www.uber.com/careers/list/38440/","What You’ll Need \n\n• You have some combination of retail, sales, client-facing, or customer service experience \n• You’re able to learn and adapt to new technology\n• You’re a communicator, with the ability to interact and connect with many types of personalities\n• You are willing and interested in selling our product to potential driver-partners\n• You’re a patient teacher and have a desire to empower others \n• You’re able to problem solve and troubleshoot \n• You’re self-motivated and able to operate independently with minimal oversight\n","What You’ll Need\n\n• You have some combination of retail, sales, client-facing, and/or customer service experience \n• You’re comfortable learning and adapting to new technology\n• You’re an outstanding communicator, with the ability to interact and connect with many types of personalities\n• You are willing and enthusiastic about selling our product to potential driver-partners\n• You’re a patient teacher and have a passion for empowering others \n• You’re able to quickly and efficiently problem solve and troubleshoot - if you don’t know the answer, you know where to look and who to ask\n• You’re self-motivated and able to operate independently with minimal oversight\n \nBonus points if\n\n • Fluent in Spanish\n","?iisp=he-6594079","?iisp=he-6584079",null,"Uber Expert, In-Person\nSupport - Bronx","2018-08-13T13:59:00","2018-08-14T06:00:00","2018-08-22T14:44:00",null,null,"2018-12-14T06:46:00"]
["https://www.uber.com/careers/list/38436/","What You’ll Need\n\n• A minimum of 8 years of broad trial and litigation experience\n• A trial lawyer ready to build an investigations practice; someone who enjoys truth-seeking and providing business advice\n• Knowledge and experience in a wide range of litigation and investigations\n• Familiarity with e-discovery issues, including document retention policies and procedures as well as collection, review, and production of documents\n• Motivated, efficient, organized, and focused on the details; able to handle multiple projects at a time in a fast-paced environment, both collaborating as a team to stay in sync and working independently to get the job done\n• Good academic credentials and law degree from a good law school \n• Writing and advocacy skills\n• Interested in Uber","What You’ll Need\n\n• A minimum of 8 years of broad trial and litigation experience; government trial experience strongly preferred\n• A devoted trial lawyer ready to build a first-class investigations practice; someone who thrives on truth-seeking and providing savvy business advice\n• Substantive knowledge and expertise in a wide range of litigation and investigations\n• Familiarity with e-discovery issues, including document retention policies and procedures as well as collection, review, and production of documents\n• Highly motivated, efficient, organized, and laser-focused on the details; able to juggle multiple projects at a time in a fast-paced environment, both collaborating as a team to stay in sync and working independently to get the job done\n• Strong academic credentials and law degree from a top law school\n• Outstanding writing and advocacy skills\n• Enthusiastic about Uber!","?iisp=he-6594079","?iisp=he-6584079",null,"Senior Counsel,\nGovernment and\nRegulatory Investigations\nand Litigation","2018-08-13T13:59:00","2019-01-14T09:10:00",null,null,null,"2018-12-14T06:46:00"]
["https://www.uber.com/careers/list/38424/","What You’ll Need\n• A minimum of 15 years of broad trial and litigation experience\n• A trial lawyer ready to build an investigations practice; someone who enjoys truth-seeking and providing business advice\n• Knowledge and experience in a wide range of litigation and investigations\n• Experience as a people manager\n• Familiarity with e-discovery issues, including document retention policies and procedures as well as collection, review, and production of documents\n• Motivated, efficient, organized, and focused on the details; able to handle multiple projects at a time in a fast-paced environment, both collaborating as a team to stay in sync and working independently to get the job done\n• Good academic credentials and law degree from a good law school\n• Writing and advocacy skills\n• Interested in Uber","What You’ll Need\n• A minimum of 15 years of broad trial and litigation experience; government trial experience strongly preferred\n• A devoted trial lawyer ready to build a first-class investigations practice; someone who thrives on truth-seeking and providing savvy business advice\n• Substantive knowledge and expertise in a wide range of litigation and investigations\n• Demonstrated experience as a people manager\n• Familiarity with e-discovery issues, including document retention policies and procedures as well as collection, review, and production of documents\n• Highly motivated, efficient, organized, and laser-focused on the details; able to juggle multiple projects at a time in a fast-paced environment, both collaborating as a team to stay in sync and working independently to get the job done\n• Strong academic credentials and law degree from a top law school\n• Outstanding writing and advocacy skills\n• Enthusiastic about Uber!","?iisp=he-6594079","?iisp=he-6584079",null,"Director, Government and\nRegulatory Investigations\nand Litigation","2018-08-13T13:59:00","2019-03-21T13:50:00",null,null,null,"2018-12-14T06:46:00"]
["https://www.uber.com/careers/list/38408/","What You'll Need\n \n• Spanish language skills\n• 2+ years of finance/business operations experience in a high-growth, rapidly changing environment\n• Cross functional work experience\n• Critical thinking and analytical problem solving abilities\n• Analytical skills\n• Communications skills at all levels\n• Desire to build\n\n","What You'll Need\n \n• Spanish language skills\n• BS/BA/Master in Economics, Finance or Business, preferred\n• 2+ years of finance/business operations experience in a high-growth, rapidly changing environment\n• Effective cross functional work experience\n• Extraordinary critical thinking and analytical problem solving abilities\n• Strong analytical skills (experience with modelling, SQL and solid Excel skills are a big plus)\n• Strong, clear communications skills at all levels\n• Financial and banking systems knowledge preferred\n• Strong desire to build\n\n","?iisp=he-6594079","?iisp=he-6584079",null,"Sr. Analyst/ Analyst,\nPartner Payments","2018-08-13T13:59:00","2018-08-18T08:00:00","2018-08-22T14:44:00",null,null,"2018-12-14T06:46:00"]
["https://www.uber.com/careers/list/38385/","What You'll Need: \n\n• Minimum of 3 years experience in Product Management delivering innovative products \n• Understanding and experience with Lean Testing methodologies, experience building products from zero to first release \n• Experience applying Machine Learning / statistical inference technologies to a variety of complex problems\n• Ability to work collaboratively with technical and non-technical team members up to and including the executive-level\n• A \"driver\" personality - biased toward action, collaborator and a disambiguator/simplifier – striving for clarity and delivery. You persevere \n• Focused on building businesses, not features. Entrepreneurial experience building and leading businesses, including ownership and optimization of business performance metrics\n• Interest in Uber's mission and the company's hybrid technology / operations nature.\n• A desire to grow and learn.","What You'll Need:\n\n• Minimum of 3 years experience in Product Management delivering highly successful and innovative products with your fingerprints all over them — and you’re extremely proud of what you’ve accomplished\n• Deep understanding and experience with Lean Testing methodologies, experience building products from zero to first release \n• Experience applying Machine Learning / statistical inference technologies to a variety of complex problems\n• Proven ability to work collaboratively with technical and non-technical team members up to and including the executive-level\n• A \"driver\" personality - biased toward action, great collaborator and an excellent disambiguator/simplifier - constantly pushing toward clarity and delivery. You persevere when others give up\n• Focused on building businesses, not features. Entrepreneurial experience building and leading businesses, including ownership and optimization of business performance metrics\n• An undergraduate degree or equivalent in computer science or a quantitative domain plus hands-on software engineering and/or data science experience highly preferred.\n• True passion for Uber's mission and the company's hybrid technology / operations nature.\n• A deep desire to grow and learn.\n","?iisp=he-6594079","?iisp=he-6584079",null,"Product Manager - Global\nIntelligence","2018-08-13T13:59:00","2019-02-13T19:10:00",null,null,null,"2018-12-14T06:46:00"]
["https://www.uber.com/careers/list/38383/","What You ll Need\n\n• A computer science undergraduate degree or equivalent plus hands-on software engineering experience. \n• Experience delivering consumer Internet or enterprise products. \n• Design instincts and product taste - own what you build. \n• Standards across the board - from your own contributions to the people you work with to the products you work on. \n• Grittiness. You are able to engage and address something hands-on, you persevere.\n• Finger-tippiness with data: you are able to get the data you need and turn it into a story. You know how to use data to make decisions without getting stuck in analysis paralysis. \n• User-centricity - examples from your past of tough product challenges that you handled because you were unwilling to make your problems your users’ problems. \n• Interest in Uber’s mission and the company’s hybrid technology / operations nature. \n• A desire to grow and learn","What You ll Need\n\n• A computer science undergraduate degree or equivalent plus hands-on software engineering experience. Technical understanding must go from the highest abstractions down to the metal.\n• Experience delivering highly successful and creative consumer Internet or enterprise products with your fingerprints all over them - you’re proud of what you’ve accomplished. \n• Stellar design instincts and product taste - own what you build. \n• A high bar across the board - from your own contributions to the people you work with to the products you work on. \n• Grittiness. You never hesitate to roll up your sleeves and take something on, you persevere when others fall away. \n• Finger-tippiness with data: you just go get the data you need with no muss/fuss and can whip it into an insightful story with no help. You know how to use data to make decisions without getting stuck in analysis paralysis. \n• User-centricity - examples from your past of tough product challenges that you powered through because you were unwilling to make your problems your users’ problems. \n• True passion for Uber’s mission and the company’s hybrid technology / operations nature. \n• A never-ending desire to grow and learn\n","?iisp=he-6594079","?iisp=he-6584079",null,"Sr Product Manager - Driver Access - Screening\nand Compliance","2018-08-13T13:59:00","2019-02-08T09:12:00",null,null,null,"2018-12-14T06:46:00"]
["https://www.uber.com/careers/list/38379/","What You’ll Need\n• Past experience in designing and building large-scale distributed systems with reliability and availability in mind.  (Our architecture scales to 100x at 99.9% availability). \n• Experience as a Senior Staff Engineer level or above at a technology company\n• Go/Java development.\n• 10+ years of software development experience\n• Product and customer-centric mindset. The platform we are building is going to be leveraged by thousands of Uber engineers across many teams.\n","What You’ll Need\n• Past experience in successfully designing and building large-scale distributed systems with reliability and availability in mind.  If your architecture can’t scale to 100x at 99.99% availability, it won’t work for Uber.\n• Proven track record of results as a Senior Staff Engineer level or above at a premier technology company\n• Prior experience with integration/implementation of software stacks on top of AWS and/or GCP is a plus.\n• Excellent Go/Java development.\n• 10+ years of software development experience\n• Product and customer-centric mindset. The platform we are building is going to be leveraged by thousands of Uber engineers across many teams.\n","?iisp=he-6594079","?iisp=he-6584079",null,"Sr. Staff Cloud Engineer","2018-08-13T13:59:00","2018-09-10T15:52:00","2018-09-23T12:29:00",null,null,"2018-12-14T06:46:00"]
["https://www.uber.com/careers/list/38374/","Here are the skills and experiences we’re looking for:\n• Minimum of 3 years experience as a Technical Program Manager or engineering manager in a software, SaaS, or systems development environment.\n• Technical skill and an ability to understand technical designs, challenges and risks. Engineers enjoy working closely with you.\n• Experienced in project management. Familiar with both Agile and Waterfall methodologies and able to apply them where best suited.\n• Written and verbal communication skills and emotional intelligence. Ability to influence and motivate people across a broad variety of job functions through your relationships.\n• Organizational skills to manage multiple, competing priorities simultaneously, without losing sight of highest priority items.\n• Technical, analytical and quantitative skills with the ability to use data and metrics to back up assumptions, recommendations and make decisions.\n• Ability to understand complex concepts and make decisions objectively.","Here are the skills and experiences we’re looking for:\n• Minimum of 3 years experience as a Technical Program Manager or engineering manager in a software, SaaS, or systems development environment.\n• Solid technical aptitude and an ability to understand technical designs, challenges and risks. Engineers enjoy working closely with you.\n• Experienced in project management. Familiar with both Agile and Waterfall methodologies and able to apply them where best suited.\n• Excellent written and verbal communication skills and exceptional emotional intelligence. Ability to influence and motivate people across a broad variety of job functions through your relationships.\n• Strong organizational skills to manage multiple, competing priorities simultaneously, without losing sight of highest priority items.\n• Strong technical, analytical and quantitative skills with the ability to use data and metrics to back up assumptions, recommendations and drive decisions.\n• Ability to understand complex concepts and make reasoned decisions objectively.\n\nDesired but not required\n• Computer Science degree, or related field. \n• Worked at a high paced, fast growing, scrappy tech startup.\n• Prior experience with data systems, tooling, and system design\n• Technical program management experience at an established company with a strong TPM team.\n• Developer experience, including writing, testing and deploying code.\n\n","?iisp=he-6594079","?iisp=he-6584079","FIXED. typo - I deleted extra bullet at the end of required qualifications list ","Technical Program Manager - Marketplace Control","2018-08-13T13:59:00","2018-09-04T16:43:00","2018-10-01T14:50:00",null,null,"2018-12-14T06:46:00"]
["https://www.uber.com/careers/list/38369/","What You’ll Need:\n• Minimum of one year of  experience\n• Bachelor’s degree required \n• Excel and data analysis skills\n• Leadership on projects and initiatives at your organization\n• Attention to detail and able to handle ambiguity in an ever-changing environment\n","What You’ll Need:\n• Minimum of one year of  experience\n• Bachelor’s degree required\n• Excellent Excel and data analysis skills, SQL is a plus\n• Demonstrated leadership on projects and initiatives at your organization\n• Attention to detail and comfort with ambiguity in an ever-changing environment\n","?iisp=he-6594079","?iisp=he-6584079",null,"Strategic Operations\nManager - West (SF-Based)","2018-08-13T13:59:00","2018-09-19T22:00:00","2018-10-01T14:50:00",null,null,"2018-12-14T06:46:00"]
["https://www.uber.com/careers/list/38351/","What You’ll Need\n \n• BS degree in Electrical Engineering or related engineering field.\n• 5+ years of relevant hardware system engineering experience.\n• Prior experience with defining server level features to fit software workload needs, validating systems, and deploying systems into the datacenter\n• Prior experience with debugging and fixing hardware and firmware issues on servers and storage systems.\n• Prior experience with validation and debug of the server systems and motherboards to ensure proper form/fit/functionality of the board with all of its interfaces.\n• Written and verbal communication skills and the ability to write detailed design documents.\n• You have experience helping the team grow by inspiring and mentoring less experienced engineers.\n• You are a team player. We have internal customers whom we want to serve to the best of our ability. You have customer service skills and are able to develop solutions that span multiple teams.\n• Experience with operating systems.You have experience in the Linux environment and an understanding of its fundamentals such as kernel parameters","What You’ll Need\n \n• BS degree in Electrical Engineering or related engineering field.\n• 5+ years of relevant hardware system engineering experience.\n• Prior experience with defining server level features to fit software workload needs, validating systems, and deploying systems into the datacenter\n• Prior experience with debugging and fixing hardware and firmware issues on servers and storage systems.\n• Prior experience with validation and debug of the server systems and motherboards to ensure proper form/fit/functionality of the board with all of its interfaces.\n• Excellent written and verbal communication skills and the ability to write detailed design documents.\n• You have a knack for helping the team grow by inspiring and mentoring less experienced engineers.\n• You must be a team player. We have internal customers whom we want to serve to the best of our ability. You should have customer service skills and be able to develop solutions that span multiple teams.\n• Strong experience with operating systems.You should have strong experience in the Linux environment and a solid understanding of its fundamentals such as kernel parameters\n \nBonus Points:\n• Understanding of DHCP, PXE, DNS and TCP/IP are also a bonus\n• Experience with developing service oriented systems, REST\n• Solid background in multiple programming languages, e.g. Go, Python or C/C++ \n\n","?iisp=he-6594079","?iisp=he-6584079",null,"(Senior) Hardware\nSystems Engineer II -\nuMetal","2018-08-13T13:59:00","2019-02-14T19:10:00","2018-10-08T12:55:00",null,"2018-10-01T08:20:00","2018-12-14T06:46:00"]
["https://www.uber.com/careers/list/38346/","What You’ll Need\n• Bachelor's degree required\n• Willingness to work weekends, holidays and outside a standard 8 to 5 shift\n• Communication and organization skills\n• Ability to collaborate and work with a highly diverse set of customers and internal partners\n• Ability to balance attention to detail with swift execution\n• Ability to solve complex problems under pressure\n• Ability to be resourceful and get things done\n• Analytical and critical thinking skills\n\n","What You’ll Need\n• Bachelor's degree required\n• Willingness to work weekends, holidays and outside a standard 8 to 5 shift\n• Strong communication and organization skills\n• Ability to collaborate and work with a highly diverse set of customers and internal partners\n• Ability to balance attention to detail with swift execution—we need to do things quickly, and we need to do them well\n• Demonstrated ability to solve complex problems under pressure\n• Ability to be resourceful, scrappy, and get things done\n• Analytical and critical thinking skills\n\nBonus Points\n• Zendesk experience preferred, but not required\n• You are bilingual in both Spanish and English\n• Experience in the logistics or Freight industry\n\n","?iisp=he-6594079","?iisp=he-6584079",null,"Account Coordinator -\nUber Freight","2018-08-13T13:59:00","2018-09-19T22:00:00","2018-10-01T14:50:00",null,null,"2018-12-14T06:46:00"]
["https://www.uber.com/careers/list/38345/","What You’ll Need\n• 2+ years front-end web development experience.\n• Experience with React / Redux.\n\n","What You’ll Need\n• 2+ years front-end web development experience.\n• Experience with React / Redux.\n\nBonus Points If\n• Experience with WebGL and web visualization frameworks, e.g. d3.js, three.js, deck.gl.\n• Experience developing scalable APIs, frameworks and web apps used by many other people.\n• Experience working directly with clients and customers to understand and solve their needs.\n• Experience with test-driven development.\n• Strong open-source background.\n\n","?iisp=he-6594079","?iisp=he-6584079",null,"Front-End Engineer, Tools\nPlatform- Self Driving","2018-08-13T13:59:00",null,"2018-08-29T16:02:00",null,"2018-08-21T09:00:00","2018-12-14T06:46:00"]
["https://www.uber.com/careers/list/38332/","What You’ll Need\n\n• Bachelor's degree\n• A minimum of 6+ years of audit (internal or external), controls, compliance or risk management experience\n• Organization skills with an ability to plan and perform multiple tasks\n• Ability to analyze complex processes to identify potential financial, operational, systems and compliance risks across major finance cycles\n• Ability to communicate in written and verbal form across a wide array of internal and external stakeholders, including senior management.\n• Ability to manage multiple complex projects concurrently, including managing a team.\n• Ability to work in environments of uncertainty\n \n","What You’ll Need\n\n• Bachelor's degree (Accounting, Finance or Economics preferred)\n• A minimum of 6+ years of audit (internal or external), controls, compliance or risk management experience\n• Strong organization skills with an ability to plan and perform multiple tasks\n• Ability to analyze complex processes to identify potential financial, operational, systems and compliance risks across major finance cycles\n• Ability to effectively communicate in written and verbal form across a wide array of internal and external stakeholders, including senior management.\n• Demonstrated ability to manage multiple complex projects concurrently, including managing a team.\n• Ability to thrive in environments of uncertainty\n \nBonus Points If\n• Big 4 accounting firm and/or internet/ technology industry experience\n• CPA/CA/CIA/CFA/CISSP/CISM\n• Demonstrated project management experience (PM certification a plus)\n• Experience managing, monitoring and remediating deficient financial controls\n• Process management experience, including process redesign and optimization\n• Working technical knowledge of US GAAP, SEC reporting requirements, SOX requirements, including PCAOB Auditing Standard No. 5\n• Experience with Oracle R12 or another large scale ERP \n","?iisp=he-6594079","?iisp=he-6584079",null,"Manager, Financial\nControls Program\nManagement","2018-08-13T13:59:00","2018-09-13T07:35:00","2018-09-23T12:29:00",null,null,"2018-12-14T06:46:00"]
["https://www.uber.com/careers/list/38330/","What You’ll Need:\n \n• Bachelor of Science degree (or higher) in computer science, related field or equivalent practical experience.\n• Software engineering skills, supported by 6+ years of industry experience.\n• Experience in Android or iOS mobile development\n• Experience in testing and deploying scalable mobile application\n• Curiosity to learn new technologies, explore new ideas, and desire to implement them.\n• Written, verbal communication skills; ability to influence others within your team and outside your team.\n• Attention to detail, particularly around software engineering fundamentals, testing methodologies, and quality.\n• Sense of ownership, and initiative to fix problems and optimize systems that are both inside and outside your area of responsibility.\n• Willingness and optimism to try new ideas; ability to adapt and learn from mistakes and from other team members.\n• Work ethic, productivity, and commitment; desire to see projects through to timely completion.\n• A belief that your team can accomplish more together than as individuals; ability to accept constructive feedback for continuous self-improvement; dependability - someone who the team can depend on to deliver results.\n","What You’ll Need:\n \n• Bachelor of Science degree (or higher) in computer science, related field or equivalent practical experience.\n• Strong software engineering skills, supported by 6+ years of industry experience.\n• Extensive experience in Android and/or iOS mobile development\n• Experience in testing and deploying scalable mobile application\n• Deep curiosity to learn new technologies, explore new ideas, and passion to implement them.\n• Strong written, verbal communication skills; ability to influence others within your team and outside your team.\n• Attention to detail, particularly around software engineering fundamentals, testing methodologies, and quality.\n• Strong sense of ownership, and initiative to fix problems and optimize systems that are both inside and outside your area of responsibility.\n• Willingness and optimism to try new ideas; ability to quickly adapt and learn from mistakes and from other team members.\n• Strong work ethic, productivity, and commitment; desire to see projects through to timely completion.\n• A belief that your team can accomplish more together than as individuals; ability to accept constructive feedback for continuous self-improvement; dependability - someone who the team can depend on to deliver results.\n \nBonus Points If:\n \n• Experience with any of the following: C++, Python, Scala, Go programming languages, OpenGL, mobile UI\n• Passion for working on systems related to maps.\n• Masters or PhD in Computer Science or related field.\n\n","?iisp=he-6594079","?iisp=he-6584079",null,"Software Engineer -\nMobile","2018-08-13T13:59:00",null,"2018-10-01T14:50:00","2018-09-19T12:20:00",null,"2018-12-14T06:46:00"]
["https://www.uber.com/careers/list/38313/","What You’ll Need\n\n• BA/BS degree with minimum 3 years of relevant content management experience\n• Written and verbal communication skills\n• Problem solving, critical thinking and analytical skills\n• Familiarity working with numbers and spreadsheets\n• Organized, process oriented, and deadline driven\n• You like working with words: you’re quick to understand the required tone for a situation and craft content that resonates as a result\n• You are able to work in fast-paced, ever changing environments\n \n","What You’ll Need\n\n• BA/BS degree with minimum 3 years of relevant content management experience\n• Strong written and verbal communication skills\n• Excellent problem solving, critical thinking and analytical skills\n• Comfort working with numbers and spreadsheets\n• Highly organized, process oriented, and deadline driven\n• You like working with words: you’re quick to understand the required tone for any given situation (of which there are literally thousands at Uber!) and craft content that resonates as a result\n• You thrive in fast-paced, ever changing environments\n \nBonus Points if\n \n• Writing and editing content for a global audience\n• Working with content management systems (CMSs)\n• Knowledge management experience\n• Worked with support content\n\n\n","?iisp=he-6594079","?iisp=he-6584079",null,"Support Content\nStrategist","2018-08-13T13:59:00","2019-01-11T17:20:00","2018-12-04T07:08:00",null,"2018-11-12T19:45:00","2018-12-14T06:46:00"]
["https://www.uber.com/careers/list/38312/","What You’ll Need\n\n• 2 years of experience in a professional, productive environment. \n• Experience in Excel with regard to formulas and charting. Possess knowledge of Word, internet and other software applications\n• Analytical skills are needed to analyze data and create understandable models, reports and metrics\n• Ability to work in a self-guided manner and within a team, conduct research, formulate conclusions and present conclusions regarding business issues\n• Ability to develop concise presentation decks to illustrate and communicate related information\n \n","What You’ll Need\n\n• 2 years of experience in a professional, productive environment. A deep background in Compensation, Mathematics, Finance, Statistics or Economics preferred\n• Experience in Excel with regard to formulas and charting. Possess superb knowledge of Word, internet and other software applications\n• Excellent analytical skills are needed to effectively analyze data and create meaningful, understandable models, reports and metrics\n• Demonstrated ability to work in a self-guided manner and within a team, conduct research, formulate conclusions and present conclusions regarding business issues\n• Ability to develop concise presentation decks to illustrate and communicate related information\n \nBonus Points If\n• Proficiency with SQL, R, and/or spreadsheet software\n","?iisp=he-6594079","?iisp=he-6584079",null,"Associate Compensation\nAnalyst","2018-08-13T13:59:00","2018-09-12T08:22:00","2018-09-23T12:29:00",null,null,"2018-12-14T06:46:00"]
["https://www.uber.com/careers/list/38304/","What You'll Need\n \n• BS degree in Computer Science or related engineering field. \n• 10+ years of relevant engineering experience.\n• 3+ years of experience managing engineering teams (network/infrastructure).\n• Experience building or managing highly-available, large-scale networks.\n• Experience with engineering design of data center networks and wide-area networks, including points of presence (PoPs), transit, backbone and transport. \n• Experience working with networking vendors, telecom carriers, transit providers, etc.\n• Experience managing a budget.\n• Desire to facilitate continual improvement initiatives on network availability, performance, agility and unit cost.\n• Written and verbal communication skills, including the ability to write detailed technical documents.\n• Interested in helping the team grow by inspiring and mentoring engineers.\n\n","What You'll Need\n \n• BS degree in Computer Science or related engineering field. Masters/Ph.D. preferred.\n• 10+ years of relevant engineering experience.\n• 3+ years of experience managing engineering teams (network/infrastructure).\n• Track record of building and/or managing highly-available, large-scale networks.\n• Experience with engineering design of data center networks and wide-area networks, including points of presence (PoPs), transit, backbone and transport. \n• Experience working with networking vendors, telecom carriers, transit providers, etc.\n• Experience managing a budget.\n• Passion for driving continual improvement initiatives on network availability, performance, agility and unit cost.\n• Excellent written and verbal communication skills, including the ability to write detailed technical documents.\n• Passionate about helping the team grow by inspiring and mentoring engineers.\n\n","?iisp=he-6594079","?iisp=he-6584079",null,"(Senior) Engineering\nManager, Global Network\nInfrastructure","2018-08-13T13:59:00","2018-11-09T11:50:00","2018-12-04T07:08:00",null,null,"2018-12-14T06:46:00"]
["https://www.uber.com/careers/list/38257/","What You’ll Need\n\n• BS/MS/Phd in Computer Science or related field\n• Experience shipping high-quality product features\n• Experience with Objective-C/Swift and Cocoa Touch Frameworks\n• Dependency Injection\n• RESTful Architecture/Networking\n• Mobile Analytics/Reporting\n• Mobile Experiments\n• UI: Autolayout/Core Animation","What You’ll Need \n\n• BS/MS/Phd in Computer Science or related field\n• Consistent track record of shipping high-quality product features\n• Strong expertise in Objective-C/Swift and Cocoa Touch Frameworks\n• Dependency Injection\n• RESTful Architecture/Networking\n• Mobile Analytics/Reporting\n• Mobile Experiments\n• UI: Autolayout/Core Animation\n• Knowledge of the principles of accessibility and ability to build products that are accessible to users with disabilities, a plus\n","?iisp=he-6594079","?iisp=he-6584079",null,"iOS Engineer (Uber\nBeacon and Advanced\nPrograms)","2018-08-13T13:59:00","2019-03-15T10:40:00",null,null,null,"2018-12-14T06:46:00"]
["https://www.uber.com/careers/list/38248/","What You’ll Need\n\n• Minimum of 6 years experience in the customer marketing, customer communications, or customer engagement space\n• Experience leading and motivating marketing teams.\n• A record of business results through testing and deploying marketing campaigns across channels\n• Familiarity with CRM technology including ESPs, Segmentation tools, and complex data structures and systems\n• Bachelor’s degree or equivalent experience\n","What You’ll Need\n\n• Minimum of 6 years experience in the customer marketing, customer communications, or customer engagement space\n• Experience leading and motivating high performing marketing teams.\n• A track-record of demonstrable business results through testing and deploying effective marketing campaigns across channels\n• Strong familiarity with CRM technology including ESPs, Segmentation tools, and complex data structures and systems\n• Bachelor’s degree or equivalent experience, MBA preferred.\n","?iisp=he-6594079","?iisp=he-6584079",null,"Sr. CRM Marketing\nManager - Driver\nOnboarding & Access","2018-08-13T13:59:00","2019-02-06T08:05:00",null,null,"2018-12-12T07:30:00","2018-12-14T06:46:00"]
["https://www.uber.com/careers/list/38221/","What You’ll Need\n• A minimum of 5 years of diverse M&A and corporate transaction experience at a law firm\n• Ability to manage cross-functional teams / projects with a diverse group of stakeholders across organizational lines\n• Work ethic and ability to handle and prioritize competing and voluminous work streams simultaneously\n• Organization and efficiency with attention to detail\n• Communication (written and verbal) and interpersonal skills\n• Good academic credentials and law degree from a good law school \n• Possess business judgment, communication (written and verbal) and interpersonal skills\n• Interested in Uber","What You’ll Need\n• A minimum of 5 years of diverse M&A and corporate transaction experience at a top-tier law firm; in-house experience is a plus\n• Experience working with late-stage / high-growth private companies in the technology sector is desired\n• Ability to manage cross-functional teams / projects with a diverse group of stakeholders across organizational lines\n• Strong work ethic and ability to juggle and successfully prioritize competing and voluminous work streams simultaneously\n• High degree of organization and efficiency with demonstrated attention to detail\n• Excellent communication (written and verbal) and interpersonal skills\n• Strong academic credentials and law degree from a top law school\n• Possess excellent business judgment, communication (written and verbal) and interpersonal skills\n• Enthusiastic about Uber!","?iisp=he-6594079","?iisp=he-6584079",null,"Counsel, M&A","2018-08-13T13:59:00","2018-08-24T20:00:00","2018-08-29T16:02:00",null,null,"2018-12-14T06:46:00"]
["https://www.uber.com/careers/list/38191/","What You’ll Need\n\n• 5+ years combined product and growth marketing experience delivering user acquisition and engagement strategies, with a focus on consumer marketing.\n• Finger-tippinesses with data: You are able to get the data you need and turn it into a story. You know how to leverage data to make decisions and facilitate growth. You have experience running multivariate testing and experimentation.\n• Market research experience: You know your market, customers and competition, and you integrate this information into your growth strategies.\n• Storyteller: You can craft a narrative across different channels - you know how to match the message to the medium.\n• A “builder” personality: You’re biased toward action, a collaborator and disambiguator/simplifier. You strive for clarity and delivery.\n• Able to articulate the essence of products and the value they create. You can develop a messaging hierarchy and content strategy. You have experience copywriting.\n• Grittiness: You are able to engage and address something hands-on, you persevere.\n• Interest in Uber’s mission and the company’s hybrid technology / operations nature.\n","What You’ll Need \n\n• 5+ years combined product and growth marketing experience delivering highly successful user acquisition and engagement strategies, with a focus on consumer marketing.\n• Finger-tippinesses with data: You just go get the data you need and can whip it into an insightful story with no help. You know how to leverage data to make decisions and drive growth. You have experience running rigorous multivariate testing and experimentation.\n• Top-notch at market research: You’re a truth-seeking missile. You know your market, customers and competition better than anyone, and you integrate this information into your growth strategies.\n• Master storyteller: You can craft a compelling narrative across different channels - you know how to match the message to the medium.\n• A “builder” personality: You’re biased toward action, a great collaborator and master disambiguator/simplifier. You never stop pushing towards clarity and delivery.\n• Scary-good at articulating the essence of products and the value they create. You can develop a strong messaging hierarchy and effective content strategy. You shine at copywriting.\n• Grittiness: You never hesitate to roll up your sleeves and tackle something hands-on, you persevere when others fall away.\n• True passion for Uber’s mission and the company’s hybrid technology / operations nature.\n \nBonus Points if \n\n• You understand how to spot and quantify potential business value within a partnership, equipping you to negotiate co-marketing strategies and identify mutually beneficial opportunities to secure partner investments.\n• You’re a visionary and a builder, with the charisma to steer a team towards the future and the craftsmanship to bring it to life.\n","?iisp=he-6594079","?iisp=he-6584079",null,"Product Marketing\nManager - Rider - Airports\nand Travel","2018-08-13T13:59:00","2018-11-22T07:36:00","2018-12-10T08:23:00",null,null,"2018-12-14T06:46:00"]
["https://www.uber.com/careers/list/38168/","What You’ll Need\n• Experience administering corporate SaaS Applications (e.g. G Suite, OneLogin, Box, DocuSign, CrashPlan, etc.)\n• Basic knowledge of a scripting language (e.g. BASH, PowerShell, etc)\n• An interest in writing and maintaining documentation for  technical and non-technical audiences\n• Written, verbal, and interpersonal communication skills, including the ability to give constructive feedback/objections\n• Experience with engaging vendors regarding critical issues, enhancements, and roadmaps\n\n","What You’ll Need\n• Experience administering corporate SaaS Applications (e.g. G Suite, OneLogin, Box, DocuSign, CrashPlan, etc.)\n• Basic knowledge of a scripting language (e.g. BASH, PowerShell, etc)\n• A passion for writing and maintaining documentation for  technical and non-technical audiences\n• Excellent written, verbal, and interpersonal communication skills, including the ability to give constructive feedback/objections\n• Experience with engaging vendors regarding critical issues, enhancements, and roadmaps\n \nBonus Points If\n• Experience building detailed proposal and project plans \n• Light experience with a scripting language (Python, JavaScript / Google Apps Script, etc.)\n• Familiarity with consuming RESTful APIs for SaaS applications\n\n","?iisp=he-6594079","?iisp=he-6584079",null,"Systems Engineer I","2018-08-13T13:59:00","2018-10-17T15:00:00","2018-10-23T06:21:00",null,null,"2018-12-14T06:46:00"]
["https://www.uber.com/careers/list/38160/","What You’ll Need\n\n• Bachelor's and/or Master's Degree in Economics, Math, Statistics, Management Science or other quantitative field\n• A minimum of 2 years of experience in a quantitative or analytical role\n• SQL skills and experience utilizing common open source tools - such as Python and R - to work efficiently at scale\n• Communication skills and ability to summarize and present large amounts of data\n• Multitasking skills to manage multiple projects across various teams and topics\n• Willingness and desire to learn and adopt new skills - both technical and non-technical - in order to craft and deliver the best solutions\n• Ability to collaborate with individuals from varying backgrounds and skill sets\n• A preference for quality over quantity- you strive to get the math right and aspire to build the right solution\n• Critical thinking, deductive reasoning, and project management skills. You’re able to break a problem down into its constituent parts to identify the best solution\n• Ability to work in a fast paced dynamic environment – we have no shortage of asks but limited time. You are able to assess, prioritize, and execute autonomously\n• Time management skills; multi-task and prioritize workloads; analytical capabilities; identify and resolve problems\n• Interpersonal skills; participate in a team environment and build relationships\n• Attention to detail oriented tasks\n","What You’ll Need\n\n• Bachelor's and/or Master's Degree in Economics, Math, Statistics, Management Science or other quantitative field\n• A minimum of 2 years of experience in a quantitative or analytical role\n• Strong SQL skills and experience utilizing common open source tools - such as Python and R - to work efficiently at scale\n• Effective communication skills and ability to summarize and present large amounts of data\n• Excellent multitasking skills to manage multiple projects across various teams and topics\n• Willingness and desire to learn and adopt new skills - both technical and non-technical - in order to craft and deliver the best solutions\n• Ability to collaborate with individuals from varying backgrounds and skill sets\n• A preference for quality over quantity- you get the math right and aspire to build the right solution\n• Critical thinking, deductive reasoning, and project management skills. You’re easily able to break a problem down into its constituent parts to identify the best solution\n• Ability to thrive in a fast paced dynamic environment – we have no shortage of asks but limited time. You need to be able to effectively assess, prioritize, and execute autonomously\n• Strong time management skills; multi-task and prioritize workloads; demonstrated analytical capabilities; effectively identify and resolve problems\n• Strong interpersonal skills; participate in a team environment and build strong working relationships\n• Exceptional attention to detail oriented tasks\n• Experience in Oracle is highly desired\n","?iisp=he-6594079","?iisp=he-6584079",null,"Data Analyst- Uber\nFreight","2018-08-13T13:59:00","2018-08-30T21:38:00","2018-09-05T15:52:00",null,null,"2018-12-14T06:46:00"]
["https://www.uber.com/careers/list/38119/","What You’ll Need \n \n• Minimum 2 years of professional experience in analytics and data analysis\n• BA/BS/Masters in Business, Economics, Statistics, Analytics, Mathematics, Engineering or other quantitative focus\n• Statistics and data management using Excel, Google Sheets, etc,\n• Experience with database querying (SQL) and dashboard tools\n• Experience with R or Python\nInterest in solving complex problems \n• Communication and project management skills\n• Deliver results in a dynamic and distributed work environment\n• Execution and organization skills","What You’ll Need \n \n• Minimum 2 years of professional experience in analytics and data analysis\n• BA/BS/Masters in Business, Economics, Statistics, Analytics, Mathematics, Engineering or other quantitative focus\n• Statistics and data management using Excel, Google Sheets, etc,\n• Advanced proficiency in database querying (SQL) and dashboard tools\n• Proficiency in R and/or Python\nInterest in solving complex problems \n• Strong communication and project management skills\n• Deliver results in a dynamic and distributed work environment\n• Strong execution and organization skills","?iisp=he-6594079","?iisp=he-6584079",null,"Product Insights Data\nAnalyst","2018-08-13T13:59:00","2018-11-13T20:52:00","2018-12-04T07:08:00",null,null,"2018-12-14T06:46:00"]
["https://www.uber.com/careers/list/38082/","What You'll Need:\n\n• Minimum of 8 years experience in Product Management delivering innovative products \n• Understanding and experience with Lean Testing methodologies, experience building products from zero to first release \n• Experience applying Machine Learning / statistical inference technologies to a variety of complex problems\n• Ability to work collaboratively with technical and non-technical team members up to and including the executive-level\n• A \"driver\" personality - biased toward action, collaborator and a disambiguator/simplifier – striving for clarity and delivery. You persevere \n• Focused on building businesses, not features. Entrepreneurial experience building and leading businesses, including ownership and optimization of business performance metrics\n• Interest in Uber's mission and the company's hybrid technology / operations nature.\n• A desire to grow and learn.","What You'll Need:\n\n• Minimum of 8 years experience in Product Management delivering highly successful and innovative products with your fingerprints all over them — and you’re extremely proud of what you’ve accomplished\n• Deep understanding and experience with Lean Testing methodologies, experience building products from zero to first release \n• Experience applying Machine Learning / statistical inference technologies to a variety of complex problems\n• Proven ability to work collaboratively with technical and non-technical team members up to and including the executive-level\n• A \"driver\" personality - biased toward action, great collaborator and an excellent disambiguator/simplifier - constantly pushing toward clarity and delivery. You persevere when others give up\n• Focused on building businesses, not features. Entrepreneurial experience building and leading businesses, including ownership and optimization of business performance metrics\n• An undergraduate degree or equivalent in computer science or a quantitative domain plus hands-on software engineering and/or data science experience highly preferred.\n• True passion for Uber's mission and the company's hybrid technology / operations nature.\n• A deep desire to grow and learn.\n","?iisp=he-6594079","?iisp=he-6584079",null,"Group Product Manager -\nGlobal Intelligence","2018-08-13T13:59:00","2018-10-19T08:50:00","2018-10-30T07:19:00",null,null,"2018-12-14T06:46:00"]
["https://www.uber.com/careers/list/38060/","Skills:\n• UX design skills\n• Prototyping skills and familiarity with combining this into research\n• Able to distill complex problems into simplified solvable steps\n• Able to project manage and scope efforts with Product\n• Communication skills\n• Willing and interested to push on Product and shape global direction of projects\n\nExperience:\n• Has experience shipping products in the Financial Tech space\n• Familiar with cross functional collaboration between Research, Design, Product, Eng, Data Science and Marketing\n• Understands how to translate research insights into actionable design\n• Understanding of service design/systems thinking and integrating products/services across a platform\n","Skills:\n• Exceptional UX design skills\n• Exceptional prototyping skills and familiarity with combining this into research\n• Able to distill extraordinarily complex problems into simplified solvable steps\n• Good visual design skills, but not mandatory\n• Able to project manage and scope efforts with Product\n• Rock solid communicator, very important\n• Willing and excited to push on Product and shape global direction of projects\n\nExperience:\n• Has experience shipping products in the Financial Tech space\n• Comfortable with cross functional collaboration between Research, Design, Product, Eng, Data Science and Marketing\n• Understands how to translate research insights into actionable design\n• Demonstrates understanding of service design/systems thinking and integrating products/services across a platform\n","?iisp=he-6594079","?iisp=he-6584079",null,"Senior Product Designer,\nFinancial Products/Wallet","2018-08-13T13:59:00","2018-08-18T08:00:00","2018-08-22T14:44:00",null,null,"2018-12-14T06:46:00"]
["https://www.uber.com/careers/list/38040/","Here are the skills and experiences we’re looking for:\n \n• Minimum of 3-5 years experience as a Technical Program Manager or engineering manager in a software, SaaS, or systems development environment.\n• Ability to understand technical concepts such as API integrations and work in highly engineering and product driven environments. Engineers enjoy working closely with you.\n• Experienced in project management; familiar with both Agile and Waterfall methodologies and able to apply them where best suited.\n• Experienced in managing technical processes; able to identify process gaps, measure progress, and balance engineering and product efficiency with process overhead.\n• Written and verbal communication skills and emotional intelligence. Ability to influence and motivate people across a broad variety of job functions through your relationships.\n• Organizational skills to handle many tasks without losing sight of the highest priority items.\n• Analytical and truth seeking. Ability to understand complex concepts and make decisions objectively.","Here are the skills and experiences we’re looking for:\n \n• Minimum of 3-5 years experience as a Technical Program Manager or engineering manager in a software, SaaS, or systems development environment.\n• Ability to understand technical concepts such as API integrations and work in highly engineering and product driven environments. Engineers enjoy working closely with you.\n• Experienced in project management; familiar with both Agile and Waterfall methodologies and able to apply them where best suited.\n• Experienced in managing technical processes; proficient in identifying process gaps, measuring progress, and balancing engineering and product efficiency with process overhead.\n• Excellent written and verbal communication skills and exceptional emotional intelligence. Ability to influence and motivate people across a broad variety of job functions through your relationships.\n• Strong organizational skills to juggle many tasks without losing sight of the highest priority items.\n• Analytical and truth seeking. Ability to understand complex concepts and make reasoned decisions objectively.\n \nDesired but not required\n \n• Worked at a high paced, fast growing, scrappy tech startup.\n• Engineering or TPM experience at an established company with strong TPM roles.\n\n","?iisp=he-6594079","?iisp=he-6584079",null,"Technical Program Manager, Uber Eats Engineering","2018-08-13T13:59:00","2018-09-04T16:43:00","2018-10-01T14:50:00",null,null,"2018-12-14T06:46:00"]
["https://www.uber.com/careers/list/38039/","What You'll Need\n \n• A minimum of 6 years of experience \n• Business judgment, communication and interpersonal skills\n• Technical Knowledge - can create/use Word documents, Excel templates, Adobe Acrobat, Google Drive, e-signing tools and open to learning/exploring new technical tools to help the team\n• Motivated and detail focused\n• Able to handle multiple projects at a time in a fast-paced environment, both collaborating as a team to stay in sync and working independently to get the job done\n• Interested in Uber \n\n","What You'll Need\n \n• A minimum of 6 years of experience \n• Excellent business judgment, communication and interpersonal skills\n• Technical Savvy - can create/use Word documents, Excel templates, Adobe Acrobat, Google Drive, e-signing tools and open to learning/exploring new technical tools to help the team\n• Experience with contract / information management systems a plus.\n• Highly motivated and detail focused\n• Able to juggle multiple projects at a time in a fast-paced environment, both collaborating as a team to stay in sync and working independently to get the job done\n• Enthusiastic about Uber!\n\n","?iisp=he-6594079","?iisp=he-6584079",null,"Senior Paralegal Global\nMarketing and Advertising","2018-08-13T13:59:00","2019-01-15T09:20:00","2018-10-30T07:19:00","2018-10-23T10:10:00",null,"2018-12-14T06:46:00"]
["https://www.uber.com/careers/list/38002/","What you’ll need\n• Minimum 2 years experience delivering innovative products.\n• Computer science undergraduate degree or equivalent. Technical understanding that spans levels of abstraction and the systems you’ll be building.\n• Attention to detail. \n• Customer focus. The ability to take on complex product challenges and find solutions to avoid making them our users and partner’s problems\n• Finger-tippiness with data. You are able to to get the data you need and turn it into a story. You know how to leverage this data to make decisions without getting stuck in analysis paralysis\n• A “Driver” mindset. You are biased toward action, a collaborator, a disambiguator/simplifier, and strive for clarity and delivery\n• Grittiness. You are able to engage and address something hands-on\n• Standards across the board — from your own contributions, to the people you work with, to the products you work on\n• An interest in Uber’s mission, our products, and the company’s hybrid technology/operations nature\n• A  desire to grow and learn\n","What you’ll need\n• Minimum 2 years experience delivering successful and innovative products with your fingerprints all over them.\n• Computer science undergraduate degree or equivalent. Technical understanding that spans all levels of abstraction and the systems you’ll be building.\n• Attention to detail. The ability to obsess over every last penny.\n• Customer obsession. The ability to take on complex product challenges and find elegant, simplifying solutions to avoid making them our users and partner’s problems\n• Finger-tippiness with data. You find a way to get the data you need and whip it into an insightful story with no help. You know how to leverage this data to make decisions without getting stuck in analysis paralysis\n• A “Driver” mindset. You are biased toward action, a great collaborator, a master disambiguator/simplifier, and constantly pushing toward clarity and delivery\n• Grittiness. You never hesitate to roll up your sleeves and tackle something hands-on\n• A high bar across the board — from your own contributions, to the people you work with, to the products you work on\n• A true passion for Uber’s mission, our products, and the company’s hybrid technology/operations nature\n• A never-ending desire to grow and learn\n \nBonus points if \n• You’ve worked with payments or tax before\n","?iisp=he-6594079","?iisp=he-6584079",null,"Product Manager - Uber\nEats - Money Team","2018-08-13T13:59:00","2018-08-15T08:00:00","2018-08-22T14:44:00",null,null,"2018-12-14T06:46:00"]
["https://www.uber.com/careers/list/38001/","What you’ll need\n• Minimum 4 years experience delivering innovative products.\n• An orientation towards building businesses, not features. Experience building and leading businesses, including ownership and optimization of business performance metrics\n• Experience with growth. An understanding of what makes an effective funnel, how to track performance, and how to identify opportunities to make it better\n• Design sensibility. An  understanding of and appreciation for design and user experiences \n• Finger-tippiness with data. You are able to get the data you need and turn it into a story. You know how to leverage this data to make decisions without getting stuck in analysis paralysis\n• A “Driver” mindset. You are biased toward action, a  collaborator, a disambiguator/simplifier, and strive for clarity and delivery\n• Grittiness. You are able to engage and address something hands-on\n• Standards across the board — from your own contributions, to the people you work with, to the products you work on\n• An interest in Uber’s mission, our products, and the company’s hybrid technology/operations nature\n• A desire to grow and learn\n","What you’ll need\n• Minimum 4 years experience delivering successful and innovative products with your fingerprints all over them.\n• An orientation towards building businesses, not features. Experience building and leading businesses, including ownership and optimization of business performance metrics\n• Experience with growth. An understanding of what makes an effective funnel, how to track performance, and how to identify opportunities to make it better\n• Design sensibility. A deep understanding of and appreciation for good design and user experiences \n• Finger-tippiness with data. You find a way to get the data you need and whip it into an insightful story with no help. You know how to leverage this data to make decisions without getting stuck in analysis paralysis\n• A “Driver” mindset. You are biased toward action, a great collaborator, a master disambiguator/simplifier, and constantly pushing toward clarity and delivery\n• Grittiness. You never hesitate to roll up your sleeves and tackle something hands-on\n• A high bar across the board — from your own contributions, to the people you work with, to the products you work on\n• A true passion for Uber’s mission, our products, and the company’s hybrid technology/operations nature\n• A never-ending desire to grow and learn\n \nBonus points if\n• You’ve worked with restaurants before\n• You’ve built a B2B acquisition funnel before\n• You have experience working with a sales team\n","?iisp=he-6594079","?iisp=he-6584079",null,"Product Manager - Uber\nEats - Restaurant\nAcquisition","2018-08-13T13:59:00","2018-08-22T14:00:00","2018-08-29T16:02:00",null,null,"2018-12-14T06:46:00"]
["https://www.uber.com/careers/list/37916/","What You’ll Need:\n\n• Listening, communication and organizational skills\n• Ability to multi-task and follow through while paying attention to detail\n• Coachability, interest in implementing feedback, and dedication to improvement of your craft\n• Curiosity about people and business and an interest in UberEATS and food\n• A positive attitude and desire to win; hard work and determination\n• 4 or more years of sales experience required\n• Bachelor’s degree required","What You’ll Need:\n\n• Exceptional listening, communication and organizational skills\n• Proven ability to multi-task and follow through while paying strict attention to detail\n• Coachability, interest in implementing feedback, and dedication to improvement of your craft\n• Genuine curiosity about people and business and a passion for UberEATS and food\n• An infectiously positive attitude and drive to win; hustle and determination\n• Restaurant industry or hospitality experience preferred\n• 4 or more years of sales experience required\n• Bachelor’s degree required","?iisp=he-6594079","?iisp=he-6584079",null,"Account Executive, Eats","2018-08-13T13:59:00","2018-08-28T15:47:00","2018-09-05T15:52:00",null,null,"2018-12-14T06:46:00"]
["https://www.uber.com/careers/list/37890/","What you’ll need\n\n• Understanding of processes, risks and controls.\n• Knowledge of IT and business processes and how they intersect with financial transactions.\n• Understanding of GAAP, Sarbanes Oxley Act, COSO and PCAOB Rules.\n• CPA, CIA or CISA certification.\n• Bachelor's degree.\n• 5-7 years Audit experience.\n","What you’ll need\n\n• Strong understanding of processes, risks and controls.\n• Knowledge of IT and business processes and how they intersect with financial transactions.\n• Understanding of GAAP, Sarbanes Oxley Act, COSO and PCAOB Rules.\n• CPA, CIA or CISA certification.\n• Bachelor's degree.\n• 5-7 years Audit experience.\n \nBonus points if\n• Public accounting and/or start-up experience.\n• Previous experience in high volume transactional payment environment.\n• Technology and/or media specific industry experience.\n• Ability to code SQL.","?iisp=he-6594079","?iisp=he-6584079",null,"Manager, Internal Audit\nOperations","2018-08-13T13:59:00","2019-03-07T13:45:00",null,null,null,"2018-12-14T06:46:00"]
["https://www.uber.com/careers/list/37876/","What You’ll Need\n\n• Minimum 8 years of experience building and leading support and knowledge content strategy\n• Experience with facilitating end-user support content strategy and Knowledge-Centered Support (KCS) methodology\n• Experience thinking big and leading initiatives to capture, manage, and disseminate knowledge across large organizations leading to enhanced efficiency and organizational leverage\n• Understanding of information architecture, data types, data structures and associated use of metadata\n• Analytical abilities; able to dig into complex data sets to help inform decisions\n• Experience executing organization-wide programs and initiatives through collaboration across functions, geographies, and organization levels\n• Written, verbal, and visual communication skills, and ability to influence and facilitate consensus at senior levels, and explain complex concepts in simple, layman’s terms\n• Ability to hire, develop and promote top talent\n• Focus on both internal downstream customers and external Community users\n• Available for business travel both domestic and international as needed\n• Experience working with product teams and integrating support strategy into product content plans\n","What You’ll Need\n\n• Minimum 8 years of experience building and leading transformational support and knowledge content strategy, preferably in consulting, technology, or similar knowledge-based field\n• Experience with driving end-user support content strategy and Knowledge-Centered Support (KCS) methodology\n• Strong track record of thinking big and leading initiatives to capture, manage, and disseminate knowledge across large organizations leading to enhanced efficiency and organizational leverage\n• Deep understanding of information architecture, data types, data structures and associated use of metadata\n• Strong analytical abilities; able to dig into complex data sets to help inform decisions\n• Successful track record of executing organization-wide programs and initiatives through collaboration across functions, geographies, and organization levels\n• Strong written, verbal, and visual communication skills, and proven ability to influence and drive consensus at senior levels, and explain complex concepts in simple, layman’s terms\n• Demonstrated ability to hire, develop and promote top talent\n• Relentlessly obsessed with both internal downstream customers and external Community users\n• Available for business travel both domestic and international as needed\n• Experience working with product teams and integrating support strategy into product content plans\n \nBonus Points if\n\n• MBA or graduate degree in related field preferred\n• Strong background in user testing and understanding of UX writing preferred\n","?iisp=he-6594079","?iisp=he-6584079",null,"Global Leader, Support\nContent Strategy","2018-08-13T13:59:00","2018-09-07T15:35:00","2018-10-01T14:50:00",null,null,"2018-12-14T06:46:00"]
["https://www.uber.com/careers/list/37852/","What You’ll Need\n• Experience applying state estimation (Kalman filters, etc.), signal processing, and sensor fusion to sensors or other time series data\n• Broad machine learning experience (e.g. sequential models, classification, deep learning) \n• Depth in sensors and hardware, particularly prior experience working with Inertial Measurement Unit (IMU) and GPS\n• Programming and algorithmic skills (we mainly use Java & Python)\n• 10+ years experience with experience shipping research projects\n \n","What You’ll Need\n• Experience applying state estimation (Kalman filters, etc.), signal processing, and sensor fusion to sensors or other time series data\n• Broad machine learning experience (e.g. sequential models, classification, deep learning) \n• Depth in sensors and hardware, particularly prior experience working with Inertial Measurement Unit (IMU) and GPS\n• Excellent programming and algorithmic skills (we mainly use Java & Python)\n• 10+ years experience with track record of shipping high-impact research projects\n \nBonus Points\n• PhD in related field (signal processing, machine learning)\n• Experience working with data at scale, including experience with some or all of the following: HDFS, Cassandra, Kafka, Flink, Samza, Spark, EMR\n• Experience working with other sensor types (audiovisual, barometric, etc.) or with mobile devices of varying quality\n","?iisp=he-6594079","?iisp=he-6584079",null,"Staff Machine Learning\nEngineer - Sensor\nIntelligence","2018-08-13T13:59:00","2019-01-24T07:10:00",null,null,null,"2018-12-14T06:46:00"]
["https://www.uber.com/careers/list/37802/","What You’ll Need\n• Bachelor's degree from an accredited college or university and at least 1+ years of experience in a compliance or audit role \n• Ability and willingness to travel (up to 25 percent).\n","What You’ll Need\n• Bachelor's degree from an accredited college or university and at least 1+ years of experience in a compliance or audit role \n• Pursuing a professional certification in 1 or more of the following preferred: Certified Regulatory Compliance Manager (CRCM), Certified Risk Professional (CRP), Certified Anti-Money Laundering Specialist (CAMS), Certified Information Privacy Professional, or Certified Internal Auditor (CIA), or other relevant license/certification\n• Ability and willingness to travel (up to 25 percent).\n\nBonus Points if \n• 3 years in a related role, preferably in compliance, risk management, and/or audit roles.\n• Experience working with major corporate Consumer protection laws and regulations such as UDAAP, Privacy, and BSA/AML. Knowledge of other consumer protection regulations and experience with compliance in international markets outside of the United States is a plus.\n• Ability to analyze complex processes to identify potential financial, operational, systems and compliance risks.\n• Must be able to complete assignments on a timely basis within budget and deadline.\n• Excellent data analytical skills.","?iisp=he-6594079","?iisp=he-6584079",null,"Internal Audit Analyst,\nCompliance","2018-08-13T13:59:00","2019-04-23T16:03:00",null,null,null,"2018-12-14T06:46:00"]
["https://www.uber.com/careers/list/37792/","What You’ll Need\n\n• At least 3 years of experience in the industry working with client-side technologies\n• Experience with Javascript, HTML, CSS, and experience with stacks and libraries such as React or Angular, SASS, and LESS\n• Experience with Node.js, Grunt, Gulp, or other server-side Javascript technologies and tools\n• Experience shipping high-quality features\n• Familiarity with principles of good user experience\n• Teamwork and self-driven learning\n","What You’ll Need\n\n• At least 3 years of experience in the industry working with client-side technologies\n• Expertise in Javascript, HTML, CSS, and experience with stacks and libraries such as React or Angular, SASS, and LESS\n• Experience with Node.js, Grunt, Gulp, or other server-side Javascript technologies and tools\n• Consistent track record of shipping high-quality features\n• Familiarity with principles of good user experience\n• A record of strong teamwork and self-driven learning\n\nBonus Points If\n• Experience in building web applications from scratch\n• Full-stack experience and understanding of how all the pieces fit together (frontend, backend, database, network layer, etc.) and how they impact the performance of your application\n","?iisp=he-6594079","?iisp=he-6584079",null,"Front End Software\nEngineer - Airports,\nEvents and Venues\n(Seattle)","2018-08-13T13:59:00","2018-08-27T15:30:00","2018-09-05T15:52:00",null,null,"2018-12-14T06:46:00"]
["https://www.uber.com/careers/list/37756/","What you’ll need\n• Minimum 4 years experience delivering innovative products.\n• An orientation towards building businesses, not features. Experience building and leading businesses, including ownership and optimization of business performance metrics\n• Customer focus. The ability to take on complex product challenges and find solutions to avoid making them our users and partner’s problems\n• Design sensibility. An understanding of and appreciation for design and user experiences \n• Finger-tippiness with data. You are able to get the data you need and turn it into a story. You know how to leverage this data to make decisions without getting stuck in analysis paralysis\n• Standards across the board — from your own contributions, to the people you work with, to the products you work on\n• An interest in Uber’s mission, our products, and the company’s hybrid technology/operations nature\n• A desire to grow and learn\n \n","What you’ll need\n• Minimum 4 years experience delivering successful and innovative products with your fingerprints all over them.\n• An orientation towards building businesses, not features. Experience building and leading businesses, including ownership and optimization of business performance metrics\n• Customer obsession. The ability to take on complex product challenges and find elegant, simplifying solutions to avoid making them our users and partner’s problems\n• Design sensibility. A deep understanding of and appreciation for good design and user experiences \n• Finger-tippiness with data. You find a way to get the data you need and whip it into an insightful story with no help. You know how to leverage this data to make decisions without getting stuck in analysis paralysis\n• A high bar across the board — from your own contributions, to the people you work with, to the products you work on\n• A true passion for Uber’s mission, our products, and the company’s hybrid technology/operations nature\n• A never-ending desire to grow and learn\n \nBonus points if\n• You’ve worked with or in restaurants before\n• You have experience solving problems through a combination of tech and ops\n","?iisp=he-6594079","?iisp=he-6584079",null,"Product Manager - Uber\nEats - Restaurant\nExperience","2018-08-13T13:59:00","2019-03-07T13:45:00",null,null,null,"2018-12-14T06:46:00"]
["https://www.uber.com/careers/list/37744/","What You’ll Need\n• Software development skills in C++\n• Knowledge and experience with Python\n• Experience in sensor/system calibration, optimization, or computer vision\n","What You’ll Need\n• Excellent software development skills in C++\n• Knowledge and experience with Python\n• Experience in one or more areas of sensor/system calibration, optimization, and computer vision\n \nBonus Points If\n• Background in robotics\n• Prior work with automotive systems\n• Prior work camera calibration (pinhole or fisheye)\n","?iisp=he-6594079","?iisp=he-6584079",null,"Software Engineer,\nCalibration","2018-08-13T13:59:00",{"$nulls":4},"2018-12-14T06:46:00"]
["https://www.uber.com/careers/list/37739/","What You'll Need\n• Minimum of 3 years consumer marketing experience, with experience  delivering growth and engagement. \n• Product strategy: You can collaborate with PM, engineering, design and data leads to create a product vision and accompanying development timeline.\n• Storyteller: You’re able to craft a narrative across different channels - you know how to match the message to the medium.\n• Positioning skills: You are able to articulate the essence of products and why they matter. You can develop an content strategy, and act as a copywriter.\n• Finger-tippinesses with data: You are able to get the data you need and turn it into a story.\n• Market research experience: You know your market, customers and competition, and you’re able to at bring this information into your marketing strategies.\n \n","What You'll Need\n• Minimum of 3 years consumer marketing experience, with a track record of delivering successful growth and engagement. \n• Product strategy: You can jump in and collaborate with PM, engineering, design and data leads to create a compelling product vision and accompanying development timeline.\n• Master storyteller: You’re able to craft a compelling narrative across different channels - you know how to match the message to the medium.\n• Positioning guru: You have a knack for articulating the essence of products and why they matter. You can develop an effective content strategy, and even play copywriter in a pinch.\n• Finger-tippinesses with data: You just go get the data you need with no muss/fuss and can whip it into an insightful story with no help.\n• Top-notch at market research: You know your market, customers and competition, and you’re strong at bringing this information into your marketing strategies.\n \nBonus Points If\n• You have experience driving feature adoption for mature and widely-used products\n","?iisp=he-6594079","?iisp=he-6584079",null,"Product Marketing\nManager - Rider\nExperience","2018-08-13T13:59:00","2018-12-11T08:50:00",null,null,null,"2018-12-14T06:46:00"]
["https://www.uber.com/careers/list/37624/","What You'll need:\n• Coding skills.  Programming skills in one of C++/Java, Python or Go, or Ruby, and an ability to pick up new ones.\n• Systems architecture: You have designed scalable, performant, systems\n• Configuration management. You have real world experience with tools like Puppet, Chef, and/or Ansible.\n• Operating Systems. You have experience in the Linux environment and an understanding of its fundamentals, such as DHCP, PXE, DNS, various imaging solutions, packaging, kernel tuning, troubleshooting, etc.\n• Team player. We have internal customers whom we want to serve to the best of our ability. You have customer service skills and are able to develop solutions that span multiple teams.\n","What You'll need:\n• Coding skills. Good programming skills in one of C++/Java, Python or Go, or Ruby, and an ability to pick up new ones.\n• Systems architecture: You have designed scalable, performant, systems\n• Configuration management. You should have real world experience with tools like Puppet, Chef, and/or Ansible.\n• Operating Systems. You should have strong experience in the Linux environment and a solid understanding of its fundamentals, such as DHCP, PXE, DNS, various imaging solutions, packaging, kernel tuning, troubleshooting, etc.\n• Team player. We have internal customers whom we want to serve to the best of our ability. You should have customer service skills and be able to develop solutions that span multiple teams.\n\nBonus points if:\n• You’re a Puppet expert\n• You have large scale infrastructure tool building experience (monitoring, auto-remediation, config mgmt)\n","?iisp=he-6594079","?iisp=he-6584079",null,"Site Reliability Engineer","2018-08-13T13:59:00","2019-04-04T20:15:00",null,null,null,"2018-12-14T06:46:00"]
["https://www.uber.com/careers/list/37619/","What You’ll Need \n\n• BA/BS degree or equivalent practical experience\n• 3 years minimum of localization project/program management experience in high-tech industry on the client side\n• 2 years minimum of Marketing localization experience\n• Self-directed - ability to take initiative in identifying and solving large problems\n• Ability to navigate ambiguity, work independently and be able to chart direction of projects/programs\n• Analytical and problem solving experience, coupled with business judgment\n• Detail-oriented, quality-focused and proactive\n• Written and verbal communication skills and the ability to manage multiple and diverse stakeholders across businesses and leadership levels\n• Ability to learn new tools/systems \n• Understanding of localization and internationalization issues\n• Experience using CAT tools to manage localization pipeline & workflows (e.g. Smartling, Idiom WorldServer, Memsource, and Trados)\n• Experience managing localization of various content types such as UI, HC, Marketing, & Legal\n• Team player\n• Travel to region to manage relationships\n","What You’ll Need\n\n• BA/BS degree or equivalent practical experience\n• 3 years minimum of localization project/program management experience in high-tech industry on the client side\n• 2 years minimum of Marketing localization experience\n• Experience working in marketing and a passion or understanding for data-driven marketing principles preferred\n• Self-directed - ability to take initiative in identifying and solving large problems\n• Ability to navigate ambiguity, work independently and be able to chart direction of projects/programs\n• Strong analytical and problem solving experience, coupled with excellent business judgment\n• Very detail-oriented, quality-focused and proactive\n• Excellent written and verbal communication skills and the ability to manage multiple and diverse stakeholders across businesses and leadership levels\n• Ability to learn new tools/systems quickly\n• Great understanding of localization and internationalization issues\n• Experience using CAT tools to manage localization pipeline & workflows (e.g. Smartling, Idiom WorldServer, Memsource, and Trados)\n• Experience managing localization of various content types such as UI, HC, Marketing, & Legal\n• Excellent team player\n• Travel to region to manage relationships\n \nBonus points if:\n• Experience in project management / program management for digital marketing\n","?iisp=he-6594079","?iisp=he-6584079",null,"Localization Marketing\nProgram Manager","2018-08-13T13:59:00","2018-09-27T09:35:00","2018-10-01T14:50:00",null,null,"2018-12-14T06:46:00"]
["https://www.uber.com/careers/list/37591/","What You’ll Need \n\n• Minimum 4 years experience delivering innovative products \n• Computer science undergraduate degree or equivalent. Technical understanding must go from the highest abstractions down to the metal\n• Focused on building businesses, not features. Entrepreneurial experience building and leading businesses, including ownership and optimization of business performance metrics\n• Customer focus. You take on complex product challenges and simplify them to avoid making them our users and partner's problems\n• Finger-tippiness with data. You are able to to get the data you need and turn it into a story. You know how to leverage this data to make decisions without getting stuck in analysis paralysis\n• Structured, critical thinking and creative problem-solving skills. You can breakdown a complex problem and synthesize to present a solution\n• Design instincts and product taste - own what you build.\n• \"Driver\" personality. You are biased toward action, a collaborator, a  disambiguator/simplifier, and strive for clarity and delivery\n• Grittiness. You are able to engage and address something hands-on\n• Standards across the board -- from your own contributions, to the people you work with, to the products you work on\n• Interest in Uber's mission, our products, and the company's hybrid technology/operations nature\n• Desire to grow and learn\n","What You’ll Need \n\n• Minimum 4 years experience delivering highly successful and innovative products with your fingerprints all over them -- and you're deeply proud of what you've accomplished\n• Computer science undergraduate degree or equivalent. Technical understanding must go from the highest abstractions down to the metal\n• Focused on building businesses, not features. Entrepreneurial experience building and leading businesses, including ownership and optimization of business performance metrics\n• Customer obsessed. You take on complex product challenges and simplify them to avoid making them our users and partner's problems\n• Finger-tippiness with data. You find a way to get the data you need and whip it into an insightful story with no help. You know how to leverage this data to make decisions without getting stuck in analysis paralysis\n• Structured, critical thinking and creative problem-solving skills. You can breakdown a complex problem and synthesize to present a solution\n• Stellar design instincts and product taste - own what you build.\n• \"Driver\" personality. You are biased toward action, a great collaborator, a master disambiguator/simplifier, and constantly pushing toward clarity and delivery\n• Grittiness. You never hesitate to roll up your sleeves and tackle something hands-on\n• High bar across the board -- from your own contributions, to the people you work with, to the products you work on\n• True passion for Uber's mission, our products, and the company's hybrid technology/operations nature\n• Never-ending desire to grow and learn\n\nBonus Points If\n\n• Hands-on software engineering experience\n• Experience creating wireframes, full user flows and visual designs\n• Have run quantitative analysis (e.g. regressions, model training)\n","?iisp=he-6594079","?iisp=he-6584079",null,"Product Manager - Uber\nEats - Couriers\nEngagement","2018-08-13T13:59:00","2019-03-07T13:45:00",null,null,null,"2018-12-14T06:46:00"]
["https://www.uber.com/careers/list/37590/","What You’ll Need \n\n• Minimum 4 years experience delivering innovative products \n• Computer science undergraduate degree or equivalent. Technical understanding must go from the highest abstractions down to the metal\n• Focused on building businesses, not features. Entrepreneurial experience building and leading businesses, including ownership and optimization of business performance metrics\n• Customer focus. You take on complex product challenges and simplify them to avoid making them our users and partner's problems\n• Finger-tippiness with data. You are able to get the data you need and turn it into a story. You know how to leverage this data to make decisions without getting stuck in analysis paralysis\n• Structured, critical thinking and creative problem-solving skills. You can breakdown a complex problem and synthesize to present a solution\n• Design instincts and product taste - own what you build.\n• \"Driver\" personality. You are biased toward action, a collaborator, a disambiguator/simplifier, and striving for clarity and delivery\n• Grittiness. You are able to engage and address something hands-on\n• Standards across the board -- from your own contributions, to the people you work with, to the products you work on\n• Interest in Uber's mission, our products, and the company's hybrid technology/operations nature\n• Desire to grow and learn\n","What You’ll Need \n\n• Minimum 4 years experience delivering highly successful and innovative products with your fingerprints all over them -- and you're deeply proud of what you've accomplished\n• Computer science undergraduate degree or equivalent. Technical understanding must go from the highest abstractions down to the metal\n• Focused on building businesses, not features. Entrepreneurial experience building and leading businesses, including ownership and optimization of business performance metrics\n• Customer obsessed. You take on complex product challenges and simplify them to avoid making them our users and partner's problems\n• Finger-tippiness with data. You find a way to get the data you need and whip it into an insightful story with no help. You know how to leverage this data to make decisions without getting stuck in analysis paralysis\n• Structured, critical thinking and creative problem-solving skills. You can breakdown a complex problem and synthesize to present a solution\n• Stellar design instincts and product taste - own what you build.\n• \"Driver\" personality. You are biased toward action, a great collaborator, a master disambiguator/simplifier, and constantly pushing toward clarity and delivery\n• Grittiness. You never hesitate to roll up your sleeves and tackle something hands-on\n• High bar across the board -- from your own contributions, to the people you work with, to the products you work on\n• True passion for Uber's mission, our products, and the company's hybrid technology/operations nature\n• Never-ending desire to grow and learn\n\nBonus Points If\n\n• Hands-on software engineering experience\n• Experience creating wireframes, full user flows and visual designs\n• Have run quantitative analysis (e.g. regressions, model training)\n","?iisp=he-6594079","?iisp=he-6584079",null,"Product Manager - Uber\nEats - Courier Navigation","2018-08-13T13:59:00","2018-09-14T20:34:00","2018-09-23T12:29:00",null,null,"2018-12-14T06:46:00"]
["https://www.uber.com/careers/list/37589/","What You’ll Need \n\n• Minimum 4 years experience delivering innovative products \n• Computer science undergraduate degree or equivalent. Technical understanding must go from the highest abstractions down to the metal\n• Focused on building businesses, not features. Entrepreneurial experience building and leading businesses, including ownership and optimization of business performance metrics\n• Customer focus. You take on complex product challenges and simplify them to avoid making them our users and partner's problems\n• Finger-tippiness with data. You are able to get the data you need and turn it into a story. You know how to leverage this data to make decisions without getting stuck in analysis paralysis\n• Structured, critical thinking and creative problem-solving skills. You can breakdown a complex problem and synthesize to present a solution\n• Design instincts and product taste - own what you build.\n• \"Driver\" personality. You are biased toward action, a collaborator, a disambiguator/simplifier, and striving for clarity and delivery\n• Grittiness. You are able to engage and address something hands-on\n• Standards across the board -- from your own contributions, to the people you work with, to the products you work on\n• Interest in Uber's mission, our products, and the company's hybrid technology/operations nature\n• Desire to grow and learn\n","What You’ll Need \n\n• Minimum 4 years experience delivering highly successful and innovative products with your fingerprints all over them -- and you're deeply proud of what you've accomplished\n• Computer science undergraduate degree or equivalent. Technical understanding must go from the highest abstractions down to the metal\n• Focused on building businesses, not features. Entrepreneurial experience building and leading businesses, including ownership and optimization of business performance metrics\n• Customer obsessed. You take on complex product challenges and simplify them to avoid making them our users and partner's problems\n• Finger-tippiness with data. You find a way to get the data you need and whip it into an insightful story with no help. You know how to leverage this data to make decisions without getting stuck in analysis paralysis\n• Structured, critical thinking and creative problem-solving skills. You can breakdown a complex problem and synthesize to present a solution\n• Stellar design instincts and product taste - own what you build.\n• \"Driver\" personality. You are biased toward action, a great collaborator, a master disambiguator/simplifier, and constantly pushing toward clarity and delivery\n• Grittiness. You never hesitate to roll up your sleeves and tackle something hands-on\n• High bar across the board -- from your own contributions, to the people you work with, to the products you work on\n• True passion for Uber's mission, our products, and the company's hybrid technology/operations nature\n• Never-ending desire to grow and learn\n\nBonus Points If\n\n• Hands-on software engineering experience\n• Experience creating wireframes, full user flows and visual designs\n• Have run quantitative analysis (e.g. regressions, model training)\n","?iisp=he-6594079","?iisp=he-6584079",null,"Product Manager - Uber\nEats - Couriers, Trip\nExperience","2018-08-13T13:59:00","2018-09-10T15:52:00","2018-09-23T12:29:00",null,null,"2018-12-14T06:46:00","Expired 9/10/2018 15:52 PM PST, but came back alive on 11/02/2018 14:15 PM PST. Removed. Expired again on 11/15/2018 17:00 PM PST."]
["https://www.uber.com/careers/list/37571/","What You’ll Need\n\n• Bachelor’s degree in accounting, finance or related field \n• Three to five years of relevant tax and accounting experience for large, public, global corporation in either a public accounting or corporate environment\n• Ability to work independently in a fast-paced environment with ownership of his/her function\n• Results driven with high level of initiative, teamwork, urgency, accountability and integrity \n• Ability to multi-task and adapt to changing priorities\n• Communication and organization skills\n• Experience with Excel and other Microsoft Office applications\n","What You’ll Need\n\n• Bachelor’s degree in accounting, finance or related field; MST/CPA preferred \n• Three to five years of relevant tax and accounting experience for large, public, global corporation in either a public accounting or corporate environment\n• Ability to work independently in a fast-paced environment with strong ownership of his/her function\n• Results driven with high level of initiative, teamwork, urgency, accountability and integrity \n• Ability to multi-task and adapt to changing priorities\n• Excellent communication and organization skills\n• Proficient with Excel and other Microsoft Office applications\n\nBonus Points If\n\n• OneSource Income Tax and experience with Oracle and HFM a plus \n","?iisp=he-6594079","?iisp=he-6584079",null,"Senior Tax Analyst, U.S.\nDirect","2018-08-13T13:59:00","2018-10-04T11:25:00","2018-10-08T12:55:00",null,null,"2018-12-14T06:46:00"]
["https://www.uber.com/careers/list/37563/","What you'll need:\n• Bachelor’s degree from a 4-year university\n• You have writing and verbal communication skills\n• You have a pleasant, personable manner - people like working with you\n• You can work in a rapidly changing environment with well-defined goals, but ambiguity on how to get there\n• You utilize resources in order to solve problems and resolve issues\n• You are self-motivated and a team player\n• You have tech skills \n• You are organized and detail-oriented\n","What you'll need:\n• Bachelor’s degree from a 4-year university\n• You have excellent writing and verbal communication skills\n• You have a pleasant, personable manner - people like working with you\n• You thrive in a rapidly changing environment with well-defined goals, but ambiguity on how to get there\n• You utilize resources in order to effectively solve problems and resolve issues\n• You are self-motivated and a great team player\n• You are tech savvy\n• You are highly organized and detail-oriented\n• Salesforce experience is a plus\n• Familiarity with manipulating and summarizing data in Excel and Google Sheets is a plus\n• Proficiency in Chinese or Spanish is a plus\n• 1-2 years of customer service or account management experience is a plus\n","?iisp=he-6594079","?iisp=he-6584079","FIXED. typo - \"effectively\" spelled wrong in 5th bullet","Restaurant Support\nRepresentative","2018-08-13T13:59:00","2018-11-15T17:00:00","2018-12-04T07:08:00",null,null,"2018-12-14T06:46:00"]
["https://www.uber.com/careers/list/37562/","Here are the kinds of skills we're looking for:  \n• PhD in Psychology, Marketing, Neuroscience, Sociology or other quantitative behavioral science \n• 5+ years of research / analytical experience; including experimental/applied research \n• Experience in statistics required for hypothesis testing, including power analyses, parametric and non-parametric tests (e.g. chi-square, ANOVA, regression, multilevel modeling) and other statistical methods (e.g., factor analysis, causal inference, etc.)\n• Experience with one statistical software program (R, Python)\n• Ability to work in a high volume environment and consult on multiple projects simultaneously\n• Communication skills both written and verbal, from one-on-one meetings to leading regional trainings\n","Here are the kinds of skills we're looking for:  \n• PhD in Psychology, Marketing, Neuroscience, Sociology or other quantitative behavioral science \n• 5+ years of research / analytical experience; including experimental/applied research \n• Expertise in statistics required for hypothesis testing, including power analyses, parametric and non-parametric tests (e.g. chi-square, ANOVA, regression, multilevel modeling) and other statistical methods (e.g., factor analysis, causal inference, etc.)\n• Fluency with at least one statistical software program (R, Python)\n• Ability to work in a high volume environment and consult on multiple projects simultaneously\n• Unrivaled communication skills both written and verbal, from one-on-one meetings to leading regional trainings\n\nBonus points if you have:\n• Machine learning experience\n• Natural language processing experience\n• SQL/hive experience\n","?iisp=he-6594079","?iisp=he-6584079",null,"Behavioral Data Scientist","2018-08-13T13:59:00","2019-03-15T10:40:00","2018-08-22T14:44:00","2018-08-15T15:45:00",null,"2018-12-14T06:46:00"]

{"sheet":"classification","index":1,"n_rows":626,"n_cols":11,"rows_kept":626,"cut":false,"hidden":false,"merged":[]}
[{"$f":"treatment!A1","v":"Job-ID"},"#adjectives deleted (not in ref or bonus); not an adverb except when modifying an adj","#reframed credentials","#bonus points deleted","#bonus point broken out separately","fraction of bullet points edited ","treatment_strength metric A (1 = weak, 3 = strong) ","job group","font",{"$f":"SUM(J2:J638)","v":0},"check"]
["https://www.uber.com/careers/list/45570/",4,2,5,4,{"$f":"10/12","v":0.83333333333333337},1,"GlobalCommunityOperations",null,{"$f":"IF(K2=A2, 0, 1)","v":0},{"$f":"treatment!A2","v":"https://www.uber.com/careers/list/45570/"}]
["https://www.uber.com/careers/list/45520/",3,0,3,3,{"$f":"6/9","v":0.66666666666666663},1,"AdvancedTechnologiesGroup",null,0,{"$f":"treatment!A3","v":"https://www.uber.com/careers/list/45520/"}]
["https://www.uber.com/careers/list/44019/",0,0,6,6,{"$f":"6/14","v":0.42857142857142855},3,"FinanceAccounting",null,0,{"$f":"treatment!A4","v":"https://www.uber.com/careers/list/44019/"}]
["https://www.uber.com/careers/list/45455/",3,4,4,4,{"$f":"10/13","v":0.76923076923076927},3,"Product",null,0,{"$f":"treatment!A5","v":"https://www.uber.com/careers/list/45455/"}]
["https://www.uber.com/careers/list/45447/",3,1,6,5,{"$f":"10/12","v":0.83333333333333337},3,"BusinessSales",null,0,{"$f":"treatment!A6","v":"https://www.uber.com/careers/list/45447/"}]
["https://www.uber.com/careers/list/45441/",1,1,4,4,{"$f":"6/10","v":0.6},1,"GlobalCommunityOperations",null,0,{"$f":"treatment!A7","v":"https://www.uber.com/careers/list/45441/"}]
["https://www.uber.com/careers/list/45193/",2,0,2,0,{"$f":"4/6","v":0.66666666666666663},3,"Marketing",null,0,{"$f":"treatment!A8","v":"https://www.uber.com/careers/list/45193/"}]
["https://www.uber.com/careers/list/45142/",4,3,4,0,{"$f":"8/8","v":1},3,"OperationsLaunch",null,0,{"$f":"treatment!A9","v":"https://www.uber.com/careers/list/45142/"}]
["https://www.uber.com/careers/list/44940/",0,1,6,5,{"$f":"7/10","v":0.7},3,"FinanceAccounting",null,0,{"$f":"treatment!A10","v":"https://www.uber.com/careers/list/44940/"}]
["https://www.uber.com/careers/list/44756/",4,0,4,2,{"$f":"8/12","v":0.66666666666666663},1,"FinanceAccounting",null,0,{"$f":"treatment!A11","v":"https://www.uber.com/careers/list/44756/"}]
["https://www.uber.com/careers/list/42649/",1,1,1,0,{"$f":"3/4","v":0.75},1,"Engineering",null,0,{"$f":"treatment!A12","v":"https://www.uber.com/careers/list/42649/"}]
["https://www.uber.com/careers/list/45004/",2,2,2,2,{"$f":"6/9","v":0.66666666666666663},1,"GlobalCommunityOperations",null,0,{"$f":"treatment!A13","v":"https://www.uber.com/careers/list/45004/"}]
["https://www.uber.com/careers/list/44858/",0,0,5,5,{"$f":"5/11","v":0.45454545454545453},3,"PeopleOperations",null,0,{"$f":"treatment!A14","v":"https://www.uber.com/careers/list/44858/"}]
["https://www.uber.com/careers/list/44959/",2,2,4,3,{"$f":"6/11","v":0.54545454545454541},1,"Engineering",null,0,{"$f":"treatment!A15","v":"https://www.uber.com/careers/list/44959/"}]
["https://www.uber.com/careers/list/44920/",1,4,3,3,{"$f":"7/10","v":0.7},1,"GlobalCommunityOperations",null,0,{"$f":"treatment!A16","v":"https://www.uber.com/careers/list/44920/"}]
["https://www.uber.com/careers/list/44916/",1,0,3,3,{"$f":"4/6","v":0.66666666666666663},3,"GlobalCommunityOperations",null,0,{"$f":"treatment!A17","v":"https://www.uber.com/careers/list/44916/"}]
["https://www.uber.com/careers/list/44914/",0,2,4,3,{"$f":"6/11","v":0.54545454545454541},3,"Marketing",null,0,{"$f":"treatment!A18","v":"https://www.uber.com/careers/list/44914/"}]
["https://www.uber.com/careers/list/44912/",2,3,4,3,{"$f":"7/10","v":0.7},1,"Engineering",null,0,{"$f":"treatment!A19","v":"https://www.uber.com/careers/list/44912/"}]
["https://www.uber.com/careers/list/44811/",3,1,5,5,{"$f":"8/14","v":0.5714285714285714},1,"OperationsLaunch",null,0,{"$f":"treatment!A20","v":"https://www.uber.com/careers/list/44811/"}]
["https://www.uber.com/careers/list/44693/",3,1,6,0,{"$f":"9/15","v":0.6},1,"OperationsLaunch",null,0,{"$f":"treatment!A21","v":"https://www.uber.com/careers/list/44693/"}]
["https://www.uber.com/careers/list/44678/",2,0,3,1,{"$f":"5/7","v":0.7142857142857143},3,"Engineering",null,0,{"$f":"treatment!A22","v":"https://www.uber.com/careers/list/44678/"}]
["https://www.uber.com/careers/list/44729/",4,3,3,0,{"$f":"7/11","v":0.63636363636363635},3,"AdvancedTechnologiesGroup",null,0,{"$f":"treatment!A23","v":"https://www.uber.com/careers/list/44729/"}]
["https://www.uber.com/careers/list/44703/",6,0,5,4,{"$f":"10/11","v":0.90909090909090906},1,"OperationsLaunch",null,0,{"$f":"treatment!A24","v":"https://www.uber.com/careers/list/44703/"}]
["https://www.uber.com/careers/list/36258/",2,0,5,5,{"$f":"7/13","v":0.53846153846153844},1,"AdvancedTechnologiesGroup",null,0,{"$f":"treatment!A25","v":"https://www.uber.com/careers/list/36258/"}]
["https://www.uber.com/careers/list/44645/",0,0,6,6,{"$f":"6/14","v":0.42857142857142855},1,"Engineering",null,0,{"$f":"treatment!A26","v":"https://www.uber.com/careers/list/44645/"}]
["https://www.uber.com/careers/list/44478/",6,0,2,0,{"$f":"8/12","v":0.66666666666666663},1,"Legal",null,0,{"$f":"treatment!A27","v":"https://www.uber.com/careers/list/44478/"}]
["https://www.uber.com/careers/list/44417/",6,2,1,0,{"$f":"6/9","v":0.66666666666666663},3,"BusinessSales",null,0,{"$f":"treatment!A28","v":"https://www.uber.com/careers/list/44417/"}]
["https://www.uber.com/careers/list/44481/",3,3,5,5,{"$f":"10/12","v":0.83333333333333337},1,"BusinessSales",null,0,{"$f":"treatment!A29","v":"https://www.uber.com/careers/list/44481/"}]
["https://www.uber.com/careers/list/44488/",4,3,3,0,{"$f":"8/8","v":1},3,"OperationsLaunch",null,0,{"$f":"treatment!A30","v":"https://www.uber.com/careers/list/44488/"}]
["https://www.uber.com/careers/list/40376/",2,3,5,5,{"$f":"10/12","v":0.83333333333333337},1,"Engineering",null,0,{"$f":"treatment!A31","v":"https://www.uber.com/careers/list/40376/"}]
["https://www.uber.com/careers/list/44424/",5,2,1,0,{"$f":"7/10","v":0.7},3,"FinanceAccounting",null,0,{"$f":"treatment!A32","v":"https://www.uber.com/careers/list/44424/"}]
["https://www.uber.com/careers/list/44319/",5,2,1,0,{"$f":"8/10","v":0.8},3,"BusinessSales",null,0,{"$f":"treatment!A33","v":"https://www.uber.com/careers/list/44319/"}]
["https://www.uber.com/careers/list/44313/",6,0,2,0,{"$f":"7/12","v":0.58333333333333337},1,"Legal",null,0,{"$f":"treatment!A34","v":"https://www.uber.com/careers/list/44313/"}]
["https://www.uber.com/careers/list/34350/",2,2,2,2,{"$f":"6/7","v":0.8571428571428571},1,"Engineering",null,0,{"$f":"treatment!A35","v":"https://www.uber.com/careers/list/34350/"}]
["https://www.uber.com/careers/list/44255/",4,0,3,0,{"$f":"7/8","v":0.875},1,"Legal",null,0,{"$f":"treatment!A36","v":"https://www.uber.com/careers/list/44255/"}]
["https://www.uber.com/careers/list/44213/",1,4,5,5,{"$f":"8/13","v":0.61538461538461542},3,"Engineering",null,0,{"$f":"treatment!A37","v":"https://www.uber.com/careers/list/44213/"}]
["https://www.uber.com/careers/list/44077/",5,0,4,0,{"$f":"9/11","v":0.81818181818181823},1,"Product",null,0,{"$f":"treatment!A38","v":"https://www.uber.com/careers/list/44077/"}]
["https://www.uber.com/careers/list/44126/",3,0,7,7,{"$f":"10/12","v":0.83333333333333337},3,"AdvancedTechnologiesGroup",null,0,{"$f":"treatment!A39","v":"https://www.uber.com/careers/list/44126/"}]
["https://www.uber.com/careers/list/44109/",3,0,2,0,{"$f":"5/9","v":0.55555555555555558},1,"Legal",null,0,{"$f":"treatment!A40","v":"https://www.uber.com/careers/list/44109/"}]
["https://www.uber.com/careers/list/44105/",3,0,2,0,{"$f":"5/9","v":0.55555555555555558},1,"Legal",null,0,{"$f":"treatment!A41","v":"https://www.uber.com/careers/list/44105/"}]
["https://www.uber.com/careers/list/44082/",4,2,3,1,{"$f":"7/10","v":0.7},1,"Engineering",null,0,{"$f":"treatment!A42","v":"https://www.uber.com/careers/list/44082/"}]
["https://www.uber.com/careers/list/44080/",3,4,2,0,{"$f":"7/7","v":1},1,"Product",null,0,{"$f":"treatment!A43","v":"https://www.uber.com/careers/list/44080/"}]
["https://www.uber.com/careers/list/43985/",3,0,2,0,{"$f":"5/9","v":0.55555555555555558},1,"Legal",null,0,{"$f":"treatment!A44","v":"https://www.uber.com/careers/list/43985/"}]
["https://www.uber.com/careers/list/43969/",3,3,5,5,{"$f":"10/12","v":0.83333333333333337},1,"BusinessSales",null,0,{"$f":"treatment!A45","v":"https://www.uber.com/careers/list/43969/"}]
["https://www.uber.com/careers/list/44039/",1,2,3,0,{"$f":"6/9","v":0.66666666666666663},3,"FinanceAccounting",null,0,{"$f":"treatment!A46","v":"https://www.uber.com/careers/list/44039/"}]
["https://www.uber.com/careers/list/43984/",3,0,2,0,{"$f":"5/9","v":0.55555555555555558},1,"Legal",null,0,{"$f":"treatment!A47","v":"https://www.uber.com/careers/list/43984/"}]
["https://www.uber.com/careers/list/43981/",5,2,1,0,{"$f":"5/6","v":0.83333333333333337},3,"BusinessSales",null,0,{"$f":"treatment!A48","v":"https://www.uber.com/careers/list/43981/"}]
["https://www.uber.com/careers/list/43979/",5,2,1,0,{"$f":"5/6","v":0.83333333333333337},3,"BusinessSales",null,0,{"$f":"treatment!A49","v":"https://www.uber.com/careers/list/43979/"}]
["https://www.uber.com/careers/list/43977/",5,2,1,0,{"$f":"5/6","v":0.83333333333333337},3,"BusinessSales",null,0,{"$f":"treatment!A50","v":"https://www.uber.com/careers/list/43977/"}]
["https://www.uber.com/careers/list/43976/",5,2,1,0,{"$f":"5/6","v":0.83333333333333337},3,"BusinessSales",null,0,{"$f":"treatment!A51","v":"https://www.uber.com/careers/list/43976/"}]
["https://www.uber.com/careers/list/43973/",3,5,2,0,{"$f":"8/9","v":0.88888888888888884},1,"OperationsLaunch",null,0,{"$f":"treatment!A52","v":"https://www.uber.com/careers/list/43973/"}]
["https://www.uber.com/careers/list/42244/",2,6,5,5,{"$f":"11/13","v":0.84615384615384615},1,"Engineering",null,0,{"$f":"treatment!A53","v":"https://www.uber.com/careers/list/42244/"}]
["https://www.uber.com/careers/list/43946/",3,3,5,0,{"$f":"8/12","v":0.66666666666666663},3,"Legal",null,0,{"$f":"treatment!A54","v":"https://www.uber.com/careers/list/43946/"}]
["https://www.uber.com/careers/list/43908/",5,4,2,2,{"$f":"9/12","v":0.75},3,"Product",null,0,{"$f":"treatment!A55","v":"https://www.uber.com/careers/list/43908/"}]
["https://www.uber.com/careers/list/43921/",1,0,3,3,{"$f":"4/6","v":0.66666666666666663},3,"GlobalCommunityOperations",null,0,{"$f":"treatment!A56","v":"https://www.uber.com/careers/list/43921/"}]
["https://www.uber.com/careers/list/43909/",2,0,1,1,{"$f":"3/8","v":0.375},3,"Engineering",null,0,{"$f":"treatment!A57","v":"https://www.uber.com/careers/list/43909/"}]
["https://www.uber.com/careers/list/43906/",5,1,5,4,{"$f":"9/10","v":0.9},1,"OperationsLaunch",null,0,{"$f":"treatment!A58","v":"https://www.uber.com/careers/list/43906/"}]
["https://www.uber.com/careers/list/43898/",1,2,2,1,{"$f":"4/7","v":0.5714285714285714},3,"FinanceAccounting",null,0,{"$f":"treatment!A59","v":"https://www.uber.com/careers/list/43898/"}]
["https://www.uber.com/careers/list/43857/",2,3,5,5,{"$f":"7/13","v":0.53846153846153844},3,"GlobalCommunityOperations",null,0,{"$f":"treatment!A60","v":"https://www.uber.com/careers/list/43857/"}]
["https://www.uber.com/careers/list/43841/",0,0,7,7,{"$f":"7/14","v":0.5},3,"Engineering",null,0,{"$f":"treatment!A61","v":"https://www.uber.com/careers/list/43841/"}]
["https://www.uber.com/careers/list/43493/",2,6,5,0,{"$f":"11/16","v":0.6875},3,"Marketing",null,0,{"$f":"treatment!A62","v":"https://www.uber.com/careers/list/43493/"}]
["https://www.uber.com/careers/list/43800/",0,1,2,0,{"$f":"3/6","v":0.5},3,"Legal",null,0,{"$f":"treatment!A63","v":"https://www.uber.com/careers/list/43800/"}]
["https://www.uber.com/careers/list/43751/",4,0,5,3,{"$f":"9/11","v":0.81818181818181823},1,"Engineering",null,0,{"$f":"treatment!A64","v":"https://www.uber.com/careers/list/43751/"}]
["https://www.uber.com/careers/list/43694/",5,4,2,2,{"$f":"9/12","v":0.75},3,"Product",null,0,{"$f":"treatment!A65","v":"https://www.uber.com/careers/list/43694/"}]
["https://www.uber.com/careers/list/43785/",1,2,4,4,{"$f":"7/14","v":0.5},1,"GlobalCommunityOperations",null,{"$f":"IF(K66=A66, 0, 1)","v":0},{"$f":"treatment!A66","v":"https://www.uber.com/careers/list/43785/"}]
["https://www.uber.com/careers/list/43756/",5,1,2,2,{"$f":"8/9","v":0.88888888888888884},1,"Engineering",null,0,{"$f":"treatment!A67","v":"https://www.uber.com/careers/list/43756/"}]
["https://www.uber.com/careers/list/43749/",0,1,3,3,{"$f":"4/7","v":0.5714285714285714},1,"Engineering",null,0,{"$f":"treatment!A68","v":"https://www.uber.com/careers/list/43749/"}]
["https://www.uber.com/careers/list/43748/",1,2,3,3,{"$f":"6/8","v":0.75},1,"Product",null,0,{"$f":"treatment!A69","v":"https://www.uber.com/careers/list/43748/"}]
["https://www.uber.com/careers/list/43522/",0,3,5,5,{"$f":"6/9","v":0.66666666666666663},3,"Engineering",null,0,{"$f":"treatment!A70","v":"https://www.uber.com/careers/list/43522/"}]
["https://www.uber.com/careers/list/43641/",0,2,3,2,{"$f":"5/11","v":0.45454545454545453},1,"Product",null,0,{"$f":"treatment!A71","v":"https://www.uber.com/careers/list/43641/"}]
["https://www.uber.com/careers/list/43593/",7,2,7,4,{"$f":"13/20","v":0.65},3,"FinanceAccounting",null,0,{"$f":"treatment!A72","v":"https://www.uber.com/careers/list/43593/"}]
["https://www.uber.com/careers/list/43479/",2,0,1,1,{"$f":"3/6","v":0.5},3,"Engineering",null,0,{"$f":"treatment!A73","v":"https://www.uber.com/careers/list/43479/"}]
["https://www.uber.com/careers/list/43617/",2,1,2,1,{"$f":"5/7","v":0.7142857142857143},1,"OperationsLaunch",null,0,{"$f":"treatment!A74","v":"https://www.uber.com/careers/list/43617/"}]
["https://www.uber.com/careers/list/43602/",4,3,3,3,{"$f":"8/11","v":0.72727272727272729},3,"FinanceAccounting",null,0,{"$f":"treatment!A75","v":"https://www.uber.com/careers/list/43602/"}]
["https://www.uber.com/careers/list/43590/",0,1,1,0,{"$f":"2/5","v":0.4},3,"GlobalCommunityOperations",null,0,{"$f":"treatment!A76","v":"https://www.uber.com/careers/list/43590/"}]
["https://www.uber.com/careers/list/43586/",3,2,3,0,{"$f":"7/10","v":0.7},3,"Legal",null,0,{"$f":"treatment!A77","v":"https://www.uber.com/careers/list/43586/"}]
["https://www.uber.com/careers/list/43585/",7,0,5,4,{"$f":"9/11","v":0.81818181818181823},3,"Engineering",null,0,{"$f":"treatment!A78","v":"https://www.uber.com/careers/list/43585/"}]
["https://www.uber.com/careers/list/43583/",3,1,5,5,{"$f":"9/12","v":0.75},3,"Engineering",null,0,{"$f":"treatment!A79","v":"https://www.uber.com/careers/list/43583/"}]
["https://www.uber.com/careers/list/42380/",1,0,5,5,{"$f":"6/9","v":0.66666666666666663},3,"Engineering",null,0,{"$f":"treatment!A80","v":"https://www.uber.com/careers/list/42380/"}]
["https://www.uber.com/careers/list/43559/",7,0,4,3,{"$f":"10/12","v":0.83333333333333337},3,"GlobalCommunityOperations",null,0,{"$f":"treatment!A81","v":"https://www.uber.com/careers/list/43559/"}]
["https://www.uber.com/careers/list/43529/",4,0,3,0,{"$f":"7/8","v":0.875},1,"FinanceAccounting",null,0,{"$f":"treatment!A82","v":"https://www.uber.com/careers/list/43529/"}]
["https://www.uber.com/careers/list/43449/",1,0,1,0,{"$f":"2/3","v":0.66666666666666663},3,"PeopleOperations",null,0,{"$f":"treatment!A83","v":"https://www.uber.com/careers/list/43449/"}]
["https://www.uber.com/careers/list/41394/",5,1,3,3,{"$f":"8/10","v":0.8},3,"Engineering",null,0,{"$f":"treatment!A84","v":"https://www.uber.com/careers/list/41394/"}]
["https://www.uber.com/careers/list/43554/",3,0,2,2,{"$f":"5/8","v":0.625},1,"FinanceAccounting",null,0,{"$f":"treatment!A85","v":"https://www.uber.com/careers/list/43554/"}]
["https://www.uber.com/careers/list/43513/",5,4,3,3,{"$f":"10/14","v":0.7142857142857143},1,"Legal",null,0,{"$f":"treatment!A86","v":"https://www.uber.com/careers/list/43513/"}]
["https://www.uber.com/careers/list/43494/",8,1,2,0,{"$f":"7/11","v":0.63636363636363635},1,"FinanceAccounting",null,0,{"$f":"treatment!A87","v":"https://www.uber.com/careers/list/43494/"}]
["https://www.uber.com/careers/list/43486/",1,2,3,3,{"$f":"5/7","v":0.7142857142857143},1,"PeopleOperations",null,0,{"$f":"treatment!A88","v":"https://www.uber.com/careers/list/43486/"}]
["https://www.uber.com/careers/list/43477/",2,1,1,0,{"$f":"4/7","v":0.5714285714285714},1,"BusinessSales",null,0,{"$f":"treatment!A89","v":"https://www.uber.com/careers/list/43477/"}]
["https://www.uber.com/careers/list/43443/",13,0,5,3,{"$f":"12/13","v":0.92307692307692313},3,"GlobalCommunityOperations",null,0,{"$f":"treatment!A90","v":"https://www.uber.com/careers/list/43443/"}]
["https://www.uber.com/careers/list/43218/",2,3,2,2,{"$f":"5/7","v":0.7142857142857143},3,"Product",null,0,{"$f":"treatment!A91","v":"https://www.uber.com/careers/list/43218/"}]
["https://www.uber.com/careers/list/26739/",3,1,2,2,{"$f":"5/8","v":0.625},3,"GlobalCommunityOperations",null,0,{"$f":"treatment!A92","v":"https://www.uber.com/careers/list/26739/"}]
["https://www.uber.com/careers/list/43399/",2,4,3,3,{"$f":"7/12","v":0.58333333333333337},3,"GlobalCommunityOperations",null,0,{"$f":"treatment!A93","v":"https://www.uber.com/careers/list/43399/"}]
["https://www.uber.com/careers/list/43445/",0,0,3,0,{"$f":"3/5","v":0.6},3,"FinanceAccounting",null,0,{"$f":"treatment!A94","v":"https://www.uber.com/careers/list/43445/"}]
["https://www.uber.com/careers/list/43440/",2,2,3,0,{"$f":"6/9","v":0.66666666666666663},1,"Engineering",null,0,{"$f":"treatment!A95","v":"https://www.uber.com/careers/list/43440/"}]
["https://www.uber.com/careers/list/43430/",2,1,3,0,{"$f":"6/8","v":0.75},3,"BusinessSales",null,0,{"$f":"treatment!A96","v":"https://www.uber.com/careers/list/43430/"}]
["https://www.uber.com/careers/list/43425/",4,2,2,2,{"$f":"7/11","v":0.63636363636363635},1,"GlobalCommunityOperations",null,0,{"$f":"treatment!A97","v":"https://www.uber.com/careers/list/43425/"}]
["https://www.uber.com/careers/list/43402/",2,1,3,2,{"$f":"6/9","v":0.66666666666666663},1,"OperationsLaunch",null,0,{"$f":"treatment!A98","v":"https://www.uber.com/careers/list/43402/"}]
["https://www.uber.com/careers/list/43391/",5,5,4,4,{"$f":"11/17","v":0.6470588235294118},1,"Legal",null,0,{"$f":"treatment!A99","v":"https://www.uber.com/careers/list/43391/"}]
["https://www.uber.com/careers/list/43407/",4,1,2,2,{"$f":"6/11","v":0.54545454545454541},1,"OperationsLaunch",null,0,{"$f":"treatment!A100","v":"https://www.uber.com/careers/list/43407/"}]
["https://www.uber.com/careers/list/43396/",2,3,1,0,{"$f":"5/7","v":0.7142857142857143},1,"PeopleOperations",null,0,{"$f":"treatment!A101","v":"https://www.uber.com/careers/list/43396/"}]
["https://www.uber.com/careers/list/43372/",4,2,3,0,{"$f":"6/6","v":1},1,"OperationsLaunch",null,0,{"$f":"treatment!A102","v":"https://www.uber.com/careers/list/43372/"}]
["https://www.uber.com/careers/list/43342/",4,3,6,6,{"$f":"11/15","v":0.73333333333333328},3,"PeopleOperations",null,0,{"$f":"treatment!A103","v":"https://www.uber.com/careers/list/43342/"}]
["https://www.uber.com/careers/list/43276/",3,1,3,3,{"$f":"7/9","v":0.77777777777777779},3,"Engineering",null,0,{"$f":"treatment!A104","v":"https://www.uber.com/careers/list/43276/"}]
["https://www.uber.com/careers/list/43275/",3,1,4,4,{"$f":"8/10","v":0.8},3,"Engineering",null,0,{"$f":"treatment!A105","v":"https://www.uber.com/careers/list/43275/"}]
["https://www.uber.com/careers/list/32412/",0,1,6,6,{"$f":"7/10","v":0.7},3,"Engineering",null,0,{"$f":"treatment!A106","v":"https://www.uber.com/careers/list/32412/"}]
["https://www.uber.com/careers/list/40838/",4,0,3,0,{"$f":"6/10","v":0.6},3,"Engineering",null,0,{"$f":"treatment!A107","v":"https://www.uber.com/careers/list/40838/"}]
["https://www.uber.com/careers/list/43294/",5,4,3,3,{"$f":"10/14","v":0.7142857142857143},3,"Legal",null,0,{"$f":"treatment!A108","v":"https://www.uber.com/careers/list/43294/"}]
["https://www.uber.com/careers/list/43293/",5,4,4,3,{"$f":"10/14","v":0.7142857142857143},3,"Legal",null,0,{"$f":"treatment!A109","v":"https://www.uber.com/careers/list/43293/"}]
["https://www.uber.com/careers/list/43260/",2,0,2,0,{"$f":"4/6","v":0.66666666666666663},1,"FinanceAccounting",null,0,{"$f":"treatment!A110","v":"https://www.uber.com/careers/list/43260/"}]
["https://www.uber.com/careers/list/43206/",3,5,2,0,{"$f":"8/9","v":0.88888888888888884},1,"OperationsLaunch",null,0,{"$f":"treatment!A111","v":"https://www.uber.com/careers/list/43206/"}]
["https://www.uber.com/careers/list/43205/",3,5,2,0,{"$f":"8/9","v":0.88888888888888884},1,"OperationsLaunch",null,0,{"$f":"treatment!A112","v":"https://www.uber.com/careers/list/43205/"}]
["https://www.uber.com/careers/list/43259/",3,0,3,3,{"$f":"6/9","v":0.66666666666666663},3,"FinanceAccounting",null,0,{"$f":"treatment!A113","v":"https://www.uber.com/careers/list/43259/"}]
["https://www.uber.com/careers/list/43252/",3,3,4,0,{"$f":"9/11","v":0.81818181818181823},3,"Legal",null,0,{"$f":"treatment!A114","v":"https://www.uber.com/careers/list/43252/"}]
["https://www.uber.com/careers/list/43219/",0,1,3,3,{"$f":"4/9","v":0.44444444444444442},3,"Product",null,0,{"$f":"treatment!A115","v":"https://www.uber.com/careers/list/43219/"}]
["https://www.uber.com/careers/list/43215/",6,0,3,3,{"$f":"9/10","v":0.9},1,"GlobalCommunityOperations",null,0,{"$f":"treatment!A116","v":"https://www.uber.com/careers/list/43215/"}]
["https://www.uber.com/careers/list/43211/",1,0,3,0,{"$f":"4/5","v":0.8},3,"FinanceAccounting",null,0,{"$f":"treatment!A117","v":"https://www.uber.com/careers/list/43211/"}]
["https://www.uber.com/careers/list/43201/",3,5,2,2,{"$f":"8/9","v":0.88888888888888884},1,"OperationsLaunch",null,0,{"$f":"treatment!A118","v":"https://www.uber.com/careers/list/43201/"}]
["https://www.uber.com/careers/list/43200/",3,3,2,0,{"$f":"6/9","v":0.66666666666666663},3,"PeopleOperations",null,0,{"$f":"treatment!A119","v":"https://www.uber.com/careers/list/43200/"}]
["https://www.uber.com/careers/list/43187/",4,1,4,4,{"$f":"9/14","v":0.6428571428571429},3,"Engineering",null,0,{"$f":"treatment!A120","v":"https://www.uber.com/careers/list/43187/"}]
["https://www.uber.com/careers/list/43137/",5,2,8,8,{"$f":"13/17","v":0.76470588235294112},3,"Engineering",null,0,{"$f":"treatment!A121","v":"https://www.uber.com/careers/list/43137/"}]
["https://www.uber.com/careers/list/43183/",2,4,6,4,{"$f":"9/13","v":0.69230769230769229},3,"GlobalCommunityOperations",null,0,{"$f":"treatment!A122","v":"https://www.uber.com/careers/list/43183/"}]
["https://www.uber.com/careers/list/43131/",2,3,5,4,{"$f":"9/10","v":0.9},3,"OperationsLaunch",null,0,{"$f":"treatment!A123","v":"https://www.uber.com/careers/list/43131/"}]
["https://www.uber.com/careers/list/43150/",2,1,1,0,{"$f":"3/6","v":0.5},1,"OperationsLaunch",null,0,{"$f":"treatment!A124","v":"https://www.uber.com/careers/list/43150/"}]
["https://www.uber.com/careers/list/43074/",1,4,4,0,{"$f":"7/12","v":0.58333333333333337},1,"Marketing",null,0,{"$f":"treatment!A125","v":"https://www.uber.com/careers/list/43074/"}]
["https://www.uber.com/careers/list/43071/",4,2,5,5,{"$f":"10/15","v":0.66666666666666663},1,"Design",null,0,{"$f":"treatment!A126","v":"https://www.uber.com/careers/list/43071/"}]
["https://www.uber.com/careers/list/37805/",0,0,5,4,{"$f":"5/13","v":0.38461538461538464},1,"Engineering",null,0,{"$f":"treatment!A127","v":"https://www.uber.com/careers/list/37805/"}]
["https://www.uber.com/careers/list/43077/",3,2,3,0,{"$f":"8/12","v":0.66666666666666663},1,"Legal",null,0,{"$f":"treatment!A128","v":"https://www.uber.com/careers/list/43077/"}]
["https://www.uber.com/careers/list/43075/",5,3,3,3,{"$f":"9/13","v":0.69230769230769229},3,"GlobalCommunityOperations",null,0,{"$f":"treatment!A129","v":"https://www.uber.com/careers/list/43075/"}]
["https://www.uber.com/careers/list/43070/",2,1,3,0,{"$f":"6/8","v":0.75},3,"BusinessSales",null,{"$f":"IF(K130=A130, 0, 1)","v":0},{"$f":"treatment!A130","v":"https://www.uber.com/careers/list/43070/"}]
["https://www.uber.com/careers/list/43036/",4,1,2,0,{"$f":"6/10","v":0.6},3,"SafetySecurity",null,0,{"$f":"treatment!A131","v":"https://www.uber.com/careers/list/43036/"}]
["https://www.uber.com/careers/list/43030/",1,0,2,0,{"$f":"3/7","v":0.42857142857142855},1,"Legal",null,0,{"$f":"treatment!A132","v":"https://www.uber.com/careers/list/43030/"}]
["https://www.uber.com/careers/list/43010/",3,2,4,4,{"$f":"8/11","v":0.72727272727272729},3,"GlobalCommunityOperations",null,0,{"$f":"treatment!A133","v":"https://www.uber.com/careers/list/43010/"}]
["https://www.uber.com/careers/list/38463/",4,0,8,8,{"$f":"12/17","v":0.70588235294117652},3,"AdvancedTechnologiesGroup",null,0,{"$f":"treatment!A134","v":"https://www.uber.com/careers/list/38463/"}]
["https://www.uber.com/careers/list/42733/",3,2,5,5,{"$f":"9/11","v":0.81818181818181823},3,"Engineering",null,0,{"$f":"treatment!A135","v":"https://www.uber.com/careers/list/42733/"}]
["https://www.uber.com/careers/list/38335/",1,1,2,2,{"$f":"4/10","v":0.4},3,"AdvancedTechnologiesGroup",null,0,{"$f":"treatment!A136","v":"https://www.uber.com/careers/list/38335/"}]
["https://www.uber.com/careers/list/43009/",3,3,4,4,{"$f":"8/12","v":0.66666666666666663},3,"GlobalCommunityOperations",null,0,{"$f":"treatment!A137","v":"https://www.uber.com/careers/list/43009/"}]
["https://www.uber.com/careers/list/42985/",5,3,2,0,{"$f":"8/10","v":0.8},3,"Legal",null,0,{"$f":"treatment!A138","v":"https://www.uber.com/careers/list/42985/"}]
["https://www.uber.com/careers/list/42961/",2,1,3,0,{"$f":"6/8","v":0.75},3,"SafetySecurity",null,0,{"$f":"treatment!A139","v":"https://www.uber.com/careers/list/42961/"}]
["https://www.uber.com/careers/list/42956/",4,1,2,0,{"$f":"7/8","v":0.875},1,"SafetySecurity",null,0,{"$f":"treatment!A140","v":"https://www.uber.com/careers/list/42956/"}]
["https://www.uber.com/careers/list/42919/",3,2,2,0,{"$f":"6/8","v":0.75},3,"PeopleOperations",null,0,{"$f":"treatment!A141","v":"https://www.uber.com/careers/list/42919/"}]
["https://www.uber.com/careers/list/36548/",3,1,4,4,{"$f":"7/9","v":0.77777777777777779},3,"Engineering",null,0,{"$f":"treatment!A142","v":"https://www.uber.com/careers/list/36548/"}]
["https://www.uber.com/careers/list/42866/",4,4,1,0,{"$f":"8/11","v":0.72727272727272729},3,"BusinessSales",null,0,{"$f":"treatment!A143","v":"https://www.uber.com/careers/list/42866/"}]
["https://www.uber.com/careers/list/42941/",3,0,1,0,{"$f":"3/9","v":0.33333333333333331},1,"Engineering",null,0,{"$f":"treatment!A144","v":"https://www.uber.com/careers/list/42941/"}]
["https://www.uber.com/careers/list/42921/",4,1,1,0,{"$f":"6/9","v":0.66666666666666663},1,"Marketing",null,0,{"$f":"treatment!A145","v":"https://www.uber.com/careers/list/42921/"}]
["https://www.uber.com/careers/list/42903/",5,5,2,0,{"$f":"7/9","v":0.77777777777777779},1,"OperationsLaunch",null,0,{"$f":"treatment!A146","v":"https://www.uber.com/careers/list/42903/"}]
["https://www.uber.com/careers/list/42897/",1,1,2,0,{"$f":"3/7","v":0.42857142857142855},1,"BusinessSales",null,0,{"$f":"treatment!A147","v":"https://www.uber.com/careers/list/42897/"}]
["https://www.uber.com/careers/list/42833/",3,1,1,1,{"$f":"5/8","v":0.625},1,"Marketing",null,0,{"$f":"treatment!A148","v":"https://www.uber.com/careers/list/42833/"}]
["https://www.uber.com/careers/list/42746/",2,1,3,0,{"$f":"6/12","v":0.5},3,"SafetySecurity",null,0,{"$f":"treatment!A149","v":"https://www.uber.com/careers/list/42746/"}]
["https://www.uber.com/careers/list/39596/",4,1,4,4,{"$f":"8/13","v":0.61538461538461542},3,"OperationsLaunch",null,0,{"$f":"treatment!A150","v":"https://www.uber.com/careers/list/39596/"}]
["https://www.uber.com/careers/list/42810/",2,3,2,0,{"$f":"5/7","v":0.7142857142857143},3,"PeopleOperations",null,0,{"$f":"treatment!A151","v":"https://www.uber.com/careers/list/42810/"}]
["https://www.uber.com/careers/list/33635/",3,0,6,6,{"$f":"9/9","v":1},3,"AdvancedTechnologiesGroup",null,0,{"$f":"treatment!A152","v":"https://www.uber.com/careers/list/33635/"}]
["https://www.uber.com/careers/list/31176/",2,1,4,4,{"$f":"6/8","v":0.75},3,"AdvancedTechnologiesGroup",null,0,{"$f":"treatment!A153","v":"https://www.uber.com/careers/list/31176/"}]
["https://www.uber.com/careers/list/42792/",3,5,2,2,{"$f":"7/8","v":0.875},3,"Product",null,0,{"$f":"treatment!A154","v":"https://www.uber.com/careers/list/42792/"}]
["https://www.uber.com/careers/list/42781/",3,0,2,2,{"$f":"5/8","v":0.625},1,"GlobalCommunityOperations",null,0,{"$f":"treatment!A155","v":"https://www.uber.com/careers/list/42781/"}]
["https://www.uber.com/careers/list/42777/",5,1,1,0,{"$f":"7/9","v":0.77777777777777779},3,"FinanceAccounting",null,0,{"$f":"treatment!A156","v":"https://www.uber.com/careers/list/42777/"}]
["https://www.uber.com/careers/list/42749/",2,2,3,0,{"$f":"6/9","v":0.66666666666666663},1,"FinanceAccounting",null,0,{"$f":"treatment!A157","v":"https://www.uber.com/careers/list/42749/"}]
["https://www.uber.com/careers/list/42740/",0,0,6,6,{"$f":"6/11","v":0.54545454545454541},3,"Engineering",null,0,{"$f":"treatment!A158","v":"https://www.uber.com/careers/list/42740/"}]
["https://www.uber.com/careers/list/42576/",7,0,1,0,{"$f":"6/12","v":0.5},3,"PeopleOperations",null,0,{"$f":"treatment!A159","v":"https://www.uber.com/careers/list/42576/"}]
["https://www.uber.com/careers/list/42479/",3,3,5,3,{"$f":"10/12","v":0.83333333333333337},3,"GlobalCommunityOperations",null,0,{"$f":"treatment!A160","v":"https://www.uber.com/careers/list/42479/"}]
["https://www.uber.com/careers/list/37098/",2,4,11,11,{"$f":"17/22","v":0.77272727272727271},3,"Engineering",null,0,{"$f":"treatment!A161","v":"https://www.uber.com/careers/list/37098/"}]
["https://www.uber.com/careers/list/42800/",5,3,1,0,{"$f":"6/8","v":0.75},1,"BusinessSales",null,0,{"$f":"treatment!A162","v":"https://www.uber.com/careers/list/42800/"}]
["https://www.uber.com/careers/list/42799/",5,3,1,0,{"$f":"6/8","v":0.75},1,"BusinessSales",null,0,{"$f":"treatment!A163","v":"https://www.uber.com/careers/list/42799/"}]
["https://www.uber.com/careers/list/42727/",2,0,12,12,{"$f":"14/16","v":0.875},3,"SafetySecurity",null,0,{"$f":"treatment!A164","v":"https://www.uber.com/careers/list/42727/"}]
["https://www.uber.com/careers/list/42701/",1,1,8,7,{"$f":"10/11","v":0.90909090909090906},3,"FinanceAccounting",null,0,{"$f":"treatment!A165","v":"https://www.uber.com/careers/list/42701/"}]
["https://www.uber.com/careers/list/42699/",4,1,6,0,{"$f":"10/12","v":0.83333333333333337},3,"FinanceAccounting",null,0,{"$f":"treatment!A166","v":"https://www.uber.com/careers/list/42699/"}]
["https://www.uber.com/careers/list/42697/",1,1,8,7,{"$f":"10/13","v":0.76923076923076927},3,"FinanceAccounting",null,0,{"$f":"treatment!A167","v":"https://www.uber.com/careers/list/42697/"}]
["https://www.uber.com/careers/list/42691/",2,0,2,1,{"$f":"4/7","v":0.5714285714285714},3,"FinanceAccounting",null,0,{"$f":"treatment!A168","v":"https://www.uber.com/careers/list/42691/"}]
["https://www.uber.com/careers/list/42687/",6,1,4,3,0.6875,3,"SafetySecurity",null,0,{"$f":"treatment!A169","v":"https://www.uber.com/careers/list/42687/"}]
["https://www.uber.com/careers/list/42686/",4,1,2,2,{"$f":"6/11","v":0.54545454545454541},1,"OperationsLaunch",null,0,{"$f":"treatment!A170","v":"https://www.uber.com/careers/list/42686/"}]
["https://www.uber.com/careers/list/42675/",4,1,3,3,{"$f":"6/12","v":0.5},1,"Engineering",null,0,{"$f":"treatment!A171","v":"https://www.uber.com/careers/list/42675/"}]
["https://www.uber.com/careers/list/42673/",3,6,2,0,1,1,"Engineering",null,0,{"$f":"treatment!A172","v":"https://www.uber.com/careers/list/42673/"}]
["https://www.uber.com/careers/list/42670/",3,6,2,0,1,1,"Engineering",null,0,{"$f":"treatment!A173","v":"https://www.uber.com/careers/list/42670/"}]
["https://www.uber.com/careers/list/42668/",6,0,2,0,{"$f":"6/7","v":0.8571428571428571},1,"BusinessSales",null,0,{"$f":"treatment!A174","v":"https://www.uber.com/careers/list/42668/"}]
["https://www.uber.com/careers/list/42666/",4,1,1,0,{"$f":"4/10","v":0.4},1,"Engineering",null,0,{"$f":"treatment!A175","v":"https://www.uber.com/careers/list/42666/"}]
["https://www.uber.com/careers/list/42558/",3,1,4,0,{"$f":"7/10","v":0.7},3,"FinanceAccounting",null,0,{"$f":"treatment!A176","v":"https://www.uber.com/careers/list/42558/"}]
["https://www.uber.com/careers/list/38779/",2,3,2,2,{"$f":"6/9","v":0.66666666666666663},1,"GlobalCommunityOperations",null,0,{"$f":"treatment!A177","v":"https://www.uber.com/careers/list/38779/"}]
["https://www.uber.com/careers/list/42300/",2,3,5,3,{"$f":"9/12","v":0.75},3,"GlobalCommunityOperations",null,0,{"$f":"treatment!A178","v":"https://www.uber.com/careers/list/42300/"}]
["https://www.uber.com/careers/list/42554/",3,4,3,2,{"$f":"8/9","v":0.88888888888888884},3,"FinanceAccounting",null,0,{"$f":"treatment!A179","v":"https://www.uber.com/careers/list/42554/"}]
["https://www.uber.com/careers/list/42562/",2,1,2,0,{"$f":"5/5","v":1},1,"OperationsLaunch",null,0,{"$f":"treatment!A180","v":"https://www.uber.com/careers/list/42562/"}]
["https://www.uber.com/careers/list/42604/",0,3,2,0,{"$f":"4/7","v":0.5714285714285714},3,"PeopleOperations",null,0,{"$f":"treatment!A181","v":"https://www.uber.com/careers/list/42604/"}]
["https://www.uber.com/careers/list/42613/",4,0,1,1,{"$f":"4/7","v":0.5714285714285714},3,"GlobalCommunityOperations",null,0,{"$f":"treatment!A182","v":"https://www.uber.com/careers/list/42613/"}]
["https://www.uber.com/careers/list/42541/",5,2,2,0,{"$f":"6/8","v":0.75},3,"OperationsLaunch",null,0,{"$f":"treatment!A183","v":"https://www.uber.com/careers/list/42541/"}]
["https://www.uber.com/careers/list/42526/",1,2,3,3,{"$f":"5/7","v":0.7142857142857143},1,"PeopleOperations",null,0,{"$f":"treatment!A184","v":"https://www.uber.com/careers/list/42526/"}]
["https://www.uber.com/careers/list/42525/",3,0,10,10,{"$f":"13/17","v":0.76470588235294112},3,"SafetySecurity",null,0,{"$f":"treatment!A185","v":"https://www.uber.com/careers/list/42525/"}]
["https://www.uber.com/careers/list/42512/",0,0,2,2,{"$f":"2/7","v":0.2857142857142857},1,"BusinessSales",null,0,{"$f":"treatment!A186","v":"https://www.uber.com/careers/list/42512/"}]
["https://www.uber.com/careers/list/42511/",4,1,3,0,{"$f":"6/8","v":0.75},3,"OperationsLaunch",null,0,{"$f":"treatment!A187","v":"https://www.uber.com/careers/list/42511/"}]
["https://www.uber.com/careers/list/42459/",2,3,11,11,{"$f":"16/21","v":0.76190476190476186},3,"Engineering",null,0,{"$f":"treatment!A188","v":"https://www.uber.com/careers/list/42459/"}]
["https://www.uber.com/careers/list/42192/",4,2,5,5,{"$f":"9/12","v":0.75},3,"Engineering",null,0,{"$f":"treatment!A189","v":"https://www.uber.com/careers/list/42192/"}]
["https://www.uber.com/careers/list/42470/",0,1,3,3,{"$f":"4/9","v":0.44444444444444442},3,"Product",null,0,{"$f":"treatment!A190","v":"https://www.uber.com/careers/list/42470/"}]
["https://www.uber.com/careers/list/42468/",1,1,3,3,{"$f":"5/8","v":0.625},1,"Engineering",null,0,{"$f":"treatment!A191","v":"https://www.uber.com/careers/list/42468/"}]
["https://www.uber.com/careers/list/42443/",2,3,1,1,{"$f":"6/10","v":0.6},1,"FinanceAccounting",null,0,{"$f":"treatment!A192","v":"https://www.uber.com/careers/list/42443/"}]
["https://www.uber.com/careers/list/39657/",2,4,4,4,{"$f":"9/12","v":0.75},3,"GlobalCommunityOperations",null,0,{"$f":"treatment!A193","v":"https://www.uber.com/careers/list/39657/"}]
["https://www.uber.com/careers/list/42405/",2,1,5,4,{"$f":"7/12","v":0.58333333333333337},1,"AdvancedTechnologiesGroup",null,{"$f":"IF(K194=A194, 0, 1)","v":0},{"$f":"treatment!A194","v":"https://www.uber.com/careers/list/42405/"}]
["https://www.uber.com/careers/list/42398/",2,0,2,2,{"$f":"4/8","v":0.5},1,"Engineering",null,0,{"$f":"treatment!A195","v":"https://www.uber.com/careers/list/42398/"}]
["https://www.uber.com/careers/list/34981/",5,1,3,3,{"$f":"9/10","v":0.9},3,"Engineering",null,0,{"$f":"treatment!A196","v":"https://www.uber.com/careers/list/34981/"}]
["https://www.uber.com/careers/list/42373/",4,2,5,4,{"$f":"9/12","v":0.75},3,"Engineering",null,0,{"$f":"treatment!A197","v":"https://www.uber.com/careers/list/42373/"}]
["https://www.uber.com/careers/list/42360/",0,0,5,5,{"$f":"5/6","v":0.83333333333333337},3,"GlobalCommunityOperations",null,0,{"$f":"treatment!A198","v":"https://www.uber.com/careers/list/42360/"}]
["https://www.uber.com/careers/list/42359/",0,0,5,5,{"$f":"5/6","v":0.83333333333333337},3,"GlobalCommunityOperations",null,0,{"$f":"treatment!A199","v":"https://www.uber.com/careers/list/42359/"}]
["https://www.uber.com/careers/list/42355/",0,0,4,3,{"$f":"4/6","v":0.66666666666666663},3,"GlobalCommunityOperations",null,0,{"$f":"treatment!A200","v":"https://www.uber.com/careers/list/42355/"}]
["https://www.uber.com/careers/list/42354/",0,0,4,3,{"$f":"4/6","v":0.66666666666666663},3,"GlobalCommunityOperations",null,0,{"$f":"treatment!A201","v":"https://www.uber.com/careers/list/42354/"}]
["https://www.uber.com/careers/list/42352/",1,1,4,4,{"$f":"6/9","v":0.66666666666666663},3,"Engineering",null,0,{"$f":"treatment!A202","v":"https://www.uber.com/careers/list/42352/"}]
["https://www.uber.com/careers/list/42206/",4,6,2,2,{"$f":"7/7","v":1},1,"Product",null,0,{"$f":"treatment!A203","v":"https://www.uber.com/careers/list/42206/"}]
["https://www.uber.com/careers/list/42314/",3,2,2,0,{"$f":"6/11","v":0.54545454545454541},1,"Engineering",null,0,{"$f":"treatment!A204","v":"https://www.uber.com/careers/list/42314/"}]
["https://www.uber.com/careers/list/42310/",5,3,2,2,{"$f":"8/10","v":0.8},3,"GlobalCommunityOperations",null,0,{"$f":"treatment!A205","v":"https://www.uber.com/careers/list/42310/"}]
["https://www.uber.com/careers/list/42245/",4,1,2,0,{"$f":"6/7","v":0.8571428571428571},1,"OperationsLaunch",null,0,{"$f":"treatment!A206","v":"https://www.uber.com/careers/list/42245/"}]
["https://www.uber.com/careers/list/42143/",1,5,5,2,{"$f":"9/12","v":0.75},1,"PeopleOperations",null,0,{"$f":"treatment!A207","v":"https://www.uber.com/careers/list/42143/"}]
["https://www.uber.com/careers/list/41751/",2,3,2,0,{"$f":"7/10","v":0.7},3,"AdvancedTechnologiesGroup",null,0,{"$f":"treatment!A208","v":"https://www.uber.com/careers/list/41751/"}]
["https://www.uber.com/careers/list/39868/",3,1,2,0,{"$f":"6/7","v":0.8571428571428571},1,"OperationsLaunch",null,0,{"$f":"treatment!A209","v":"https://www.uber.com/careers/list/39868/"}]
["https://www.uber.com/careers/list/37306/",2,1,4,4,{"$f":"7/12","v":0.58333333333333337},3,"Engineering",null,0,{"$f":"treatment!A210","v":"https://www.uber.com/careers/list/37306/"}]
["https://www.uber.com/careers/list/42258/",3,2,2,2,{"$f":"6/10","v":0.6},3,"FinanceAccounting",null,0,{"$f":"treatment!A211","v":"https://www.uber.com/careers/list/42258/"}]
["https://www.uber.com/careers/list/42238/",2,1,6,5,{"$f":"9/14","v":0.6428571428571429},3,"SafetySecurity",null,0,{"$f":"treatment!A212","v":"https://www.uber.com/careers/list/42238/"}]
["https://www.uber.com/careers/list/42204/",8,1,1,0,{"$f":"6/10","v":0.6},1,"FinanceAccounting",null,0,{"$f":"treatment!A213","v":"https://www.uber.com/careers/list/42204/"}]
["https://www.uber.com/careers/list/30770/",1,1,2,0,{"$f":"4/7","v":0.5714285714285714},1,"AdvancedTechnologiesGroup",null,0,{"$f":"treatment!A214","v":"https://www.uber.com/careers/list/30770/"}]
["https://www.uber.com/careers/list/42114/",3,5,2,2,{"$f":"7/11","v":0.63636363636363635},3,"GlobalCommunityOperations",null,0,{"$f":"treatment!A215","v":"https://www.uber.com/careers/list/42114/"}]
["https://www.uber.com/careers/list/42119/",1,1,5,4,{"$f":"7/12","v":0.58333333333333337},3,"Engineering",null,0,{"$f":"treatment!A216","v":"https://www.uber.com/careers/list/42119/"}]
["https://www.uber.com/careers/list/42113/",2,1,1,1,{"$f":"4/9","v":0.44444444444444442},3,"GlobalCommunityOperations",null,0,{"$f":"treatment!A217","v":"https://www.uber.com/careers/list/42113/"}]
["https://www.uber.com/careers/list/42111/",3,1,2,0,{"$f":"5/8","v":0.625},3,"FinanceAccounting",null,0,{"$f":"treatment!A218","v":"https://www.uber.com/careers/list/42111/"}]
["https://www.uber.com/careers/list/42099/",2,1,6,4,{"$f":"9/9","v":1},3,"Marketing",null,0,{"$f":"treatment!A219","v":"https://www.uber.com/careers/list/42099/"}]
["https://www.uber.com/careers/list/42059/",4,2,5,4,{"$f":"10/12","v":0.83333333333333337},3,"GlobalCommunityOperations",null,0,{"$f":"treatment!A220","v":"https://www.uber.com/careers/list/42059/"}]
["https://www.uber.com/careers/list/42048/",1,1,3,0,{"$f":"5/8","v":0.625},1,"PeopleOperations",null,0,{"$f":"treatment!A221","v":"https://www.uber.com/careers/list/42048/"}]
["https://www.uber.com/careers/list/42030/",1,1,3,0,{"$f":"5/8","v":0.625},1,"PeopleOperations",null,0,{"$f":"treatment!A222","v":"https://www.uber.com/careers/list/42030/"}]
["https://www.uber.com/careers/list/41973/",1,2,3,3,{"$f":"5/7","v":0.7142857142857143},1,"PeopleOperations",null,0,{"$f":"treatment!A223","v":"https://www.uber.com/careers/list/41973/"}]
["https://www.uber.com/careers/list/42036/",5,5,2,0,{"$f":"7/10","v":0.7},1,"OperationsLaunch",null,0,{"$f":"treatment!A224","v":"https://www.uber.com/careers/list/42036/"}]
["https://www.uber.com/careers/list/42033/",5,5,2,0,{"$f":"8/10","v":0.8},1,"OperationsLaunch",null,0,{"$f":"treatment!A225","v":"https://www.uber.com/careers/list/42033/"}]
["https://www.uber.com/careers/list/42028/",3,5,2,0,{"$f":"8/9","v":0.88888888888888884},1,"OperationsLaunch",null,0,{"$f":"treatment!A226","v":"https://www.uber.com/careers/list/42028/"}]
["https://www.uber.com/careers/list/42023/",3,5,2,0,{"$f":"8/9","v":0.88888888888888884},1,"OperationsLaunch",null,0,{"$f":"treatment!A227","v":"https://www.uber.com/careers/list/42023/"}]
["https://www.uber.com/careers/list/38756/",4,2,1,0,{"$f":"5/9","v":0.55555555555555558},3,"Engineering",null,0,{"$f":"treatment!A228","v":"https://www.uber.com/careers/list/38756/"}]
["https://www.uber.com/careers/list/20430/",9,2,9,8,{"$f":"13/14","v":0.9285714285714286},3,"Engineering",null,0,{"$f":"treatment!A229","v":"https://www.uber.com/careers/list/20430/"}]
["https://www.uber.com/careers/list/29328/",1,1,3,0,{"$f":"4/15","v":0.26666666666666666},3,"SafetySecurity",null,0,{"$f":"treatment!A230","v":"https://www.uber.com/careers/list/29328/"}]
["https://www.uber.com/careers/list/41896/",0,2,1,0,{"$f":"2/7","v":0.2857142857142857},3,"Engineering",null,0,{"$f":"treatment!A231","v":"https://www.uber.com/careers/list/41896/"}]
["https://www.uber.com/careers/list/41941/",2,3,1,0,{"$f":"5/7","v":0.7142857142857143},1,"Legal",null,0,{"$f":"treatment!A232","v":"https://www.uber.com/careers/list/41941/"}]
["https://www.uber.com/careers/list/41948/",4,2,2,2,{"$f":"6/8","v":0.75},3,"GlobalCommunityOperations",null,0,{"$f":"treatment!A233","v":"https://www.uber.com/careers/list/41948/"}]
["https://www.uber.com/careers/list/41967/",3,2,1,0,{"$f":"5/7","v":0.7142857142857143},3,"Product",null,0,{"$f":"treatment!A234","v":"https://www.uber.com/careers/list/41967/"}]
["https://www.uber.com/careers/list/41930/",1,0,2,0,{"$f":"3/7","v":0.42857142857142855},3,"Engineering",null,0,{"$f":"treatment!A235","v":"https://www.uber.com/careers/list/41930/"}]
["https://www.uber.com/careers/list/41892/",2,3,2,0,{"$f":"5/7","v":0.7142857142857143},1,"PeopleOperations",null,0,{"$f":"treatment!A236","v":"https://www.uber.com/careers/list/41892/"}]
["https://www.uber.com/careers/list/41800/",4,6,5,3,{"$f":"10/11","v":0.90909090909090906},3,"Product",null,0,{"$f":"treatment!A237","v":"https://www.uber.com/careers/list/41800/"}]
["https://www.uber.com/careers/list/29840/",1,2,5,5,{"$f":"8/10","v":0.8},3,"Engineering",null,0,{"$f":"treatment!A238","v":"https://www.uber.com/careers/list/29840/"}]
["https://www.uber.com/careers/list/12480/",2,0,3,3,{"$f":"5/8","v":0.625},3,"AdvancedTechnologiesGroup",null,0,{"$f":"treatment!A239","v":"https://www.uber.com/careers/list/12480/"}]
["https://www.uber.com/careers/list/41720/",3,3,1,0,{"$f":"6/8","v":0.75},1,"Engineering",null,0,{"$f":"treatment!A240","v":"https://www.uber.com/careers/list/41720/"}]
["https://www.uber.com/careers/list/41811/",1,2,2,0,{"$f":"5/7","v":0.7142857142857143},1,"BusinessSales",null,0,{"$f":"treatment!A241","v":"https://www.uber.com/careers/list/41811/"}]
["https://www.uber.com/careers/list/41891/",2,4,3,3,{"$f":"7/11","v":0.63636363636363635},3,"BusinessSales",null,0,{"$f":"treatment!A242","v":"https://www.uber.com/careers/list/41891/"}]
["https://www.uber.com/careers/list/41894/",4,2,4,4,{"$f":"8/13","v":0.61538461538461542},3,"GlobalCommunityOperations",null,0,{"$f":"treatment!A243","v":"https://www.uber.com/careers/list/41894/"}]
["https://www.uber.com/careers/list/41895/",3,4,2,0,{"$f":"5/9","v":0.55555555555555558},1,"Legal",null,0,{"$f":"treatment!A244","v":"https://www.uber.com/careers/list/41895/"}]
["https://www.uber.com/careers/list/41900/",4,1,4,4,{"$f":"9/13","v":0.69230769230769229},3,"FinanceAccounting",null,0,{"$f":"treatment!A245","v":"https://www.uber.com/careers/list/41900/"}]
["https://www.uber.com/careers/list/41025/",0,1,3,3,{"$f":"4/6","v":0.66666666666666663},3,"Engineering",null,0,{"$f":"treatment!A246","v":"https://www.uber.com/careers/list/41025/"}]
["https://www.uber.com/careers/list/41789/",0,3,6,6,{"$f":"9/16","v":0.5625},1,"Marketing",null,0,{"$f":"treatment!A247","v":"https://www.uber.com/careers/list/41789/"}]
["https://www.uber.com/careers/list/41761/",3,0,2,0,{"$f":"4/7","v":0.5714285714285714},1,"FinanceAccounting",null,0,{"$f":"treatment!A248","v":"https://www.uber.com/careers/list/41761/"}]
["https://www.uber.com/careers/list/28620/",2,2,10,10,{"$f":"13/15","v":0.8666666666666667},3,"AdvancedTechnologiesGroup",null,0,{"$f":"treatment!A249","v":"https://www.uber.com/careers/list/28620/"}]
["https://www.uber.com/careers/list/41750/",3,1,6,5,{"$f":"9/13","v":0.69230769230769229},3,"Engineering",null,0,{"$f":"treatment!A250","v":"https://www.uber.com/careers/list/41750/"}]
["https://www.uber.com/careers/list/41695/",2,0,2,0,{"$f":"4/7","v":0.5714285714285714},3,"FinanceAccounting",null,0,{"$f":"treatment!A251","v":"https://www.uber.com/careers/list/41695/"}]
["https://www.uber.com/careers/list/41691/",1,3,8,8,{"$f":"12/18","v":0.66666666666666663},1,"BusinessSales",null,0,{"$f":"treatment!A252","v":"https://www.uber.com/careers/list/41691/"}]
["https://www.uber.com/careers/list/41689/",1,3,8,8,{"$f":"12/18","v":0.66666666666666663},1,"BusinessSales",null,0,{"$f":"treatment!A253","v":"https://www.uber.com/careers/list/41689/"}]
["https://www.uber.com/careers/list/41677/",2,0,2,0,{"$f":"3/8","v":0.375},3,"Engineering",null,0,{"$f":"treatment!A254","v":"https://www.uber.com/careers/list/41677/"}]
["https://www.uber.com/careers/list/41673/",6,3,1,0,{"$f":"6/8","v":0.75},3,"OperationsLaunch",null,0,{"$f":"treatment!A255","v":"https://www.uber.com/careers/list/41673/"}]
["https://www.uber.com/careers/list/41682/",1,1,4,4,{"$f":"6/8","v":0.75},1,"GlobalCommunityOperations",null,0,{"$f":"treatment!A256","v":"https://www.uber.com/careers/list/41682/"}]
["https://www.uber.com/careers/list/41510/",3,0,3,3,{"$f":"6/9","v":0.66666666666666663},3,"Engineering",null,0,{"$f":"treatment!A257","v":"https://www.uber.com/careers/list/41510/"}]
["https://www.uber.com/careers/list/41633/",6,0,3,0,{"$f":"7/8","v":0.875},3,"Product",null,{"$f":"IF(K258=A258, 0, 1)","v":0},{"$f":"treatment!A258","v":"https://www.uber.com/careers/list/41633/"}]
["https://www.uber.com/careers/list/41635/",4,2,1,0,{"$f":"4/6","v":0.66666666666666663},3,"Engineering",null,0,{"$f":"treatment!A259","v":"https://www.uber.com/careers/list/41635/"}]
["https://www.uber.com/careers/list/41541/",6,8,2,0,{"$f":"9/10","v":0.9},3,"OperationsLaunch",null,0,{"$f":"treatment!A260","v":"https://www.uber.com/careers/list/41541/"}]
["https://www.uber.com/careers/list/41540/",6,8,2,0,{"$f":"9/10","v":0.9},3,"OperationsLaunch",null,0,{"$f":"treatment!A261","v":"https://www.uber.com/careers/list/41540/"}]
["https://www.uber.com/careers/list/41581/",2,0,2,2,{"$f":"4/8","v":0.5},3,"GlobalCommunityOperations",null,0,{"$f":"treatment!A262","v":"https://www.uber.com/careers/list/41581/"}]
["https://www.uber.com/careers/list/41538/",6,8,2,0,{"$f":"9/10","v":0.9},3,"OperationsLaunch",null,0,{"$f":"treatment!A263","v":"https://www.uber.com/careers/list/41538/"}]
["https://www.uber.com/careers/list/41490/",0,2,2,0,{"$f":"3/8","v":0.375},3,"Engineering",null,0,{"$f":"treatment!A264","v":"https://www.uber.com/careers/list/41490/"}]
["https://www.uber.com/careers/list/41447/",2,2,2,2,{"$f":"5/9","v":0.55555555555555558},3,"GlobalCommunityOperations",null,0,{"$f":"treatment!A265","v":"https://www.uber.com/careers/list/41447/"}]
["https://www.uber.com/careers/list/41486/",5,1,3,3,{"$f":"8/8","v":1},3,"Product",null,0,{"$f":"treatment!A266","v":"https://www.uber.com/careers/list/41486/"}]
["https://www.uber.com/careers/list/41479/",1,3,3,3,{"$f":"7/11","v":0.63636363636363635},3,"Legal",null,0,{"$f":"treatment!A267","v":"https://www.uber.com/careers/list/41479/"}]
["https://www.uber.com/careers/list/41449/",4,1,5,4,{"$f":"8/12","v":0.66666666666666663},3,"Engineering",null,0,{"$f":"treatment!A268","v":"https://www.uber.com/careers/list/41449/"}]
["https://www.uber.com/careers/list/41446/",3,2,3,3,{"$f":"8/9","v":0.88888888888888884},3,"SafetySecurity",null,0,{"$f":"treatment!A269","v":"https://www.uber.com/careers/list/41446/"}]
["https://www.uber.com/careers/list/41230/",1,5,3,3,{"$f":"8/10","v":0.8},3,"Engineering",null,0,{"$f":"treatment!A270","v":"https://www.uber.com/careers/list/41230/"}]
["https://www.uber.com/careers/list/36843/",1,2,2,1,{"$f":"5/8","v":0.625},3,"AdvancedTechnologiesGroup",null,0,{"$f":"treatment!A271","v":"https://www.uber.com/careers/list/36843/"}]
["https://www.uber.com/careers/list/34593/",1,2,2,1,{"$f":"5/8","v":0.625},3,"AdvancedTechnologiesGroup",null,0,{"$f":"treatment!A272","v":"https://www.uber.com/careers/list/34593/"}]
["https://www.uber.com/careers/list/41359/",2,5,1,0,{"$f":"8/8","v":1},3,"GlobalCommunityOperations",null,0,{"$f":"treatment!A273","v":"https://www.uber.com/careers/list/41359/"}]
["https://www.uber.com/careers/list/41476/",3,0,2,0,{"$f":"4/9","v":0.44444444444444442},3,"Engineering",null,0,{"$f":"treatment!A274","v":"https://www.uber.com/careers/list/41476/"}]
["https://www.uber.com/careers/list/41448/",2,2,3,3,{"$f":"7/10","v":0.7},3,"GlobalCommunityOperations",null,0,{"$f":"treatment!A275","v":"https://www.uber.com/careers/list/41448/"}]
["https://www.uber.com/careers/list/41440/",2,0,4,4,{"$f":"6/8","v":0.75},3,"SafetySecurity",null,0,{"$f":"treatment!A276","v":"https://www.uber.com/careers/list/41440/"}]
["https://www.uber.com/careers/list/41420/",1,1,8,7,{"$f":"10/11","v":0.90909090909090906},3,"FinanceAccounting",null,0,{"$f":"treatment!A277","v":"https://www.uber.com/careers/list/41420/"}]
["https://www.uber.com/careers/list/41370/",4,3,5,4,{"$f":"11/13","v":0.84615384615384615},1,"GlobalCommunityOperations",null,0,{"$f":"treatment!A278","v":"https://www.uber.com/careers/list/41370/"}]
["https://www.uber.com/careers/list/40312/",2,0,4,3,{"$f":"6/9","v":0.66666666666666663},3,"SafetySecurity",null,0,{"$f":"treatment!A279","v":"https://www.uber.com/careers/list/40312/"}]
["https://www.uber.com/careers/list/39546/",2,2,5,5,{"$f":"7/13","v":0.53846153846153844},3,"GlobalCommunityOperations",null,0,{"$f":"treatment!A280","v":"https://www.uber.com/careers/list/39546/"}]
["https://www.uber.com/careers/list/37501/",0,1,3,3,{"$f":"4/9","v":0.44444444444444442},3,"Product",null,0,{"$f":"treatment!A281","v":"https://www.uber.com/careers/list/37501/"}]
["https://www.uber.com/careers/list/30121/",1,0,7,7,{"$f":"8/13","v":0.61538461538461542},3,"AdvancedTechnologiesGroup",null,0,{"$f":"treatment!A282","v":"https://www.uber.com/careers/list/30121/"}]
["https://www.uber.com/careers/list/41406/",2,1,1,0,{"$f":"3/6","v":0.5},1,"OperationsLaunch",null,0,{"$f":"treatment!A283","v":"https://www.uber.com/careers/list/41406/"}]
["https://www.uber.com/careers/list/41354/",1,1,1,0,{"$f":"3/5","v":0.6},3,"OperationsLaunch",null,0,{"$f":"treatment!A284","v":"https://www.uber.com/careers/list/41354/"}]
["https://www.uber.com/careers/list/41347/",2,3,2,2,{"$f":"6/8","v":0.75},3,"BusinessSales",null,0,{"$f":"treatment!A285","v":"https://www.uber.com/careers/list/41347/"}]
["https://www.uber.com/careers/list/41346/",2,2,4,4,{"$f":"8/10","v":0.8},3,"Engineering",null,0,{"$f":"treatment!A286","v":"https://www.uber.com/careers/list/41346/"}]
["https://www.uber.com/careers/list/41333/",12,1,1,0,{"$f":"9/13","v":0.69230769230769229},1,"PeopleOperations",null,0,{"$f":"treatment!A287","v":"https://www.uber.com/careers/list/41333/"}]
["https://www.uber.com/careers/list/41286/",2,4,4,3,{"$f":"11/17","v":0.6470588235294118},3,"FinanceAccounting",null,0,{"$f":"treatment!A288","v":"https://www.uber.com/careers/list/41286/"}]
["https://www.uber.com/careers/list/41285/",5,7,2,0,{"$f":"7/9","v":0.77777777777777779},1,"OperationsLaunch",null,0,{"$f":"treatment!A289","v":"https://www.uber.com/careers/list/41285/"}]
["https://www.uber.com/careers/list/41213/",2,0,5,5,{"$f":"7/10","v":0.7},3,"AdvancedTechnologiesGroup",null,0,{"$f":"treatment!A290","v":"https://www.uber.com/careers/list/41213/"}]
["https://www.uber.com/careers/list/41135/",3,2,3,0,{"$f":"7/10","v":0.7},3,"Legal",null,0,{"$f":"treatment!A291","v":"https://www.uber.com/careers/list/41135/"}]
["https://www.uber.com/careers/list/41091/",5,1,1,0,{"$f":"6/8","v":0.75},1,"Legal",null,0,{"$f":"treatment!A292","v":"https://www.uber.com/careers/list/41091/"}]
["https://www.uber.com/careers/list/40726/",2,4,4,4,{"$f":"8/17","v":0.47058823529411764},3,"FinanceAccounting",null,0,{"$f":"treatment!A293","v":"https://www.uber.com/careers/list/40726/"}]
["https://www.uber.com/careers/list/40463/",1,2,2,2,{"$f":"5/10","v":0.5},3,"Engineering",null,0,{"$f":"treatment!A294","v":"https://www.uber.com/careers/list/40463/"}]
["https://www.uber.com/careers/list/41171/",5,4,3,3,{"$f":"10/12","v":0.83333333333333337},3,"FinanceAccounting",null,0,{"$f":"treatment!A295","v":"https://www.uber.com/careers/list/41171/"}]
["https://www.uber.com/careers/list/41143/",1,1,3,0,{"$f":"5/8","v":0.625},3,"PeopleOperations",null,0,{"$f":"treatment!A296","v":"https://www.uber.com/careers/list/41143/"}]
["https://www.uber.com/careers/list/41142/",1,1,3,0,{"$f":"5/8","v":0.625},3,"PeopleOperations",null,0,{"$f":"treatment!A297","v":"https://www.uber.com/careers/list/41142/"}]
["https://www.uber.com/careers/list/41141/",1,1,3,0,{"$f":"5/8","v":0.625},3,"PeopleOperations",null,0,{"$f":"treatment!A298","v":"https://www.uber.com/careers/list/41141/"}]
["https://www.uber.com/careers/list/41126/",5,2,7,2,{"$f":"14/16","v":0.875},3,"PeopleOperations",null,0,{"$f":"treatment!A299","v":"https://www.uber.com/careers/list/41126/"}]
["https://www.uber.com/careers/list/41124/",1,2,2,2,{"$f":"5/10","v":0.5},1,"OperationsLaunch",null,0,{"$f":"treatment!A300","v":"https://www.uber.com/careers/list/41124/"}]
["https://www.uber.com/careers/list/41097/",2,5,2,0,{"$f":"5/6","v":0.83333333333333337},1,"PeopleOperations",null,0,{"$f":"treatment!A301","v":"https://www.uber.com/careers/list/41097/"}]
["https://www.uber.com/careers/list/41067/",2,3,2,2,{"$f":"5/10","v":0.5},3,"Product",null,0,{"$f":"treatment!A302","v":"https://www.uber.com/careers/list/41067/"}]
["https://www.uber.com/careers/list/41060/",0,3,4,4,{"$f":"7/9","v":0.77777777777777779},3,"Engineering",null,0,{"$f":"treatment!A303","v":"https://www.uber.com/careers/list/41060/"}]
["https://www.uber.com/careers/list/41042/",4,1,5,5,{"$f":"8/13","v":0.61538461538461542},3,"Engineering",null,0,{"$f":"treatment!A304","v":"https://www.uber.com/careers/list/41042/"}]
["https://www.uber.com/careers/list/41038/",3,3,2,1,{"$f":"8/11","v":0.72727272727272729},1,"Product",null,0,{"$f":"treatment!A305","v":"https://www.uber.com/careers/list/41038/"}]
["https://www.uber.com/careers/list/41013/",3,2,1,1,{"$f":"5/9","v":0.55555555555555558},3,"FinanceAccounting",null,0,{"$f":"treatment!A306","v":"https://www.uber.com/careers/list/41013/"}]
["https://www.uber.com/careers/list/40996/",2,3,3,0,{"$f":"8/11","v":0.72727272727272729},3,"SafetySecurity",null,0,{"$f":"treatment!A307","v":"https://www.uber.com/careers/list/40996/"}]
["https://www.uber.com/careers/list/40968/",0,7,4,4,{"$f":"10/13","v":0.76923076923076927},3,"Design",null,0,{"$f":"treatment!A308","v":"https://www.uber.com/careers/list/40968/"}]
["https://www.uber.com/careers/list/40960/",4,2,1,0,{"$f":"4/6","v":0.66666666666666663},1,"OperationsLaunch",null,0,{"$f":"treatment!A309","v":"https://www.uber.com/careers/list/40960/"}]
["https://www.uber.com/careers/list/40953/",5,2,1,0,{"$f":"5/8","v":0.625},3,"BusinessSales",null,0,{"$f":"treatment!A310","v":"https://www.uber.com/careers/list/40953/"}]
["https://www.uber.com/careers/list/40949/",2,1,2,0,{"$f":"5/6","v":0.83333333333333337},3,"FinanceAccounting",null,0,{"$f":"treatment!A311","v":"https://www.uber.com/careers/list/40949/"}]
["https://www.uber.com/careers/list/40944/",1,1,4,3,{"$f":"6/9","v":0.66666666666666663},3,"FinanceAccounting",null,0,{"$f":"treatment!A312","v":"https://www.uber.com/careers/list/40944/"}]
["https://www.uber.com/careers/list/40935/",2,1,4,0,{"$f":"7/11","v":0.63636363636363635},3,"FinanceAccounting",null,0,{"$f":"treatment!A313","v":"https://www.uber.com/careers/list/40935/"}]
["https://www.uber.com/careers/list/40934/",2,1,4,0,{"$f":"7/9","v":0.77777777777777779},3,"FinanceAccounting",null,0,{"$f":"treatment!A314","v":"https://www.uber.com/careers/list/40934/"}]
["https://www.uber.com/careers/list/40933/",2,3,2,2,{"$f":"7/11","v":0.63636363636363635},3,"AdvancedTechnologiesGroup",null,0,{"$f":"treatment!A315","v":"https://www.uber.com/careers/list/40933/"}]
["https://www.uber.com/careers/list/40906/",2,3,1,0,{"$f":"5/8","v":0.625},1,"Product",null,0,{"$f":"treatment!A316","v":"https://www.uber.com/careers/list/40906/"}]
["https://www.uber.com/careers/list/40905/",1,2,5,3,{"$f":"7/10","v":0.7},3,"GlobalCommunityOperations",null,0,{"$f":"treatment!A317","v":"https://www.uber.com/careers/list/40905/"}]
["https://www.uber.com/careers/list/40904/",0,0,3,2,{"$f":"3/6","v":0.5},3,"GlobalCommunityOperations",null,0,{"$f":"treatment!A318","v":"https://www.uber.com/careers/list/40904/"}]
["https://www.uber.com/careers/list/40902/",0,0,3,2,{"$f":"3/6","v":0.5},3,"GlobalCommunityOperations",null,0,{"$f":"treatment!A319","v":"https://www.uber.com/careers/list/40902/"}]
["https://www.uber.com/careers/list/40901/",8,8,3,0,{"$f":"14/16","v":0.875},1,"Legal",null,0,{"$f":"treatment!A320","v":"https://www.uber.com/careers/list/40901/"}]
["https://www.uber.com/careers/list/40899/",1,3,3,3,{"$f":"6/7","v":0.8571428571428571},3,"Engineering",null,0,{"$f":"treatment!A321","v":"https://www.uber.com/careers/list/40899/"}]
["https://www.uber.com/careers/list/40893/",3,3,3,3,{"$f":"8/9","v":0.88888888888888884},3,"GlobalCommunityOperations",null,{"$f":"IF(K322=A322, 0, 1)","v":0},{"$f":"treatment!A322","v":"https://www.uber.com/careers/list/40893/"}]
["https://www.uber.com/careers/list/40687/",2,3,1,0,{"$f":"5/9","v":0.55555555555555558},3,"Design",null,0,{"$f":"treatment!A323","v":"https://www.uber.com/careers/list/40687/"}]
["https://www.uber.com/careers/list/40494/",2,2,1,1,{"$f":"5/10","v":0.5},1,"FinanceAccounting",null,0,{"$f":"treatment!A324","v":"https://www.uber.com/careers/list/40494/"}]
["https://www.uber.com/careers/list/40416/",3,5,2,0,{"$f":"8/11","v":0.72727272727272729},3,"OperationsLaunch",null,0,{"$f":"treatment!A325","v":"https://www.uber.com/careers/list/40416/"}]
["https://www.uber.com/careers/list/39074/",3,4,3,3,{"$f":"8/10","v":0.8},3,"AdvancedTechnologiesGroup",null,0,{"$f":"treatment!A326","v":"https://www.uber.com/careers/list/39074/"}]
["https://www.uber.com/careers/list/38678/",6,2,3,3,{"$f":"10/13","v":0.76923076923076927},3,"GlobalCommunityOperations",null,0,{"$f":"treatment!A327","v":"https://www.uber.com/careers/list/38678/"}]
["https://www.uber.com/careers/list/38655/",2,5,3,3,{"$f":"8/12","v":0.66666666666666663},3,"GlobalCommunityOperations",null,0,{"$f":"treatment!A328","v":"https://www.uber.com/careers/list/38655/"}]
["https://www.uber.com/careers/list/38644/",4,2,4,3,{"$f":"8/8","v":1},3,"GlobalCommunityOperations",null,0,{"$f":"treatment!A329","v":"https://www.uber.com/careers/list/38644/"}]
["https://www.uber.com/careers/list/37918/",6,4,3,3,{"$f":"12/18","v":0.66666666666666663},3,"Product",null,0,{"$f":"treatment!A330","v":"https://www.uber.com/careers/list/37918/"}]
["https://www.uber.com/careers/list/33993/",2,2,1,0,{"$f":"5/9","v":0.55555555555555558},1,"Engineering",null,0,{"$f":"treatment!A331","v":"https://www.uber.com/careers/list/33993/"}]
["https://www.uber.com/careers/list/30944/",3,4,3,3,{"$f":"8/10","v":0.8},3,"AdvancedTechnologiesGroup",null,0,{"$f":"treatment!A332","v":"https://www.uber.com/careers/list/30944/"}]
["https://www.uber.com/careers/list/40876/",2,4,4,3,{"$f":"8/11","v":0.72727272727272729},3,"GlobalCommunityOperations",null,0,{"$f":"treatment!A333","v":"https://www.uber.com/careers/list/40876/"}]
["https://www.uber.com/careers/list/40874/",4,1,2,2,{"$f":"6/10","v":0.6},3,"GlobalCommunityOperations",null,0,{"$f":"treatment!A334","v":"https://www.uber.com/careers/list/40874/"}]
["https://www.uber.com/careers/list/40829/",9,1,9,7,{"$f":"14/18","v":0.77777777777777779},1,"PeopleOperations",null,0,{"$f":"treatment!A335","v":"https://www.uber.com/careers/list/40829/"}]
["https://www.uber.com/careers/list/40744/",3,3,5,0,{"$f":"10/14","v":0.7142857142857143},3,"Legal",null,0,{"$f":"treatment!A336","v":"https://www.uber.com/careers/list/40744/"}]
["https://www.uber.com/careers/list/40734/",3,1,5,4,{"$f":"7/10","v":0.7},3,"FinanceAccounting",null,0,{"$f":"treatment!A337","v":"https://www.uber.com/careers/list/40734/"}]
["https://www.uber.com/careers/list/40731/",2,0,4,0,{"$f":"5/8","v":0.625},3,"FinanceAccounting",null,0,{"$f":"treatment!A338","v":"https://www.uber.com/careers/list/40731/"}]
["https://www.uber.com/careers/list/40724/",2,1,5,5,{"$f":"8/16","v":0.5},3,"FinanceAccounting",null,0,{"$f":"treatment!A339","v":"https://www.uber.com/careers/list/40724/"}]
["https://www.uber.com/careers/list/40723/",3,1,8,8,{"$f":"11/19","v":0.57894736842105265},3,"FinanceAccounting",null,0,{"$f":"treatment!A340","v":"https://www.uber.com/careers/list/40723/"}]
["https://www.uber.com/careers/list/40720/",4,0,3,0,{"$f":"5/6","v":0.83333333333333337},1,"OperationsLaunch",null,0,{"$f":"treatment!A341","v":"https://www.uber.com/careers/list/40720/"}]
["https://www.uber.com/careers/list/40702/",0,1,2,0,{"$f":"3/5","v":0.6},1,"OperationsLaunch",null,0,{"$f":"treatment!A342","v":"https://www.uber.com/careers/list/40702/"}]
["https://www.uber.com/careers/list/40697/",0,2,2,2,{"$f":"4/6","v":0.66666666666666663},3,"OperationsLaunch",null,0,{"$f":"treatment!A343","v":"https://www.uber.com/careers/list/40697/"}]
["https://www.uber.com/careers/list/40693/",0,2,2,2,{"$f":"4/6","v":0.66666666666666663},3,"OperationsLaunch",null,0,{"$f":"treatment!A344","v":"https://www.uber.com/careers/list/40693/"}]
["https://www.uber.com/careers/list/40689/",3,2,1,1,{"$f":"5/7","v":0.7142857142857143},1,"OperationsLaunch",null,0,{"$f":"treatment!A345","v":"https://www.uber.com/careers/list/40689/"}]
["https://www.uber.com/careers/list/40686/",5,2,3,0,{"$f":"9/9","v":1},3,"OperationsLaunch",null,0,{"$f":"treatment!A346","v":"https://www.uber.com/careers/list/40686/"}]
["https://www.uber.com/careers/list/40684/",3,1,5,4,{"$f":"7/8","v":0.875},3,"OperationsLaunch",null,0,{"$f":"treatment!A347","v":"https://www.uber.com/careers/list/40684/"}]
["https://www.uber.com/careers/list/40682/",5,1,1,0,{"$f":"5/5","v":1},3,"OperationsLaunch",null,0,{"$f":"treatment!A348","v":"https://www.uber.com/careers/list/40682/"}]
["https://www.uber.com/careers/list/40681/",5,1,1,0,{"$f":"5/5","v":1},3,"OperationsLaunch",null,0,{"$f":"treatment!A349","v":"https://www.uber.com/careers/list/40681/"}]
["https://www.uber.com/careers/list/40677/",5,1,1,0,{"$f":"5/5","v":1},3,"OperationsLaunch",null,0,{"$f":"treatment!A350","v":"https://www.uber.com/careers/list/40677/"}]
["https://www.uber.com/careers/list/40651/",2,5,1,0,{"$f":"6/9","v":0.66666666666666663},3,"Engineering",null,0,{"$f":"treatment!A351","v":"https://www.uber.com/careers/list/40651/"}]
["https://www.uber.com/careers/list/40622/",4,4,3,3,{"$f":"7/9","v":0.77777777777777779},3,"FinanceAccounting",null,0,{"$f":"treatment!A352","v":"https://www.uber.com/careers/list/40622/"}]
["https://www.uber.com/careers/list/40603/",4,2,2,2,{"$f":"6/11","v":0.54545454545454541},1,"FinanceAccounting",null,0,{"$f":"treatment!A353","v":"https://www.uber.com/careers/list/40603/"}]
["https://www.uber.com/careers/list/40515/",0,1,3,3,{"$f":"4/7","v":0.5714285714285714},3,"Product",null,0,{"$f":"treatment!A354","v":"https://www.uber.com/careers/list/40515/"}]
["https://www.uber.com/careers/list/40837/",1,1,4,4,{"$f":"6/8","v":0.75},3,"GlobalCommunityOperations",null,0,{"$f":"treatment!A355","v":"https://www.uber.com/careers/list/40837/"}]
["https://www.uber.com/careers/list/40790/",2,2,2,0,{"$f":"5/9","v":0.55555555555555558},1,"FinanceAccounting",null,0,{"$f":"treatment!A356","v":"https://www.uber.com/careers/list/40790/"}]
["https://www.uber.com/careers/list/40690/",7,2,2,0,{"$f":"9/9","v":1},3,"OperationsLaunch",null,0,{"$f":"treatment!A357","v":"https://www.uber.com/careers/list/40690/"}]
["https://www.uber.com/careers/list/40683/",5,2,2,0,{"$f":"8/8","v":1},3,"OperationsLaunch",null,0,{"$f":"treatment!A358","v":"https://www.uber.com/careers/list/40683/"}]
["https://www.uber.com/careers/list/40649/",3,1,11,10,{"$f":"13/18","v":0.72222222222222221},3,"AdvancedTechnologiesGroup",null,0,{"$f":"treatment!A359","v":"https://www.uber.com/careers/list/40649/"}]
["https://www.uber.com/careers/list/40648/",2,2,13,13,{"$f":"13/16","v":0.8125},3,"AdvancedTechnologiesGroup",null,0,{"$f":"treatment!A360","v":"https://www.uber.com/careers/list/40648/"}]
["https://www.uber.com/careers/list/40634/",2,2,1,0,{"$f":"6/10","v":0.6},1,"FinanceAccounting",null,0,{"$f":"treatment!A361","v":"https://www.uber.com/careers/list/40634/"}]
["https://www.uber.com/careers/list/40628/",0,2,5,5,{"$f":"5/13","v":0.38461538461538464},3,"SafetySecurity",null,0,{"$f":"treatment!A362","v":"https://www.uber.com/careers/list/40628/"}]
["https://www.uber.com/careers/list/40627/",1,1,1,0,{"$f":"3/5","v":0.6},1,"OperationsLaunch",null,0,{"$f":"treatment!A363","v":"https://www.uber.com/careers/list/40627/"}]
["https://www.uber.com/careers/list/40625/",3,0,2,0,{"$f":"5/6","v":0.83333333333333337},1,"FinanceAccounting",null,0,{"$f":"treatment!A364","v":"https://www.uber.com/careers/list/40625/"}]
["https://www.uber.com/careers/list/40624/",8,2,2,0,{"$f":"9/11","v":0.81818181818181823},3,"PeopleOperations",null,0,{"$f":"treatment!A365","v":"https://www.uber.com/careers/list/40624/"}]
["https://www.uber.com/careers/list/40486/",2,1,2,0,{"$f":"5/7","v":0.7142857142857143},1,"OperationsLaunch",null,0,{"$f":"treatment!A366","v":"https://www.uber.com/careers/list/40486/"}]
["https://www.uber.com/careers/list/39837/",3,4,3,0,{"$f":"9/11","v":0.81818181818181823},3,"Engineering",null,0,{"$f":"treatment!A367","v":"https://www.uber.com/careers/list/39837/"}]
["https://www.uber.com/careers/list/38681/",3,1,4,4,{"$f":"7/11","v":0.63636363636363635},3,"AdvancedTechnologiesGroup",null,0,{"$f":"treatment!A368","v":"https://www.uber.com/careers/list/38681/"}]
["https://www.uber.com/careers/list/40375/",2,0,4,4,{"$f":"6/10","v":0.6},3,"Engineering",null,0,{"$f":"treatment!A369","v":"https://www.uber.com/careers/list/40375/"}]
["https://www.uber.com/careers/list/38629/",4,2,5,4,{"$f":"10/12","v":0.83333333333333337},3,"GlobalCommunityOperations",null,0,{"$f":"treatment!A370","v":"https://www.uber.com/careers/list/38629/"}]
["https://www.uber.com/careers/list/35393/",5,2,4,3,{"$f":"8/8","v":1},3,"GlobalCommunityOperations",null,0,{"$f":"treatment!A371","v":"https://www.uber.com/careers/list/35393/"}]
["https://www.uber.com/careers/list/40544/",6,4,2,2,{"$f":"8/13","v":0.61538461538461542},1,"BusinessSales",null,0,{"$f":"treatment!A372","v":"https://www.uber.com/careers/list/40544/"}]
["https://www.uber.com/careers/list/40490/",2,3,2,0,{"$f":"7/13","v":0.53846153846153844},1,"Marketing",null,0,{"$f":"treatment!A373","v":"https://www.uber.com/careers/list/40490/"}]
["https://www.uber.com/careers/list/40501/",1,0,3,0,{"$f":"4/5","v":0.8},3,"FinanceAccounting",null,0,{"$f":"treatment!A374","v":"https://www.uber.com/careers/list/40501/"}]
["https://www.uber.com/careers/list/40484/",4,5,2,0,{"$f":"6/9","v":0.66666666666666663},1,"PeopleOperations",null,0,{"$f":"treatment!A375","v":"https://www.uber.com/careers/list/40484/"}]
["https://www.uber.com/careers/list/40482/",5,3,2,2,{"$f":"8/13","v":0.61538461538461542},1,"BusinessSales",null,0,{"$f":"treatment!A376","v":"https://www.uber.com/careers/list/40482/"}]
["https://www.uber.com/careers/list/40444/",3,3,5,5,{"$f":"11/12","v":0.91666666666666663},3,"FinanceAccounting",null,0,{"$f":"treatment!A377","v":"https://www.uber.com/careers/list/40444/"}]
["https://www.uber.com/careers/list/40442/",2,4,5,5,{"$f":"10/14","v":0.7142857142857143},3,"FinanceAccounting",null,0,{"$f":"treatment!A378","v":"https://www.uber.com/careers/list/40442/"}]
["https://www.uber.com/careers/list/40440/",2,4,3,0,{"$f":"8/11","v":0.72727272727272729},1,"Engineering",null,0,{"$f":"treatment!A379","v":"https://www.uber.com/careers/list/40440/"}]
["https://www.uber.com/careers/list/40437/",5,0,3,3,{"$f":"7/14","v":0.5},3,"FinanceAccounting",null,0,{"$f":"treatment!A380","v":"https://www.uber.com/careers/list/40437/"}]
["https://www.uber.com/careers/list/40427/",2,0,2,0,{"$f":"4/7","v":0.5714285714285714},1,"FinanceAccounting",null,0,{"$f":"treatment!A381","v":"https://www.uber.com/careers/list/40427/"}]
["https://www.uber.com/careers/list/40411/",0,5,4,4,{"$f":"7/9","v":0.77777777777777779},3,"Design",null,0,{"$f":"treatment!A382","v":"https://www.uber.com/careers/list/40411/"}]
["https://www.uber.com/careers/list/40393/",2,1,2,2,{"$f":"5/11","v":0.45454545454545453},3,"GlobalCommunityOperations",null,0,{"$f":"treatment!A383","v":"https://www.uber.com/careers/list/40393/"}]
["https://www.uber.com/careers/list/40392/",2,1,2,2,{"$f":"5/10","v":0.5},3,"GlobalCommunityOperations",null,0,{"$f":"treatment!A384","v":"https://www.uber.com/careers/list/40392/"}]
["https://www.uber.com/careers/list/40369/",6,2,3,0,0.66666666666666663,1,"PeopleOperations",null,0,{"$f":"treatment!A385","v":"https://www.uber.com/careers/list/40369/"}]
["https://www.uber.com/careers/list/40351/",1,4,3,0,{"$f":"8/11","v":0.72727272727272729},3,"Engineering",null,{"$f":"IF(K386=A386, 0, 1)","v":0},{"$f":"treatment!A386","v":"https://www.uber.com/careers/list/40351/"}]
["https://www.uber.com/careers/list/40314/",4,2,3,2,{"$f":"8/8","v":1},3,"SafetySecurity",null,0,{"$f":"treatment!A387","v":"https://www.uber.com/careers/list/40314/"}]
["https://www.uber.com/careers/list/40307/",2,2,2,2,{"$f":"6/9","v":0.66666666666666663},3,"Product",null,0,{"$f":"treatment!A388","v":"https://www.uber.com/careers/list/40307/"}]
["https://www.uber.com/careers/list/40306/",2,2,2,2,{"$f":"6/9","v":0.66666666666666663},3,"Product",null,0,{"$f":"treatment!A389","v":"https://www.uber.com/careers/list/40306/"}]
["https://www.uber.com/careers/list/40257/",4,2,4,0,{"$f":"9/11","v":0.81818181818181823},3,"Legal",null,0,{"$f":"treatment!A390","v":"https://www.uber.com/careers/list/40257/"}]
["https://www.uber.com/careers/list/40251/",2,1,3,0,{"$f":"6/8","v":0.75},3,"BusinessSales",null,0,{"$f":"treatment!A391","v":"https://www.uber.com/careers/list/40251/"}]
["https://www.uber.com/careers/list/40212/",2,2,6,6,{"$f":"10/19","v":0.52631578947368418},3,"Engineering",null,0,{"$f":"treatment!A392","v":"https://www.uber.com/careers/list/40212/"}]
["https://www.uber.com/careers/list/40175/",3,2,7,7,{"$f":"12/14","v":0.8571428571428571},3,"SafetySecurity",null,0,{"$f":"treatment!A393","v":"https://www.uber.com/careers/list/40175/"}]
["https://www.uber.com/careers/list/39836/",2,3,3,0,{"$f":"6/9","v":0.66666666666666663},1,"Engineering",null,0,{"$f":"treatment!A394","v":"https://www.uber.com/careers/list/39836/"}]
["https://www.uber.com/careers/list/40110/",2,3,2,0,{"$f":"5/8","v":0.625},1,"FinanceAccounting",null,0,{"$f":"treatment!A395","v":"https://www.uber.com/careers/list/40110/"}]
["https://www.uber.com/careers/list/40249/",3,0,3,3,{"$f":"6/12","v":0.5},3,"Engineering",null,0,{"$f":"treatment!A396","v":"https://www.uber.com/careers/list/40249/"}]
["https://www.uber.com/careers/list/40261/",5,1,4,3,{"$f":"7/9","v":0.77777777777777779},3,"Engineering",null,0,{"$f":"treatment!A397","v":"https://www.uber.com/careers/list/40261/"}]
["https://www.uber.com/careers/list/40285/",3,5,2,0,{"$f":"8/9","v":0.88888888888888884},1,"OperationsLaunch",null,0,{"$f":"treatment!A398","v":"https://www.uber.com/careers/list/40285/"}]
["https://www.uber.com/careers/list/40338/",2,1,1,0,{"$f":"4/6","v":0.66666666666666663},1,"Marketing",null,0,{"$f":"treatment!A399","v":"https://www.uber.com/careers/list/40338/"}]
["https://www.uber.com/careers/list/40217/",0,2,2,0,{"$f":"3/4","v":0.75},3,"Legal",null,0,{"$f":"treatment!A400","v":"https://www.uber.com/careers/list/40217/"}]
["https://www.uber.com/careers/list/40213/",3,0,5,5,{"$f":"8/14","v":0.5714285714285714},3,"AdvancedTechnologiesGroup",null,0,{"$f":"treatment!A401","v":"https://www.uber.com/careers/list/40213/"}]
["https://www.uber.com/careers/list/40211/",0,0,4,4,{"$f":"4/8","v":0.5},3,"AdvancedTechnologiesGroup",null,0,{"$f":"treatment!A402","v":"https://www.uber.com/careers/list/40211/"}]
["https://www.uber.com/careers/list/40210/",3,0,4,4,{"$f":"7/9","v":0.77777777777777779},3,"AdvancedTechnologiesGroup",null,0,{"$f":"treatment!A403","v":"https://www.uber.com/careers/list/40210/"}]
["https://www.uber.com/careers/list/40190/",5,8,3,3,{"$f":"10/10","v":1},3,"Product",null,0,{"$f":"treatment!A404","v":"https://www.uber.com/careers/list/40190/"}]
["https://www.uber.com/careers/list/40185/",4,2,2,0,{"$f":"7/10","v":0.7},1,"SafetySecurity",null,0,{"$f":"treatment!A405","v":"https://www.uber.com/careers/list/40185/"}]
["https://www.uber.com/careers/list/40181/",2,1,1,0,{"$f":"4/7","v":0.5714285714285714},1,"BusinessSales",null,0,{"$f":"treatment!A406","v":"https://www.uber.com/careers/list/40181/"}]
["https://www.uber.com/careers/list/40179/",0,1,1,0,{"$f":"2/6","v":0.33333333333333331},1,"GlobalCommunityOperations",null,0,{"$f":"treatment!A407","v":"https://www.uber.com/careers/list/40179/"}]
["https://www.uber.com/careers/list/40158/",1,1,3,2,{"$f":"5/8","v":0.625},3,"AdvancedTechnologiesGroup",null,0,{"$f":"treatment!A408","v":"https://www.uber.com/careers/list/40158/"}]
["https://www.uber.com/careers/list/40151/",1,1,3,3,{"$f":"5/8","v":0.625},3,"SafetySecurity",null,0,{"$f":"treatment!A409","v":"https://www.uber.com/careers/list/40151/"}]
["https://www.uber.com/careers/list/40140/",6,7,1,0,{"$f":"10/10","v":1},1,"Product",null,0,{"$f":"treatment!A410","v":"https://www.uber.com/careers/list/40140/"}]
["https://www.uber.com/careers/list/40119/",4,1,3,0,{"$f":"5/8","v":0.625},3,"Product",null,0,{"$f":"treatment!A411","v":"https://www.uber.com/careers/list/40119/"}]
["https://www.uber.com/careers/list/40117/",2,1,3,3,{"$f":"6/9","v":0.66666666666666663},3,"GlobalCommunityOperations",null,0,{"$f":"treatment!A412","v":"https://www.uber.com/careers/list/40117/"}]
["https://www.uber.com/careers/list/40114/",1,5,3,3,{"$f":"8/10","v":0.8},1,"GlobalCommunityOperations",null,0,{"$f":"treatment!A413","v":"https://www.uber.com/careers/list/40114/"}]
["https://www.uber.com/careers/list/40108/",3,2,2,0,{"$f":"6/9","v":0.66666666666666663},1,"FinanceAccounting",null,0,{"$f":"treatment!A414","v":"https://www.uber.com/careers/list/40108/"}]
["https://www.uber.com/careers/list/40095/",3,5,2,0,{"$f":"8/9","v":0.88888888888888884},1,"OperationsLaunch",null,0,{"$f":"treatment!A415","v":"https://www.uber.com/careers/list/40095/"}]
["https://www.uber.com/careers/list/40090/",2,0,2,0,{"$f":"4/8","v":0.5},1,"FinanceAccounting",null,0,{"$f":"treatment!A416","v":"https://www.uber.com/careers/list/40090/"}]
["https://www.uber.com/careers/list/40085/",4,1,4,4,{"$f":"9/21","v":0.42857142857142855},3,"Engineering",null,0,{"$f":"treatment!A417","v":"https://www.uber.com/careers/list/40085/"}]
["https://www.uber.com/careers/list/40084/",2,3,1,0,{"$f":"6/12","v":0.5},1,"Engineering",null,0,{"$f":"treatment!A418","v":"https://www.uber.com/careers/list/40084/"}]
["https://www.uber.com/careers/list/40082/",5,3,1,0,{"$f":"6/15","v":0.4},1,"Engineering",null,0,{"$f":"treatment!A419","v":"https://www.uber.com/careers/list/40082/"}]
["https://www.uber.com/careers/list/40081/",2,0,2,0,{"$f":"4/6","v":0.66666666666666663},1,"FinanceAccounting",null,0,{"$f":"treatment!A420","v":"https://www.uber.com/careers/list/40081/"}]
["https://www.uber.com/careers/list/40080/",5,2,3,3,{"$f":"9/13","v":0.69230769230769229},3,"FinanceAccounting",null,0,{"$f":"treatment!A421","v":"https://www.uber.com/careers/list/40080/"}]
["https://www.uber.com/careers/list/40073/",3,2,4,4,{"$f":"8/10","v":0.8},3,"Product",null,0,{"$f":"treatment!A422","v":"https://www.uber.com/careers/list/40073/"}]
["https://www.uber.com/careers/list/40067/",8,1,2,0,{"$f":"8/9","v":0.88888888888888884},3,"OperationsLaunch",null,0,{"$f":"treatment!A423","v":"https://www.uber.com/careers/list/40067/"}]
["https://www.uber.com/careers/list/40066/",8,1,2,0,{"$f":"8/9","v":0.88888888888888884},3,"OperationsLaunch",null,0,{"$f":"treatment!A424","v":"https://www.uber.com/careers/list/40066/"}]
["https://www.uber.com/careers/list/40061/",3,0,1,0,{"$f":"3/7","v":0.42857142857142855},1,"Design",null,0,{"$f":"treatment!A425","v":"https://www.uber.com/careers/list/40061/"}]
["https://www.uber.com/careers/list/40054/",3,1,2,0,{"$f":"4/4","v":1},1,"PublicPolicy",null,0,{"$f":"treatment!A426","v":"https://www.uber.com/careers/list/40054/"}]
["https://www.uber.com/careers/list/40048/",2,1,1,0,{"$f":"3/5","v":0.6},3,"OperationsLaunch",null,0,{"$f":"treatment!A427","v":"https://www.uber.com/careers/list/40048/"}]
["https://www.uber.com/careers/list/40027/",1,5,3,3,{"$f":"8/10","v":0.8},3,"GlobalCommunityOperations",null,0,{"$f":"treatment!A428","v":"https://www.uber.com/careers/list/40027/"}]
["https://www.uber.com/careers/list/40020/",3,0,4,0,{"$f":"7/9","v":0.77777777777777779},1,"AdvancedTechnologiesGroup",null,0,{"$f":"treatment!A429","v":"https://www.uber.com/careers/list/40020/"}]
["https://www.uber.com/careers/list/40018/",1,2,1,0,{"$f":"3/9","v":0.33333333333333331},1,"Engineering",null,0,{"$f":"treatment!A430","v":"https://www.uber.com/careers/list/40018/"}]
["https://www.uber.com/careers/list/40001/",2,2,5,5,{"$f":"8/11","v":0.72727272727272729},3,"GlobalCommunityOperations",null,0,{"$f":"treatment!A431","v":"https://www.uber.com/careers/list/40001/"}]
["https://www.uber.com/careers/list/39999/",1,0,2,0,{"$f":"3/7","v":0.42857142857142855},1,"Engineering",null,0,{"$f":"treatment!A432","v":"https://www.uber.com/careers/list/39999/"}]
["https://www.uber.com/careers/list/39997/",7,6,1,0,{"$f":"10/13","v":0.76923076923076927},1,"FinanceAccounting",null,0,{"$f":"treatment!A433","v":"https://www.uber.com/careers/list/39997/"}]
["https://www.uber.com/careers/list/39974/",0,8,3,3,{"$f":"10/12","v":0.83333333333333337},3,"Design",null,0,{"$f":"treatment!A434","v":"https://www.uber.com/careers/list/39974/"}]
["https://www.uber.com/careers/list/39968/",3,2,2,2,{"$f":"6/10","v":0.6},3,"FinanceAccounting",null,0,{"$f":"treatment!A435","v":"https://www.uber.com/careers/list/39968/"}]
["https://www.uber.com/careers/list/39960/",11,12,0,"N/A",{"$f":"9/10","v":0.9},1,"Marketing",null,0,{"$f":"treatment!A436","v":"https://www.uber.com/careers/list/39960/"}]
["https://www.uber.com/careers/list/39959/",8,1,2,0,{"$f":"8/9","v":0.88888888888888884},1,"OperationsLaunch",null,0,{"$f":"treatment!A437","v":"https://www.uber.com/careers/list/39959/"}]
["https://www.uber.com/careers/list/39957/",5,2,3,3,{"$f":"9/11","v":0.81818181818181823},3,"FinanceAccounting",null,0,{"$f":"treatment!A438","v":"https://www.uber.com/careers/list/39957/"}]
["https://www.uber.com/careers/list/39955/",1,0,2,0,{"$f":"3/6","v":0.5},1,"Marketing",null,0,{"$f":"treatment!A439","v":"https://www.uber.com/careers/list/39955/"}]
["https://www.uber.com/careers/list/39917/",2,2,2,0,{"$f":"6/15","v":0.4},1,"Engineering",null,0,{"$f":"treatment!A440","v":"https://www.uber.com/careers/list/39917/"}]
["https://www.uber.com/careers/list/39899/",5,1,1,0,{"$f":"6/9","v":0.66666666666666663},3,"GlobalCommunityOperations",null,0,{"$f":"treatment!A441","v":"https://www.uber.com/careers/list/39899/"}]
["https://www.uber.com/careers/list/39585/",8,1,2,0,{"$f":"8/9","v":0.88888888888888884},1,"OperationsLaunch",null,0,{"$f":"treatment!A442","v":"https://www.uber.com/careers/list/39585/"}]
["https://www.uber.com/careers/list/39551/",5,6,2,0,{"$f":"7/9","v":0.77777777777777779},1,"OperationsLaunch",null,0,{"$f":"treatment!A443","v":"https://www.uber.com/careers/list/39551/"}]
["https://www.uber.com/careers/list/39460/",3,4,3,0,{"$f":"7/8","v":0.875},1,"Legal",null,0,{"$f":"treatment!A444","v":"https://www.uber.com/careers/list/39460/"}]
["https://www.uber.com/careers/list/39452/",3,5,2,0,{"$f":"8/9","v":0.88888888888888884},1,"OperationsLaunch",null,0,{"$f":"treatment!A445","v":"https://www.uber.com/careers/list/39452/"}]
["https://www.uber.com/careers/list/39195/",5,7,2,0,{"$f":"7/9","v":0.77777777777777779},1,"OperationsLaunch",null,0,{"$f":"treatment!A446","v":"https://www.uber.com/careers/list/39195/"}]
["https://www.uber.com/careers/list/39194/",5,7,2,0,{"$f":"7/9","v":0.77777777777777779},1,"OperationsLaunch",null,0,{"$f":"treatment!A447","v":"https://www.uber.com/careers/list/39194/"}]
["https://www.uber.com/careers/list/33636/",2,1,5,5,{"$f":"8/8","v":1},3,"AdvancedTechnologiesGroup",null,0,{"$f":"treatment!A448","v":"https://www.uber.com/careers/list/33636/"}]
["https://www.uber.com/careers/list/31794/",1,1,4,4,{"$f":"6/10","v":0.6},3,"AdvancedTechnologiesGroup",null,0,{"$f":"treatment!A449","v":"https://www.uber.com/careers/list/31794/"}]
["https://www.uber.com/careers/list/31514/",1,1,4,4,{"$f":"6/10","v":0.6},3,"AdvancedTechnologiesGroup",null,{"$f":"IF(K450=A450, 0, 1)","v":0},{"$f":"treatment!A450","v":"https://www.uber.com/careers/list/31514/"}]
["https://www.uber.com/careers/list/30269/",2,0,5,5,{"$f":"7/10","v":0.7},3,"Engineering",null,0,{"$f":"treatment!A451","v":"https://www.uber.com/careers/list/30269/"}]
["https://www.uber.com/careers/list/30087/",4,1,2,0,{"$f":"5/5","v":1},1,"AdvancedTechnologiesGroup",null,0,{"$f":"treatment!A452","v":"https://www.uber.com/careers/list/30087/"}]
["https://www.uber.com/careers/list/29652/",3,1,1,1,{"$f":"4/5","v":0.8},1,"AdvancedTechnologiesGroup",null,0,{"$f":"treatment!A453","v":"https://www.uber.com/careers/list/29652/"}]
["https://www.uber.com/careers/list/29094/",2,2,1,0,{"$f":"4/7","v":0.5714285714285714},1,"Product",null,0,{"$f":"treatment!A454","v":"https://www.uber.com/careers/list/29094/"}]
["https://www.uber.com/careers/list/27843/",6,6,1,0,{"$f":"10/10","v":1},1,"Product",null,0,{"$f":"treatment!A455","v":"https://www.uber.com/careers/list/27843/"}]
["https://www.uber.com/careers/list/38204/",3,1,3,1,{"$f":"6/7","v":0.8571428571428571},3,"PeopleOperations",null,0,{"$f":"treatment!A456","v":"https://www.uber.com/careers/list/38204/"}]
["https://www.uber.com/careers/list/39905/",3,2,2,0,{"$f":"7/9","v":0.77777777777777779},3,"FinanceAccounting",null,0,{"$f":"treatment!A457","v":"https://www.uber.com/careers/list/39905/"}]
["https://www.uber.com/careers/list/39924/",5,4,1,0,{"$f":"8/9","v":0.88888888888888884},1,"BusinessSales",null,0,{"$f":"treatment!A458","v":"https://www.uber.com/careers/list/39924/"}]
["https://www.uber.com/careers/list/39926/",6,1,2,2,{"$f":"8/16","v":0.5},3,"Product",null,0,{"$f":"treatment!A459","v":"https://www.uber.com/careers/list/39926/"}]
["https://www.uber.com/careers/list/34168/",3,4,5,4,{"$f":"10/13","v":0.76923076923076927},3,"AdvancedTechnologiesGroup",null,0,{"$f":"treatment!A460","v":"https://www.uber.com/careers/list/34168/"}]
["https://www.uber.com/careers/list/39852/",3,1,3,3,{"$f":"7/9","v":0.77777777777777779},3,"FinanceAccounting",null,0,{"$f":"treatment!A461","v":"https://www.uber.com/careers/list/39852/"}]
["https://www.uber.com/careers/list/39867/",4,1,1,0,{"$f":"6/8","v":0.75},1,"BusinessSales",null,0,{"$f":"treatment!A462","v":"https://www.uber.com/careers/list/39867/"}]
["https://www.uber.com/careers/list/37673/",6,7,2,0,{"$f":"11/17","v":0.6470588235294118},1,"Legal",null,0,{"$f":"treatment!A463","v":"https://www.uber.com/careers/list/37673/"}]
["https://www.uber.com/careers/list/39804/",0,1,1,0,{"$f":"2/4","v":0.5},1,"PeopleOperations",null,0,{"$f":"treatment!A464","v":"https://www.uber.com/careers/list/39804/"}]
["https://www.uber.com/careers/list/37128/",1,3,1,1,{"$f":"4/6","v":0.66666666666666663},1,"PeopleOperations",null,0,{"$f":"treatment!A465","v":"https://www.uber.com/careers/list/37128/"}]
["https://www.uber.com/careers/list/39798/",3,1,2,0,{"$f":"6/8","v":0.75},3,"PeopleOperations",null,0,{"$f":"treatment!A466","v":"https://www.uber.com/careers/list/39798/"}]
["https://www.uber.com/careers/list/39729/",4,2,2,2,{"$f":"7/11","v":0.63636363636363635},3,"FinanceAccounting",null,0,{"$f":"treatment!A467","v":"https://www.uber.com/careers/list/39729/"}]
["https://www.uber.com/careers/list/39463/",0,2,3,3,{"$f":"5/7","v":0.7142857142857143},3,"Product",null,0,{"$f":"treatment!A468","v":"https://www.uber.com/careers/list/39463/"}]
["https://www.uber.com/careers/list/39618/",1,1,2,2,{"$f":"4/11","v":0.36363636363636365},3,"AdvancedTechnologiesGroup",null,0,{"$f":"treatment!A469","v":"https://www.uber.com/careers/list/39618/"}]
["https://www.uber.com/careers/list/39795/",2,0,3,3,{"$f":"5/8","v":0.625},3,"Engineering",null,0,{"$f":"treatment!A470","v":"https://www.uber.com/careers/list/39795/"}]
["https://www.uber.com/careers/list/39796/",2,0,3,3,{"$f":"5/7","v":0.7142857142857143},3,"Engineering",null,0,{"$f":"treatment!A471","v":"https://www.uber.com/careers/list/39796/"}]
["https://www.uber.com/careers/list/39367/",10,3,2,0,{"$f":"9/12","v":0.75},1,"PeopleOperations",null,0,{"$f":"treatment!A472","v":"https://www.uber.com/careers/list/39367/"}]
["https://www.uber.com/careers/list/36733/",5,0,2,2,{"$f":"5/10","v":0.5},3,"Engineering",null,0,{"$f":"treatment!A473","v":"https://www.uber.com/careers/list/36733/"}]
["https://www.uber.com/careers/list/39676/",4,3,3,3,{"$f":"8/14","v":0.5714285714285714},3,"Engineering",null,0,{"$f":"treatment!A474","v":"https://www.uber.com/careers/list/39676/"}]
["https://www.uber.com/careers/list/39647/",3,6,1,1,{"$f":"8/10","v":0.8},1,"GlobalCommunityOperations",null,0,{"$f":"treatment!A475","v":"https://www.uber.com/careers/list/39647/"}]
["https://www.uber.com/careers/list/39656/",6,1,1,0,{"$f":"6/7","v":0.8571428571428571},1,"GlobalCommunityOperations",null,0,{"$f":"treatment!A476","v":"https://www.uber.com/careers/list/39656/"}]
["https://www.uber.com/careers/list/39689/",2,1,3,2,{"$f":"6/10","v":0.6},3,"OperationsLaunch",null,0,{"$f":"treatment!A477","v":"https://www.uber.com/careers/list/39689/"}]
["https://www.uber.com/careers/list/39646/",3,4,2,2,{"$f":"8/11","v":0.72727272727272729},3,"GlobalCommunityOperations",null,0,{"$f":"treatment!A478","v":"https://www.uber.com/careers/list/39646/"}]
["https://www.uber.com/careers/list/39678/",3,5,1,1,{"$f":"6/8","v":0.75},1,"GlobalCommunityOperations",null,0,{"$f":"treatment!A479","v":"https://www.uber.com/careers/list/39678/"}]
["https://www.uber.com/careers/list/39679/",2,4,1,0,{"$f":"5/6","v":0.83333333333333337},3,"Product",null,0,{"$f":"treatment!A480","v":"https://www.uber.com/careers/list/39679/"}]
["https://www.uber.com/careers/list/39648/",1,3,2,2,{"$f":"6/9","v":0.66666666666666663},1,"GlobalCommunityOperations",null,0,{"$f":"treatment!A481","v":"https://www.uber.com/careers/list/39648/"}]
["https://www.uber.com/careers/list/39595/",2,0,2,2,{"$f":"4/8","v":0.5},1,"Marketing",null,0,{"$f":"treatment!A482","v":"https://www.uber.com/careers/list/39595/"}]
["https://www.uber.com/careers/list/31067/",2,1,2,0,{"$f":"4/6","v":0.66666666666666663},1,"Engineering",null,0,{"$f":"treatment!A483","v":"https://www.uber.com/careers/list/31067/"}]
["https://www.uber.com/careers/list/35600/",1,0,3,3,{"$f":"4/6","v":0.66666666666666663},3,"AdvancedTechnologiesGroup",null,0,{"$f":"treatment!A484","v":"https://www.uber.com/careers/list/35600/"}]
["https://www.uber.com/careers/list/39625/",3,3,2,1,{"$f":"6/10","v":0.6},3,"GlobalCommunityOperations",null,0,{"$f":"treatment!A485","v":"https://www.uber.com/careers/list/39625/"}]
["https://www.uber.com/careers/list/39589/",5,3,2,0,{"$f":"6/10","v":0.6},1,"BusinessSales",null,0,{"$f":"treatment!A486","v":"https://www.uber.com/careers/list/39589/"}]
["https://www.uber.com/careers/list/39651/",3,1,1,1,{"$f":"4/4","v":1},3,"FinanceAccounting",null,0,{"$f":"treatment!A487","v":"https://www.uber.com/careers/list/39651/"}]
["https://www.uber.com/careers/list/39652/",0,0,5,5,{"$f":"5/12","v":0.41666666666666669},3,"Engineering",null,0,{"$f":"treatment!A488","v":"https://www.uber.com/careers/list/39652/"}]
["https://www.uber.com/careers/list/39549/",5,4,5,5,{"$f":"13/19","v":0.68421052631578949},3,"Legal",null,0,{"$f":"treatment!A489","v":"https://www.uber.com/careers/list/39549/"}]
["https://www.uber.com/careers/list/39550/",4,3,4,4,{"$f":"10/13","v":0.76923076923076927},3,"Legal",null,0,{"$f":"treatment!A490","v":"https://www.uber.com/careers/list/39550/"}]
["https://www.uber.com/careers/list/39525/",5,2,2,2,{"$f":"8/11","v":0.72727272727272729},3,"GlobalCommunityOperations",null,0,{"$f":"treatment!A491","v":"https://www.uber.com/careers/list/39525/"}]
["https://www.uber.com/careers/list/39590/",5,3,2,0,{"$f":"6/10","v":0.6},1,"BusinessSales",null,0,{"$f":"treatment!A492","v":"https://www.uber.com/careers/list/39590/"}]
["https://www.uber.com/careers/list/39626/",3,0,5,5,{"$f":"7/10","v":0.7},3,"Marketing",null,0,{"$f":"treatment!A493","v":"https://www.uber.com/careers/list/39626/"}]
["https://www.uber.com/careers/list/39649/",2,2,0,"N/A",{"$f":"3/8","v":0.375},1,"Legal",null,0,{"$f":"treatment!A494","v":"https://www.uber.com/careers/list/39649/"}]
["https://www.uber.com/careers/list/39490/",2,0,2,0,{"$f":"4/6","v":0.66666666666666663},1,"FinanceAccounting",null,0,{"$f":"treatment!A495","v":"https://www.uber.com/careers/list/39490/"}]
["https://www.uber.com/careers/list/39288/",3,4,5,4,{"$f":"9/13","v":0.69230769230769229},3,"GlobalCommunityOperations",null,0,{"$f":"treatment!A496","v":"https://www.uber.com/careers/list/39288/"}]
["https://www.uber.com/careers/list/39478/",1,3,10,9,{"$f":"13/16","v":0.8125},3,"PeopleOperations",null,0,{"$f":"treatment!A497","v":"https://www.uber.com/careers/list/39478/"}]
["https://www.uber.com/careers/list/39524/",4,0,1,0,{"$f":"4/7","v":0.5714285714285714},3,"FinanceAccounting",null,0,{"$f":"treatment!A498","v":"https://www.uber.com/careers/list/39524/"}]
["https://www.uber.com/careers/list/39493/",1,5,3,3,{"$f":"8/10","v":0.8},3,"GlobalCommunityOperations",null,0,{"$f":"treatment!A499","v":"https://www.uber.com/careers/list/39493/"}]
["https://www.uber.com/careers/list/39461/",3,0,2,0,{"$f":"5/8","v":0.625},1,"FinanceAccounting",null,0,{"$f":"treatment!A500","v":"https://www.uber.com/careers/list/39461/"}]
["https://www.uber.com/careers/list/39459/",1,4,3,3,{"$f":"7/9","v":0.77777777777777779},3,"Product",null,0,{"$f":"treatment!A501","v":"https://www.uber.com/careers/list/39459/"}]
["https://www.uber.com/careers/list/39415/",3,1,6,6,{"$f":"9/11","v":0.81818181818181823},3,"SafetySecurity",null,0,{"$f":"treatment!A502","v":"https://www.uber.com/careers/list/39415/"}]
["https://www.uber.com/careers/list/35756/",4,2,1,0,{"$f":"5/7","v":0.7142857142857143},1,"Engineering",null,0,{"$f":"treatment!A503","v":"https://www.uber.com/careers/list/35756/"}]
["https://www.uber.com/careers/list/36730/",3,3,0,"N/A",{"$f":"3/8","v":0.375},1,"Engineering",null,0,{"$f":"treatment!A504","v":"https://www.uber.com/careers/list/36730/"}]
["https://www.uber.com/careers/list/39373/",5,2,1,0,{"$f":"6/8","v":0.75},1,"PeopleOperations",null,0,{"$f":"treatment!A505","v":"https://www.uber.com/careers/list/39373/"}]
["https://www.uber.com/careers/list/39382/",2,3,2,0,{"$f":"6/9","v":0.66666666666666663},3,"FinanceAccounting",null,0,{"$f":"treatment!A506","v":"https://www.uber.com/careers/list/39382/"}]
["https://www.uber.com/careers/list/39369/",7,1,2,0,{"$f":"7/9","v":0.77777777777777779},3,"OperationsLaunch",null,0,{"$f":"treatment!A507","v":"https://www.uber.com/careers/list/39369/"}]
["https://www.uber.com/careers/list/39331/",4,3,1,0,{"$f":"6/7","v":0.8571428571428571},1,"Engineering",null,0,{"$f":"treatment!A508","v":"https://www.uber.com/careers/list/39331/"}]
["https://www.uber.com/careers/list/39305/",4,3,2,0,{"$f":"7/10","v":0.7},1,"Marketing",null,0,{"$f":"treatment!A509","v":"https://www.uber.com/careers/list/39305/"}]
["https://www.uber.com/careers/list/32523/",4,2,3,3,{"$f":"7/11","v":0.63636363636363635},3,"Engineering",null,0,{"$f":"treatment!A510","v":"https://www.uber.com/careers/list/32523/"}]
["https://www.uber.com/careers/list/38791/",2,5,10,10,{"$f":"15/16","v":0.9375},3,"AdvancedTechnologiesGroup",null,0,{"$f":"treatment!A511","v":"https://www.uber.com/careers/list/38791/"}]
["https://www.uber.com/careers/list/39294/",1,0,4,3,{"$f":"5/6","v":0.83333333333333337},3,"FinanceAccounting",null,0,{"$f":"treatment!A512","v":"https://www.uber.com/careers/list/39294/"}]
["https://www.uber.com/careers/list/39292/",0,0,1,0,{"$f":"1/7","v":0.14285714285714285},1,"SafetySecurity",null,0,{"$f":"treatment!A513","v":"https://www.uber.com/careers/list/39292/"}]
["https://www.uber.com/careers/list/39282/",1,2,2,0,{"$f":"5/6","v":0.83333333333333337},3,"OperationsLaunch",null,{"$f":"IF(K514=A514, 0, 1)","v":0},{"$f":"treatment!A514","v":"https://www.uber.com/careers/list/39282/"}]
["https://www.uber.com/careers/list/39072/",2,4,2,0,{"$f":"7/9","v":0.77777777777777779},3,"AdvancedTechnologiesGroup",null,0,{"$f":"treatment!A515","v":"https://www.uber.com/careers/list/39072/"}]
["https://www.uber.com/careers/list/39138/",6,2,1,1,{"$f":"9/10","v":0.9},1,"Legal",null,0,{"$f":"treatment!A516","v":"https://www.uber.com/careers/list/39138/"}]
["https://www.uber.com/careers/list/39182/",3,1,1,0,{"$f":"3/4","v":0.75},1,"FinanceAccounting",null,0,{"$f":"treatment!A517","v":"https://www.uber.com/careers/list/39182/"}]
["https://www.uber.com/careers/list/39142/",8,2,3,0,{"$f":"8/10","v":0.8},1,"BusinessSales",null,0,{"$f":"treatment!A518","v":"https://www.uber.com/careers/list/39142/"}]
["https://www.uber.com/careers/list/39165/",5,1,2,0,{"$f":"5/7","v":0.7142857142857143},1,"PeopleOperations",null,0,{"$f":"treatment!A519","v":"https://www.uber.com/careers/list/39165/"}]
["https://www.uber.com/careers/list/39052/",3,3,5,4,{"$f":"10/12","v":0.83333333333333337},3,"Engineering",null,0,{"$f":"treatment!A520","v":"https://www.uber.com/careers/list/39052/"}]
["https://www.uber.com/careers/list/38936/",4,1,5,5,{"$f":"9/14","v":0.6428571428571429},3,"OperationsLaunch",null,0,{"$f":"treatment!A521","v":"https://www.uber.com/careers/list/38936/"}]
["https://www.uber.com/careers/list/39096/",1,3,2,0,{"$f":"6/9","v":0.66666666666666663},1,"BusinessSales",null,0,{"$f":"treatment!A522","v":"https://www.uber.com/careers/list/39096/"}]
["https://www.uber.com/careers/list/39097/",1,3,2,0,{"$f":"6/10","v":0.6},1,"BusinessSales",null,0,{"$f":"treatment!A523","v":"https://www.uber.com/careers/list/39097/"}]
["https://www.uber.com/careers/list/39095/",1,3,2,0,{"$f":"6/10","v":0.6},1,"BusinessSales",null,0,{"$f":"treatment!A524","v":"https://www.uber.com/careers/list/39095/"}]
["https://www.uber.com/careers/list/38662/",0,4,2,2,{"$f":"11/13","v":0.84615384615384615},3,"Design",null,0,{"$f":"treatment!A525","v":"https://www.uber.com/careers/list/38662/"}]
["https://www.uber.com/careers/list/39050/",2,5,2,1,{"$f":"7/9","v":0.77777777777777779},3,"Engineering",null,0,{"$f":"treatment!A526","v":"https://www.uber.com/careers/list/39050/"}]
["https://www.uber.com/careers/list/39094/",1,2,4,4,{"$f":"7/12","v":0.58333333333333337},3,"Engineering",null,0,{"$f":"treatment!A527","v":"https://www.uber.com/careers/list/39094/"}]
["https://www.uber.com/careers/list/39063/",2,2,2,2,{"$f":"5/7","v":0.7142857142857143},3,"Product",null,0,{"$f":"treatment!A528","v":"https://www.uber.com/careers/list/39063/"}]
["https://www.uber.com/careers/list/39035/",3,8,3,3,{"$f":"10/12","v":0.83333333333333337},3,"GlobalCommunityOperations",null,0,{"$f":"treatment!A529","v":"https://www.uber.com/careers/list/39035/"}]
["https://www.uber.com/careers/list/39062/",2,2,2,2,{"$f":"5/7","v":0.7142857142857143},3,"Product",null,0,{"$f":"treatment!A530","v":"https://www.uber.com/careers/list/39062/"}]
["https://www.uber.com/careers/list/39034/",5,1,2,0,{"$f":"7/16","v":0.4375},3,"Engineering",null,0,{"$f":"treatment!A531","v":"https://www.uber.com/careers/list/39034/"}]
["https://www.uber.com/careers/list/38505/",5,3,1,0,{"$f":"6/8","v":0.75},3,"OperationsLaunch",null,0,{"$f":"treatment!A532","v":"https://www.uber.com/careers/list/38505/"}]
["https://www.uber.com/careers/list/39019/",3,0,2,0,{"$f":"4/7","v":0.5714285714285714},3,"FinanceAccounting",null,0,{"$f":"treatment!A533","v":"https://www.uber.com/careers/list/39019/"}]
["https://www.uber.com/careers/list/39069/",3,1,3,0,{"$f":"7/12","v":0.58333333333333337},3,"SafetySecurity",null,0,{"$f":"treatment!A534","v":"https://www.uber.com/careers/list/39069/"}]
["https://www.uber.com/careers/list/39075/",4,1,1,0,{"$f":"5/8","v":0.625},1,"BusinessSales",null,0,{"$f":"treatment!A535","v":"https://www.uber.com/careers/list/39075/"}]
["https://www.uber.com/careers/list/39037/",2,3,3,3,{"$f":"6/10","v":0.6},3,"GlobalCommunityOperations",null,0,{"$f":"treatment!A536","v":"https://www.uber.com/careers/list/39037/"}]
["https://www.uber.com/careers/list/39048/",8,1,2,0,{"$f":"9/10","v":0.9},3,"OperationsLaunch",null,0,{"$f":"treatment!A537","v":"https://www.uber.com/careers/list/39048/"}]
["https://www.uber.com/careers/list/39003/",2,1,3,0,{"$f":"6/8","v":0.75},1,"BusinessSales",null,0,{"$f":"treatment!A538","v":"https://www.uber.com/careers/list/39003/"}]
["https://www.uber.com/careers/list/38991/",3,1,2,0,{"$f":"5/7","v":0.7142857142857143},3,"FinanceAccounting",null,0,{"$f":"treatment!A539","v":"https://www.uber.com/careers/list/38991/"}]
["https://www.uber.com/careers/list/38955/",3,1,3,3,{"$f":"6/9","v":0.66666666666666663},3,"FinanceAccounting",null,0,{"$f":"treatment!A540","v":"https://www.uber.com/careers/list/38955/"}]
["https://www.uber.com/careers/list/38959/",5,3,1,0,{"$f":"5/8","v":0.625},1,"BusinessSales",null,0,{"$f":"treatment!A541","v":"https://www.uber.com/careers/list/38959/"}]
["https://www.uber.com/careers/list/38957/",4,1,4,4,{"$f":"8/10","v":0.8},3,"FinanceAccounting",null,0,{"$f":"treatment!A542","v":"https://www.uber.com/careers/list/38957/"}]
["https://www.uber.com/careers/list/38956/",5,3,2,2,{"$f":"6/10","v":0.6},1,"BusinessSales",null,0,{"$f":"treatment!A543","v":"https://www.uber.com/careers/list/38956/"}]
["https://www.uber.com/careers/list/38935/",5,3,1,1,{"$f":"7/10","v":0.7},3,"OperationsLaunch",null,0,{"$f":"treatment!A544","v":"https://www.uber.com/careers/list/38935/"}]
["https://www.uber.com/careers/list/38927/",0,0,3,0,{"$f":"3/5","v":0.6},3,"FinanceAccounting",null,0,{"$f":"treatment!A545","v":"https://www.uber.com/careers/list/38927/"}]
["https://www.uber.com/careers/list/38915/",10,1,5,3,{"$f":"11/13","v":0.84615384615384615},3,"GlobalCommunityOperations",null,0,{"$f":"treatment!A546","v":"https://www.uber.com/careers/list/38915/"}]
["https://www.uber.com/careers/list/38877/",3,1,6,5,{"$f":"10/15","v":0.66666666666666663},3,"SafetySecurity",null,0,{"$f":"treatment!A547","v":"https://www.uber.com/careers/list/38877/"}]
["https://www.uber.com/careers/list/38875/",3,3,2,2,{"$f":"6/10","v":0.6},3,"GlobalCommunityOperations",null,0,{"$f":"treatment!A548","v":"https://www.uber.com/careers/list/38875/"}]
["https://www.uber.com/careers/list/38851/",4,0,1,0,{"$f":"5/10","v":0.5},1,"Marketing",null,0,{"$f":"treatment!A549","v":"https://www.uber.com/careers/list/38851/"}]
["https://www.uber.com/careers/list/38842/",4,1,4,4,{"$f":"8/10","v":0.8},3,"GlobalCommunityOperations",null,0,{"$f":"treatment!A550","v":"https://www.uber.com/careers/list/38842/"}]
["https://www.uber.com/careers/list/38841/",9,5,2,0,{"$f":"10/13","v":0.76923076923076927},3,"PeopleOperations",null,0,{"$f":"treatment!A551","v":"https://www.uber.com/careers/list/38841/"}]
["https://www.uber.com/careers/list/38807/",2,0,5,4,{"$f":"7/12","v":0.58333333333333337},3,"FinanceAccounting",null,0,{"$f":"treatment!A552","v":"https://www.uber.com/careers/list/38807/"}]
["https://www.uber.com/careers/list/38804/",2,2,3,3,{"$f":"7/9","v":0.77777777777777779},3,"Engineering",null,0,{"$f":"treatment!A553","v":"https://www.uber.com/careers/list/38804/"}]
["https://www.uber.com/careers/list/38781/",5,11,0,"N/A",{"$f":"7/7","v":1},1,"Product",null,0,{"$f":"treatment!A554","v":"https://www.uber.com/careers/list/38781/"}]
["https://www.uber.com/careers/list/38780/",2,3,2,0,{"$f":"5/7","v":0.7142857142857143},1,"PeopleOperations",null,0,{"$f":"treatment!A555","v":"https://www.uber.com/careers/list/38780/"}]
["https://www.uber.com/careers/list/38774/",4,9,2,2,{"$f":"10/11","v":0.90909090909090906},1,"GlobalCommunityOperations",null,0,{"$f":"treatment!A556","v":"https://www.uber.com/careers/list/38774/"}]
["https://www.uber.com/careers/list/38769/",3,3,4,3,{"$f":"8/10","v":0.8},3,"FinanceAccounting",null,0,{"$f":"treatment!A557","v":"https://www.uber.com/careers/list/38769/"}]
["https://www.uber.com/careers/list/38757/",4,1,2,2,{"$f":"5/7","v":0.7142857142857143},3,"Engineering",null,0,{"$f":"treatment!A558","v":"https://www.uber.com/careers/list/38757/"}]
["https://www.uber.com/careers/list/38751/",9,5,2,2,{"$f":"6/11","v":0.54545454545454541},3,"Engineering",null,0,{"$f":"treatment!A559","v":"https://www.uber.com/careers/list/38751/"}]
["https://www.uber.com/careers/list/38744/",2,1,1,1,{"$f":"3/7","v":0.42857142857142855},3,"Engineering",null,0,{"$f":"treatment!A560","v":"https://www.uber.com/careers/list/38744/"}]
["https://www.uber.com/careers/list/38691/",4,1,6,0,{"$f":"10/12","v":0.83333333333333337},3,"FinanceAccounting",null,0,{"$f":"treatment!A561","v":"https://www.uber.com/careers/list/38691/"}]
["https://www.uber.com/careers/list/38689/",0,1,5,4,{"$f":"6/10","v":0.6},3,"FinanceAccounting",null,0,{"$f":"treatment!A562","v":"https://www.uber.com/careers/list/38689/"}]
["https://www.uber.com/careers/list/38685/",0,0,8,8,{"$f":"8/11","v":0.72727272727272729},3,"Design",null,0,{"$f":"treatment!A563","v":"https://www.uber.com/careers/list/38685/"}]
["https://www.uber.com/careers/list/38679/",2,3,4,3,{"$f":"10/13","v":0.76923076923076927},3,"GlobalCommunityOperations",null,0,{"$f":"treatment!A564","v":"https://www.uber.com/careers/list/38679/"}]
["https://www.uber.com/careers/list/38661/",6,9,2,0,{"$f":"13/15","v":0.8666666666666667},1,"Product",null,0,{"$f":"treatment!A565","v":"https://www.uber.com/careers/list/38661/"}]
["https://www.uber.com/careers/list/38657/",3,3,2,0,{"$f":"6/10","v":0.6},3,"PeopleOperations",null,0,{"$f":"treatment!A566","v":"https://www.uber.com/careers/list/38657/"}]
["https://www.uber.com/careers/list/38649/",3,1,3,3,{"$f":"7/9","v":0.77777777777777779},3,"FinanceAccounting",null,0,{"$f":"treatment!A567","v":"https://www.uber.com/careers/list/38649/"}]
["https://www.uber.com/careers/list/38642/",2,1,1,1,{"$f":"4/8","v":0.5},1,"BusinessSales",null,0,{"$f":"treatment!A568","v":"https://www.uber.com/careers/list/38642/"}]
["https://www.uber.com/careers/list/38628/",1,1,1,0,{"$f":"4/5","v":0.8},3,"AdvancedTechnologiesGroup",null,0,{"$f":"treatment!A569","v":"https://www.uber.com/careers/list/38628/"}]
["https://www.uber.com/careers/list/38542/",3,1,6,6,{"$f":"9/11","v":0.81818181818181823},3,"AdvancedTechnologiesGroup",null,0,{"$f":"treatment!A570","v":"https://www.uber.com/careers/list/38542/"}]
["https://www.uber.com/careers/list/38533/",2,2,10,9,{"$f":"14/16","v":0.875},3,"FinanceAccounting",null,0,{"$f":"treatment!A571","v":"https://www.uber.com/careers/list/38533/"}]
["https://www.uber.com/careers/list/38526/",3,1,1,0,{"$f":"3/6","v":0.5},1,"OperationsLaunch",null,0,{"$f":"treatment!A572","v":"https://www.uber.com/careers/list/38526/"}]
["https://www.uber.com/careers/list/38506/",4,5,4,4,{"$f":"11/12","v":0.91666666666666663},3,"Product",null,0,{"$f":"treatment!A573","v":"https://www.uber.com/careers/list/38506/"}]
["https://www.uber.com/careers/list/38493/",5,3,1,0,{"$f":"5/8","v":0.625},1,"BusinessSales",null,0,{"$f":"treatment!A574","v":"https://www.uber.com/careers/list/38493/"}]
["https://www.uber.com/careers/list/38488/",6,2,4,0,{"$f":"11/13","v":0.84615384615384615},3,"Legal",null,0,{"$f":"treatment!A575","v":"https://www.uber.com/careers/list/38488/"}]
["https://www.uber.com/careers/list/38473/",0,0,7,7,{"$f":"7/11","v":0.63636363636363635},3,"FinanceAccounting",null,0,{"$f":"treatment!A576","v":"https://www.uber.com/careers/list/38473/"}]
["https://www.uber.com/careers/list/38468/",4,0,1,0,{"$f":"3/5","v":0.6},1,"Product",null,0,{"$f":"treatment!A577","v":"https://www.uber.com/careers/list/38468/"}]
["https://www.uber.com/careers/list/38462/",2,1,1,0,{"$f":"3/5","v":0.6},1,"OperationsLaunch",null,{"$f":"IF(K578=A578, 0, 1)","v":0},{"$f":"treatment!A578","v":"https://www.uber.com/careers/list/38462/"}]
["https://www.uber.com/careers/list/38440/",1,5,1,1,{"$f":"7/8","v":0.875},1,"GlobalCommunityOperations",null,0,{"$f":"treatment!A579","v":"https://www.uber.com/careers/list/38440/"}]
["https://www.uber.com/careers/list/38436/",9,4,1,0,{"$f":"7/8","v":0.875},3,"Legal",null,0,{"$f":"treatment!A580","v":"https://www.uber.com/careers/list/38436/"}]
["https://www.uber.com/careers/list/38424/",9,4,1,0,{"$f":"8/9","v":0.88888888888888884},3,"Legal",null,0,{"$f":"treatment!A581","v":"https://www.uber.com/careers/list/38424/"}]
["https://www.uber.com/careers/list/38408/",6,1,4,0,{"$f":"8/10","v":0.8},3,"FinanceAccounting",null,0,{"$f":"treatment!A582","v":"https://www.uber.com/careers/list/38408/"}]
["https://www.uber.com/careers/list/38385/",6,4,1,0,{"$f":"7/9","v":0.77777777777777779},3,"Product",null,0,{"$f":"treatment!A583","v":"https://www.uber.com/careers/list/38385/"}]
["https://www.uber.com/careers/list/38383/",4,6,0,"N/A",{"$f":"9/9","v":1},1,"Product",null,0,{"$f":"treatment!A584","v":"https://www.uber.com/careers/list/38383/"}]
["https://www.uber.com/careers/list/38379/",2,3,1,0,{"$f":"4/6","v":0.66666666666666663},3,"Engineering",null,0,{"$f":"treatment!A585","v":"https://www.uber.com/careers/list/38379/"}]
["https://www.uber.com/careers/list/38374/",4,2,5,5,{"$f":"10/12","v":0.83333333333333337},3,"Engineering",null,0,{"$f":"treatment!A586","v":"https://www.uber.com/careers/list/38374/"}]
["https://www.uber.com/careers/list/38369/",2,1,1,0,{"$f":"3/5","v":0.6},1,"OperationsLaunch",null,0,{"$f":"treatment!A587","v":"https://www.uber.com/careers/list/38369/"}]
["https://www.uber.com/careers/list/38351/",4,5,3,3,{"$f":"7/12","v":0.58333333333333337},3,"Engineering",null,0,{"$f":"treatment!A588","v":"https://www.uber.com/careers/list/38351/"}]
["https://www.uber.com/careers/list/38346/",3,1,3,3,{"$f":"7/11","v":0.63636363636363635},3,"BusinessSales",null,0,{"$f":"treatment!A589","v":"https://www.uber.com/careers/list/38346/"}]
["https://www.uber.com/careers/list/38345/",0,0,5,5,{"$f":"5/7","v":0.7142857142857143},3,"AdvancedTechnologiesGroup",null,0,{"$f":"treatment!A590","v":"https://www.uber.com/careers/list/38345/"}]
["https://www.uber.com/careers/list/38332/",2,2,8,7,{"$f":"12/14","v":0.8571428571428571},3,"FinanceAccounting",null,0,{"$f":"treatment!A591","v":"https://www.uber.com/careers/list/38332/"}]
["https://www.uber.com/careers/list/38330/",6,2,3,3,{"$f":"10/14","v":0.7142857142857143},3,"Engineering",null,0,{"$f":"treatment!A592","v":"https://www.uber.com/careers/list/38330/"}]
["https://www.uber.com/careers/list/38313/",3,3,4,4,{"$f":"10/11","v":0.90909090909090906},3,"GlobalCommunityOperations",null,0,{"$f":"treatment!A593","v":"https://www.uber.com/careers/list/38313/"}]
["https://www.uber.com/careers/list/38312/",4,1,2,1,{"$f":"5/6","v":0.83333333333333337},3,"PeopleOperations",null,0,{"$f":"treatment!A594","v":"https://www.uber.com/careers/list/38312/"}]
["https://www.uber.com/careers/list/38304/",1,4,1,0,{"$f":"5/10","v":0.5},1,"Engineering",null,0,{"$f":"treatment!A595","v":"https://www.uber.com/careers/list/38304/"}]
["https://www.uber.com/careers/list/38257/",0,2,1,0,{"$f":"3/9","v":0.33333333333333331},1,"Engineering",null,0,{"$f":"treatment!A596","v":"https://www.uber.com/careers/list/38257/"}]
["https://www.uber.com/careers/list/38248/",5,0,1,0,{"$f":"4/5","v":0.8},1,"Marketing",null,0,{"$f":"treatment!A597","v":"https://www.uber.com/careers/list/38248/"}]
["https://www.uber.com/careers/list/38221/",8,3,2,0,{"$f":"8/9","v":0.88888888888888884},3,"Legal",null,0,{"$f":"treatment!A598","v":"https://www.uber.com/careers/list/38221/"}]
["https://www.uber.com/careers/list/38191/",8,11,2,2,{"$f":"10/10","v":1},3,"Product",null,0,{"$f":"treatment!A599","v":"https://www.uber.com/careers/list/38191/"}]
["https://www.uber.com/careers/list/38168/",3,2,2,2,{"$f":"5/8","v":0.625},3,"Engineering",null,0,{"$f":"treatment!A600","v":"https://www.uber.com/careers/list/38168/"}]
["https://www.uber.com/careers/list/38160/",8,6,1,0,{"$f":"10/14","v":0.7142857142857143},1,"FinanceAccounting",null,0,{"$f":"treatment!A601","v":"https://www.uber.com/careers/list/38160/"}]
["https://www.uber.com/careers/list/38119/",2,3,0,"N/A",{"$f":"4/9","v":0.44444444444444442},1,"GlobalCommunityOperations",null,0,{"$f":"treatment!A602","v":"https://www.uber.com/careers/list/38119/"}]
["https://www.uber.com/careers/list/38082/",6,4,1,0,{"$f":"7/9","v":0.77777777777777779},3,"Product",null,0,{"$f":"treatment!A603","v":"https://www.uber.com/careers/list/38082/"}]
["https://www.uber.com/careers/list/38060/",3,4,1,0,{"$f":"9/12","v":0.75},1,"Design",null,0,{"$f":"treatment!A604","v":"https://www.uber.com/careers/list/38060/"}]
["https://www.uber.com/careers/list/38040/",3,2,2,2,{"$f":"5/9","v":0.55555555555555558},3,"Engineering",null,0,{"$f":"treatment!A605","v":"https://www.uber.com/careers/list/38040/"}]
["https://www.uber.com/careers/list/38039/",2,3,1,0,{"$f":"6/7","v":0.8571428571428571},1,"Legal",null,0,{"$f":"treatment!A606","v":"https://www.uber.com/careers/list/38039/"}]
["https://www.uber.com/careers/list/38002/",7,8,1,1,{"$f":"10/11","v":0.90909090909090906},1,"Product",null,0,{"$f":"treatment!A607","v":"https://www.uber.com/careers/list/38002/"}]
["https://www.uber.com/careers/list/38001/",6,6,3,3,{"$f":"11/13","v":0.84615384615384615},1,"Product",null,0,{"$f":"treatment!A608","v":"https://www.uber.com/careers/list/38001/"}]
["https://www.uber.com/careers/list/37916/",5,3,1,0,{"$f":"5/8","v":0.625},1,"BusinessSales",null,0,{"$f":"treatment!A609","v":"https://www.uber.com/careers/list/37916/"}]
["https://www.uber.com/careers/list/37890/",1,0,4,4,{"$f":"5/10","v":0.5},3,"FinanceAccounting",null,0,{"$f":"treatment!A610","v":"https://www.uber.com/careers/list/37890/"}]
["https://www.uber.com/careers/list/37876/",6,5,3,2,{"$f":"11/13","v":0.84615384615384615},3,"GlobalCommunityOperations",null,0,{"$f":"treatment!A611","v":"https://www.uber.com/careers/list/37876/"}]
["https://www.uber.com/careers/list/37852/",2,1,3,3,{"$f":"5/8","v":0.625},3,"Engineering",null,0,{"$f":"treatment!A612","v":"https://www.uber.com/careers/list/37852/"}]
["https://www.uber.com/careers/list/37802/",0,0,6,5,{"$f":"6/8","v":0.75},3,"FinanceAccounting",null,0,{"$f":"treatment!A613","v":"https://www.uber.com/careers/list/37802/"}]
["https://www.uber.com/careers/list/37792/",0,3,2,2,{"$f":"5/8","v":0.625},3,"Engineering",null,0,{"$f":"treatment!A614","v":"https://www.uber.com/careers/list/37792/"}]
["https://www.uber.com/careers/list/37756/",6,5,2,2,{"$f":"9/10","v":0.9},1,"Product",null,0,{"$f":"treatment!A615","v":"https://www.uber.com/careers/list/37756/"}]
["https://www.uber.com/careers/list/37744/",1,1,3,3,{"$f":"5/6","v":0.83333333333333337},3,"AdvancedTechnologiesGroup",null,0,{"$f":"treatment!A616","v":"https://www.uber.com/careers/list/37744/"}]
["https://www.uber.com/careers/list/37739/",5,8,1,1,{"$f":"7/7","v":1},1,"Product",null,0,{"$f":"treatment!A617","v":"https://www.uber.com/careers/list/37739/"}]
["https://www.uber.com/careers/list/37624/",3,4,2,2,{"$f":"6/7","v":0.8571428571428571},3,"Engineering",null,0,{"$f":"treatment!A618","v":"https://www.uber.com/careers/list/37624/"}]
["https://www.uber.com/careers/list/37619/",6,1,2,1,{"$f":"7/16","v":0.4375},1,"Product",null,0,{"$f":"treatment!A619","v":"https://www.uber.com/careers/list/37619/"}]
["https://www.uber.com/careers/list/37591/",5,7,3,3,{"$f":"12/15","v":0.8},3,"Product",null,0,{"$f":"treatment!A620","v":"https://www.uber.com/careers/list/37591/"}]
["https://www.uber.com/careers/list/37590/",4,7,3,3,{"$f":"12/15","v":0.8},3,"Product",null,0,{"$f":"treatment!A621","v":"https://www.uber.com/careers/list/37590/"}]
["https://www.uber.com/careers/list/37589/",5,7,3,3,{"$f":"12/15","v":0.8},3,"Product",null,0,{"$f":"treatment!A622","v":"https://www.uber.com/careers/list/37589/"}]
["https://www.uber.com/careers/list/37571/",2,1,2,1,{"$f":"5/8","v":0.625},3,"FinanceAccounting",null,0,{"$f":"treatment!A623","v":"https://www.uber.com/careers/list/37571/"}]
["https://www.uber.com/careers/list/37563/",3,3,4,0,{"$f":"10/12","v":0.83333333333333337},3,"OperationsLaunch",null,0,{"$f":"treatment!A624","v":"https://www.uber.com/careers/list/37563/"}]
["https://www.uber.com/careers/list/37562/",1,2,3,3,{"$f":"6/9","v":0.66666666666666663},3,"Engineering",null,0,{"$f":"treatment!A625","v":"https://www.uber.com/careers/list/37562/"}]
["x"]

{"sheet":"notinexperiment","index":2,"n_rows":1816,"n_cols":4,"rows_kept":1816,"cut":false,"hidden":false,"merged":[]}
["NotInExperiment**","ExpiredDate",null,"**Reasons: faulty link issue; not possible to treat; multiple requirements sections, sub-bulleting or Older Jobs (prior to mid-March 2018)"]
["https://www.uber.com/careers/list/12692/","2018-10-02T10:15:00"]
["https://www.uber.com/careers/list/12789/","2019-03-07T13:45:00"]
["https://www.uber.com/careers/list/12810/","2019-01-24T07:10:00"]
["https://www.uber.com/careers/list/12810-1947-81852/","2019-01-24T07:10:00"]
["https://www.uber.com/careers/list/13342/","2018-10-02T10:15:00"]
["https://www.uber.com/careers/list/13430/","2018-12-18T12:45:00"]
["https://www.uber.com/careers/list/13430-725-61278/","2018-12-18T12:45:00"]
["https://www.uber.com/careers/list/14345/","2019-01-24T07:10:00"]
["https://www.uber.com/careers/list/15557/"]
["https://www.uber.com/careers/list/15618/"]
["https://www.uber.com/careers/list/15634/"]
["https://www.uber.com/careers/list/15634-1947-81852/"]
["https://www.uber.com/careers/list/16001/","2019-03-02T10:45:00"]
["https://www.uber.com/careers/list/16145/","2018-09-12T08:22:00"]
["https://www.uber.com/careers/list/16271/","2019-03-07T13:45:00"]
["https://www.uber.com/careers/list/16643/","2019-03-29T08:55:00"]
["https://www.uber.com/careers/list/16842/"]
["https://www.uber.com/careers/list/16852/","2018-08-18T08:00:00"]
["https://www.uber.com/careers/list/16993/","2018-09-29T09:21:00"]
["https://www.uber.com/careers/list/17148/"]
["https://www.uber.com/careers/list/17277/","2018-10-03T12:22:00"]
["https://www.uber.com/careers/list/17328/","2019-01-18T09:05:00"]
["https://www.uber.com/careers/list/17504/","2018-10-26T15:35:00"]
["https://www.uber.com/careers/list/17518/","2018-12-19T18:20:00"]
["https://www.uber.com/careers/list/18337/","2018-10-10T08:30:00"]
["https://www.uber.com/careers/list/18675/","2019-03-02T10:45:00"]
["https://www.uber.com/careers/list/18878/","2019-02-21T06:45:00"]
["https://www.uber.com/careers/list/19698/","2018-11-15T17:00:00"]
["https://www.uber.com/careers/list/19968/","2019-03-02T10:45:00"]
["https://www.uber.com/careers/list/20045/","2018-09-20T10:20:00"]
["https://www.uber.com/careers/list/20242/","2018-11-14T12:00:00"]
["https://www.uber.com/careers/list/20426/","2019-02-07T08:45:00"]
["https://www.uber.com/careers/list/20542/","2019-03-02T10:45:00"]
["https://www.uber.com/careers/list/21001/","2018-10-19T08:50:00"]
["https://www.uber.com/careers/list/21016/","2018-10-31T11:20:00"]
["https://www.uber.com/careers/list/21016-1314-1088/","2018-10-31T11:20:00"]
["https://www.uber.com/careers/list/22027/","2019-03-07T13:45:00"]
["https://www.uber.com/careers/list/22071/","2019-01-23T06:05:00"]
["https://www.uber.com/careers/list/22071-1079-1088/","2019-01-23T06:05:00"]
["https://www.uber.com/careers/list/22140/","2019-03-25T20:30:00"]
["https://www.uber.com/careers/list/22396/","2019-03-25T20:30:00"]
["https://www.uber.com/careers/list/22402/","2018-11-30T15:50:00"]
["https://www.uber.com/careers/list/22920/","2018-12-20T17:15:00"]
["https://www.uber.com/careers/list/25133/","2019-03-25T20:30:00"]
["https://www.uber.com/careers/list/25678/"]
["https://www.uber.com/careers/list/25856/","2018-09-25T17:00:00"]
["https://www.uber.com/careers/list/26120/"]
["https://www.uber.com/careers/list/26248/","2018-10-26T15:35:00"]
["https://www.uber.com/careers/list/26253/","2018-08-18T08:00:00"]
["https://www.uber.com/careers/list/26394/","2018-11-27T15:30:00"]
["https://www.uber.com/careers/list/26729/","2018-08-18T08:00:00"]
["https://www.uber.com/careers/list/27045/","2018-12-19T18:20:00"]
["https://www.uber.com/careers/list/27058/"]
["https://www.uber.com/careers/list/27469/","2019-02-13T19:10:00"]
["https://www.uber.com/careers/list/27469-1079-1088/","2019-02-13T19:10:00"]
["https://www.uber.com/careers/list/27471/","2018-08-27T15:30:00"]
["https://www.uber.com/careers/list/27505/","2018-10-02T10:15:00"]
["https://www.uber.com/careers/list/27551/"]
["https://www.uber.com/careers/list/27751/","2019-03-02T10:45:00"]
["https://www.uber.com/careers/list/28029/","2018-09-11T08:20:00"]
["https://www.uber.com/careers/list/28036/","2018-11-15T17:00:00"]
["https://www.uber.com/careers/list/28370/"]
["https://www.uber.com/careers/list/28376/","2019-02-21T06:45:00"]
["https://www.uber.com/careers/list/28392/","2018-09-12T08:22:00"]
["https://www.uber.com/careers/list/28619/","2019-04-11T14:00:00"]
["https://www.uber.com/careers/list/28619-1079-1088/","2019-04-11T14:00:00"]
["https://www.uber.com/careers/list/28923/","2018-08-29T16:30:00"]
["https://www.uber.com/careers/list/29016/","2018-08-24T20:00:00"]
["https://www.uber.com/careers/list/29052/","2018-10-31T11:20:00"]
["https://www.uber.com/careers/list/29330/"]
["https://www.uber.com/careers/list/29589/"]
["https://www.uber.com/careers/list/29589-1124-35793/","2019-03-07T13:45:00"]
["https://www.uber.com/careers/list/29638/"]
["https://www.uber.com/careers/list/29638-669-35793/","2019-01-16T12:05:00"]
["https://www.uber.com/careers/list/29640/"]
["https://www.uber.com/careers/list/29640-669-35793/","2019-03-07T13:45:00"]
["https://www.uber.com/careers/list/29641/"]
["https://www.uber.com/careers/list/29641-669-35793/","2019-03-07T13:45:00"]
["https://www.uber.com/careers/list/29642/","2019-01-10T09:15:00"]
["https://www.uber.com/careers/list/29642-1079-1088/","2019-01-10T09:15:00"]
["https://www.uber.com/careers/list/29648/"]
["https://www.uber.com/careers/list/29648-1124-35793/","2019-03-07T13:45:00"]
["https://www.uber.com/careers/list/29649/","2019-03-07T13:45:00"]
["https://www.uber.com/careers/list/29649-1124-35793/","2019-03-07T13:45:00"]
["https://www.uber.com/careers/list/29650/"]
["https://www.uber.com/careers/list/29650-1124-35793/","2019-03-07T13:45:00"]
["https://www.uber.com/careers/list/29651/"]
["https://www.uber.com/careers/list/29651-1124-35793/","2019-03-07T13:45:00"]
["https://www.uber.com/careers/list/29662/","2018-12-07T06:45:00"]
["https://www.uber.com/careers/list/29689/","2019-04-23T16:03:00"]
["https://www.uber.com/careers/list/29692/","2018-09-21T10:42:00"]
["https://www.uber.com/careers/list/29711/"]
["https://www.uber.com/careers/list/29962/"]
["https://www.uber.com/careers/list/29993/"]
["https://www.uber.com/careers/list/30050/","2019-03-21T13:50:00"]
["https://www.uber.com/careers/list/30067/"]
["https://www.uber.com/careers/list/30172/"]
["https://www.uber.com/careers/list/30285/"]
["https://www.uber.com/careers/list/30371/","2018-09-13T07:35:00"]
["https://www.uber.com/careers/list/30371-2356-81852/","2018-09-13T07:35:00"]
["https://www.uber.com/careers/list/30442/","2018-12-13T07:20:00"]
["https://www.uber.com/careers/list/30522/"]
["https://www.uber.com/careers/list/30677/"]
["https://www.uber.com/careers/list/30681/"]
["https://www.uber.com/careers/list/30870/","2019-04-23T16:03:00"]
["https://www.uber.com/careers/list/30929/","2019-03-28T07:40:00"]
["https://www.uber.com/careers/list/30929-1079-1088/","2019-03-28T07:40:00"]
["https://www.uber.com/careers/list/30937/","2018-08-22T14:00:00"]
["https://www.uber.com/careers/list/31054/","2018-08-18T08:00:00"]
["https://www.uber.com/careers/list/31060/","2018-10-26T15:35:00"]
["https://www.uber.com/careers/list/31074/","2019-01-15T09:20:00"]
["https://www.uber.com/careers/list/31291/"]
["https://www.uber.com/careers/list/31301/"]
["https://www.uber.com/careers/list/31312/","2018-10-18T11:25:00"]
["https://www.uber.com/careers/list/31322/"]
["https://www.uber.com/careers/list/31339/"]
["https://www.uber.com/careers/list/31340/","2018-10-09T11:40:00"]
["https://www.uber.com/careers/list/31341/"]
["https://www.uber.com/careers/list/31692/","2019-03-07T13:45:00"]
["https://www.uber.com/careers/list/31799/","2018-11-15T17:00:00"]
["https://www.uber.com/careers/list/31881/","2018-12-07T06:45:00"]
["https://www.uber.com/careers/list/31881-1947-81852/","2018-12-07T06:45:00"]
["https://www.uber.com/careers/list/31889/","2018-11-06T11:00:00"]
["https://www.uber.com/careers/list/32063/"]
["https://www.uber.com/careers/list/32096/"]
["https://www.uber.com/careers/list/32276/","2019-03-11T22:20:00"]
["https://www.uber.com/careers/list/32323/","2019-01-10T09:15:00"]
["https://www.uber.com/careers/list/32550/","2019-02-08T09:12:00"]
["https://www.uber.com/careers/list/32621/","2019-01-24T07:10:00"]
["https://www.uber.com/careers/list/32622/","2019-01-09T13:10:00"]
["https://www.uber.com/careers/list/32818/","2019-01-10T09:15:00"]
["https://www.uber.com/careers/list/32840/","2019-01-18T09:05:00"]
["https://www.uber.com/careers/list/33070/"]
["https://www.uber.com/careers/list/33206/"]
["https://www.uber.com/careers/list/33324/","2019-02-02T07:40:00"]
["https://www.uber.com/careers/list/33477/","2018-08-14T06:00:00"]
["https://www.uber.com/careers/list/33478/","2018-08-16T07:30:00"]
["https://www.uber.com/careers/list/33513/","2018-08-24T20:00:00"]
["https://www.uber.com/careers/list/33557/","2018-10-26T15:35:00"]
["https://www.uber.com/careers/list/33557-165-1232/","2018-10-26T15:35:00"]
["https://www.uber.com/careers/list/33577/","2018-11-27T15:30:00"]
["https://www.uber.com/careers/list/33580/","2018-09-21T10:42:00"]
["https://www.uber.com/careers/list/33580-1079-1088/","2018-09-21T10:42:00"]
["https://www.uber.com/careers/list/33655/","2019-03-06T08:05:00"]
["https://www.uber.com/careers/list/33677/","2019-03-13T10:12:00"]
["https://www.uber.com/careers/list/33687/","2019-02-27T08:00:00"]
["https://www.uber.com/careers/list/33817/"]
["https://www.uber.com/careers/list/33878/","2019-03-07T13:45:00"]
["https://www.uber.com/careers/list/33884/","2018-10-10T08:30:00"]
["https://www.uber.com/careers/list/33903/","2018-12-19T18:20:00"]
["https://www.uber.com/careers/list/33904/","2018-12-19T18:20:00"]
["https://www.uber.com/careers/list/33910/","2019-03-10T23:21:00"]
["https://www.uber.com/careers/list/33936/","2019-04-04T20:15:00"]
["https://www.uber.com/careers/list/33953/","2018-11-27T15:30:00"]
["https://www.uber.com/careers/list/33974/"]
["https://www.uber.com/careers/list/33979/","2019-03-25T20:30:00"]
["https://www.uber.com/careers/list/33991/","2019-01-04T07:40:00"]
["https://www.uber.com/careers/list/34284/","2018-09-11T08:20:00"]
["https://www.uber.com/careers/list/34285/","2019-01-10T09:15:00"]
["https://www.uber.com/careers/list/34316/"]
["https://www.uber.com/careers/list/34326/","2018-11-13T20:52:00"]
["https://www.uber.com/careers/list/34543/"]
["https://www.uber.com/careers/list/34552/","2019-03-08T18:45:00"]
["https://www.uber.com/careers/list/34575/","2018-10-12T07:15:00"]
["https://www.uber.com/careers/list/34579/","2018-10-12T07:15:00"]
["https://www.uber.com/careers/list/34668/","2019-01-15T09:20:00"]
["https://www.uber.com/careers/list/34686/","2019-02-27T08:00:00"]
["https://www.uber.com/careers/list/34695/","2019-02-06T08:05:00"]
["https://www.uber.com/careers/list/34764/"]
["https://www.uber.com/careers/list/34769/","2018-08-17T07:00:00"]
["https://www.uber.com/careers/list/34814/","2019-01-26T07:05:00"]
["https://www.uber.com/careers/list/34883/","2018-10-02T10:15:00"]
["https://www.uber.com/careers/list/34948/","2019-01-16T12:05:00"]
["https://www.uber.com/careers/list/34950/","2019-01-09T13:10:00"]
["https://www.uber.com/careers/list/35026/","2019-02-21T06:45:00"]
["https://www.uber.com/careers/list/35291/","2018-08-18T08:00:00"]
["https://www.uber.com/careers/list/35312/","2019-01-23T06:05:00"]
["https://www.uber.com/careers/list/35350/"]
["https://www.uber.com/careers/list/35383/","2019-02-14T19:10:00"]
["https://www.uber.com/careers/list/35384/","2019-02-14T19:10:00"]
["https://www.uber.com/careers/list/35400/"]
["https://www.uber.com/careers/list/35421/","2019-02-27T08:00:00"]
["https://www.uber.com/careers/list/35434/","2019-03-25T20:30:00"]
["https://www.uber.com/careers/list/35437/","2018-08-22T14:00:00"]
["https://www.uber.com/careers/list/35438/","2019-02-27T08:00:00"]
["https://www.uber.com/careers/list/35439/","2019-02-21T06:45:00"]
["https://www.uber.com/careers/list/35440/","2018-12-10T10:00:00"]
["https://www.uber.com/careers/list/35441/","2018-08-22T14:00:00"]
["https://www.uber.com/careers/list/35442/","2018-10-17T15:00:00"]
["https://www.uber.com/careers/list/35464/","2019-01-29T06:50:00"]
["https://www.uber.com/careers/list/35491/","2019-01-30T07:30:00"]
["https://www.uber.com/careers/list/35491-177-1244/","2018-09-25T17:00:00"]
["https://www.uber.com/careers/list/35515/"]
["https://www.uber.com/careers/list/35566/","2018-09-11T08:20:00"]
["https://www.uber.com/careers/list/35596/","2018-12-15T08:50:00"]
["https://www.uber.com/careers/list/35596-1947-81852/","2018-12-15T08:50:00"]
["https://www.uber.com/careers/list/35602/","2019-03-07T13:45:00"]
["https://www.uber.com/careers/list/35602-71-1135/","2018-10-04T11:25:00"]
["https://www.uber.com/careers/list/35608/","2018-12-19T18:20:00"]
["https://www.uber.com/careers/list/35608-1947-81852/","2018-12-19T18:20:00"]
["https://www.uber.com/careers/list/35627/","2018-10-31T11:20:00"]
["https://www.uber.com/careers/list/35628/","2019-01-10T09:15:00"]
["https://www.uber.com/careers/list/35638/","2018-12-11T08:50:00"]
["https://www.uber.com/careers/list/35676/","2019-02-13T19:10:00"]
["https://www.uber.com/careers/list/35725/"]
["https://www.uber.com/careers/list/35725-1079-1088/","2018-10-04T11:25:00"]
["https://www.uber.com/careers/list/35793/","2018-09-17T17:50:00"]
["https://www.uber.com/careers/list/35826/","2019-02-05T11:16:00"]
["https://www.uber.com/careers/list/35858/","2018-08-22T14:00:00"]
["https://www.uber.com/careers/list/35864/","2018-09-21T10:42:00"]
["https://www.uber.com/careers/list/35877/"]
["https://www.uber.com/careers/list/35898/","2018-09-14T20:34:00"]
["https://www.uber.com/careers/list/35916/","2019-04-22T11:51:00"]
["https://www.uber.com/careers/list/35929/"]
["https://www.uber.com/careers/list/35979/","2018-08-21T09:00:00"]
["https://www.uber.com/careers/list/36005/","2018-09-17T17:50:00"]
["https://www.uber.com/careers/list/36040/","2018-08-30T21:38:00"]
["https://www.uber.com/careers/list/36142/","2019-01-08T07:15:00"]
["https://www.uber.com/careers/list/36144/","2019-01-24T07:10:00"]
["https://www.uber.com/careers/list/36244/","2018-09-19T22:00:00"]
["https://www.uber.com/careers/list/36273/","2018-11-06T11:00:00"]
["https://www.uber.com/careers/list/36279/","2018-10-26T15:35:00"]
["https://www.uber.com/careers/list/36323/","2019-04-09T21:45:00"]
["https://www.uber.com/careers/list/36324/","2019-02-14T19:10:00"]
["https://www.uber.com/careers/list/36324-1079-1088/","2019-02-14T19:10:00"]
["https://www.uber.com/careers/list/36494/","2018-10-17T15:00:00"]
["https://www.uber.com/careers/list/36498/","2018-09-18T11:21:00"]
["https://www.uber.com/careers/list/36509/","2018-11-14T12:00:00"]
["https://www.uber.com/careers/list/36549/","2018-10-12T07:15:00"]
["https://www.uber.com/careers/list/36551/","2018-10-12T07:15:00"]
["https://www.uber.com/careers/list/36570/","2018-08-14T06:00:00"]
["https://www.uber.com/careers/list/36572/","2018-08-22T14:00:00"]
["https://www.uber.com/careers/list/36573/","2018-10-02T10:15:00"]
["https://www.uber.com/careers/list/36630/","2019-01-08T07:15:00"]
["https://www.uber.com/careers/list/36631/","2019-02-13T19:10:00"]
["https://www.uber.com/careers/list/36646/","2018-10-03T12:22:00"]
["https://www.uber.com/careers/list/36666/","2019-03-05T08:00:00"]
["https://www.uber.com/careers/list/36678/"]
["https://www.uber.com/careers/list/36678-170-1237/"]
["https://www.uber.com/careers/list/36679/","2018-10-16T13:00:00"]
["https://www.uber.com/careers/list/36689/","2018-09-19T22:00:00"]
["https://www.uber.com/careers/list/36764/","2019-03-07T13:45:00"]
["https://www.uber.com/careers/list/36769/","2019-01-16T12:05:00"]
["https://www.uber.com/careers/list/36770/","2018-08-18T08:00:00"]
["https://www.uber.com/careers/list/36776/","2018-11-12T19:45:00"]
["https://www.uber.com/careers/list/36793/","2019-02-06T08:05:00"]
["https://www.uber.com/careers/list/36794/"]
["https://www.uber.com/careers/list/36851/","2019-01-31T07:06:00"]
["https://www.uber.com/careers/list/36852/","2019-01-15T09:20:00"]
["https://www.uber.com/careers/list/36862/","2019-02-22T15:37:00"]
["https://www.uber.com/careers/list/36913/","2018-08-15T08:00:00"]
["https://www.uber.com/careers/list/36955/","2019-02-08T09:12:00"]
["https://www.uber.com/careers/list/36959/","2019-02-22T15:37:00"]
["https://www.uber.com/careers/list/36963/","2018-08-30T21:38:00"]
["https://www.uber.com/careers/list/36966/","2019-01-15T09:20:00"]
["https://www.uber.com/careers/list/36983/","2018-08-24T20:00:00"]
["https://www.uber.com/careers/list/37074/","2019-01-31T07:06:00"]
["https://www.uber.com/careers/list/37087/","2019-02-13T19:10:00"]
["https://www.uber.com/careers/list/37087-1174-81840/","2019-02-13T19:10:00"]
["https://www.uber.com/careers/list/37121/","2019-02-13T19:10:00"]
["https://www.uber.com/careers/list/37125/","2018-08-23T17:00:00"]
["https://www.uber.com/careers/list/37193/","2018-09-05T19:29:00"]
["https://www.uber.com/careers/list/37196/","2018-08-16T07:30:00"]
["https://www.uber.com/careers/list/37214/","2018-09-28T12:00:00"]
["https://www.uber.com/careers/list/37270/","2019-01-18T09:05:00"]
["https://www.uber.com/careers/list/37296/","2019-03-19T19:35:00"]
["https://www.uber.com/careers/list/37329/","2019-01-15T09:20:00"]
["https://www.uber.com/careers/list/37332/","2019-01-15T09:20:00"]
["https://www.uber.com/careers/list/37338/","2018-11-19T18:40:00"]
["https://www.uber.com/careers/list/37347/","2019-01-18T09:05:00"]
["https://www.uber.com/careers/list/37387/"]
["https://www.uber.com/careers/list/37391/","2018-08-16T07:30:00"]
["https://www.uber.com/careers/list/37393/","2018-09-06T21:33:00"]
["https://www.uber.com/careers/list/37402/","2018-10-26T15:35:00"]
["https://www.uber.com/careers/list/37419/","2018-08-18T08:00:00"]
["https://www.uber.com/careers/list/37423/","2018-10-17T15:00:00"]
["https://www.uber.com/careers/list/37461/","2019-01-31T07:06:00"]
["https://www.uber.com/careers/list/37490/","2018-08-27T15:30:00"]
["https://www.uber.com/careers/list/37495/","2018-10-26T15:35:00"]
["https://www.uber.com/careers/list/37513/","2018-12-08T11:30:00"]
["https://www.uber.com/careers/list/37541/","2018-09-29T09:21:00"]
["https://www.uber.com/careers/list/37565/","2018-09-19T22:00:00"]
["https://www.uber.com/careers/list/37565-163-1230/","2018-09-19T22:00:00"]
["https://www.uber.com/careers/list/37565-171-1238/","2018-09-19T22:00:00"]
["https://www.uber.com/careers/list/37565-179-1246/","2018-09-19T22:00:00"]
["https://www.uber.com/careers/list/37725/","2018-10-17T15:00:00"]
["https://www.uber.com/careers/list/37728/","2018-09-17T17:50:00"]
["https://www.uber.com/careers/list/37750/","2018-09-05T19:29:00"]
["https://www.uber.com/careers/list/37798/","2018-09-14T20:34:00"]
["https://www.uber.com/careers/list/37816/"]
["https://www.uber.com/careers/list/37816-1947-81852/"]
["https://www.uber.com/careers/list/37839/"]
["https://www.uber.com/careers/list/37882/","2018-12-20T17:15:00"]
["https://www.uber.com/careers/list/37882-164-1231/","2018-11-01T11:55:00"]
["https://www.uber.com/careers/list/37906/","2018-10-11T09:10:00"]
["https://www.uber.com/careers/list/37911/","2018-10-03T12:22:00"]
["https://www.uber.com/careers/list/37915/","2018-10-16T13:00:00"]
["https://www.uber.com/careers/list/37925/","2018-12-08T11:30:00"]
["https://www.uber.com/careers/list/37983/","2018-10-13T09:40:00"]
["https://www.uber.com/careers/list/37991/","2018-09-07T15:35:00"]
["https://www.uber.com/careers/list/38000/","2019-02-01T06:20:00"]
["https://www.uber.com/careers/list/38003/","2018-09-27T09:35:00"]
["https://www.uber.com/careers/list/38074/","2018-11-29T16:10:00"]
["https://www.uber.com/careers/list/38074-1174-81840/","2018-11-29T16:10:00"]
["https://www.uber.com/careers/list/38089/","2019-01-18T09:05:00"]
["https://www.uber.com/careers/list/38123/","2018-11-16T08:55:00"]
["https://www.uber.com/careers/list/38167/","2018-09-25T17:00:00"]
["https://www.uber.com/careers/list/38178/","2018-09-13T07:35:00"]
["https://www.uber.com/careers/list/38179/","2019-02-21T06:45:00"]
["https://www.uber.com/careers/list/38186/","2018-11-28T12:30:00"]
["https://www.uber.com/careers/list/38210/","2018-08-27T15:30:00"]
["https://www.uber.com/careers/list/38218/","2019-01-16T12:05:00"]
["https://www.uber.com/careers/list/38336/","2018-08-22T14:00:00"]
["https://www.uber.com/careers/list/38339/","2019-02-05T11:16:00"]
["https://www.uber.com/careers/list/38350/","2018-08-18T08:00:00"]
["https://www.uber.com/careers/list/38435/","2018-11-02T14:15:00"]
["https://www.uber.com/careers/list/38438/","2019-04-04T20:15:00"]
["https://www.uber.com/careers/list/38508/","2018-10-02T10:15:00"]
["https://www.uber.com/careers/list/38554/","2018-10-03T12:22:00"]
["https://www.uber.com/careers/list/38573/","2018-12-18T12:45:00"]
["https://www.uber.com/careers/list/38588/","2019-01-24T07:10:00"]
["https://www.uber.com/careers/list/38588-611-35793/","2019-01-24T07:10:00"]
["https://www.uber.com/careers/list/38590/","2018-11-21T10:30:00"]
["https://www.uber.com/careers/list/38605/","2018-08-28T15:47:00"]
["https://www.uber.com/careers/list/38609/","2018-10-09T11:40:00"]
["https://www.uber.com/careers/list/38613/","2018-08-15T08:00:00"]
["https://www.uber.com/careers/list/38680/","2019-03-07T13:45:00"]
["https://www.uber.com/careers/list/38680-611-35793/","2019-03-07T13:45:00"]
["https://www.uber.com/careers/list/38746/","2018-09-14T20:34:00"]
["https://www.uber.com/careers/list/38758/","2018-09-29T09:21:00"]
["https://www.uber.com/careers/list/38772/","2018-09-04T16:43:00"]
["https://www.uber.com/careers/list/38793/","2019-01-08T07:15:00"]
["https://www.uber.com/careers/list/38806/","2018-12-14T06:45:00"]
["https://www.uber.com/careers/list/38881/","2019-02-07T08:45:00"]
["https://www.uber.com/careers/list/38887/","2019-01-25T06:50:00"]
["https://www.uber.com/careers/list/38911/","2019-02-13T19:10:00"]
["https://www.uber.com/careers/list/38925/","2018-09-22T15:44:00"]
["https://www.uber.com/careers/list/38950/","2018-09-17T17:50:00"]
["https://www.uber.com/careers/list/38952/","2018-09-17T17:50:00"]
["https://www.uber.com/careers/list/38953/","2018-09-17T17:50:00"]
["https://www.uber.com/careers/list/38963/","2018-12-06T07:45:00"]
["https://www.uber.com/careers/list/38963-109-1175/","2018-11-29T16:10:00"]
["https://www.uber.com/careers/list/38963-1264-81930/","2018-12-06T07:45:00"]
["https://www.uber.com/careers/list/38963-163-1230/","2018-12-06T07:45:00"]
["https://www.uber.com/careers/list/38963-164-1231/","2018-12-06T07:45:00"]
["https://www.uber.com/careers/list/38963-170-1237/","2018-12-06T07:45:00"]
["https://www.uber.com/careers/list/38963-177-1244/","2018-12-06T07:45:00"]
["https://www.uber.com/careers/list/38963-179-1246/","2018-12-06T07:45:00"]
["https://www.uber.com/careers/list/38963-633-39494/","2018-11-29T16:10:00"]
["https://www.uber.com/careers/list/39030/","2018-12-12T07:30:00"]
["https://www.uber.com/careers/list/39086/","2018-11-13T20:52:00"]
["https://www.uber.com/careers/list/39124/","2018-08-29T16:30:00"]
["https://www.uber.com/careers/list/39135/","2018-11-30T15:50:00"]
["https://www.uber.com/careers/list/39140/","2018-12-07T06:45:00"]
["https://www.uber.com/careers/list/39167/","2018-09-10T15:52:00"]
["https://www.uber.com/careers/list/39175/","2018-10-31T11:20:00"]
["https://www.uber.com/careers/list/39175-611-35793/","2018-10-31T11:20:00"]
["https://www.uber.com/careers/list/39179/","2019-01-02T13:20:00"]
["https://www.uber.com/careers/list/39197/","2018-10-12T07:15:00"]
["https://www.uber.com/careers/list/39199/","2018-08-28T15:47:00"]
["https://www.uber.com/careers/list/39203/","2018-12-06T07:45:00"]
["https://www.uber.com/careers/list/39241/","2018-08-31T21:50:00"]
["https://www.uber.com/careers/list/39272/","2019-01-05T06:20:00"]
["https://www.uber.com/careers/list/39273/","2019-02-18T09:00:00"]
["https://www.uber.com/careers/list/39274/","2018-08-15T08:00:00"]
["https://www.uber.com/careers/list/39278/","2018-10-26T15:35:00"]
["https://www.uber.com/careers/list/39286/","2018-08-15T08:00:00"]
["https://www.uber.com/careers/list/39310/","2018-10-05T11:55:00"]
["https://www.uber.com/careers/list/39333/","2019-01-29T06:50:00"]
["https://www.uber.com/careers/list/39339/","2018-08-23T17:00:00"]
["https://www.uber.com/careers/list/39385/","2018-10-30T11:50:00"]
["https://www.uber.com/careers/list/39410/","2018-08-22T14:00:00"]
["https://www.uber.com/careers/list/39445/","2018-08-29T16:30:00"]
["https://www.uber.com/careers/list/39453/","2018-09-14T20:34:00"]
["https://www.uber.com/careers/list/39465/","2018-11-20T10:25:00"]
["https://www.uber.com/careers/list/39465-1174-81840/","2018-11-20T10:25:00"]
["https://www.uber.com/careers/list/39482/","2019-01-08T07:15:00"]
["https://www.uber.com/careers/list/39484/","2018-09-25T17:00:00"]
["https://www.uber.com/careers/list/39513/","2018-09-24T09:36:00"]
["https://www.uber.com/careers/list/39516/","2019-01-15T09:20:00"]
["https://www.uber.com/careers/list/39537/","2018-09-14T20:34:00"]
["https://www.uber.com/careers/list/39539/","2019-03-15T10:40:00"]
["https://www.uber.com/careers/list/39543/","2019-01-11T17:20:00"]
["https://www.uber.com/careers/list/39543-1264-81930/","2018-08-21T09:00:00"]
["https://www.uber.com/careers/list/39543-163-1230/","2018-08-21T09:00:00"]
["https://www.uber.com/careers/list/39543-164-1231/","2018-08-21T09:00:00"]
["https://www.uber.com/careers/list/39543-165-1232/","2018-08-21T09:00:00"]
["https://www.uber.com/careers/list/39543-171-1238/","2018-08-21T09:00:00"]
["https://www.uber.com/careers/list/39543-179-1246/","2018-08-21T09:00:00"]
["https://www.uber.com/careers/list/39543-2319-88721/","2018-08-21T09:00:00"]
["https://www.uber.com/careers/list/39543-2558-89277/","2018-08-21T09:00:00"]
["https://www.uber.com/careers/list/39572/","2018-08-17T07:00:00"]
["https://www.uber.com/careers/list/39587/","2018-10-16T13:00:00"]
["https://www.uber.com/careers/list/39604/","2018-11-28T12:30:00"]
["https://www.uber.com/careers/list/39631/","2018-11-12T19:45:00"]
["https://www.uber.com/careers/list/39702/","2018-10-17T15:00:00"]
["https://www.uber.com/careers/list/39702-165-1232/","2018-10-17T15:00:00"]
["https://www.uber.com/careers/list/39702-177-1244/","2018-10-17T15:00:00"]
["https://www.uber.com/careers/list/39702-179-1246/","2018-10-17T15:00:00"]
["https://www.uber.com/careers/list/39723/","2019-01-24T07:10:00"]
["https://www.uber.com/careers/list/39723-170-1237/","2019-01-24T07:10:00"]
["https://www.uber.com/careers/list/39724/","2018-11-17T11:35:00"]
["https://www.uber.com/careers/list/39724-170-1237/","2018-11-17T11:35:00"]
["https://www.uber.com/careers/list/39725/","2018-10-30T11:50:00"]
["https://www.uber.com/careers/list/39725-725-61278/","2018-10-30T11:50:00"]
["https://www.uber.com/careers/list/39727/","2019-01-11T17:20:00"]
["https://www.uber.com/careers/list/39727-170-1237/","2019-01-11T17:20:00"]
["https://www.uber.com/careers/list/39728/","2018-10-11T09:10:00"]
["https://www.uber.com/careers/list/39728-170-1237/","2018-10-11T09:10:00"]
["https://www.uber.com/careers/list/39730/","2019-01-24T07:10:00"]
["https://www.uber.com/careers/list/39730-170-1237/","2019-01-24T07:10:00"]
["https://www.uber.com/careers/list/39732/","2018-08-23T17:00:00"]
["https://www.uber.com/careers/list/39732-177-1244/","2018-08-22T14:00:00"]
["https://www.uber.com/careers/list/39732-277-10335/","2018-08-23T17:00:00"]
["https://www.uber.com/careers/list/39733/","2018-11-07T17:30:00"]
["https://www.uber.com/careers/list/39733-277-10335/","2018-11-07T17:30:00"]
["https://www.uber.com/careers/list/39780/","2018-10-03T12:22:00"]
["https://www.uber.com/careers/list/39785/","2018-08-14T06:00:00"]
["https://www.uber.com/careers/list/39785-170-1237/","2018-08-14T06:00:00"]
["https://www.uber.com/careers/list/39786/","2018-08-29T16:30:00"]
["https://www.uber.com/careers/list/39787/","2019-02-09T08:25:00"]
["https://www.uber.com/careers/list/39853/","2018-09-17T17:50:00"]
["https://www.uber.com/careers/list/39859/","2018-09-25T17:00:00"]
["https://www.uber.com/careers/list/39863/","2018-10-16T13:00:00"]
["https://www.uber.com/careers/list/39865/","2019-03-25T20:30:00"]
["https://www.uber.com/careers/list/39870/","2018-09-18T11:21:00"]
["https://www.uber.com/careers/list/39873/","2018-09-05T19:29:00"]
["https://www.uber.com/careers/list/39909/","2018-10-10T08:30:00"]
["https://www.uber.com/careers/list/39965/","2018-11-29T16:10:00"]
["https://www.uber.com/careers/list/39966/","2019-01-24T07:10:00"]
["https://www.uber.com/careers/list/39966-1174-81840/","2019-01-24T07:10:00"]
["https://www.uber.com/careers/list/39967/","2018-08-16T07:30:00"]
["https://www.uber.com/careers/list/39972/","2019-02-06T08:05:00"]
["https://www.uber.com/careers/list/40002/","2019-02-21T06:45:00"]
["https://www.uber.com/careers/list/40005/","2018-11-16T08:55:00"]
["https://www.uber.com/careers/list/40037/","2018-08-23T17:00:00"]
["https://www.uber.com/careers/list/40063/","2018-10-17T15:00:00"]
["https://www.uber.com/careers/list/40065/","2018-09-17T17:50:00"]
["https://www.uber.com/careers/list/40069/","2018-10-13T09:40:00"]
["https://www.uber.com/careers/list/40070/","2018-10-13T09:40:00"]
["https://www.uber.com/careers/list/40074/","2019-02-07T08:45:00"]
["https://www.uber.com/careers/list/40076/","2018-09-12T08:22:00"]
["https://www.uber.com/careers/list/40091/","2018-09-25T17:00:00"]
["https://www.uber.com/careers/list/40121/","2018-08-22T14:00:00"]
["https://www.uber.com/careers/list/40144/","2018-08-21T09:00:00"]
["https://www.uber.com/careers/list/40163/","2018-10-11T09:10:00"]
["https://www.uber.com/careers/list/40176/","2018-09-14T20:34:00"]
["https://www.uber.com/careers/list/40186/","2018-10-25T11:30:00"]
["https://www.uber.com/careers/list/40201/","2018-11-28T12:30:00"]
["https://www.uber.com/careers/list/40248/","2018-12-06T07:45:00"]
["https://www.uber.com/careers/list/40262/","2018-11-27T15:30:00"]
["https://www.uber.com/careers/list/40262-611-35793/","2018-11-27T15:30:00"]
["https://www.uber.com/careers/list/40286/","2018-08-29T16:30:00"]
["https://www.uber.com/careers/list/40291/","2018-08-18T08:00:00"]
["https://www.uber.com/careers/list/40329/","2019-03-19T19:35:00"]
["https://www.uber.com/careers/list/40333/","2019-01-18T09:05:00"]
["https://www.uber.com/careers/list/40337/","2018-10-22T14:46:00"]
["https://www.uber.com/careers/list/40345/","2018-11-01T11:55:00"]
["https://www.uber.com/careers/list/40371/","2018-09-25T17:00:00"]
["https://www.uber.com/careers/list/40373/","2018-11-16T08:55:00"]
["https://www.uber.com/careers/list/40379/","2018-10-09T11:40:00"]
["https://www.uber.com/careers/list/40390/","2018-08-18T08:00:00"]
["https://www.uber.com/careers/list/40402/","2018-10-27T09:55:00"]
["https://www.uber.com/careers/list/40413/","2018-08-17T07:00:00"]
["https://www.uber.com/careers/list/40414/","2018-11-29T16:10:00"]
["https://www.uber.com/careers/list/40415/","2018-11-06T11:00:00"]
["https://www.uber.com/careers/list/40415-163-1230/","2018-11-06T11:00:00"]
["https://www.uber.com/careers/list/40415-171-1238/","2018-11-06T11:00:00"]
["https://www.uber.com/careers/list/40415-177-1244/","2018-11-06T11:00:00"]
["https://www.uber.com/careers/list/40415-179-1246/","2018-11-06T11:00:00"]
["https://www.uber.com/careers/list/40415-633-39494/","2018-11-06T11:00:00"]
["https://www.uber.com/careers/list/40415-725-61278/","2018-11-06T11:00:00"]
["https://www.uber.com/careers/list/40418/","2018-08-23T17:00:00"]
["https://www.uber.com/careers/list/40419/","2018-10-11T09:10:00"]
["https://www.uber.com/careers/list/40419-177-1244/","2018-08-14T06:00:00"]
["https://www.uber.com/careers/list/40420/","2018-08-28T15:47:00"]
["https://www.uber.com/careers/list/40421/","2018-09-11T08:20:00"]
["https://www.uber.com/careers/list/40423/","2018-09-06T21:33:00"]
["https://www.uber.com/careers/list/40426/","2018-09-29T09:21:00"]
["https://www.uber.com/careers/list/40430/","2018-12-18T12:45:00"]
["https://www.uber.com/careers/list/40431/","2018-09-08T16:43:00"]
["https://www.uber.com/careers/list/40453/","2018-12-01T11:35:00"]
["https://www.uber.com/careers/list/40453-163-1230/","2018-12-01T11:35:00"]
["https://www.uber.com/careers/list/40453-177-1244/","2018-12-01T11:35:00"]
["https://www.uber.com/careers/list/40453-179-1246/","2018-12-01T11:35:00"]
["https://www.uber.com/careers/list/40453-633-39494/","2018-12-01T11:35:00"]
["https://www.uber.com/careers/list/40472/","2018-10-20T08:05:00"]
["https://www.uber.com/careers/list/40473/","2018-08-14T06:00:00"]
["https://www.uber.com/careers/list/40474/","2018-09-14T20:34:00"]
["https://www.uber.com/careers/list/40483/","2018-11-12T19:45:00"]
["https://www.uber.com/careers/list/40483-163-1230/","2018-11-12T19:45:00"]
["https://www.uber.com/careers/list/40483-179-1246/","2018-11-12T19:45:00"]
["https://www.uber.com/careers/list/40485/","2018-08-29T16:30:00"]
["https://www.uber.com/careers/list/40487/","2018-08-22T14:00:00"]
["https://www.uber.com/careers/list/40493/","2018-09-26T11:33:00"]
["https://www.uber.com/careers/list/40505/"]
["https://www.uber.com/careers/list/40508/","2019-01-16T12:05:00"]
["https://www.uber.com/careers/list/40510/","2018-11-09T11:50:00"]
["https://www.uber.com/careers/list/40514/","2018-11-19T18:40:00"]
["https://www.uber.com/careers/list/40514-163-1230/","2018-11-19T18:40:00"]
["https://www.uber.com/careers/list/40514-177-1244/","2018-11-19T18:40:00"]
["https://www.uber.com/careers/list/40514-179-1246/","2018-11-19T18:40:00"]
["https://www.uber.com/careers/list/40514-52-1115/","2018-11-19T18:40:00"]
["https://www.uber.com/careers/list/40516/","2018-10-10T08:30:00"]
["https://www.uber.com/careers/list/40518/","2018-10-22T14:46:00"]
["https://www.uber.com/careers/list/40519/","2018-10-11T09:10:00"]
["https://www.uber.com/careers/list/40523/","2018-09-28T12:00:00"]
["https://www.uber.com/careers/list/40525/","2019-02-09T08:25:00"]
["https://www.uber.com/careers/list/40536/","2018-09-17T17:50:00"]
["https://www.uber.com/careers/list/40546/","2018-08-27T15:30:00"]
["https://www.uber.com/careers/list/40546-1174-81840/","2018-08-27T15:30:00"]
["https://www.uber.com/careers/list/40547/","2018-12-18T12:45:00"]
["https://www.uber.com/careers/list/40550/","2018-09-22T15:44:00"]
["https://www.uber.com/careers/list/40552/","2018-09-14T20:34:00"]
["https://www.uber.com/careers/list/40557/","2018-08-23T17:00:00"]
["https://www.uber.com/careers/list/40557-2319-88721/","2018-08-23T17:00:00"]
["https://www.uber.com/careers/list/40561/","2018-09-25T17:00:00"]
["https://www.uber.com/careers/list/40592/","2019-01-16T12:05:00"]
["https://www.uber.com/careers/list/40601/","2018-12-14T06:45:00"]
["https://www.uber.com/careers/list/40604/","2018-09-10T15:52:00"]
["https://www.uber.com/careers/list/40605/","2018-10-08T14:30:00"]
["https://www.uber.com/careers/list/40626/","2018-11-07T17:30:00"]
["https://www.uber.com/careers/list/40629/","2018-11-06T11:00:00"]
["https://www.uber.com/careers/list/40632/","2019-01-08T07:15:00"]
["https://www.uber.com/careers/list/40633/","2018-08-18T08:00:00"]
["https://www.uber.com/careers/list/40635/","2018-08-21T09:00:00"]
["https://www.uber.com/careers/list/40636/","2018-12-05T07:00:00"]
["https://www.uber.com/careers/list/40653/","2018-09-05T19:29:00"]
["https://www.uber.com/careers/list/40655/","2018-11-13T20:52:00"]
["https://www.uber.com/careers/list/40660/","2018-10-03T12:22:00"]
["https://www.uber.com/careers/list/40663/","2018-08-16T07:30:00"]
["https://www.uber.com/careers/list/40667/","2019-02-02T07:40:00"]
["https://www.uber.com/careers/list/40668/","2018-12-15T08:50:00"]
["https://www.uber.com/careers/list/40669/","2019-01-29T06:50:00"]
["https://www.uber.com/careers/list/40670/","2018-09-19T22:00:00"]
["https://www.uber.com/careers/list/40670-71-1135/","2018-09-19T22:00:00"]
["https://www.uber.com/careers/list/40673/","2018-08-16T07:30:00"]
["https://www.uber.com/careers/list/40675/","2018-09-19T22:00:00"]
["https://www.uber.com/careers/list/40676/","2018-09-07T15:35:00"]
["https://www.uber.com/careers/list/40679/","2018-09-05T19:29:00"]
["https://www.uber.com/careers/list/40688/","2018-10-22T14:46:00"]
["https://www.uber.com/careers/list/40688-2319-88721/","2018-10-22T14:46:00"]
["https://www.uber.com/careers/list/40691/","2019-01-26T07:05:00"]
["https://www.uber.com/careers/list/40692/","2019-01-29T06:50:00"]
["https://www.uber.com/careers/list/40698/","2019-01-26T07:05:00"]
["https://www.uber.com/careers/list/40699/","2019-01-26T07:05:00"]
["https://www.uber.com/careers/list/40704/","2019-01-30T07:30:00"]
["https://www.uber.com/careers/list/40705/","2019-01-26T07:05:00"]
["https://www.uber.com/careers/list/40705-170-1237/","2019-01-26T07:05:00"]
["https://www.uber.com/careers/list/40708/","2018-08-17T07:00:00"]
["https://www.uber.com/careers/list/40709/","2018-09-06T21:33:00"]
["https://www.uber.com/careers/list/40711/","2018-10-03T12:22:00"]
["https://www.uber.com/careers/list/40721/","2018-09-06T21:33:00"]
["https://www.uber.com/careers/list/40725/","2018-11-29T16:10:00"]
["https://www.uber.com/careers/list/40725-170-1237/","2018-11-29T16:10:00"]
["https://www.uber.com/careers/list/40732/","2018-10-17T15:00:00"]
["https://www.uber.com/careers/list/40740/","2018-09-21T10:42:00"]
["https://www.uber.com/careers/list/40742/","2018-09-19T22:00:00"]
["https://www.uber.com/careers/list/40742-2319-88721/","2018-08-22T14:00:00"]
["https://www.uber.com/careers/list/40745/","2018-12-04T07:15:00"]
["https://www.uber.com/careers/list/40745-177-1244/","2018-12-04T07:15:00"]
["https://www.uber.com/careers/list/40747/","2018-12-06T07:45:00"]
["https://www.uber.com/careers/list/40751/","2018-09-19T22:00:00"]
["https://www.uber.com/careers/list/40754/","2019-01-02T13:20:00"]
["https://www.uber.com/careers/list/40766/","2019-01-16T12:05:00"]
["https://www.uber.com/careers/list/40776/","2018-08-23T17:00:00"]
["https://www.uber.com/careers/list/40782/","2018-08-22T14:00:00"]
["https://www.uber.com/careers/list/40782-1317-1115/","2018-08-22T14:00:00"]
["https://www.uber.com/careers/list/40782-163-1230/","2018-08-22T14:00:00"]
["https://www.uber.com/careers/list/40782-170-1237/","2018-08-22T14:00:00"]
["https://www.uber.com/careers/list/40782-177-1244/","2018-08-22T14:00:00"]
["https://www.uber.com/careers/list/40783/","2018-08-22T14:00:00"]
["https://www.uber.com/careers/list/40783-163-1230/","2018-08-22T14:00:00"]
["https://www.uber.com/careers/list/40783-170-1237/","2018-08-22T14:00:00"]
["https://www.uber.com/careers/list/40783-177-1244/","2018-08-22T14:00:00"]
["https://www.uber.com/careers/list/40783-52-1115/","2018-08-22T14:00:00"]
["https://www.uber.com/careers/list/40795/","2018-11-10T15:40:00"]
["https://www.uber.com/careers/list/40795-163-1230/","2018-09-21T10:42:00"]
["https://www.uber.com/careers/list/40795-170-1237/","2018-11-10T15:40:00"]
["https://www.uber.com/careers/list/40795-177-1244/","2018-09-21T10:42:00"]
["https://www.uber.com/careers/list/40795-52-1115/","2018-09-21T10:42:00"]
["https://www.uber.com/careers/list/40796/","2018-11-12T19:45:00"]
["https://www.uber.com/careers/list/40796-163-1230/","2018-08-31T21:50:00"]
["https://www.uber.com/careers/list/40796-170-1237/","2018-11-12T19:45:00"]
["https://www.uber.com/careers/list/40796-177-1244/","2018-08-31T21:50:00"]
["https://www.uber.com/careers/list/40796-52-1115/","2018-08-31T21:50:00"]
["https://www.uber.com/careers/list/40802/","2018-10-30T11:50:00"]
["https://www.uber.com/careers/list/40821/","2018-11-20T10:25:00"]
["https://www.uber.com/careers/list/40821-165-1232/","2018-11-20T10:25:00"]
["https://www.uber.com/careers/list/40828/","2019-03-07T13:45:00"]
["https://www.uber.com/careers/list/40828-611-35793/","2019-03-07T13:45:00"]
["https://www.uber.com/careers/list/40834/"]
["https://www.uber.com/careers/list/40835/","2018-09-14T20:34:00"]
["https://www.uber.com/careers/list/40840/","2018-09-21T10:42:00"]
["https://www.uber.com/careers/list/40858/","2018-11-09T11:50:00"]
["https://www.uber.com/careers/list/40871/","2019-01-25T06:50:00"]
["https://www.uber.com/careers/list/40877/","2019-01-28T06:20:00"]
["https://www.uber.com/careers/list/40895/"]
["https://www.uber.com/careers/list/40897/","2019-03-11T22:20:00"]
["https://www.uber.com/careers/list/40898/","2019-03-06T08:05:00"]
["https://www.uber.com/careers/list/40900/","2018-11-15T17:00:00"]
["https://www.uber.com/careers/list/40907/","2018-09-05T19:29:00"]
["https://www.uber.com/careers/list/40908/","2018-12-12T07:30:00"]
["https://www.uber.com/careers/list/40945/","2019-01-24T07:10:00"]
["https://www.uber.com/careers/list/40946/","2018-08-29T16:30:00"]
["https://www.uber.com/careers/list/40948/","2018-08-28T15:47:00"]
["https://www.uber.com/careers/list/40961/","2019-02-01T06:20:00"]
["https://www.uber.com/careers/list/41009/","2018-12-06T07:45:00"]
["https://www.uber.com/careers/list/41009-1947-81852/","2018-12-06T07:45:00"]
["https://www.uber.com/careers/list/41012/","2018-12-06T07:45:00"]
["https://www.uber.com/careers/list/41040/","2019-03-07T13:45:00"]
["https://www.uber.com/careers/list/41041/","2019-01-29T06:50:00"]
["https://www.uber.com/careers/list/41047/","2018-08-30T21:38:00"]
["https://www.uber.com/careers/list/41048/","2018-11-16T08:55:00"]
["https://www.uber.com/careers/list/41049/","2018-08-29T16:30:00"]
["https://www.uber.com/careers/list/41050/","2019-01-30T07:30:00"]
["https://www.uber.com/careers/list/41064/","2018-09-27T09:35:00"]
["https://www.uber.com/careers/list/41068/","2018-10-10T08:30:00"]
["https://www.uber.com/careers/list/41077/","2018-10-22T14:46:00"]
["https://www.uber.com/careers/list/41089/","2018-09-06T21:33:00"]
["https://www.uber.com/careers/list/41092/","2018-09-29T09:21:00"]
["https://www.uber.com/careers/list/41096/","2018-09-05T19:29:00"]
["https://www.uber.com/careers/list/41098/","2019-03-08T18:45:00"]
["https://www.uber.com/careers/list/41099/","2018-08-14T06:00:00"]
["https://www.uber.com/careers/list/41117/","2019-01-10T09:15:00"]
["https://www.uber.com/careers/list/41121/","2018-12-04T07:15:00"]
["https://www.uber.com/careers/list/41127/","2018-08-31T21:50:00"]
["https://www.uber.com/careers/list/41128/","2018-08-31T21:50:00"]
["https://www.uber.com/careers/list/41144/","2018-09-28T12:00:00"]
["https://www.uber.com/careers/list/41145/","2018-10-30T11:50:00"]
["https://www.uber.com/careers/list/41146/","2018-09-22T15:44:00"]
["https://www.uber.com/careers/list/41166/","2019-01-29T06:50:00"]
["https://www.uber.com/careers/list/41172/","2019-01-30T07:30:00"]
["https://www.uber.com/careers/list/41175/","2018-08-28T15:47:00"]
["https://www.uber.com/careers/list/41178/","2018-10-12T07:15:00"]
["https://www.uber.com/careers/list/41221/","2018-11-13T20:52:00"]
["https://www.uber.com/careers/list/41228/","2018-10-13T09:40:00"]
["https://www.uber.com/careers/list/41232/","2018-09-27T09:35:00"]
["https://www.uber.com/careers/list/41233/","2018-11-30T15:50:00"]
["https://www.uber.com/careers/list/41234/","2018-11-29T16:10:00"]
["https://www.uber.com/careers/list/41239/","2018-11-28T12:30:00"]
["https://www.uber.com/careers/list/41242/","2018-10-30T11:50:00"]
["https://www.uber.com/careers/list/41243/","2018-11-15T17:00:00"]
["https://www.uber.com/careers/list/41292/","2018-09-28T12:00:00"]
["https://www.uber.com/careers/list/41298/","2019-02-21T06:45:00"]
["https://www.uber.com/careers/list/41310/","2018-10-03T12:22:00"]
["https://www.uber.com/careers/list/41312/","2019-03-07T13:45:00"]
["https://www.uber.com/careers/list/41314/","2019-02-22T15:37:00"]
["https://www.uber.com/careers/list/41328/","2019-01-08T07:15:00"]
["https://www.uber.com/careers/list/41331/","2019-03-28T07:40:00"]
["https://www.uber.com/careers/list/41345/","2019-03-07T13:45:00"]
["https://www.uber.com/careers/list/41345-1036-1135/","2019-03-07T13:45:00"]
["https://www.uber.com/careers/list/41353/","2019-03-02T10:45:00"]
["https://www.uber.com/careers/list/41356/","2019-03-02T10:45:00"]
["https://www.uber.com/careers/list/41412/","2018-11-19T18:40:00"]
["https://www.uber.com/careers/list/41415/","2018-11-08T11:45:00"]
["https://www.uber.com/careers/list/41418/","2018-10-31T11:20:00"]
["https://www.uber.com/careers/list/40384/","2018-10-26T15:35:00"]
["https://www.uber.com/careers/list/41450/","2018-10-04T11:25:00"]
["https://www.uber.com/careers/list/41439/","2018-11-12T19:45:00"]
["https://www.uber.com/careers/list/41422/","2018-08-16T07:30:00"]
["https://www.uber.com/careers/list/41414/","2018-08-15T08:00:00"]
["https://www.uber.com/careers/list/41408/","2018-09-04T16:43:00"]
["https://www.uber.com/careers/list/41407/","2018-10-11T09:10:00"]
["https://www.uber.com/careers/list/41388/","2019-03-27T15:43:00"]
["https://www.uber.com/careers/list/41357/","2018-11-28T12:30:00"]
["https://www.uber.com/careers/list/40517/","2018-10-03T12:22:00"]
["https://www.uber.com/careers/list/40004/","2018-11-13T20:52:00"]
["https://www.uber.com/careers/list/30122/"]
["https://www.uber.com/careers/list/41444/","2018-10-17T15:00:00"]
["https://www.uber.com/careers/list/41487/","2019-01-04T07:40:00"]
["https://www.uber.com/careers/list/41478/","2018-09-25T17:00:00"]
["https://www.uber.com/careers/list/41451/","2019-01-05T06:20:00"]
["https://www.uber.com/careers/list/41441/","2018-10-17T15:00:00"]
["https://www.uber.com/careers/list/41355/","2018-09-24T09:36:00"]
["https://www.uber.com/careers/list/41355-165-1232/","2018-09-24T09:36:00"]
["https://www.uber.com/careers/list/40735/","2018-12-08T11:30:00"]
["https://www.uber.com/careers/list/37927/"]
["https://www.uber.com/careers/list/33685/","2018-12-08T11:30:00"]
["https://www.uber.com/careers/list/29419/","2018-11-09T11:50:00"]
["https://www.uber.com/careers/list/39543-691-58825/","2018-08-21T09:00:00"]
["https://www.uber.com/careers/list/41474/","2019-01-11T17:20:00"]
["https://www.uber.com/careers/list/41475/","2018-09-04T16:43:00"]
["https://www.uber.com/careers/list/41483/","2018-09-06T21:33:00"]
["https://www.uber.com/careers/list/41489/","2019-02-27T08:00:00"]
["https://www.uber.com/careers/list/41516/","2018-11-02T14:15:00"]
["https://www.uber.com/careers/list/41520/","2018-10-13T09:40:00"]
["https://www.uber.com/careers/list/41524/","2018-09-19T22:00:00"]
["https://www.uber.com/careers/list/41537/","2019-01-26T07:05:00"]
["https://www.uber.com/careers/list/40672/","2018-08-29T16:30:00"]
["https://www.uber.com/careers/list/41525/","2018-08-23T17:00:00"]
["https://www.uber.com/careers/list/41587/","2019-01-17T08:50:00"]
["https://www.uber.com/careers/list/41588/","2018-10-08T14:30:00"]
["https://www.uber.com/careers/list/41590/","2019-01-17T08:50:00"]
["https://www.uber.com/careers/list/41485/","2018-09-14T20:34:00"]
["https://www.uber.com/careers/list/35171/","2018-08-21T09:00:00"]
["https://www.uber.com/careers/list/39642/","2019-03-07T13:45:00"]
["https://www.uber.com/careers/list/39642-641-1232/"]
["https://www.uber.com/careers/list/39643/"]
["https://www.uber.com/careers/list/39643-165-1232/","2018-08-22T14:00:00"]
["https://www.uber.com/careers/list/41628/","2018-10-17T15:00:00"]
["https://www.uber.com/careers/list/41629/","2019-03-25T20:30:00"]
["https://www.uber.com/careers/list/41630/","2019-01-30T07:30:00"]
["https://www.uber.com/careers/list/41631/","2018-10-04T11:25:00"]
["https://www.uber.com/careers/list/41632/","2018-10-04T11:25:00"]
["https://www.uber.com/careers/list/41636/","2019-02-07T08:45:00"]
["https://www.uber.com/careers/list/41644/","2018-09-17T17:50:00"]
["https://www.uber.com/careers/list/41655/","2018-11-06T11:00:00"]
["https://www.uber.com/careers/list/41638/","2018-08-21T09:00:00"]
["https://www.uber.com/careers/list/41542/","2018-08-22T14:00:00"]
["https://www.uber.com/careers/list/41672/","2018-09-27T09:35:00"]
["https://www.uber.com/careers/list/38345-1947-81852/"]
["https://www.uber.com/careers/list/39543-170-1237/","2018-09-29T09:21:00"]
["https://www.uber.com/careers/list/41698/","2018-09-07T15:35:00"]
["https://www.uber.com/careers/list/41690/","2019-02-01T06:20:00"]
["https://www.uber.com/careers/list/41680/","2018-08-23T17:00:00"]
["https://www.uber.com/careers/list/41679/","2018-08-22T14:00:00"]
["https://www.uber.com/careers/list/41676/","2019-03-07T13:45:00"]
["https://www.uber.com/careers/list/41526/","2018-10-16T13:00:00"]
["https://www.uber.com/careers/list/38126/","2018-12-18T12:45:00"]
["https://www.uber.com/careers/list/16993-1239-81905/","2018-09-24T09:36:00"]
["https://www.uber.com/careers/list/40742-170-1237/","2018-09-19T22:00:00"]
["https://www.uber.com/careers/list/41233-26-1089/","2018-09-13T07:35:00"]
["https://www.uber.com/careers/list/41587-170-1237/","2018-10-08T14:30:00"]
["https://www.uber.com/careers/list/41588-170-1237/","2018-10-08T14:30:00"]
["https://www.uber.com/careers/list/41590-170-1237/","2018-10-08T14:30:00"]
["https://www.uber.com/careers/list/41713/","2019-01-19T20:15:00"]
["https://www.uber.com/careers/list/41716/","2018-10-05T11:55:00"]
["https://www.uber.com/careers/list/41716-179-1246/","2018-10-05T11:55:00"]
["https://www.uber.com/careers/list/41716-2558-89277/","2018-10-05T11:55:00"]
["https://www.uber.com/careers/list/39515/","2018-10-11T09:10:00"]
["https://www.uber.com/careers/list/40909/","2018-11-12T19:45:00"]
["https://www.uber.com/careers/list/40974/","2019-04-06T17:01:00"]
["https://www.uber.com/careers/list/41393/","2018-09-22T15:44:00"]
["https://www.uber.com/careers/list/41572/","2018-11-22T07:36:00"]
["https://www.uber.com/careers/list/41711/","2019-03-16T08:35:00"]
["https://www.uber.com/careers/list/41725/","2018-10-03T12:22:00"]
["https://www.uber.com/careers/list/41726/","2019-01-16T12:05:00"]
["https://www.uber.com/careers/list/41727/"]
["https://www.uber.com/careers/list/41731/","2018-11-27T15:30:00"]
["https://www.uber.com/careers/list/41734/","2018-10-03T12:22:00"]
["https://www.uber.com/careers/list/41736/","2019-04-18T09:17:00"]
["https://www.uber.com/careers/list/41738/","2019-01-10T09:15:00"]
["https://www.uber.com/careers/list/41752/","2018-11-27T15:30:00"]
["https://www.uber.com/careers/list/41747/","2018-12-04T07:15:00"]
["https://www.uber.com/careers/list/41759/","2019-01-26T07:05:00"]
["https://www.uber.com/careers/list/41693/","2019-03-19T19:35:00"]
["https://www.uber.com/careers/list/40338-163-1230/","2018-09-17T17:50:00"]
["https://www.uber.com/careers/list/40338-171-1238/","2018-09-17T17:50:00"]
["https://www.uber.com/careers/list/40338-2558-89277/","2018-09-17T17:50:00"]
["https://www.uber.com/careers/list/41693-165-1232/","2019-01-19T20:15:00"]
["https://www.uber.com/careers/list/41693-52-1115/","2019-01-19T20:15:00"]
["https://www.uber.com/careers/list/41798-163-1230/","2018-10-13T09:40:00"]
["https://www.uber.com/careers/list/41798/","2018-10-13T09:40:00"]
["https://www.uber.com/careers/list/26116/","2019-02-01T06:20:00"]
["https://www.uber.com/careers/list/37962/","2019-01-09T13:10:00"]
["https://www.uber.com/careers/list/41262/","2018-10-22T14:46:00"]
["https://www.uber.com/careers/list/41266/","2018-11-12T19:45:00"]
["https://www.uber.com/careers/list/41518/","2018-11-28T12:30:00"]
["https://www.uber.com/careers/list/41760/","2018-10-18T11:25:00"]
["https://www.uber.com/careers/list/41769/","2018-09-07T15:35:00"]
["https://www.uber.com/careers/list/41791/","2018-08-28T15:47:00"]
["https://www.uber.com/careers/list/41879/","2018-09-07T15:35:00"]
["https://www.uber.com/careers/list/41899/","2018-09-07T15:35:00"]
["https://www.uber.com/careers/list/41770/","2019-01-08T07:15:00"]
["https://www.uber.com/careers/list/41787/","2019-01-04T07:40:00"]
["https://www.uber.com/careers/list/41877/","2018-10-17T15:00:00"]
["https://www.uber.com/careers/list/40093/","2018-09-22T15:44:00"]
["https://www.uber.com/careers/list/39485/","2018-09-22T15:44:00"]
["https://www.uber.com/careers/list/41937/","2019-03-02T10:45:00"]
["https://www.uber.com/careers/list/41932/","2018-10-25T11:30:00"]
["https://www.uber.com/careers/list/41577/","2019-03-06T08:05:00"]
["https://www.uber.com/careers/list/41573/","2019-02-14T19:10:00"]
["https://www.uber.com/careers/list/37891/","2018-11-27T15:30:00"]
["https://www.uber.com/careers/list/37883/","2018-10-13T09:40:00"]
["https://www.uber.com/careers/list/41918/","2019-04-02T21:06:00"]
["https://www.uber.com/careers/list/38877-277-10335/","2018-12-14T06:45:00"]
["https://www.uber.com/careers/list/41951/","2018-11-29T16:10:00"]
["https://www.uber.com/careers/list/41951-26-1089/","2018-11-29T16:10:00"]
["https://www.uber.com/careers/list/39742/","2018-09-05T19:29:00"]
["https://www.uber.com/careers/list/41683/","2018-10-13T09:40:00"]
["https://www.uber.com/careers/list/41936/","2018-10-03T12:22:00"]
["https://www.uber.com/careers/list/41964/","2018-10-30T11:50:00"]
["https://www.uber.com/careers/list/41965/","2019-01-24T07:10:00"]
["https://www.uber.com/careers/list/41969/","2018-10-10T08:30:00"]
["https://www.uber.com/careers/list/41974/","2018-11-27T15:30:00"]
["https://www.uber.com/careers/list/41966/","2019-01-04T07:40:00"]
["https://www.uber.com/careers/list/42057/","2019-03-08T18:45:00"]
["https://www.uber.com/careers/list/42044/","2018-12-20T17:15:00"]
["https://www.uber.com/careers/list/42019/","2018-11-10T15:40:00"]
["https://www.uber.com/careers/list/42015/","2019-02-27T08:00:00"]
["https://www.uber.com/careers/list/41977/","2018-11-27T15:30:00"]
["https://www.uber.com/careers/list/41975-165-1232/","2018-10-12T07:15:00"]
["https://www.uber.com/careers/list/41975/","2018-10-12T07:15:00"]
["https://www.uber.com/careers/list/40697-165-1232/","2018-11-21T10:30:00"]
["https://www.uber.com/careers/list/40693-177-1244/","2019-01-04T07:40:00"]
["https://www.uber.com/careers/list/42004/","2018-11-07T17:30:00"]
["https://www.uber.com/careers/list/41982/","2018-10-30T11:50:00"]
["https://www.uber.com/careers/list/41981/","2018-11-17T11:35:00"]
["https://www.uber.com/careers/list/41519/","2018-09-22T15:44:00"]
["https://www.uber.com/careers/list/42118/","2019-01-24T07:10:00"]
["https://www.uber.com/careers/list/42117/","2018-10-12T07:15:00"]
["https://www.uber.com/careers/list/42116/","2019-01-29T06:50:00"]
["https://www.uber.com/careers/list/42100/","2019-02-12T10:55:00"]
["https://www.uber.com/careers/list/42077/","2018-11-07T17:30:00"]
["https://www.uber.com/careers/list/42008/","2018-11-06T11:00:00"]
["https://www.uber.com/careers/list/32763/"]
["https://www.uber.com/careers/list/42120/","2018-10-22T14:46:00"]
["https://www.uber.com/careers/list/42103/","2019-02-12T10:55:00"]
["https://www.uber.com/careers/list/42092/","2018-11-09T11:50:00"]
["https://www.uber.com/careers/list/42083/","2018-09-19T22:00:00"]
["https://www.uber.com/careers/list/42034/","2019-03-19T19:35:00"]
["https://www.uber.com/careers/list/41684/","2019-01-08T07:15:00"]
["https://www.uber.com/careers/list/38389/","2018-11-30T15:50:00"]
["https://www.uber.com/careers/list/32138/","2018-10-30T11:50:00"]
["https://www.uber.com/careers/list/42132/","2018-09-14T20:34:00"]
["https://www.uber.com/careers/list/42021/"]
["https://www.uber.com/careers/list/41931/","2019-01-11T17:20:00"]
["https://www.uber.com/careers/list/40798/","2018-10-09T11:40:00"]
["https://www.uber.com/careers/list/40798-26-1089/","2018-10-09T11:40:00"]
["https://www.uber.com/careers/list/42144/","2018-11-12T19:45:00"]
["https://www.uber.com/careers/list/42149/","2018-10-18T11:25:00"]
["https://www.uber.com/careers/list/42150/","2018-10-17T15:00:00"]
["https://www.uber.com/careers/list/42194/","2018-11-12T19:45:00"]
["https://www.uber.com/careers/list/42195/","2018-09-27T09:35:00"]
["https://www.uber.com/careers/list/42197/","2018-11-27T15:30:00"]
["https://www.uber.com/careers/list/42148/","2019-02-02T07:40:00"]
["https://www.uber.com/careers/list/42255/","2018-10-08T14:30:00"]
["https://www.uber.com/careers/list/42249/","2018-12-15T08:50:00"]
["https://www.uber.com/careers/list/42210-611-35793/","2018-11-17T11:35:00"]
["https://www.uber.com/careers/list/42210/","2018-11-17T11:35:00"]
["https://www.uber.com/careers/list/42196/","2019-03-08T18:45:00"]
["https://www.uber.com/careers/list/41512/","2019-03-12T20:22:00"]
["https://www.uber.com/careers/list/40807/","2019-02-21T06:45:00"]
["https://www.uber.com/careers/list/40725-163-1230/","2018-11-29T16:10:00"]
["https://www.uber.com/careers/list/38329/","2018-11-16T08:55:00"]
["https://www.uber.com/careers/list/37896/"]
["https://www.uber.com/careers/list/42188/","2018-11-17T11:35:00"]
["https://www.uber.com/careers/list/42232/","2018-11-07T17:30:00"]
["https://www.uber.com/careers/list/42251/","2018-10-11T09:10:00"]
["https://www.uber.com/careers/list/42316/","2019-03-07T13:45:00"]
["https://www.uber.com/careers/list/42256/"]
["https://www.uber.com/careers/list/41569/","2018-09-19T22:00:00"]
["https://www.uber.com/careers/list/41568/","2018-10-23T10:10:00"]
["https://www.uber.com/careers/list/30705/","2018-10-30T11:50:00"]
["https://www.uber.com/careers/list/42232-165-1232/","2018-11-07T17:30:00"]
["https://www.uber.com/careers/list/42232-163-1230/","2018-11-07T17:30:00"]
["https://www.uber.com/careers/list/42114-179-1246/","2018-12-22T16:30:00"]
["https://www.uber.com/careers/list/42114-177-1244/","2018-12-22T16:30:00"]
["https://www.uber.com/careers/list/42114-171-1238/","2018-12-22T16:30:00"]
["https://www.uber.com/careers/list/42114-170-1237/","2018-12-22T16:30:00"]
["https://www.uber.com/careers/list/42114-163-1230/","2018-12-22T16:30:00"]
["https://www.uber.com/careers/list/42101-2319-88721/","2018-11-08T11:45:00"]
["https://www.uber.com/careers/list/42101/","2019-01-04T07:40:00"]
["https://www.uber.com/careers/list/42346-165-1232/","2018-10-18T11:25:00"]
["https://www.uber.com/careers/list/42346-163-1230/","2018-10-18T11:25:00"]
["https://www.uber.com/careers/list/42346/","2018-10-18T11:25:00"]
["https://www.uber.com/careers/list/42338-165-1232/","2018-10-16T13:00:00"]
["https://www.uber.com/careers/list/42338-163-1230/","2018-10-16T13:00:00"]
["https://www.uber.com/careers/list/42338/","2018-10-16T13:00:00"]
["https://www.uber.com/careers/list/42319/","2018-10-02T10:15:00"]
["https://www.uber.com/careers/list/42317/","2019-02-12T10:55:00"]
["https://www.uber.com/careers/list/42141/","2019-02-28T08:45:00"]
["https://www.uber.com/careers/list/42041/","2018-12-07T06:45:00"]
["https://www.uber.com/careers/list/37565-1339-1244/","2018-09-19T22:00:00"]
["https://www.uber.com/careers/list/42353/","2018-10-11T09:10:00"]
["https://www.uber.com/careers/list/42368/","2018-11-30T15:50:00"]
["https://www.uber.com/careers/list/42366/","2018-11-13T20:52:00"]
["https://www.uber.com/careers/list/42208/","2019-01-18T09:05:00"]
["https://www.uber.com/careers/list/42207/","2018-11-01T11:55:00"]
["https://www.uber.com/careers/list/42230/","2018-10-16T13:00:00"]
["https://www.uber.com/careers/list/42261/","2018-11-03T19:35:00"]
["https://www.uber.com/careers/list/42411/","2018-10-30T11:50:00"]
["https://www.uber.com/careers/list/42383/","2018-09-27T09:35:00"]
["https://www.uber.com/careers/list/42381/","2018-11-17T11:35:00"]
["https://www.uber.com/careers/list/42356/","2019-01-02T13:20:00"]
["https://www.uber.com/careers/list/42322/","2019-01-10T09:15:00"]
["https://www.uber.com/careers/list/42409/","2019-02-14T19:10:00"]
["https://www.uber.com/careers/list/38172-177-1244/","2018-10-06T14:00:00"]
["https://www.uber.com/careers/list/38172-170-1237/","2018-10-13T09:40:00"]
["https://www.uber.com/careers/list/38172/","2018-10-13T09:40:00"]
["https://www.uber.com/careers/list/42469/","2018-09-13T07:35:00"]
["https://www.uber.com/careers/list/38522/","2018-09-14T20:34:00"]
["https://www.uber.com/careers/list/42474/","2018-11-06T11:00:00"]
["https://www.uber.com/careers/list/42486/","2018-11-10T15:40:00"]
["https://www.uber.com/careers/list/42476/","2019-01-31T07:06:00"]
["https://www.uber.com/careers/list/42425/","2018-10-09T11:40:00"]
["https://www.uber.com/careers/list/42524-164-1231/","2018-10-12T07:15:00"]
["https://www.uber.com/careers/list/42524/","2018-10-12T07:15:00"]
["https://www.uber.com/careers/list/42521/","2018-10-25T11:30:00"]
["https://www.uber.com/careers/list/42248/","2019-01-07T05:50:00"]
["https://www.uber.com/careers/list/41233-2319-88721/","2018-11-30T15:50:00"]
["https://www.uber.com/careers/list/40707-170-1237/","2018-11-29T16:10:00"]
["https://www.uber.com/careers/list/40707/","2018-11-29T16:10:00"]
["https://www.uber.com/careers/list/39201/","2018-10-27T09:55:00"]
["https://www.uber.com/careers/list/22761/"]
["https://www.uber.com/careers/list/42520/","2018-09-14T20:34:00"]
["https://www.uber.com/careers/list/25978/","2019-02-14T19:10:00"]
["https://www.uber.com/careers/list/36509-177-1244/","2018-11-14T12:00:00"]
["https://www.uber.com/careers/list/39925/","2019-01-08T07:15:00"]
["https://www.uber.com/careers/list/40117-165-1232/","2018-12-12T07:30:00"]
["https://www.uber.com/careers/list/40520/","2019-01-15T09:20:00"]
["https://www.uber.com/careers/list/40520-725-61278/","2019-01-15T09:20:00"]
["https://www.uber.com/careers/list/42195-463-10335/","2018-09-27T09:35:00"]
["https://www.uber.com/careers/list/42530/","2018-10-31T11:20:00"]
["https://www.uber.com/careers/list/42547/","2018-12-04T07:15:00"]
["https://www.uber.com/careers/list/42556/","2019-01-10T09:15:00"]
["https://www.uber.com/careers/list/42575/","2018-10-03T12:22:00"]
["https://www.uber.com/careers/list/42577/","2018-11-07T17:30:00"]
["https://www.uber.com/careers/list/42595/","2018-10-24T11:10:00"]
["https://www.uber.com/careers/list/42599/","2019-02-05T11:16:00"]
["https://www.uber.com/careers/list/42602/"]
["https://www.uber.com/careers/list/42603/","2018-10-19T08:50:00"]
["https://www.uber.com/careers/list/42607/","2018-10-02T10:15:00"]
["https://www.uber.com/careers/list/42611/","2019-01-25T06:50:00"]
["https://www.uber.com/careers/list/34797/","2018-10-17T15:00:00"]
["https://www.uber.com/careers/list/42636/","2018-10-12T07:15:00"]
["https://www.uber.com/careers/list/42637/","2018-12-12T07:30:00"]
["https://www.uber.com/careers/list/42440/","2018-10-22T14:46:00"]
["https://www.uber.com/careers/list/42678/","2018-10-08T14:30:00"]
["https://www.uber.com/careers/list/42650/","2019-01-08T07:15:00"]
["https://www.uber.com/careers/list/42648/","2018-11-06T11:00:00"]
["https://www.uber.com/careers/list/42614/","2018-10-17T15:00:00"]
["https://www.uber.com/careers/list/42051/","2018-10-31T11:20:00"]
["https://www.uber.com/careers/list/40203/","2019-01-17T08:50:00"]
["https://www.uber.com/careers/list/42677/","2018-11-21T10:30:00"]
["https://www.uber.com/careers/list/42676/","2018-10-31T11:20:00"]
["https://www.uber.com/careers/list/42700/","2019-01-09T13:10:00"]
["https://www.uber.com/careers/list/42694/","2018-10-10T08:30:00"]
["https://www.uber.com/careers/list/42573/","2018-10-30T11:50:00"]
["https://www.uber.com/careers/list/42318/","2019-02-13T19:10:00"]
["https://www.uber.com/careers/list/39508/"]
["https://www.uber.com/careers/list/42690-2319-88721/","2018-12-07T06:45:00"]
["https://www.uber.com/careers/list/42690/","2018-12-07T06:45:00"]
["https://www.uber.com/careers/list/39360-177-1244/","2018-10-20T08:05:00"]
["https://www.uber.com/careers/list/39360/","2019-01-19T20:15:00"]
["https://www.uber.com/careers/list/38932-164-1231/","2018-11-13T20:52:00"]
["https://www.uber.com/careers/list/38932/","2019-02-21T06:45:00"]
["https://www.uber.com/careers/list/42610/","2018-12-11T08:50:00"]
["https://www.uber.com/careers/list/42722/","2019-02-28T08:45:00"]
["https://www.uber.com/careers/list/42809/","2018-11-06T11:00:00"]
["https://www.uber.com/careers/list/42808/","2018-10-11T09:10:00"]
["https://www.uber.com/careers/list/42807/","2019-01-24T07:10:00"]
["https://www.uber.com/careers/list/42785/","2019-01-08T07:15:00"]
["https://www.uber.com/careers/list/42752/","2019-03-21T13:50:00"]
["https://www.uber.com/careers/list/42737/","2019-01-16T12:05:00"]
["https://www.uber.com/careers/list/42681/","2018-10-10T08:30:00"]
["https://www.uber.com/careers/list/42669/","2018-09-22T15:44:00"]
["https://www.uber.com/careers/list/42458/"]
["https://www.uber.com/careers/list/40666/","2019-02-15T13:15:00"]
["https://www.uber.com/careers/list/35042/","2019-02-21T06:45:00"]
["https://www.uber.com/careers/list/40806/","2019-02-14T19:10:00"]
["https://www.uber.com/careers/list/42803/","2018-10-27T09:55:00"]
["https://www.uber.com/careers/list/42801/","2018-11-09T11:50:00"]
["https://www.uber.com/careers/list/42788/","2018-11-27T15:30:00"]
["https://www.uber.com/careers/list/42771/","2018-11-06T11:00:00"]
["https://www.uber.com/careers/list/42751/","2018-12-11T08:50:00"]
["https://www.uber.com/careers/list/42736/","2018-10-31T11:20:00"]
["https://www.uber.com/careers/list/42732/","2019-03-18T15:17:00"]
["https://www.uber.com/careers/list/42193/","2019-02-21T06:45:00"]
["https://www.uber.com/careers/list/40006/","2018-10-06T14:00:00"]
["https://www.uber.com/careers/list/30969/","2018-10-22T14:46:00"]
["https://www.uber.com/careers/list/40821-170-1237/","2018-11-20T10:25:00"]
["https://www.uber.com/careers/list/40422-177-1244/","2018-10-11T09:10:00"]
["https://www.uber.com/careers/list/40422/","2018-10-11T09:10:00"]
["https://www.uber.com/careers/list/35093-71-1135/","2019-03-07T13:45:00"]
["https://www.uber.com/careers/list/35093/","2019-03-07T13:45:00"]
["https://www.uber.com/careers/list/39551-170-1237/","2018-11-19T18:40:00"]
["https://www.uber.com/careers/list/42831-179-1246/","2018-11-01T11:55:00"]
["https://www.uber.com/careers/list/42831-177-1244/","2018-11-01T11:55:00"]
["https://www.uber.com/careers/list/42831-163-1230/","2018-11-01T11:55:00"]
["https://www.uber.com/careers/list/42831/","2018-11-01T11:55:00"]
["https://www.uber.com/careers/list/42828/","2019-03-09T09:10:00"]
["https://www.uber.com/careers/list/42827/","2019-03-09T09:10:00"]
["https://www.uber.com/careers/list/42665/","2019-03-22T15:05:00"]
["https://www.uber.com/careers/list/42864-179-1246/","2018-11-09T11:50:00"]
["https://www.uber.com/careers/list/42864-165-1232/","2018-11-22T07:36:00"]
["https://www.uber.com/careers/list/42864-163-1230/","2018-11-22T07:36:00"]
["https://www.uber.com/careers/list/42864/","2018-11-22T07:36:00"]
["https://www.uber.com/careers/list/42857/","2019-03-07T13:45:00"]
["https://www.uber.com/careers/list/42847/","2018-09-30T12:45:00"]
["https://www.uber.com/careers/list/42844/","2018-11-19T18:40:00"]
["https://www.uber.com/careers/list/42840/","2019-01-16T12:05:00"]
["https://www.uber.com/careers/list/42839/","2018-10-26T15:35:00"]
["https://www.uber.com/careers/list/42838/","2018-11-07T17:30:00"]
["https://www.uber.com/careers/list/42869-633-39494/","2018-09-25T17:00:00"]
["https://www.uber.com/careers/list/42869-26-1089/","2018-10-02T10:15:00"]
["https://www.uber.com/careers/list/42869/","2018-11-09T11:50:00"]
["https://www.uber.com/careers/list/42835-1079-1088/","2019-01-10T09:15:00"]
["https://www.uber.com/careers/list/42835/","2019-01-10T09:15:00"]
["https://www.uber.com/careers/list/42872/","2018-10-26T15:35:00"]
["https://www.uber.com/careers/list/39023/","2018-09-24T09:36:00"]
["https://www.uber.com/careers/list/42836-165-1232/","2019-01-24T07:10:00"]
["https://www.uber.com/careers/list/42836/","2019-01-24T07:10:00"]
["https://www.uber.com/careers/list/42955/","2018-11-16T08:55:00"]
["https://www.uber.com/careers/list/42953/","2018-12-19T18:20:00"]
["https://www.uber.com/careers/list/42927/","2019-02-05T11:16:00"]
["https://www.uber.com/careers/list/42916/"]
["https://www.uber.com/careers/list/42910-2073-88466/","2018-11-01T11:55:00"]
["https://www.uber.com/careers/list/42910/","2018-11-01T11:55:00"]
["https://www.uber.com/careers/list/42870-633-39494/","2018-11-15T17:00:00"]
["https://www.uber.com/careers/list/42870/","2018-11-15T17:00:00"]
["https://www.uber.com/careers/list/41902/","2018-10-26T15:35:00"]
["https://www.uber.com/careers/list/41729/"]
["https://www.uber.com/careers/list/41245/","2018-12-27T19:55:00"]
["https://www.uber.com/careers/list/40896/","2019-04-12T19:40:00"]
["https://www.uber.com/careers/list/42945/"]
["https://www.uber.com/careers/list/39066/"]
["https://www.uber.com/careers/list/42951/","2019-01-16T12:05:00"]
["https://www.uber.com/careers/list/42911/","2018-11-09T11:50:00"]
["https://www.uber.com/careers/list/42909/"]
["https://www.uber.com/careers/list/42983/","2018-11-12T19:45:00"]
["https://www.uber.com/careers/list/42964/","2018-11-14T12:00:00"]
["https://www.uber.com/careers/list/42896/","2018-12-07T06:45:00"]
["https://www.uber.com/careers/list/33947/","2019-01-30T07:30:00"]
["https://www.uber.com/careers/list/42773/","2018-11-12T19:45:00"]
["https://www.uber.com/careers/list/39139/","2018-10-22T14:46:00"]
["https://www.uber.com/careers/list/40346/","2019-03-13T10:12:00"]
["https://www.uber.com/careers/list/42987/","2019-01-29T06:50:00"]
["https://www.uber.com/careers/list/42989/","2018-10-19T08:50:00"]
["https://www.uber.com/careers/list/42994/","2018-11-02T14:15:00"]
["https://www.uber.com/careers/list/43023/","2018-11-28T12:30:00"]
["https://www.uber.com/careers/list/43022-165-1232/","2018-11-12T19:45:00"]
["https://www.uber.com/careers/list/43022/","2018-11-12T19:45:00"]
["https://www.uber.com/careers/list/43005/","2018-11-03T19:35:00"]
["https://www.uber.com/careers/list/42997/","2019-01-05T06:20:00"]
["https://www.uber.com/careers/list/42993/","2018-11-06T11:00:00"]
["https://www.uber.com/careers/list/42992/","2018-10-25T11:30:00"]
["https://www.uber.com/careers/list/42990/","2018-10-25T11:30:00"]
["https://www.uber.com/careers/list/42978/","2019-03-07T13:45:00"]
["https://www.uber.com/careers/list/42957/","2018-12-01T11:35:00"]
["https://www.uber.com/careers/list/42901/","2019-02-12T10:55:00"]
["https://www.uber.com/careers/list/42899/","2018-11-07T17:30:00"]
["https://www.uber.com/careers/list/43037/","2018-12-13T07:20:00"]
["https://www.uber.com/careers/list/36560/","2018-11-21T10:30:00"]
["https://www.uber.com/careers/list/43041-170-1237/","2018-11-15T17:00:00"]
["https://www.uber.com/careers/list/43041/","2018-11-15T17:00:00"]
["https://www.uber.com/careers/list/43035/","2018-10-11T09:10:00"]
["https://www.uber.com/careers/list/43013/","2019-01-15T09:20:00"]
["https://www.uber.com/careers/list/43002/","2019-02-14T19:10:00"]
["https://www.uber.com/careers/list/37542/"]
["https://www.uber.com/careers/list/39036/","2018-11-14T12:00:00"]
["https://www.uber.com/careers/list/42918/","2018-11-17T11:35:00"]
["https://www.uber.com/careers/list/31825/","2019-02-01T06:20:00"]
["https://www.uber.com/careers/list/43076/","2019-01-11T17:20:00"]
["https://www.uber.com/careers/list/43069/","2018-12-05T07:00:00"]
["https://www.uber.com/careers/list/43066-1079-1088/","2018-10-06T14:00:00"]
["https://www.uber.com/careers/list/43066/","2018-10-06T14:00:00"]
["https://www.uber.com/careers/list/42817/","2018-10-27T09:55:00"]
["https://www.uber.com/careers/list/42816/","2018-10-27T09:55:00"]
["https://www.uber.com/careers/list/40664/","2019-02-02T07:40:00"]
["https://www.uber.com/careers/list/37213/","2018-12-27T19:55:00"]
["https://www.uber.com/careers/list/43068/","2019-01-05T06:20:00"]
["https://www.uber.com/careers/list/43080-71-1135/","2019-02-06T08:05:00"]
["https://www.uber.com/careers/list/43080/","2019-02-06T08:05:00"]
["https://www.uber.com/careers/list/43068-1079-1088/","2019-01-05T06:20:00"]
["https://www.uber.com/careers/list/38351-1174-81840/","2019-02-14T19:10:00"]
["https://www.uber.com/careers/list/36733-1174-81840/","2019-02-14T19:10:00"]
["https://www.uber.com/careers/list/43082/","2019-02-06T08:05:00"]
["https://www.uber.com/careers/list/43081/","2019-02-05T11:16:00"]
["https://www.uber.com/careers/list/43072/","2018-10-25T11:30:00"]
["https://www.uber.com/careers/list/43151/","2019-01-31T07:06:00"]
["https://www.uber.com/careers/list/43140/","2019-01-02T13:20:00"]
["https://www.uber.com/careers/list/43139/","2018-12-18T12:45:00"]
["https://www.uber.com/careers/list/42893/","2018-12-27T19:55:00"]
["https://www.uber.com/careers/list/42750/","2018-10-17T15:00:00"]
["https://www.uber.com/careers/list/39640/","2019-01-11T17:20:00"]
["https://www.uber.com/careers/list/43156/","2018-10-30T11:50:00"]
["https://www.uber.com/careers/list/43155/","2019-02-06T08:05:00"]
["https://www.uber.com/careers/list/43073/","2019-01-11T17:20:00"]
["https://www.uber.com/careers/list/43033/","2018-12-07T06:45:00"]
["https://www.uber.com/careers/list/42868/","2018-11-02T14:15:00"]
["https://www.uber.com/careers/list/35745/","2019-03-05T08:00:00"]
["https://www.uber.com/careers/list/14455/","2019-03-07T13:45:00"]
["https://www.uber.com/careers/list/42903-1266-81932/","2018-11-30T15:50:00"]
["https://www.uber.com/careers/list/43029/","2018-12-14T06:45:00"]
["https://www.uber.com/careers/list/40630/","2018-11-29T16:10:00"]
["https://www.uber.com/careers/list/34929/","2019-03-06T08:05:00"]
["https://www.uber.com/careers/list/43256/","2019-01-31T07:06:00"]
["https://www.uber.com/careers/list/43251/","2018-12-11T08:50:00"]
["https://www.uber.com/careers/list/43213/","2018-12-04T07:15:00"]
["https://www.uber.com/careers/list/43204/","2019-01-10T09:15:00"]
["https://www.uber.com/careers/list/43188/","2018-12-07T06:45:00"]
["https://www.uber.com/careers/list/42782/"]
["https://www.uber.com/careers/list/42082/","2019-03-12T20:22:00"]
["https://www.uber.com/careers/list/42081/","2019-03-12T20:22:00"]
["https://www.uber.com/careers/list/14746/"]
["https://www.uber.com/careers/list/40117-2579-1244/","2018-10-25T11:30:00"]
["https://www.uber.com/careers/list/40117-1331-1232/","2018-10-25T11:30:00"]
["https://www.uber.com/careers/list/43217/","2019-01-04T07:40:00"]
["https://www.uber.com/careers/list/43212/","2019-02-02T07:40:00"]
["https://www.uber.com/careers/list/43209/","2018-12-03T09:10:00"]
["https://www.uber.com/careers/list/43287/","2018-11-07T17:30:00"]
["https://www.uber.com/careers/list/43225/","2018-12-04T07:15:00"]
["https://www.uber.com/careers/list/43267/","2019-03-25T20:30:00"]
["https://www.uber.com/careers/list/43266/","2018-11-15T17:00:00"]
["https://www.uber.com/careers/list/43261/","2018-12-05T07:00:00"]
["https://www.uber.com/careers/list/31711/"]
["https://www.uber.com/careers/list/41392/"]
["https://www.uber.com/careers/list/42381-175-1242/","2018-11-17T11:35:00"]
["https://www.uber.com/careers/list/35725-1947-81852/"]
["https://www.uber.com/careers/list/43227/","2018-10-06T14:00:00"]
["https://www.uber.com/careers/list/43226/","2019-02-01T06:20:00"]
["https://www.uber.com/careers/list/43208/","2019-02-12T10:55:00"]
["https://www.uber.com/careers/list/43207/","2018-12-07T06:45:00"]
["https://www.uber.com/careers/list/43296/","2018-12-19T18:20:00"]
["https://www.uber.com/careers/list/43332/","2019-01-08T07:15:00"]
["https://www.uber.com/careers/list/43312/","2018-12-20T17:15:00"]
["https://www.uber.com/careers/list/31309/","2018-12-01T11:35:00"]
["https://www.uber.com/careers/list/43308/","2019-01-04T07:40:00"]
["https://www.uber.com/careers/list/41713-179-1246/","2019-01-19T20:15:00"]
["https://www.uber.com/careers/list/41713-177-1244/","2019-01-19T20:15:00"]
["https://www.uber.com/careers/list/43197/","2018-11-27T15:30:00"]
["https://www.uber.com/careers/list/43153/","2018-11-27T15:30:00"]
["https://www.uber.com/careers/list/43152/","2018-11-27T15:30:00"]
["https://www.uber.com/careers/list/43337/","2019-01-16T12:05:00"]
["https://www.uber.com/careers/list/43333/","2018-11-10T15:40:00"]
["https://www.uber.com/careers/list/43366/","2018-10-10T08:30:00"]
["https://www.uber.com/careers/list/43344/","2019-03-26T16:20:00"]
["https://www.uber.com/careers/list/43343/","2019-03-07T13:45:00"]
["https://www.uber.com/careers/list/43338/","2018-11-07T17:30:00"]
["https://www.uber.com/careers/list/43154/","2018-11-15T17:00:00"]
["https://www.uber.com/careers/list/41397/","2019-01-09T13:10:00"]
["https://www.uber.com/careers/list/43398/","2019-01-01T09:45:00"]
["https://www.uber.com/careers/list/43429/","2019-01-30T07:30:00"]
["https://www.uber.com/careers/list/43395/","2019-01-16T12:05:00"]
["https://www.uber.com/careers/list/43376/","2018-11-10T15:40:00"]
["https://www.uber.com/careers/list/43375/","2018-10-19T08:50:00"]
["https://www.uber.com/careers/list/43331/","2018-11-09T11:50:00"]
["https://www.uber.com/careers/list/41135-177-1244/","2018-10-16T13:00:00"]
["https://www.uber.com/careers/list/43442/","2018-10-20T08:05:00"]
["https://www.uber.com/careers/list/43435/","2018-12-05T07:00:00"]
["https://www.uber.com/careers/list/43431/","2019-03-11T22:20:00"]
["https://www.uber.com/careers/list/43379/","2019-02-13T19:10:00"]
["https://www.uber.com/careers/list/43378/","2019-02-21T06:45:00"]
["https://www.uber.com/careers/list/43377/","2019-01-11T17:20:00"]
["https://www.uber.com/careers/list/43392/","2019-01-09T13:10:00"]
["https://www.uber.com/careers/list/43471/","2018-11-07T17:30:00"]
["https://www.uber.com/careers/list/43469/","2018-11-06T11:00:00"]
["https://www.uber.com/careers/list/43454/","2018-10-24T11:10:00"]
["https://www.uber.com/careers/list/43400/","2018-11-06T11:00:00"]
["https://www.uber.com/careers/list/43397/","2018-11-06T11:00:00"]
["https://www.uber.com/careers/list/43368/","2019-03-07T13:45:00"]
["https://www.uber.com/careers/list/43492/","2019-03-11T22:20:00"]
["https://www.uber.com/careers/list/43484/","2018-12-04T07:15:00"]
["https://www.uber.com/careers/list/43367/","2018-10-24T11:10:00"]
["https://www.uber.com/careers/list/43345/","2019-02-09T08:25:00"]
["https://www.uber.com/careers/list/43228/","2018-10-30T11:50:00"]
["https://www.uber.com/careers/list/42409-1174-81840/","2018-10-14T12:35:00"]
["https://www.uber.com/careers/list/43467/","2018-11-10T15:40:00"]
["https://www.uber.com/careers/list/43524/","2019-04-19T20:05:00"]
["https://www.uber.com/careers/list/43523/","2018-11-27T15:30:00"]
["https://www.uber.com/careers/list/43518/","2018-11-13T20:52:00"]
["https://www.uber.com/careers/list/43472/","2018-12-22T16:30:00"]
["https://www.uber.com/careers/list/43450/","2019-02-12T10:55:00"]
["https://www.uber.com/careers/list/43487/","2018-12-20T17:15:00"]
["https://www.uber.com/careers/list/43136/","2018-11-08T11:45:00"]
["https://www.uber.com/careers/list/39031/","2019-03-22T15:05:00"]
["https://www.uber.com/careers/list/42310-1230-81896/","2018-10-27T09:55:00"]
["https://www.uber.com/careers/list/41683-1079-1088/","2018-10-13T09:40:00"]
["https://www.uber.com/careers/list/43544/","2019-03-25T20:30:00"]
["https://www.uber.com/careers/list/43563/","2018-10-25T11:30:00"]
["https://www.uber.com/careers/list/43557/","2019-01-05T06:20:00"]
["https://www.uber.com/careers/list/43556/","2019-02-14T19:10:00"]
["https://www.uber.com/careers/list/41792/","2019-02-07T08:45:00"]
["https://www.uber.com/careers/list/27978/","2019-01-18T09:05:00"]
["https://www.uber.com/careers/list/43530-52-1115/","2018-12-14T06:45:00"]
["https://www.uber.com/careers/list/43530/","2018-12-14T06:45:00"]
["https://www.uber.com/careers/list/43528-52-1115/","2019-03-25T20:30:00"]
["https://www.uber.com/careers/list/43528/","2019-03-25T20:30:00"]
["https://www.uber.com/careers/list/43527-52-1115/","2018-10-31T11:20:00"]
["https://www.uber.com/careers/list/43527/","2018-10-31T11:20:00"]
["https://www.uber.com/careers/list/42671/","2018-11-01T11:55:00"]
["https://www.uber.com/careers/list/43636/","2019-01-17T08:50:00"]
["https://www.uber.com/careers/list/43618/","2018-11-17T11:35:00"]
["https://www.uber.com/careers/list/43639/","2018-11-17T11:35:00"]
["https://www.uber.com/careers/list/43637/","2018-11-17T11:35:00"]
["https://www.uber.com/careers/list/43615/","2019-02-14T19:10:00"]
["https://www.uber.com/careers/list/43613/","2019-02-05T11:16:00"]
["https://www.uber.com/careers/list/43610/","2019-02-10T10:45:00"]
["https://www.uber.com/careers/list/43603/","2019-01-31T07:06:00"]
["https://www.uber.com/careers/list/43601/","2018-10-17T15:00:00"]
["https://www.uber.com/careers/list/43597/","2019-04-16T20:55:00"]
["https://www.uber.com/careers/list/43595/","2018-12-06T07:45:00"]
["https://www.uber.com/careers/list/43589/","2018-12-14T06:45:00"]
["https://www.uber.com/careers/list/43582/","2018-10-30T11:50:00"]
["https://www.uber.com/careers/list/43564/","2019-01-21T14:00:00"]
["https://www.uber.com/careers/list/43562/","2019-01-04T07:40:00"]
["https://www.uber.com/careers/list/43546/","2019-03-25T20:30:00"]
["https://www.uber.com/careers/list/43488/","2019-03-04T07:10:00"]
["https://www.uber.com/careers/list/43456/","2019-02-06T08:05:00"]
["https://www.uber.com/careers/list/43592-179-1246/","2019-01-29T06:50:00"]
["https://www.uber.com/careers/list/43592-177-1244/","2019-01-29T06:50:00"]
["https://www.uber.com/careers/list/43592-163-1230/","2019-01-29T06:50:00"]
["https://www.uber.com/careers/list/43592/","2019-01-29T06:50:00"]
["https://www.uber.com/careers/list/42671-170-1237/","2018-11-01T11:55:00"]
["https://www.uber.com/careers/list/43561/"]
["https://www.uber.com/careers/list/43656/","2019-01-24T07:10:00"]
["https://www.uber.com/careers/list/43689/"]
["https://www.uber.com/careers/list/43686/","2018-11-19T18:40:00"]
["https://www.uber.com/careers/list/43657/","2019-03-13T10:12:00"]
["https://www.uber.com/careers/list/43655/","2018-10-22T14:46:00"]
["https://www.uber.com/careers/list/43649/","2019-02-21T06:45:00"]
["https://www.uber.com/careers/list/43436/","2019-01-30T07:30:00"]
["https://www.uber.com/careers/list/42515/","2019-01-17T08:50:00"]
["https://www.uber.com/careers/list/31222/"]
["https://www.uber.com/careers/list/29979/","2019-01-26T07:05:00"]
["https://www.uber.com/careers/list/43698-1174-81840/","2019-01-16T12:05:00"]
["https://www.uber.com/careers/list/43698/","2019-01-16T12:05:00"]
["https://www.uber.com/careers/list/43525/","2018-10-22T14:46:00"]
["https://www.uber.com/careers/list/43640/","2019-01-31T07:06:00"]
["https://www.uber.com/careers/list/41445/","2019-02-28T08:45:00"]
["https://www.uber.com/careers/list/43747/","2018-10-25T11:30:00"]
["https://www.uber.com/careers/list/43738/","2019-03-07T13:45:00"]
["https://www.uber.com/careers/list/43737/","2018-11-29T16:10:00"]
["https://www.uber.com/careers/list/43718-163-1230/","2019-01-10T09:15:00"]
["https://www.uber.com/careers/list/43718/","2019-01-10T09:15:00"]
["https://www.uber.com/careers/list/43712-1266-81932/","2018-10-30T11:50:00"]
["https://www.uber.com/careers/list/43712/","2018-10-30T11:50:00"]
["https://www.uber.com/careers/list/43710/","2019-04-26T11:55:00"]
["https://www.uber.com/careers/list/43708/","2019-03-08T18:45:00"]
["https://www.uber.com/careers/list/43707/","2018-12-07T06:45:00"]
["https://www.uber.com/careers/list/43706/","2018-11-10T15:40:00"]
["https://www.uber.com/careers/list/43704/","2019-03-23T11:30:00"]
["https://www.uber.com/careers/list/43701/","2018-11-15T17:00:00"]
["https://www.uber.com/careers/list/43678/","2019-01-11T17:20:00"]
["https://www.uber.com/careers/list/43591/","2019-01-18T09:05:00"]
["https://www.uber.com/careers/list/43422/","2019-01-31T07:06:00"]
["https://www.uber.com/careers/list/42805/"]
["https://www.uber.com/careers/list/33169/","2018-12-06T07:45:00"]
["https://www.uber.com/careers/list/43774/","2019-01-17T08:50:00"]
["https://www.uber.com/careers/list/43771/","2018-11-15T17:00:00"]
["https://www.uber.com/careers/list/43764/","2018-10-25T11:30:00"]
["https://www.uber.com/careers/list/43699/","2019-01-03T08:06:00"]
["https://www.uber.com/careers/list/43796/","2019-02-02T07:40:00"]
["https://www.uber.com/careers/list/43844/","2019-03-15T10:40:00"]
["https://www.uber.com/careers/list/43834/","2019-02-06T08:05:00"]
["https://www.uber.com/careers/list/43801/","2018-10-25T11:30:00"]
["https://www.uber.com/careers/list/43799/","2019-01-09T13:10:00"]
["https://www.uber.com/careers/list/43746-170-1237/","2019-01-04T07:40:00"]
["https://www.uber.com/careers/list/43746/","2019-01-04T07:40:00"]
["https://www.uber.com/careers/list/43650/","2018-12-12T07:30:00"]
["https://www.uber.com/careers/list/43858/","2018-11-09T11:50:00"]
["https://www.uber.com/careers/list/43856/","2018-11-29T16:10:00"]
["https://www.uber.com/careers/list/43853/","2019-02-07T08:45:00"]
["https://www.uber.com/careers/list/43850/","2019-01-16T12:05:00"]
["https://www.uber.com/careers/list/43846/","2019-03-07T13:45:00"]
["https://www.uber.com/careers/list/43840/"]
["https://www.uber.com/careers/list/43765/","2018-12-25T07:55:00"]
["https://www.uber.com/careers/list/43938/","2018-11-28T12:30:00"]
["https://www.uber.com/careers/list/43930/","2019-01-30T07:30:00"]
["https://www.uber.com/careers/list/43923/","2019-02-06T08:05:00"]
["https://www.uber.com/careers/list/43922/","2019-03-02T10:45:00"]
["https://www.uber.com/careers/list/43916/","2018-11-12T19:45:00"]
["https://www.uber.com/careers/list/43905/","2019-01-16T12:05:00"]
["https://www.uber.com/careers/list/43795/","2019-02-27T08:00:00"]
["https://www.uber.com/careers/list/43740/","2018-11-16T08:55:00"]
["https://www.uber.com/careers/list/40693-170-1237/","2019-01-25T06:50:00"]
["https://www.uber.com/careers/list/37098-725-61278/","2019-02-28T08:45:00"]
["https://www.uber.com/careers/list/42241/","2018-10-25T11:30:00"]
["https://www.uber.com/careers/list/43948/","2019-02-27T08:00:00"]
["https://www.uber.com/careers/list/43944/","2019-03-18T15:17:00"]
["https://www.uber.com/careers/list/43942/","2019-02-27T08:00:00"]
["https://www.uber.com/careers/list/43933/","2019-01-10T09:15:00"]
["https://www.uber.com/careers/list/43681/","2018-12-14T06:45:00"]
["https://www.uber.com/careers/list/42996/","2019-03-19T19:35:00"]
["https://www.uber.com/careers/list/43684-179-1246/","2019-01-09T13:10:00"]
["https://www.uber.com/careers/list/43684-177-1244/","2019-01-09T13:10:00"]
["https://www.uber.com/careers/list/43684-163-1230/","2019-01-09T13:10:00"]
["https://www.uber.com/careers/list/43684/","2019-01-09T13:10:00"]
["https://www.uber.com/careers/list/43683-179-1246/","2019-01-08T07:15:00"]
["https://www.uber.com/careers/list/43683-163-1230/","2019-01-08T07:15:00"]
["https://www.uber.com/careers/list/43683/","2019-01-08T07:15:00"]
["https://www.uber.com/careers/list/43959-170-1237/","2019-01-30T07:30:00"]
["https://www.uber.com/careers/list/43959/","2019-01-30T07:30:00"]
["https://www.uber.com/careers/list/43957-170-1237/"]
["https://www.uber.com/careers/list/43957/"]
["https://www.uber.com/careers/list/43956-170-1237/"]
["https://www.uber.com/careers/list/43956/"]
["https://www.uber.com/careers/list/43955-170-1237/","2019-04-16T20:55:00"]
["https://www.uber.com/careers/list/43955/"]
["https://www.uber.com/careers/list/43954-170-1237/"]
["https://www.uber.com/careers/list/43954/"]
["https://www.uber.com/careers/list/43952-170-1237/"]
["https://www.uber.com/careers/list/43952/"]
["https://www.uber.com/careers/list/43951-170-1237/"]
["https://www.uber.com/careers/list/43951/"]
["https://www.uber.com/careers/list/40117-52-1115/","2018-12-12T07:30:00"]
["https://www.uber.com/careers/list/40117-177-1244/","2018-12-12T07:30:00"]
["https://www.uber.com/careers/list/43831/","2018-12-19T18:20:00"]
["https://www.uber.com/careers/list/39308/","2019-03-07T13:45:00"]
["https://www.uber.com/careers/list/43988/","2018-12-12T07:30:00"]
["https://www.uber.com/careers/list/43958/","2019-04-09T21:45:00"]
["https://www.uber.com/careers/list/43917/","2019-01-23T06:05:00"]
["https://www.uber.com/careers/list/43839/","2018-12-06T07:45:00"]
["https://www.uber.com/careers/list/43265/","2019-03-07T13:45:00"]
["https://www.uber.com/careers/list/36497/","2019-04-03T23:25:00"]
["https://www.uber.com/careers/list/44015/","2018-11-09T11:50:00"]
["https://www.uber.com/careers/list/43974/","2018-12-12T07:30:00"]
["https://www.uber.com/careers/list/43972/","2018-11-19T18:40:00"]
["https://www.uber.com/careers/list/42199/","2019-03-05T08:00:00"]
["https://www.uber.com/careers/list/42198/"]
["https://www.uber.com/careers/list/44022/","2018-10-27T09:55:00"]
["https://www.uber.com/careers/list/43832-2062-88453/","2018-11-16T08:55:00"]
["https://www.uber.com/careers/list/43832/","2019-02-28T08:45:00"]
["https://www.uber.com/careers/list/43740-165-1232/","2018-11-16T08:55:00"]
["https://www.uber.com/careers/list/44037/","2018-11-16T08:55:00"]
["https://www.uber.com/careers/list/44036/","2018-11-16T08:55:00"]
["https://www.uber.com/careers/list/44030/","2019-02-10T10:45:00"]
["https://www.uber.com/careers/list/44012-725-61278/","2019-01-08T07:15:00"]
["https://www.uber.com/careers/list/44012/","2019-01-08T07:15:00"]
["https://www.uber.com/careers/list/44046-170-1237/","2019-04-26T11:55:00"]
["https://www.uber.com/careers/list/44046/","2019-04-26T11:55:00"]
["https://www.uber.com/careers/list/44045-170-1237/","2019-02-13T19:10:00"]
["https://www.uber.com/careers/list/44045/","2019-02-13T19:10:00"]
["https://www.uber.com/careers/list/44044-170-1237/","2019-01-25T06:50:00"]
["https://www.uber.com/careers/list/44044/"]
["https://www.uber.com/careers/list/44087/","2018-11-29T16:10:00"]
["https://www.uber.com/careers/list/44130/"]
["https://www.uber.com/careers/list/44128/","2019-01-31T07:06:00"]
["https://www.uber.com/careers/list/44127/","2019-02-01T06:20:00"]
["https://www.uber.com/careers/list/44116/","2019-02-05T11:16:00"]
["https://www.uber.com/careers/list/44104/"]
["https://www.uber.com/careers/list/44097/","2018-12-15T08:50:00"]
["https://www.uber.com/careers/list/44096/","2018-12-05T07:00:00"]
["https://www.uber.com/careers/list/44091/","2019-03-19T19:35:00"]
["https://www.uber.com/careers/list/44079/","2019-01-11T17:20:00"]
["https://www.uber.com/careers/list/44073/","2019-03-08T18:45:00"]
["https://www.uber.com/careers/list/44071/","2018-12-07T06:45:00"]
["https://www.uber.com/careers/list/44063/","2019-03-15T10:40:00"]
["https://www.uber.com/careers/list/44024/","2018-11-21T10:30:00"]
["https://www.uber.com/careers/list/44008/","2018-11-01T11:55:00"]
["https://www.uber.com/careers/list/43987/"]
["https://www.uber.com/careers/list/43980/","2019-02-14T19:10:00"]
["https://www.uber.com/careers/list/43978/","2019-02-02T07:40:00"]
["https://www.uber.com/careers/list/43945/","2019-03-07T13:45:00"]
["https://www.uber.com/careers/list/44135/","2018-11-07T17:30:00"]
["https://www.uber.com/careers/list/44131/","2019-01-29T06:50:00"]
["https://www.uber.com/careers/list/40601-1079-1088/","2018-12-14T06:45:00"]
["https://www.uber.com/careers/list/44136/","2019-01-29T06:50:00"]
["https://www.uber.com/careers/list/44151/","2019-03-27T15:43:00"]
["https://www.uber.com/careers/list/44148/","2019-02-27T08:00:00"]
["https://www.uber.com/careers/list/44140/","2019-01-23T06:05:00"]
["https://www.uber.com/careers/list/44132/","2019-01-15T09:20:00"]
["https://www.uber.com/careers/list/44100/","2018-12-14T06:45:00"]
["https://www.uber.com/careers/list/44083/","2019-02-22T15:37:00"]
["https://www.uber.com/careers/list/44081/","2018-12-19T18:20:00"]
["https://www.uber.com/careers/list/44038/","2018-11-12T19:45:00"]
["https://www.uber.com/careers/list/43849/","2019-02-27T08:00:00"]
["https://www.uber.com/careers/list/43762/","2018-11-29T16:10:00"]
["https://www.uber.com/careers/list/43761/","2018-11-29T16:10:00"]
["https://www.uber.com/careers/list/39922/","2019-02-28T08:45:00"]
["https://www.uber.com/careers/list/44142-175-1242/","2018-11-14T12:00:00"]
["https://www.uber.com/careers/list/44142/","2018-11-14T12:00:00"]
["https://www.uber.com/careers/list/42381-1252-81918/","2018-11-17T11:35:00"]
["https://www.uber.com/careers/list/44111/","2019-01-15T09:20:00"]
["https://www.uber.com/careers/list/44193/","2019-01-11T17:20:00"]
["https://www.uber.com/careers/list/44175/","2018-12-18T12:45:00"]
["https://www.uber.com/careers/list/44174/","2019-01-05T06:20:00"]
["https://www.uber.com/careers/list/44171/","2019-04-19T20:05:00"]
["https://www.uber.com/careers/list/44166/","2019-04-06T17:01:00"]
["https://www.uber.com/careers/list/44161/","2018-12-04T07:15:00"]
["https://www.uber.com/careers/list/44076/","2019-01-11T17:20:00"]
["https://www.uber.com/careers/list/34730/","2019-01-30T07:30:00"]
["https://www.uber.com/careers/list/44125/","2019-02-14T19:10:00"]
["https://www.uber.com/careers/list/44013-611-35793/","2019-03-11T22:20:00"]
["https://www.uber.com/careers/list/44013/","2019-03-10T23:21:00"]
["https://www.uber.com/careers/list/43988-725-61278/","2018-11-07T17:30:00"]
["https://www.uber.com/careers/list/43988-177-1244/","2018-12-12T07:30:00"]
["https://www.uber.com/careers/list/43988-171-1238/","2018-11-07T17:30:00"]
["https://www.uber.com/careers/list/43988-165-1232/","2018-11-07T17:30:00"]
["https://www.uber.com/careers/list/43988-164-1231/","2018-11-07T17:30:00"]
["https://www.uber.com/careers/list/43988-1266-81932/","2018-12-12T07:30:00"]
["https://www.uber.com/careers/list/43738-71-1135/","2018-11-27T15:30:00"]
["https://www.uber.com/careers/list/39644-165-1232/"]
["https://www.uber.com/careers/list/39644/"]
["https://www.uber.com/careers/list/38842-52-1115/","2018-11-12T19:45:00"]
["https://www.uber.com/careers/list/43983/","2019-01-30T07:30:00"]
["https://www.uber.com/careers/list/43982/","2018-12-18T12:45:00"]
["https://www.uber.com/careers/list/43903/"]
["https://www.uber.com/careers/list/44269/"]
["https://www.uber.com/careers/list/44258/","2018-12-18T12:45:00"]
["https://www.uber.com/careers/list/44237/","2019-03-07T13:45:00"]
["https://www.uber.com/careers/list/44221/","2018-12-26T10:05:00"]
["https://www.uber.com/careers/list/44138/","2018-11-06T11:00:00"]
["https://www.uber.com/careers/list/44088/","2019-02-05T11:16:00"]
["https://www.uber.com/careers/list/44085/","2018-11-10T15:40:00"]
["https://www.uber.com/careers/list/43910/","2019-04-12T19:40:00"]
["https://www.uber.com/careers/list/40833/","2018-11-08T11:45:00"]
["https://www.uber.com/careers/list/44276/","2018-11-15T17:00:00"]
["https://www.uber.com/careers/list/44180/","2019-01-15T09:20:00"]
["https://www.uber.com/careers/list/43904/"]
["https://www.uber.com/careers/list/44308/","2019-02-15T13:15:00"]
["https://www.uber.com/careers/list/43683-1339-1244/","2019-01-08T07:15:00"]
["https://www.uber.com/careers/list/44321/","2019-02-28T08:45:00"]
["https://www.uber.com/careers/list/44296/","2018-12-07T06:45:00"]
["https://www.uber.com/careers/list/44337/","2018-12-04T07:15:00"]
["https://www.uber.com/careers/list/44336/","2019-02-15T13:15:00"]
["https://www.uber.com/careers/list/44315/","2019-02-27T08:00:00"]
["https://www.uber.com/careers/list/44314/","2018-11-07T17:30:00"]
["https://www.uber.com/careers/list/44312/","2018-11-08T11:45:00"]
["https://www.uber.com/careers/list/44295/","2018-11-29T16:10:00"]
["https://www.uber.com/careers/list/44294/","2018-12-07T06:45:00"]
["https://www.uber.com/careers/list/44284/","2018-11-13T20:52:00"]
["https://www.uber.com/careers/list/44272/","2018-11-13T20:52:00"]
["https://www.uber.com/careers/list/44194/","2018-12-19T18:20:00"]
["https://www.uber.com/careers/list/44139/","2019-01-15T09:20:00"]
["https://www.uber.com/careers/list/43451/","2019-01-30T07:30:00"]
["https://www.uber.com/careers/list/35190/","2019-02-14T19:10:00"]
["https://www.uber.com/careers/list/44250-163-1230/","2019-01-04T07:40:00"]
["https://www.uber.com/careers/list/44250/","2019-02-01T06:20:00"]
["https://www.uber.com/careers/list/44274-1079-1088/","2019-01-23T06:05:00"]
["https://www.uber.com/careers/list/44274/","2019-01-23T06:05:00"]
["https://www.uber.com/careers/list/44418/"]
["https://www.uber.com/careers/list/44408/","2019-01-29T06:50:00"]
["https://www.uber.com/careers/list/44381/","2019-04-09T21:45:00"]
["https://www.uber.com/careers/list/44340/","2019-02-12T10:55:00"]
["https://www.uber.com/careers/list/44391/","2019-01-29T06:50:00"]
["https://www.uber.com/careers/list/44389/","2019-01-26T07:05:00"]
["https://www.uber.com/careers/list/44387/","2019-03-07T13:45:00"]
["https://www.uber.com/careers/list/44385/","2019-01-05T06:20:00"]
["https://www.uber.com/careers/list/44384/"]
["https://www.uber.com/careers/list/44383/","2019-01-05T06:20:00"]
["https://www.uber.com/careers/list/44379/","2018-11-27T15:30:00"]
["https://www.uber.com/careers/list/44378/","2019-01-29T06:50:00"]
["https://www.uber.com/careers/list/44376/","2019-01-05T06:20:00"]
["https://www.uber.com/careers/list/44375/","2018-12-12T07:30:00"]
["https://www.uber.com/careers/list/44344/"]
["https://www.uber.com/careers/list/44320/","2019-01-16T12:05:00"]
["https://www.uber.com/careers/list/43652/","2018-11-17T11:35:00"]
["https://www.uber.com/careers/list/38014/","2019-03-06T08:05:00"]
["https://www.uber.com/careers/list/44409-2400-88820/","2019-02-06T08:05:00"]
["https://www.uber.com/careers/list/44409/","2019-02-06T08:05:00"]
["https://www.uber.com/careers/list/44380-277-10335/","2019-01-16T12:05:00"]
["https://www.uber.com/careers/list/44380/","2019-01-16T12:05:00"]
["https://www.uber.com/careers/list/43555-1079-1088/","2019-01-30T07:30:00"]
["https://www.uber.com/careers/list/43555/","2019-01-30T07:30:00"]
["https://www.uber.com/careers/list/40908-1314-1088/","2018-12-12T07:30:00"]
["https://www.uber.com/careers/list/38570-26-1089/","2019-03-07T13:45:00"]
["https://www.uber.com/careers/list/38570/","2019-03-08T18:45:00"]
["https://www.uber.com/careers/list/44426/","2018-12-11T08:50:00"]
["https://www.uber.com/careers/list/43912/","2019-01-16T12:05:00"]
["https://www.uber.com/careers/list/39983/","2019-01-23T06:05:00"]
["https://www.uber.com/careers/list/44415/"]
["https://www.uber.com/careers/list/44392/","2019-03-07T13:45:00"]
["https://www.uber.com/careers/list/44458-1036-1135/","2019-02-06T08:05:00"]
["https://www.uber.com/careers/list/44458/","2019-02-06T08:05:00"]
["https://www.uber.com/careers/list/44468/","2018-12-04T07:15:00"]
["https://www.uber.com/careers/list/44467/","2019-02-13T19:10:00"]
["https://www.uber.com/careers/list/44466/","2019-03-07T13:45:00"]
["https://www.uber.com/careers/list/44438/","2018-11-15T17:00:00"]
["https://www.uber.com/careers/list/44432/","2019-01-16T12:05:00"]
["https://www.uber.com/careers/list/42529/","2019-02-28T08:45:00"]
["https://www.uber.com/careers/list/44292/","2019-02-22T15:37:00"]
["https://www.uber.com/careers/list/44165/","2018-11-21T10:30:00"]
["https://www.uber.com/careers/list/44463-1079-1088/","2019-03-07T13:45:00"]
["https://www.uber.com/careers/list/44463/","2019-03-07T13:45:00"]
["https://www.uber.com/careers/list/44250-179-1246/","2019-01-04T07:40:00"]
["https://www.uber.com/careers/list/43652-179-1246/","2018-11-17T11:35:00"]
["https://www.uber.com/careers/list/42864-52-1115/","2018-11-22T07:36:00"]
["https://www.uber.com/careers/list/40592-1079-1088/","2019-01-16T12:05:00"]
["https://www.uber.com/careers/list/44433/","2018-12-15T08:50:00"]
["https://www.uber.com/careers/list/43810/","2018-12-05T07:00:00"]
["https://www.uber.com/careers/list/33819/","2019-03-16T08:35:00"]
["https://www.uber.com/careers/list/44647-177-1244/","2018-12-13T07:20:00"]
["https://www.uber.com/careers/list/44647-163-1230/","2018-12-13T07:20:00"]
["https://www.uber.com/careers/list/44647/","2018-12-13T07:20:00"]
["https://www.uber.com/careers/list/38313-52-1115/","2019-01-11T17:20:00"]
["https://www.uber.com/careers/list/44493/","2018-12-12T07:30:00"]
["https://www.uber.com/careers/list/44457/","2019-01-03T08:06:00"]
["https://www.uber.com/careers/list/44366/","2018-11-15T17:00:00"]
["https://www.uber.com/careers/list/44129/","2019-01-23T06:05:00"]
["https://www.uber.com/careers/list/44637/","2019-01-08T07:15:00"]
["https://www.uber.com/careers/list/44701/","2018-12-14T06:45:00"]
["https://www.uber.com/careers/list/44684/","2018-12-14T06:45:00"]
["https://www.uber.com/careers/list/44679/","2019-02-15T13:15:00"]
["https://www.uber.com/careers/list/44677/","2019-01-31T07:06:00"]
["https://www.uber.com/careers/list/44650/"]
["https://www.uber.com/careers/list/44181/","2019-01-08T07:15:00"]
["https://www.uber.com/careers/list/42311/","2019-01-29T06:50:00"]
["https://www.uber.com/careers/list/38992/","2019-02-14T19:10:00"]
["https://www.uber.com/careers/list/40520-1230-81896/","2019-01-15T09:20:00"]
["https://www.uber.com/careers/list/44660-177-1244/","2019-01-09T13:10:00"]
["https://www.uber.com/careers/list/44660-170-1237/","2019-01-09T13:10:00"]
["https://www.uber.com/careers/list/44660-165-1232/","2019-01-09T13:10:00"]
["https://www.uber.com/careers/list/44660-163-1230/","2018-11-27T15:30:00"]
["https://www.uber.com/careers/list/44660/","2019-01-09T13:10:00"]
["https://www.uber.com/careers/list/44699-165-1232/","2019-02-21T06:45:00"]
["https://www.uber.com/careers/list/44699/","2019-02-21T06:45:00"]
["https://www.uber.com/careers/list/44697-165-1232/","2019-02-16T17:55:00"]
["https://www.uber.com/careers/list/44697/","2019-02-16T17:55:00"]
["https://www.uber.com/careers/list/44328/","2018-11-27T15:30:00"]
["https://www.uber.com/careers/list/44329/","2018-11-27T15:30:00"]
["https://www.uber.com/careers/list/44490/","2018-12-05T07:00:00"]
["https://www.uber.com/careers/list/44517/"]
["https://www.uber.com/careers/list/44702/","2019-01-10T09:15:00"]
["https://www.uber.com/careers/list/44324/","2019-01-16T12:05:00"]
["https://www.uber.com/careers/list/44781/","2019-02-27T08:00:00"]
["https://www.uber.com/careers/list/44745/","2019-01-04T07:40:00"]
["https://www.uber.com/careers/list/44473/","2018-11-27T15:30:00"]
["https://www.uber.com/careers/list/44393/","2019-01-05T06:20:00"]
["https://www.uber.com/careers/list/42523/","2019-01-29T06:50:00"]
["https://www.uber.com/careers/list/44774-725-61278/","2018-11-18T11:30:00"]
["https://www.uber.com/careers/list/44774-163-1230/","2018-11-18T11:30:00"]
["https://www.uber.com/careers/list/44774/","2018-11-18T11:30:00"]
["https://www.uber.com/careers/list/42186-277-10335/","2018-11-16T08:55:00"]
["https://www.uber.com/careers/list/42186-2319-88721/","2018-11-16T08:55:00"]
["https://www.uber.com/careers/list/42186-1079-1088/","2018-11-16T08:55:00"]
["https://www.uber.com/careers/list/42186/","2019-04-01T21:10:00"]
["https://www.uber.com/careers/list/42185-277-10335/","2018-11-16T08:55:00"]
["https://www.uber.com/careers/list/42185-2319-88721/","2018-11-16T08:55:00"]
["https://www.uber.com/careers/list/42185-1079-1088/","2018-11-16T08:55:00"]
["https://www.uber.com/careers/list/42185/","2019-04-01T21:10:00"]
["https://www.uber.com/careers/list/44786/"]
["https://www.uber.com/careers/list/44736/","2019-04-17T14:25:00"]
["https://www.uber.com/careers/list/44841/","2018-11-22T07:36:00"]
["https://www.uber.com/careers/list/44838/","2019-02-22T15:37:00"]
["https://www.uber.com/careers/list/44750/","2019-03-08T18:45:00"]
["https://www.uber.com/careers/list/44735/","2018-12-04T07:15:00"]
["https://www.uber.com/careers/list/44733/","2018-12-14T06:45:00"]
["https://www.uber.com/careers/list/44732/","2018-12-04T07:15:00"]
["https://www.uber.com/careers/list/44326/","2019-04-09T21:45:00"]
["https://www.uber.com/careers/list/44285/","2019-01-16T12:05:00"]
["https://www.uber.com/careers/list/44905/"]
["https://www.uber.com/careers/list/44901/"]
["https://www.uber.com/careers/list/44900/","2018-12-04T07:15:00"]
["https://www.uber.com/careers/list/44860/","2019-02-01T06:20:00"]
["https://www.uber.com/careers/list/44421/","2019-04-02T21:06:00"]
["https://www.uber.com/careers/list/40520-1317-1115/","2019-01-15T09:20:00"]
["https://www.uber.com/careers/list/44855/","2019-01-11T17:20:00"]
["https://www.uber.com/careers/list/44532/","2019-02-09T08:25:00"]
["https://www.uber.com/careers/list/44525/","2018-12-05T07:00:00"]
["https://www.uber.com/careers/list/44874-1174-81840/","2019-02-12T10:55:00"]
["https://www.uber.com/careers/list/44874/","2019-02-12T10:55:00"]
["https://www.uber.com/careers/list/44801-163-1230/","2018-12-06T07:45:00"]
["https://www.uber.com/careers/list/44801/","2018-12-06T07:45:00"]
["https://www.uber.com/careers/list/44969/","2019-02-08T09:12:00"]
["https://www.uber.com/careers/list/44904/","2019-02-02T07:40:00"]
["https://www.uber.com/careers/list/44958-163-1230/","2018-12-13T07:20:00"]
["https://www.uber.com/careers/list/44958/","2018-12-13T07:20:00"]
["https://www.uber.com/careers/list/44955/","2019-01-04T07:40:00"]
["https://www.uber.com/careers/list/44951/","2019-02-01T06:20:00"]
["https://www.uber.com/careers/list/44942/","2019-01-17T08:50:00"]
["https://www.uber.com/careers/list/44917/","2019-01-19T20:15:00"]
["https://www.uber.com/careers/list/44910/","2019-02-13T19:10:00"]
["https://www.uber.com/careers/list/44908/","2019-03-27T15:43:00"]
["https://www.uber.com/careers/list/44907/","2018-12-06T07:45:00"]
["https://www.uber.com/careers/list/44707/","2019-01-17T08:50:00"]
["https://www.uber.com/careers/list/44655/","2019-03-11T22:20:00"]
["https://www.uber.com/careers/list/44395/","2019-03-01T08:51:00"]
["https://www.uber.com/careers/list/44310/","2019-02-13T19:10:00"]
["https://www.uber.com/careers/list/38023/","2019-02-12T10:55:00"]
["https://www.uber.com/careers/list/45002/","2019-02-05T11:16:00"]
["https://www.uber.com/careers/list/44996/"]
["https://www.uber.com/careers/list/44956/","2019-02-12T10:55:00"]
["https://www.uber.com/careers/list/44772/","2019-03-07T13:45:00"]
["https://www.uber.com/careers/list/45001/","2019-04-22T11:51:00"]
["https://www.uber.com/careers/list/45041/","2019-01-16T12:05:00"]
["https://www.uber.com/careers/list/45040/","2018-12-12T07:30:00"]
["https://www.uber.com/careers/list/45003/"]
["https://www.uber.com/careers/list/44374/","2019-01-05T06:20:00"]
["https://www.uber.com/careers/list/41322/","2018-12-14T06:45:00"]
["https://www.uber.com/careers/list/44795/","2019-01-10T09:15:00"]
["https://www.uber.com/careers/list/45100/","2019-04-03T23:25:00"]
["https://www.uber.com/careers/list/45079/","2018-11-30T15:50:00"]
["https://www.uber.com/careers/list/45073/"]
["https://www.uber.com/careers/list/45065/","2018-12-12T07:30:00"]
["https://www.uber.com/careers/list/45063/","2019-02-05T11:16:00"]
["https://www.uber.com/careers/list/44952/"]
["https://www.uber.com/careers/list/44944/","2019-02-05T11:16:00"]
["https://www.uber.com/careers/list/44857/","2019-02-06T08:05:00"]
["https://www.uber.com/careers/list/44708/","2019-01-08T07:15:00"]
["https://www.uber.com/careers/list/42483/","2019-01-17T08:50:00"]
["https://www.uber.com/careers/list/42480/"]
["https://www.uber.com/careers/list/40553/","2019-04-06T17:01:00"]
["https://www.uber.com/careers/list/45077-641-1232/","2019-01-15T09:20:00"]
["https://www.uber.com/careers/list/45077-2391-81905/","2019-01-15T09:20:00"]
["https://www.uber.com/careers/list/45077-177-1244/","2019-01-15T09:20:00"]
["https://www.uber.com/careers/list/45077-163-1230/","2019-01-15T09:20:00"]
["https://www.uber.com/careers/list/45077/","2019-01-15T09:20:00"]
["https://www.uber.com/careers/list/45075-641-1232/","2018-12-18T12:45:00"]
["https://www.uber.com/careers/list/45075-1230-81896/","2018-12-18T12:45:00"]
["https://www.uber.com/careers/list/45075/","2018-12-18T12:45:00"]
["https://www.uber.com/careers/list/44954-52-1115/","2019-02-02T07:40:00"]
["https://www.uber.com/careers/list/44954/","2019-02-02T07:40:00"]
["https://www.uber.com/careers/list/44660-277-10335/","2019-01-09T13:10:00"]
["https://www.uber.com/careers/list/44660-171-1238/","2019-01-09T13:10:00"]
["https://www.uber.com/careers/list/44660-1264-81930/","2019-01-09T13:10:00"]
["https://www.uber.com/careers/list/44660-109-1175/","2019-01-09T13:10:00"]
["https://www.uber.com/careers/list/44737/","2019-02-12T10:55:00"]
["https://www.uber.com/careers/list/45179/","2018-12-08T11:30:00"]
["https://www.uber.com/careers/list/45177/","2018-11-30T15:50:00"]
["https://www.uber.com/careers/list/45147/","2019-03-16T08:35:00"]
["https://www.uber.com/careers/list/45139/","2019-02-21T06:45:00"]
["https://www.uber.com/careers/list/45128/","2019-02-22T15:37:00"]
["https://www.uber.com/careers/list/44840/","2019-03-12T20:22:00"]
["https://www.uber.com/careers/list/44390/","2018-12-22T16:30:00"]
["https://www.uber.com/careers/list/43957-177-1244/"]
["https://www.uber.com/careers/list/43956-1339-1244/"]
["https://www.uber.com/careers/list/43952-177-1244/"]
["https://www.uber.com/careers/list/43746-177-1244/","2019-01-04T07:40:00"]
["https://www.uber.com/careers/list/45403/","2018-12-22T16:30:00"]
["https://www.uber.com/careers/list/45384/","2019-04-18T09:17:00"]
["https://www.uber.com/careers/list/45377/","2018-12-11T08:50:00"]
["https://www.uber.com/careers/list/45369/","2019-01-16T12:05:00"]
["https://www.uber.com/careers/list/45360/","2019-01-30T07:30:00"]
["https://www.uber.com/careers/list/45191/","2019-01-05T06:20:00"]
["https://www.uber.com/careers/list/45189/"]
["https://www.uber.com/careers/list/45185/","2019-01-08T07:15:00"]
["https://www.uber.com/careers/list/45143/","2019-01-23T06:05:00"]
["https://www.uber.com/careers/list/45138/","2018-12-14T06:45:00"]
["https://www.uber.com/careers/list/45106/","2019-01-30T07:30:00"]
["https://www.uber.com/careers/list/45071/","2018-12-27T19:55:00"]
["https://www.uber.com/careers/list/43198/","2019-01-08T07:15:00"]
["https://www.uber.com/careers/list/45397/","2018-12-20T17:15:00"]
["https://www.uber.com/careers/list/45371/","2019-04-16T20:55:00"]
["https://www.uber.com/careers/list/45165/","2019-01-29T06:50:00"]
["https://www.uber.com/careers/list/45146/"]
["https://www.uber.com/careers/list/45145/"]
["https://www.uber.com/careers/list/45141/","2019-03-23T11:30:00"]
["https://www.uber.com/careers/list/43845/","2019-01-19T20:15:00"]
["https://www.uber.com/careers/list/45190-2319-88721/","2019-01-15T09:20:00"]
["https://www.uber.com/careers/list/45190-165-1232/","2019-01-15T09:20:00"]
["https://www.uber.com/careers/list/45190/","2019-01-15T09:20:00"]
["https://www.uber.com/careers/list/45136-164-1231/","2018-12-29T18:35:00"]
["https://www.uber.com/careers/list/45136/","2018-12-29T18:35:00"]
["https://www.uber.com/careers/list/45195/","2019-01-26T07:05:00"]
["https://www.uber.com/careers/list/43832-165-1232/","2019-02-01T06:20:00"]
["https://www.uber.com/careers/list/45419/","2019-03-01T08:51:00"]
["https://www.uber.com/careers/list/45446/","2019-01-25T06:50:00"]
["https://www.uber.com/careers/list/45445/","2019-02-06T08:05:00"]
["https://www.uber.com/careers/list/45478/","2019-03-25T20:30:00"]
["https://www.uber.com/careers/list/45468/"]
["https://www.uber.com/careers/list/45463/"]
["https://www.uber.com/careers/list/45453/"]
["https://www.uber.com/careers/list/45442/","2019-02-05T11:16:00"]
["https://www.uber.com/careers/list/45416/","2019-01-29T06:50:00"]
["https://www.uber.com/careers/list/45383/","2019-02-05T11:16:00"]
["https://www.uber.com/careers/list/45161/","2019-02-12T10:55:00"]
["https://www.uber.com/careers/list/45396-170-1237/","2019-01-31T07:06:00"]
["https://www.uber.com/careers/list/45396/","2019-01-31T07:06:00"]
["https://www.uber.com/careers/list/45395-165-1232/","2019-01-30T07:30:00"]
["https://www.uber.com/careers/list/45395/","2019-01-30T07:30:00"]
["https://www.uber.com/careers/list/45537/","2018-12-06T07:45:00"]
["https://www.uber.com/careers/list/45536/","2018-12-06T07:45:00"]
["https://www.uber.com/careers/list/45535/","2018-12-06T07:45:00"]
["https://www.uber.com/careers/list/45530/","2019-03-21T13:50:00"]
["https://www.uber.com/careers/list/45529/","2019-01-31T07:06:00"]
["https://www.uber.com/careers/list/45528/","2018-12-10T10:00:00"]
["https://www.uber.com/careers/list/45527/","2018-12-10T10:00:00"]
["https://www.uber.com/careers/list/45524/","2019-01-16T12:05:00"]
["https://www.uber.com/careers/list/45522/","2019-02-14T19:10:00"]
["https://www.uber.com/careers/list/45515/","2018-12-06T07:45:00"]
["https://www.uber.com/careers/list/45514/","2018-12-06T07:45:00"]
["https://www.uber.com/careers/list/45510/","2018-12-06T07:45:00"]
["https://www.uber.com/careers/list/45474/","2019-03-12T20:22:00"]
["https://www.uber.com/careers/list/45458/","2019-03-07T13:45:00"]
["https://www.uber.com/careers/list/45451/","2019-01-23T06:05:00"]
["https://www.uber.com/careers/list/45421/"]
["https://www.uber.com/careers/list/45413/","2019-04-06T17:01:00"]
["https://www.uber.com/careers/list/45400/","2019-03-05T08:00:00"]
["https://www.uber.com/careers/list/45399/","2019-03-05T08:00:00"]
["https://www.uber.com/careers/list/45385/","2018-12-25T07:55:00"]
["https://www.uber.com/careers/list/45477-26-1089/","2018-12-06T07:45:00"]
["https://www.uber.com/careers/list/45477/","2018-12-06T07:45:00"]
["https://www.uber.com/careers/list/45511-26-1089/","2018-12-06T07:45:00"]
["https://www.uber.com/careers/list/45511/","2018-12-06T07:45:00"]
["https://www.uber.com/careers/list/45566/","2019-03-07T13:45:00"]
["https://www.uber.com/careers/list/45555/","2019-04-11T14:00:00"]
["https://www.uber.com/careers/list/45376/"]
["https://www.uber.com/careers/list/45564/"]
["https://www.uber.com/careers/list/45506/"]
["https://www.uber.com/careers/list/45507/"]
["https://www.uber.com/careers/list/45567/","2019-01-08T07:15:00"]
["https://www.uber.com/careers/list/45563/","2019-03-07T13:45:00"]
["https://www.uber.com/careers/list/45562/","2019-02-16T17:55:00"]
["https://www.uber.com/careers/list/45556/","2019-03-25T20:30:00"]
["https://www.uber.com/careers/list/45523/","2019-01-11T17:20:00"]
["https://www.uber.com/careers/list/45426/","2019-04-02T21:06:00"]
["https://www.uber.com/careers/list/45414/","2019-01-24T07:10:00"]
["https://www.uber.com/careers/list/45192/","2019-03-07T13:45:00"]
["https://www.uber.com/careers/list/45534-2319-88721/"]
["https://www.uber.com/careers/list/45534-179-1246/","2019-03-07T13:45:00"]
["https://www.uber.com/careers/list/45534-163-1230/","2019-03-07T13:45:00"]
["https://www.uber.com/careers/list/45534-1339-1244/"]
["https://www.uber.com/careers/list/45534/","2019-03-07T13:45:00"]
["https://www.uber.com/careers/list/45101/","2019-01-11T17:20:00"]
["https://www.uber.com/careers/list/45630/","2018-12-15T08:50:00"]
["https://www.uber.com/careers/list/45625/","2018-12-20T17:15:00"]
["https://www.uber.com/careers/list/45622/","2019-02-27T08:00:00"]
["https://www.uber.com/careers/list/45613/"]
["https://www.uber.com/careers/list/45605/","2019-03-28T07:40:00"]
["https://www.uber.com/careers/list/45580/","2019-01-24T07:10:00"]
["https://www.uber.com/careers/list/45579/","2018-12-15T08:50:00"]
["https://www.uber.com/careers/list/45572/","2019-02-12T10:55:00"]
["https://www.uber.com/careers/list/45569/","2019-04-18T09:17:00"]
["https://www.uber.com/careers/list/45476/","2019-03-23T11:30:00"]
["https://www.uber.com/careers/list/45186/","2019-04-08T09:07:00"]
["https://www.uber.com/careers/list/45150/"]
["https://www.uber.com/careers/list/45126/","2018-12-12T07:30:00"]
["https://www.uber.com/careers/list/44888/","2019-04-07T18:07:00"]
["https://www.uber.com/careers/list/44859/","2019-01-10T09:15:00"]
["https://www.uber.com/careers/list/44813/","2019-02-14T19:10:00"]
["https://www.uber.com/careers/list/44023/","2019-04-12T19:40:00"]
["https://www.uber.com/careers/list/45666/"]
["https://www.uber.com/careers/list/45628/"]
["https://www.uber.com/careers/list/45621/","2019-01-08T07:15:00"]
["https://www.uber.com/careers/list/45620/","2019-01-16T12:05:00"]
["https://www.uber.com/careers/list/45614/","2019-01-08T07:15:00"]
["https://www.uber.com/careers/list/45576/","2019-02-25T06:22:00"]
["https://www.uber.com/careers/list/45565/","2019-02-12T10:55:00"]
["https://www.uber.com/careers/list/45485/","2018-12-11T08:50:00"]
["https://www.uber.com/careers/list/44821/","2019-02-12T10:55:00"]
["https://www.uber.com/careers/list/44176/"]
["https://www.uber.com/careers/list/45720/","2019-03-07T13:45:00"]
["https://www.uber.com/careers/list/45685/","2019-01-29T06:50:00"]
["https://www.uber.com/careers/list/45677/","2019-01-19T20:15:00"]
["https://www.uber.com/careers/list/45675/","2019-01-09T13:10:00"]
["https://www.uber.com/careers/list/44863/","2019-03-18T15:17:00"]
["https://www.uber.com/careers/list/45771/","2019-01-15T09:20:00"]
["https://www.uber.com/careers/list/45766/","2019-03-02T10:45:00"]
["https://www.uber.com/careers/list/45759/","2019-01-11T17:20:00"]
["https://www.uber.com/careers/list/45755/","2019-01-30T07:30:00"]
["https://www.uber.com/careers/list/45751/"]
["https://www.uber.com/careers/list/45749/","2019-04-05T13:56:00"]
["https://www.uber.com/careers/list/45745/","2019-02-08T09:12:00"]
["https://www.uber.com/careers/list/45742/","2019-04-09T21:45:00"]
["https://www.uber.com/careers/list/45738/","2019-02-13T19:10:00"]
["https://www.uber.com/careers/list/45737/"]
["https://www.uber.com/careers/list/45726/","2019-01-16T12:05:00"]
["https://www.uber.com/careers/list/45701/"]
["https://www.uber.com/careers/list/45689/"]
["https://www.uber.com/careers/list/45679-179-1246/","2019-03-21T13:50:00"]
["https://www.uber.com/careers/list/45679-177-1244/","2019-03-21T13:50:00"]
["https://www.uber.com/careers/list/45679-163-1230/","2019-03-21T13:50:00"]
["https://www.uber.com/careers/list/45679/","2019-03-21T13:50:00"]
["https://www.uber.com/careers/list/45670/","2019-01-16T12:05:00"]
["https://www.uber.com/careers/list/45630-165-1232/","2018-12-15T08:50:00"]
["https://www.uber.com/careers/list/45571/","2019-03-05T08:00:00"]
["https://www.uber.com/careers/list/45568/"]
["https://www.uber.com/careers/list/45472/","2019-01-24T07:10:00"]
["https://www.uber.com/careers/list/45470/","2018-12-14T06:45:00"]
["https://www.uber.com/careers/list/45440/","2019-02-13T19:10:00"]
["https://www.uber.com/careers/list/44833/","2019-01-02T13:20:00"]
["https://www.uber.com/careers/list/44419/","2019-02-14T19:10:00"]
["https://www.uber.com/careers/list/42951-170-1237/","2018-12-15T08:50:00"]
["https://www.uber.com/careers/list/41693-408-1246/","2019-01-19T20:15:00"]
["https://www.uber.com/careers/list/45865/","2019-03-06T08:05:00"]
["https://www.uber.com/careers/list/45857/","2019-02-27T08:00:00"]
["https://www.uber.com/careers/list/45855/","2019-01-30T07:30:00"]
["https://www.uber.com/careers/list/45854-170-1237/","2019-01-17T08:50:00"]
["https://www.uber.com/careers/list/45854/","2019-01-17T08:50:00"]
["https://www.uber.com/careers/list/45843/","2019-01-05T06:20:00"]
["https://www.uber.com/careers/list/45839/","2018-12-13T07:20:00"]
["https://www.uber.com/careers/list/45834/","2018-12-13T07:20:00"]
["https://www.uber.com/careers/list/45833/","2018-12-13T07:20:00"]
["https://www.uber.com/careers/list/45832/","2018-12-13T07:20:00"]
["https://www.uber.com/careers/list/45831/"]
["https://www.uber.com/careers/list/45825/","2019-03-08T18:45:00"]
["https://www.uber.com/careers/list/45820/","2018-12-13T07:20:00"]
["https://www.uber.com/careers/list/45765/","2019-01-29T06:50:00"]
["https://www.uber.com/careers/list/45754/","2019-02-09T08:25:00"]
["https://www.uber.com/careers/list/45746/","2018-12-13T07:20:00"]
["https://www.uber.com/careers/list/45736/","2019-01-01T09:45:00"]
["https://www.uber.com/careers/list/45733/","2019-02-02T07:40:00"]
["https://www.uber.com/careers/list/45683/","2019-03-10T23:21:00"]
["https://www.uber.com/careers/list/45682/","2019-03-15T10:40:00"]
["https://www.uber.com/careers/list/45627-611-35793/","2019-02-12T10:55:00"]
["https://www.uber.com/careers/list/45627/","2019-02-12T10:55:00"]
["https://www.uber.com/careers/list/45461/","2019-01-15T09:20:00"]
["https://www.uber.com/careers/list/45368-1230-81896/","2019-01-11T17:20:00"]
["https://www.uber.com/careers/list/45368/","2019-01-11T17:20:00"]
["https://www.uber.com/careers/list/45183/","2019-03-07T13:45:00"]
["https://www.uber.com/careers/list/45078/","2019-02-02T07:40:00"]
["https://www.uber.com/careers/list/44945-177-1244/","2019-03-07T13:45:00"]
["https://www.uber.com/careers/list/44945-165-1232/","2019-04-26T11:55:00"]
["https://www.uber.com/careers/list/44945/"]
["https://www.uber.com/careers/list/44827/","2019-01-08T07:15:00"]
["https://www.uber.com/careers/list/44825/","2019-04-01T21:10:00"]
["https://www.uber.com/careers/list/44823/","2019-03-01T08:51:00"]
["https://www.uber.com/careers/list/44341/","2019-03-25T20:30:00"]
["https://www.uber.com/careers/list/44309/","2019-01-09T13:10:00"]
["https://www.uber.com/careers/list/43950/","2019-03-12T20:22:00"]
["https://www.uber.com/careers/list/43300/","2019-02-01T06:20:00"]
["https://www.uber.com/careers/list/38248-1079-1088/","2019-02-06T08:05:00"]
["https://www.uber.com/careers/list/45904/","2019-01-08T07:15:00"]
["https://www.uber.com/careers/list/45898/","2019-02-13T19:10:00"]
["https://www.uber.com/careers/list/45890/"]
["https://www.uber.com/careers/list/45888/","2019-01-08T07:15:00"]
["https://www.uber.com/careers/list/45885/"]
["https://www.uber.com/careers/list/45881/","2019-02-12T10:55:00"]
["https://www.uber.com/careers/list/45879/"]
["https://www.uber.com/careers/list/45874/"]
["https://www.uber.com/careers/list/45862/","2018-12-17T07:05:00"]
["https://www.uber.com/careers/list/45841/","2018-12-20T17:15:00"]
["https://www.uber.com/careers/list/45774/"]
["https://www.uber.com/careers/list/45662/","2019-02-12T10:55:00"]
["https://www.uber.com/careers/list/45583/","2019-03-07T13:45:00"]
["https://www.uber.com/careers/list/45504/","2019-03-08T18:45:00"]
["https://www.uber.com/careers/list/45450/"]
["https://www.uber.com/careers/list/35420/","2018-12-27T19:55:00"]
["https://www.uber.com/careers/list/44823-26-1089/","2019-03-01T08:51:00"]
["https://www.uber.com/careers/list/44020/"]
["https://www.uber.com/careers/list/45933/","2019-01-11T17:20:00"]
["https://www.uber.com/careers/list/45925/"]
["https://www.uber.com/careers/list/45920/","2019-01-25T06:50:00"]
["https://www.uber.com/careers/list/45901/","2019-03-22T15:05:00"]
["https://www.uber.com/careers/list/45678/","2019-01-08T07:15:00"]
["https://www.uber.com/careers/list/44957/","2019-01-31T07:06:00"]
["https://www.uber.com/careers/list/43950-633-39494/","2019-03-12T20:22:00"]
["https://www.uber.com/careers/list/43950-177-1244/","2019-03-12T20:22:00"]
["https://www.uber.com/careers/list/43950-170-1237/","2019-03-12T20:22:00"]
["https://www.uber.com/careers/list/43950-165-1232/","2019-03-12T20:22:00"]
["https://www.uber.com/careers/list/43950-163-1230/","2019-03-12T20:22:00"]
["https://www.uber.com/careers/list/41488/"]

{"sheet":"ABTestDate","index":3,"n_rows":625,"n_cols":14,"rows_kept":625,"cut":false,"hidden":false,"merged":[]}
[{"$f":"treatment!A1","v":"Job-ID"},"CleanJobID",{"$f":"treatment!K1","v":"RecruiterEditDate"},{"$f":"treatment!L1","v":"DuplicateLongReqidDate"},">>> for analysis","JobID",{"$f":"treatment!H1","v":"ABTestDate"},{"$f":"treatment!I1","v":"ExpiredDate"},{"$f":"treatment!J1","v":"RemovedDate"},"LatestDateValid","TreatmentStrength","JobGroup",null,"*Copy and paste column F through L into a separate excel and save as ABTestDate.xlsx. "]
[{"$f":"treatment!A2","v":"https://www.uber.com/careers/list/45570/"},{"$f":"RIGHT(A2, LEN(A2)-34)","v":"45570/"},{"$f":"treatment!K2","v":"00:00:00"},{"$f":"treatment!L2","v":"00:00:00"},null,{"$f":"LEFT(B2, LEN(B2)-1)","v":"45570"},{"$f":"treatment!H2","v":"2018-12-10T08:23:00"},{"$f":"treatment!I2","v":"2019-01-23T06:05:00"},{"$f":"treatment!J2","v":"00:00:00"},null,{"$f":"classification!G2","v":1},{"$f":"classification!H2","v":"GlobalCommunityOperations"}]
[{"$f":"treatment!A3","v":"https://www.uber.com/careers/list/45520/"},{"$f":"RIGHT(A3, LEN(A3)-34)","v":"45520/"},{"$f":"treatment!K3","v":"00:00:00"},{"$f":"treatment!L3","v":"00:00:00"},null,{"$f":"LEFT(B3, LEN(B3)-1)","v":"45520"},{"$f":"treatment!H3","v":"2018-12-10T08:23:00"},{"$f":"treatment!I3","v":"2019-01-08T07:15:00"},{"$f":"treatment!J3","v":"00:00:00"},null,{"$f":"classification!G3","v":1},{"$f":"classification!H3","v":"AdvancedTechnologiesGroup"}]
[{"$f":"treatment!A4","v":"https://www.uber.com/careers/list/44019/"},"44019/",{"$f":"treatment!K4","v":"00:00:00"},{"$f":"treatment!L4","v":"00:00:00"},null,"44019",{"$f":"treatment!H4","v":"2018-12-10T08:23:00"},{"$f":"treatment!I4","v":"2019-03-07T13:45:00"},{"$f":"treatment!J4","v":"00:00:00"},null,{"$f":"classification!G4","v":3},{"$f":"classification!H4","v":"FinanceAccounting"}]
[{"$f":"treatment!A5","v":"https://www.uber.com/careers/list/45455/"},{"$f":"RIGHT(A5, LEN(A5)-34)","v":"45455/"},{"$f":"treatment!K5","v":"00:00:00"},{"$f":"treatment!L5","v":"00:00:00"},null,{"$f":"LEFT(B5, LEN(B5)-1)","v":"45455"},{"$f":"treatment!H5","v":"2018-12-10T08:23:00"},{"$f":"treatment!I5","v":"2019-01-24T07:10:00"},{"$f":"treatment!J5","v":"00:00:00"},null,{"$f":"classification!G5","v":3},{"$f":"classification!H5","v":"Product"}]
[{"$f":"treatment!A6","v":"https://www.uber.com/careers/list/45447/"},"45447/",{"$f":"treatment!K6","v":"00:00:00"},{"$f":"treatment!L6","v":"00:00:00"},null,"45447",{"$f":"treatment!H6","v":"2018-12-10T08:23:00"},{"$f":"treatment!I6","v":"2019-03-02T10:45:00"},{"$f":"treatment!J6","v":"00:00:00"},null,{"$f":"classification!G6","v":3},{"$f":"classification!H6","v":"BusinessSales"}]
[{"$f":"treatment!A7","v":"https://www.uber.com/careers/list/45441/"},"45441/",{"$f":"treatment!K7","v":"00:00:00"},{"$f":"treatment!L7","v":"00:00:00"},null,"45441",{"$f":"treatment!H7","v":"2018-12-10T08:23:00"},{"$f":"treatment!I7","v":"2019-01-29T06:50:00"},{"$f":"treatment!J7","v":"00:00:00"},null,{"$f":"classification!G7","v":1},{"$f":"classification!H7","v":"GlobalCommunityOperations"}]
[{"$f":"treatment!A8","v":"https://www.uber.com/careers/list/45193/"},{"$f":"RIGHT(A8, LEN(A8)-34)","v":"45193/"},{"$f":"treatment!K8","v":"00:00:00"},{"$f":"treatment!L8","v":"00:00:00"},null,{"$f":"LEFT(B8, LEN(B8)-1)","v":"45193"},{"$f":"treatment!H8","v":"2018-12-10T08:23:00"},{"$f":"treatment!I8","v":"2019-04-22T11:51:00"},{"$f":"treatment!J8","v":"00:00:00"},null,{"$f":"classification!G8","v":3},{"$f":"classification!H8","v":"Marketing"}]
[{"$f":"treatment!A9","v":"https://www.uber.com/careers/list/45142/"},{"$f":"RIGHT(A9, LEN(A9)-34)","v":"45142/"},{"$f":"treatment!K9","v":"00:00:00"},{"$f":"treatment!L9","v":"00:00:00"},null,{"$f":"LEFT(B9, LEN(B9)-1)","v":"45142"},{"$f":"treatment!H9","v":"2018-12-10T08:23:00"},{"$f":"treatment!I9","v":"00:00:00"},{"$f":"treatment!J9","v":"00:00:00"},null,{"$f":"classification!G9","v":3},{"$f":"classification!H9","v":"OperationsLaunch"}]
[{"$f":"treatment!A10","v":"https://www.uber.com/careers/list/44940/"},{"$f":"RIGHT(A10, LEN(A10)-34)","v":"44940/"},{"$f":"treatment!K10","v":"00:00:00"},{"$f":"treatment!L10","v":"00:00:00"},null,{"$f":"LEFT(B10, LEN(B10)-1)","v":"44940"},{"$f":"treatment!H10","v":"2018-12-10T08:23:00"},{"$f":"treatment!I10","v":"2019-01-29T06:50:00"},{"$f":"treatment!J10","v":"00:00:00"},null,{"$f":"classification!G10","v":3},{"$f":"classification!H10","v":"FinanceAccounting"}]
[{"$f":"treatment!A11","v":"https://www.uber.com/careers/list/44756/"},"44756/",{"$f":"treatment!K11","v":"00:00:00"},{"$f":"treatment!L11","v":"00:00:00"},null,"44756",{"$f":"treatment!H11","v":"2018-12-10T08:23:00"},{"$f":"treatment!I11","v":"2019-04-16T20:55:00"},{"$f":"treatment!J11","v":"00:00:00"},null,{"$f":"classification!G11","v":1},{"$f":"classification!H11","v":"FinanceAccounting"}]
[{"$f":"treatment!A12","v":"https://www.uber.com/careers/list/42649/"},"42649/",{"$f":"treatment!K12","v":"00:00:00"},{"$f":"treatment!L12","v":"00:00:00"},null,"42649",{"$f":"treatment!H12","v":"2018-12-10T08:23:00"},{"$f":"treatment!I12","v":"2019-03-07T13:45:00"},{"$f":"treatment!J12","v":"00:00:00"},null,{"$f":"classification!G12","v":1},{"$f":"classification!H12","v":"Engineering"}]
[{"$f":"treatment!A13","v":"https://www.uber.com/careers/list/45004/"},{"$f":"RIGHT(A13, LEN(A13)-34)","v":"45004/"},{"$f":"treatment!K13","v":"00:00:00"},{"$f":"treatment!L13","v":"00:00:00"},null,{"$f":"LEFT(B13, LEN(B13)-1)","v":"45004"},{"$f":"treatment!H13","v":"2018-12-10T08:23:00"},{"$f":"treatment!I13","v":"00:00:00"},{"$f":"treatment!J13","v":"00:00:00"},null,{"$f":"classification!G13","v":1},{"$f":"classification!H13","v":"GlobalCommunityOperations"}]
[{"$f":"treatment!A14","v":"https://www.uber.com/careers/list/44858/"},"44858/",{"$f":"treatment!K14","v":"00:00:00"},{"$f":"treatment!L14","v":"00:00:00"},null,"44858",{"$f":"treatment!H14","v":"2018-12-10T08:23:00"},{"$f":"treatment!I14","v":"2019-01-04T07:40:00"},{"$f":"treatment!J14","v":"00:00:00"},null,{"$f":"classification!G14","v":3},{"$f":"classification!H14","v":"PeopleOperations"}]
[{"$f":"treatment!A15","v":"https://www.uber.com/careers/list/44959/"},{"$f":"RIGHT(A15, LEN(A15)-34)","v":"44959/"},{"$f":"treatment!K15","v":"00:00:00"},{"$f":"treatment!L15","v":"00:00:00"},null,{"$f":"LEFT(B15, LEN(B15)-1)","v":"44959"},{"$f":"treatment!H15","v":"2018-12-10T08:23:00"},{"$f":"treatment!I15","v":"2019-01-04T07:40:00"},{"$f":"treatment!J15","v":"00:00:00"},null,{"$f":"classification!G15","v":1},{"$f":"classification!H15","v":"Engineering"}]
[{"$f":"treatment!A16","v":"https://www.uber.com/careers/list/44920/"},"44920/",{"$f":"treatment!K16","v":"00:00:00"},{"$f":"treatment!L16","v":"00:00:00"},null,"44920",{"$f":"treatment!H16","v":"2018-12-10T08:23:00"},{"$f":"treatment!I16","v":"2019-02-21T06:45:00"},{"$f":"treatment!J16","v":"00:00:00"},null,{"$f":"classification!G16","v":1},{"$f":"classification!H16","v":"GlobalCommunityOperations"}]
[{"$f":"treatment!A17","v":"https://www.uber.com/careers/list/44916/"},{"$f":"RIGHT(A17, LEN(A17)-34)","v":"44916/"},{"$f":"treatment!K17","v":"00:00:00"},{"$f":"treatment!L17","v":"00:00:00"},null,{"$f":"LEFT(B17, LEN(B17)-1)","v":"44916"},{"$f":"treatment!H17","v":"2018-12-04T07:08:00"},{"$f":"treatment!I17","v":"2019-01-08T07:15:00"},{"$f":"treatment!J17","v":"00:00:00"},null,{"$f":"classification!G17","v":3},{"$f":"classification!H17","v":"GlobalCommunityOperations"}]
[{"$f":"treatment!A18","v":"https://www.uber.com/careers/list/44914/"},"44914/",{"$f":"treatment!K18","v":"00:00:00"},{"$f":"treatment!L18","v":"00:00:00"},null,"44914",{"$f":"treatment!H18","v":"2018-12-04T07:08:00"},{"$f":"treatment!I18","v":"2019-04-04T20:15:00"},{"$f":"treatment!J18","v":"00:00:00"},null,{"$f":"classification!G18","v":3},{"$f":"classification!H18","v":"Marketing"}]
[{"$f":"treatment!A19","v":"https://www.uber.com/careers/list/44912/"},"44912/",{"$f":"treatment!K19","v":"00:00:00"},{"$f":"treatment!L19","v":"00:00:00"},null,"44912",{"$f":"treatment!H19","v":"2018-12-04T07:08:00"},{"$f":"treatment!I19","v":"2019-03-01T08:51:00"},{"$f":"treatment!J19","v":"00:00:00"},null,{"$f":"classification!G19","v":1},{"$f":"classification!H19","v":"Engineering"}]
[{"$f":"treatment!A20","v":"https://www.uber.com/careers/list/44811/"},"44811/",{"$f":"treatment!K20","v":"00:00:00"},{"$f":"treatment!L20","v":"00:00:00"},null,"44811",{"$f":"treatment!H20","v":"2018-12-04T07:08:00"},{"$f":"treatment!I20","v":"2018-12-11T08:50:00"},{"$f":"treatment!J20","v":"00:00:00"},null,{"$f":"classification!G20","v":1},{"$f":"classification!H20","v":"OperationsLaunch"}]
[{"$f":"treatment!A21","v":"https://www.uber.com/careers/list/44693/"},"44693/",{"$f":"treatment!K21","v":"00:00:00"},{"$f":"treatment!L21","v":"00:00:00"},null,"44693",{"$f":"treatment!H21","v":"2018-12-04T07:08:00"},{"$f":"treatment!I21","v":"2019-02-13T19:10:00"},{"$f":"treatment!J21","v":"00:00:00"},null,{"$f":"classification!G21","v":1},{"$f":"classification!H21","v":"OperationsLaunch"}]
[{"$f":"treatment!A22","v":"https://www.uber.com/careers/list/44678/"},{"$f":"RIGHT(A22, LEN(A22)-34)","v":"44678/"},{"$f":"treatment!K22","v":"00:00:00"},{"$f":"treatment!L22","v":"00:00:00"},null,{"$f":"LEFT(B22, LEN(B22)-1)","v":"44678"},{"$f":"treatment!H22","v":"2018-12-04T07:08:00"},{"$f":"treatment!I22","v":"2019-02-12T10:55:00"},{"$f":"treatment!J22","v":"00:00:00"},null,{"$f":"classification!G22","v":3},{"$f":"classification!H22","v":"Engineering"}]
[{"$f":"treatment!A23","v":"https://www.uber.com/careers/list/44729/"},{"$f":"RIGHT(A23, LEN(A23)-34)","v":"44729/"},{"$f":"treatment!K23","v":"00:00:00"},{"$f":"treatment!L23","v":"00:00:00"},null,{"$f":"LEFT(B23, LEN(B23)-1)","v":"44729"},{"$f":"treatment!H23","v":"2018-12-04T07:08:00"},{"$f":"treatment!I23","v":"2019-04-11T14:00:00"},{"$f":"treatment!J23","v":"00:00:00"},null,{"$f":"classification!G23","v":3},{"$f":"classification!H23","v":"AdvancedTechnologiesGroup"}]
[{"$f":"treatment!A24","v":"https://www.uber.com/careers/list/44703/"},{"$f":"RIGHT(A24, LEN(A24)-34)","v":"44703/"},{"$f":"treatment!K24","v":"00:00:00"},{"$f":"treatment!L24","v":"00:00:00"},null,{"$f":"LEFT(B24, LEN(B24)-1)","v":"44703"},{"$f":"treatment!H24","v":"2018-11-29T10:16:00"},{"$f":"treatment!I24","v":"2019-02-05T11:16:00"},{"$f":"treatment!J24","v":"00:00:00"},null,{"$f":"classification!G24","v":1},{"$f":"classification!H24","v":"OperationsLaunch"}]
[{"$f":"treatment!A25","v":"https://www.uber.com/careers/list/36258/"},"36258/",{"$f":"treatment!K25","v":"00:00:00"},{"$f":"treatment!L25","v":"00:00:00"},null,"36258",{"$f":"treatment!H25","v":"2018-11-29T10:16:00"},{"$f":"treatment!I25","v":"2019-03-07T13:45:00"},{"$f":"treatment!J25","v":"00:00:00"},null,{"$f":"classification!G25","v":1},{"$f":"classification!H25","v":"AdvancedTechnologiesGroup"}]
[{"$f":"treatment!A26","v":"https://www.uber.com/careers/list/44645/"},{"$f":"RIGHT(A26, LEN(A26)-34)","v":"44645/"},{"$f":"treatment!K26","v":"00:00:00"},{"$f":"treatment!L26","v":"00:00:00"},null,{"$f":"LEFT(B26, LEN(B26)-1)","v":"44645"},{"$f":"treatment!H26","v":"2018-11-29T10:16:00"},{"$f":"treatment!I26","v":"2019-02-12T10:55:00"},{"$f":"treatment!J26","v":"00:00:00"},null,{"$f":"classification!G26","v":1},{"$f":"classification!H26","v":"Engineering"}]
[{"$f":"treatment!A27","v":"https://www.uber.com/careers/list/44478/"},"44478/",{"$f":"treatment!K27","v":"00:00:00"},{"$f":"treatment!L27","v":"00:00:00"},null,"44478",{"$f":"treatment!H27","v":"2018-11-29T10:16:00"},{"$f":"treatment!I27","v":"2019-02-12T10:55:00"},{"$f":"treatment!J27","v":"00:00:00"},null,{"$f":"classification!G27","v":1},{"$f":"classification!H27","v":"Legal"}]
[{"$f":"treatment!A28","v":"https://www.uber.com/careers/list/44417/"},"44417/",{"$f":"treatment!K28","v":"00:00:00"},{"$f":"treatment!L28","v":"00:00:00"},null,"44417",{"$f":"treatment!H28","v":"2018-11-29T10:16:00"},{"$f":"treatment!I28","v":"2018-12-15T08:50:00"},{"$f":"treatment!J28","v":"00:00:00"},null,{"$f":"classification!G28","v":3},{"$f":"classification!H28","v":"BusinessSales"}]
[{"$f":"treatment!A29","v":"https://www.uber.com/careers/list/44481/"},{"$f":"RIGHT(A29, LEN(A29)-34)","v":"44481/"},{"$f":"treatment!K29","v":"00:00:00"},{"$f":"treatment!L29","v":"00:00:00"},null,{"$f":"LEFT(B29, LEN(B29)-1)","v":"44481"},{"$f":"treatment!H29","v":"2018-11-29T10:16:00"},{"$f":"treatment!I29","v":"00:00:00"},{"$f":"treatment!J29","v":"00:00:00"},null,{"$f":"classification!G29","v":1},{"$f":"classification!H29","v":"BusinessSales"}]
[{"$f":"treatment!A30","v":"https://www.uber.com/careers/list/44488/"},{"$f":"RIGHT(A30, LEN(A30)-34)","v":"44488/"},{"$f":"treatment!K30","v":"2018-12-04T07:15:00"},{"$f":"treatment!L30","v":"00:00:00"},null,{"$f":"LEFT(B30, LEN(B30)-1)","v":"44488"},{"$f":"treatment!H30","v":"2018-11-29T10:16:00"},{"$f":"treatment!I30","v":"00:00:00"},{"$f":"treatment!J30","v":"2018-12-10T08:23:00"},"2018-12-03T09:10:00",{"$f":"classification!G30","v":3},{"$f":"classification!H30","v":"OperationsLaunch"}]
[{"$f":"treatment!A31","v":"https://www.uber.com/careers/list/40376/"},{"$f":"RIGHT(A31, LEN(A31)-34)","v":"40376/"},{"$f":"treatment!K31","v":"00:00:00"},{"$f":"treatment!L31","v":"00:00:00"},null,{"$f":"LEFT(B31, LEN(B31)-1)","v":"40376"},{"$f":"treatment!H31","v":"2018-11-29T10:16:00"},{"$f":"treatment!I31","v":"2019-05-20T22:00:00"},{"$f":"treatment!J31","v":"00:00:00"},null,{"$f":"classification!G31","v":1},{"$f":"classification!H31","v":"Engineering"}]
[{"$f":"treatment!A32","v":"https://www.uber.com/careers/list/44424/"},"44424/",{"$f":"treatment!K32","v":"00:00:00"},{"$f":"treatment!L32","v":"00:00:00"},null,"44424",{"$f":"treatment!H32","v":"2018-11-29T10:16:00"},{"$f":"treatment!I32","v":"2019-02-14T19:10:00"},{"$f":"treatment!J32","v":"00:00:00"},null,{"$f":"classification!G32","v":3},{"$f":"classification!H32","v":"FinanceAccounting"}]
[{"$f":"treatment!A33","v":"https://www.uber.com/careers/list/44319/"},{"$f":"RIGHT(A33, LEN(A33)-34)","v":"44319/"},{"$f":"treatment!K33","v":"00:00:00"},{"$f":"treatment!L33","v":"00:00:00"},null,{"$f":"LEFT(B33, LEN(B33)-1)","v":"44319"},{"$f":"treatment!H33","v":"2018-11-29T10:16:00"},{"$f":"treatment!I33","v":"2019-04-02T21:06:00"},{"$f":"treatment!J33","v":"00:00:00"},null,{"$f":"classification!G33","v":3},{"$f":"classification!H33","v":"BusinessSales"}]
[{"$f":"treatment!A34","v":"https://www.uber.com/careers/list/44313/"},{"$f":"RIGHT(A34, LEN(A34)-34)","v":"44313/"},{"$f":"treatment!K34","v":"2018-11-15T17:00:00"},{"$f":"treatment!L34","v":"00:00:00"},null,{"$f":"LEFT(B34, LEN(B34)-1)","v":"44313"},{"$f":"treatment!H34","v":"2018-11-29T10:16:00"},{"$f":"treatment!I34","v":"2018-11-30T15:50:00"},{"$f":"treatment!J34","v":"2018-12-04T07:08:00"},"2018-11-14T12:00:00",{"$f":"classification!G34","v":1},{"$f":"classification!H34","v":"Legal"}]
[{"$f":"treatment!A35","v":"https://www.uber.com/careers/list/34350/"},"34350/",{"$f":"treatment!K35","v":"00:00:00"},{"$f":"treatment!L35","v":"00:00:00"},null,"34350",{"$f":"treatment!H35","v":"2018-11-29T10:16:00"},{"$f":"treatment!I35","v":"2019-03-16T08:35:00"},{"$f":"treatment!J35","v":"00:00:00"},null,{"$f":"classification!G35","v":1},{"$f":"classification!H35","v":"Engineering"}]
[{"$f":"treatment!A36","v":"https://www.uber.com/careers/list/44255/"},{"$f":"RIGHT(A36, LEN(A36)-34)","v":"44255/"},{"$f":"treatment!K36","v":"00:00:00"},{"$f":"treatment!L36","v":"00:00:00"},null,{"$f":"LEFT(B36, LEN(B36)-1)","v":"44255"},{"$f":"treatment!H36","v":"2018-11-29T10:16:00"},{"$f":"treatment!I36","v":"2019-01-23T06:05:00"},{"$f":"treatment!J36","v":"00:00:00"},null,{"$f":"classification!G36","v":1},{"$f":"classification!H36","v":"Legal"}]
[{"$f":"treatment!A37","v":"https://www.uber.com/careers/list/44213/"},"44213/",{"$f":"treatment!K37","v":"00:00:00"},{"$f":"treatment!L37","v":"00:00:00"},null,"44213",{"$f":"treatment!H37","v":"2018-11-29T10:16:00"},{"$f":"treatment!I37","v":"00:00:00"},{"$f":"treatment!J37","v":"00:00:00"},null,{"$f":"classification!G37","v":3},{"$f":"classification!H37","v":"Engineering"}]
[{"$f":"treatment!A38","v":"https://www.uber.com/careers/list/44077/"},"44077/",{"$f":"treatment!K38","v":"00:00:00"},{"$f":"treatment!L38","v":"00:00:00"},null,"44077",{"$f":"treatment!H38","v":"2018-11-29T10:16:00"},{"$f":"treatment!I38","v":"2019-02-12T10:55:00"},{"$f":"treatment!J38","v":"00:00:00"},null,{"$f":"classification!G38","v":1},{"$f":"classification!H38","v":"Product"}]
[{"$f":"treatment!A39","v":"https://www.uber.com/careers/list/44126/"},{"$f":"RIGHT(A39, LEN(A39)-34)","v":"44126/"},{"$f":"treatment!K39","v":"00:00:00"},{"$f":"treatment!L39","v":"00:00:00"},null,{"$f":"LEFT(B39, LEN(B39)-1)","v":"44126"},{"$f":"treatment!H39","v":"2018-11-07T11:33:00"},{"$f":"treatment!I39","v":"2019-03-07T13:45:00"},{"$f":"treatment!J39","v":"00:00:00"},null,{"$f":"classification!G39","v":3},{"$f":"classification!H39","v":"AdvancedTechnologiesGroup"}]
[{"$f":"treatment!A40","v":"https://www.uber.com/careers/list/44109/"},{"$f":"RIGHT(A40, LEN(A40)-34)","v":"44109/"},{"$f":"treatment!K40","v":"00:00:00"},{"$f":"treatment!L40","v":"00:00:00"},null,{"$f":"LEFT(B40, LEN(B40)-1)","v":"44109"},{"$f":"treatment!H40","v":"2018-11-07T11:33:00"},{"$f":"treatment!I40","v":"2019-01-26T07:05:00"},{"$f":"treatment!J40","v":"00:00:00"},null,{"$f":"classification!G40","v":1},{"$f":"classification!H40","v":"Legal"}]
[{"$f":"treatment!A41","v":"https://www.uber.com/careers/list/44105/"},"44105/",{"$f":"treatment!K41","v":"00:00:00"},{"$f":"treatment!L41","v":"00:00:00"},null,"44105",{"$f":"treatment!H41","v":"2018-11-07T11:33:00"},{"$f":"treatment!I41","v":"2019-03-02T10:45:00"},{"$f":"treatment!J41","v":"00:00:00"},null,{"$f":"classification!G41","v":1},{"$f":"classification!H41","v":"Legal"}]
[{"$f":"treatment!A42","v":"https://www.uber.com/careers/list/44082/"},"44082/",{"$f":"treatment!K42","v":"00:00:00"},{"$f":"treatment!L42","v":"00:00:00"},null,"44082",{"$f":"treatment!H42","v":"2018-11-07T11:33:00"},{"$f":"treatment!I42","v":"00:00:00"},{"$f":"treatment!J42","v":"00:00:00"},null,{"$f":"classification!G42","v":1},{"$f":"classification!H42","v":"Engineering"}]
[{"$f":"treatment!A43","v":"https://www.uber.com/careers/list/44080/"},"44080/",{"$f":"treatment!K43","v":"00:00:00"},{"$f":"treatment!L43","v":"00:00:00"},null,"44080",{"$f":"treatment!H43","v":"2018-11-07T11:33:00"},{"$f":"treatment!I43","v":"2019-03-08T18:45:00"},{"$f":"treatment!J43","v":"00:00:00"},null,{"$f":"classification!G43","v":1},{"$f":"classification!H43","v":"Product"}]
[{"$f":"treatment!A44","v":"https://www.uber.com/careers/list/43985/"},"43985/",{"$f":"treatment!K44","v":"00:00:00"},{"$f":"treatment!L44","v":"00:00:00"},null,"43985",{"$f":"treatment!H44","v":"2018-11-07T11:33:00"},{"$f":"treatment!I44","v":"2018-11-13T20:52:00"},{"$f":"treatment!J44","v":"2018-12-04T07:08:00"},null,{"$f":"classification!G44","v":1},{"$f":"classification!H44","v":"Legal"}]
[{"$f":"treatment!A45","v":"https://www.uber.com/careers/list/43969/"},"43969/",{"$f":"treatment!K45","v":"00:00:00"},{"$f":"treatment!L45","v":"00:00:00"},null,"43969",{"$f":"treatment!H45","v":"2018-11-07T11:33:00"},{"$f":"treatment!I45","v":"00:00:00"},{"$f":"treatment!J45","v":"00:00:00"},null,{"$f":"classification!G45","v":1},{"$f":"classification!H45","v":"BusinessSales"}]
[{"$f":"treatment!A46","v":"https://www.uber.com/careers/list/44039/"},{"$f":"RIGHT(A46, LEN(A46)-34)","v":"44039/"},{"$f":"treatment!K46","v":"00:00:00"},{"$f":"treatment!L46","v":"00:00:00"},null,{"$f":"LEFT(B46, LEN(B46)-1)","v":"44039"},{"$f":"treatment!H46","v":"2018-11-07T11:33:00"},{"$f":"treatment!I46","v":"2019-04-09T21:45:00"},{"$f":"treatment!J46","v":"00:00:00"},null,{"$f":"classification!G46","v":3},{"$f":"classification!H46","v":"FinanceAccounting"}]
[{"$f":"treatment!A47","v":"https://www.uber.com/careers/list/43984/"},{"$f":"RIGHT(A47, LEN(A47)-34)","v":"43984/"},{"$f":"treatment!K47","v":"00:00:00"},{"$f":"treatment!L47","v":"00:00:00"},null,{"$f":"LEFT(B47, LEN(B47)-1)","v":"43984"},{"$f":"treatment!H47","v":"2018-11-07T11:33:00"},{"$f":"treatment!I47","v":"2019-03-06T08:05:00"},{"$f":"treatment!J47","v":"00:00:00"},null,{"$f":"classification!G47","v":1},{"$f":"classification!H47","v":"Legal"}]
[{"$f":"treatment!A48","v":"https://www.uber.com/careers/list/43981/"},"43981/",{"$f":"treatment!K48","v":"00:00:00"},{"$f":"treatment!L48","v":"00:00:00"},null,"43981",{"$f":"treatment!H48","v":"2018-11-07T11:33:00"},{"$f":"treatment!I48","v":"2019-01-11T17:20:00"},{"$f":"treatment!J48","v":"00:00:00"},null,{"$f":"classification!G48","v":3},{"$f":"classification!H48","v":"BusinessSales"}]
[{"$f":"treatment!A49","v":"https://www.uber.com/careers/list/43979/"},"43979/",{"$f":"treatment!K49","v":"00:00:00"},{"$f":"treatment!L49","v":"00:00:00"},null,"43979",{"$f":"treatment!H49","v":"2018-11-07T11:33:00"},{"$f":"treatment!I49","v":"2018-12-18T12:45:00"},{"$f":"treatment!J49","v":"00:00:00"},null,{"$f":"classification!G49","v":3},{"$f":"classification!H49","v":"BusinessSales"}]
[{"$f":"treatment!A50","v":"https://www.uber.com/careers/list/43977/"},"43977/",{"$f":"treatment!K50","v":"00:00:00"},{"$f":"treatment!L50","v":"00:00:00"},null,"43977",{"$f":"treatment!H50","v":"2018-11-07T11:33:00"},{"$f":"treatment!I50","v":"2019-01-04T07:40:00"},{"$f":"treatment!J50","v":"00:00:00"},null,{"$f":"classification!G50","v":3},{"$f":"classification!H50","v":"BusinessSales"}]
[{"$f":"treatment!A51","v":"https://www.uber.com/careers/list/43976/"},"43976/",{"$f":"treatment!K51","v":"00:00:00"},{"$f":"treatment!L51","v":"00:00:00"},null,"43976",{"$f":"treatment!H51","v":"2018-11-07T11:33:00"},{"$f":"treatment!I51","v":"2019-01-04T07:40:00"},{"$f":"treatment!J51","v":"00:00:00"},null,{"$f":"classification!G51","v":3},{"$f":"classification!H51","v":"BusinessSales"}]
[{"$f":"treatment!A52","v":"https://www.uber.com/careers/list/43973/"},"43973/",{"$f":"treatment!K52","v":"00:00:00"},{"$f":"treatment!L52","v":"00:00:00"},null,"43973",{"$f":"treatment!H52","v":"2018-11-07T11:33:00"},{"$f":"treatment!I52","v":"2018-12-12T07:30:00"},{"$f":"treatment!J52","v":"00:00:00"},null,{"$f":"classification!G52","v":1},{"$f":"classification!H52","v":"OperationsLaunch"}]
[{"$f":"treatment!A53","v":"https://www.uber.com/careers/list/42244/"},"42244/",{"$f":"treatment!K53","v":"00:00:00"},{"$f":"treatment!L53","v":"00:00:00"},null,"42244",{"$f":"treatment!H53","v":"2018-11-07T11:33:00"},{"$f":"treatment!I53","v":"2019-03-11T22:20:00"},{"$f":"treatment!J53","v":"00:00:00"},null,{"$f":"classification!G53","v":1},{"$f":"classification!H53","v":"Engineering"}]
[{"$f":"treatment!A54","v":"https://www.uber.com/careers/list/43946/"},{"$f":"RIGHT(A54, LEN(A54)-34)","v":"43946/"},{"$f":"treatment!K54","v":"00:00:00"},{"$f":"treatment!L54","v":"00:00:00"},null,{"$f":"LEFT(B54, LEN(B54)-1)","v":"43946"},{"$f":"treatment!H54","v":"2018-10-30T07:19:00"},{"$f":"treatment!I54","v":"2018-11-15T17:00:00"},{"$f":"treatment!J54","v":"2018-12-04T07:08:00"},null,{"$f":"classification!G54","v":3},{"$f":"classification!H54","v":"Legal"}]
[{"$f":"treatment!A55","v":"https://www.uber.com/careers/list/43908/"},"43908/",{"$f":"treatment!K55","v":"00:00:00"},{"$f":"treatment!L55","v":"00:00:00"},null,"43908",{"$f":"treatment!H55","v":"2018-10-30T07:19:00"},{"$f":"treatment!I55","v":"2019-02-13T19:10:00"},{"$f":"treatment!J55","v":"00:00:00"},null,{"$f":"classification!G55","v":3},{"$f":"classification!H55","v":"Product"}]
[{"$f":"treatment!A56","v":"https://www.uber.com/careers/list/43921/"},{"$f":"RIGHT(A56, LEN(A56)-34)","v":"43921/"},{"$f":"treatment!K56","v":"00:00:00"},{"$f":"treatment!L56","v":"00:00:00"},null,{"$f":"LEFT(B56, LEN(B56)-1)","v":"43921"},{"$f":"treatment!H56","v":"2018-10-30T07:19:00"},{"$f":"treatment!I56","v":"2019-02-01T06:20:00"},{"$f":"treatment!J56","v":"00:00:00"},null,{"$f":"classification!G56","v":3},{"$f":"classification!H56","v":"GlobalCommunityOperations"}]
[{"$f":"treatment!A57","v":"https://www.uber.com/careers/list/43909/"},"43909/",{"$f":"treatment!K57","v":"00:00:00"},{"$f":"treatment!L57","v":"00:00:00"},null,"43909",{"$f":"treatment!H57","v":"2018-10-30T07:19:00"},{"$f":"treatment!I57","v":"2019-02-12T10:55:00"},{"$f":"treatment!J57","v":"00:00:00"},null,{"$f":"classification!G57","v":3},{"$f":"classification!H57","v":"Engineering"}]
[{"$f":"treatment!A58","v":"https://www.uber.com/careers/list/43906/"},"43906/",{"$f":"treatment!K58","v":"00:00:00"},{"$f":"treatment!L58","v":"00:00:00"},null,"43906",{"$f":"treatment!H58","v":"2018-10-30T07:19:00"},{"$f":"treatment!I58","v":"2018-11-13T20:52:00"},{"$f":"treatment!J58","v":"2018-12-04T07:08:00"},null,{"$f":"classification!G58","v":1},{"$f":"classification!H58","v":"OperationsLaunch"}]
[{"$f":"treatment!A59","v":"https://www.uber.com/careers/list/43898/"},"43898/",{"$f":"treatment!K59","v":"00:00:00"},{"$f":"treatment!L59","v":"00:00:00"},null,"43898",{"$f":"treatment!H59","v":"2018-10-30T07:19:00"},{"$f":"treatment!I59","v":"2019-01-18T09:05:00"},{"$f":"treatment!J59","v":"00:00:00"},null,{"$f":"classification!G59","v":3},{"$f":"classification!H59","v":"FinanceAccounting"}]
[{"$f":"treatment!A60","v":"https://www.uber.com/careers/list/43857/"},"43857/",{"$f":"treatment!K60","v":"00:00:00"},{"$f":"treatment!L60","v":"00:00:00"},null,"43857",{"$f":"treatment!H60","v":"2018-10-30T07:19:00"},{"$f":"treatment!I60","v":"2018-12-14T06:45:00"},{"$f":"treatment!J60","v":"00:00:00"},null,{"$f":"classification!G60","v":3},{"$f":"classification!H60","v":"GlobalCommunityOperations"}]
[{"$f":"treatment!A61","v":"https://www.uber.com/careers/list/43841/"},"43841/",{"$f":"treatment!K61","v":"00:00:00"},{"$f":"treatment!L61","v":"00:00:00"},null,"43841",{"$f":"treatment!H61","v":"2018-10-30T07:19:00"},{"$f":"treatment!I61","v":"2019-02-14T19:10:00"},{"$f":"treatment!J61","v":"00:00:00"},null,{"$f":"classification!G61","v":3},{"$f":"classification!H61","v":"Engineering"}]
[{"$f":"treatment!A62","v":"https://www.uber.com/careers/list/43493/"},{"$f":"RIGHT(A62, LEN(A62)-34)","v":"43493/"},{"$f":"treatment!K62","v":"00:00:00"},{"$f":"treatment!L62","v":"00:00:00"},null,{"$f":"LEFT(B62, LEN(B62)-1)","v":"43493"},{"$f":"treatment!H62","v":"2018-10-30T07:19:00"},{"$f":"treatment!I62","v":"2019-04-15T09:15:00"},{"$f":"treatment!J62","v":"00:00:00"},null,{"$f":"classification!G62","v":3},{"$f":"classification!H62","v":"Marketing"}]
[{"$f":"treatment!A63","v":"https://www.uber.com/careers/list/43800/"},"43800/",{"$f":"treatment!K63","v":"00:00:00"},{"$f":"treatment!L63","v":"00:00:00"},null,"43800",{"$f":"treatment!H63","v":"2018-10-30T07:19:00"},{"$f":"treatment!I63","v":"2018-12-31T09:55:00"},{"$f":"treatment!J63","v":"00:00:00"},null,{"$f":"classification!G63","v":3},{"$f":"classification!H63","v":"Legal"}]
[{"$f":"treatment!A64","v":"https://www.uber.com/careers/list/43751/"},"43751/",{"$f":"treatment!K64","v":"00:00:00"},{"$f":"treatment!L64","v":"00:00:00"},null,"43751",{"$f":"treatment!H64","v":"2018-10-30T07:19:00"},{"$f":"treatment!I64","v":"2018-11-08T11:45:00"},{"$f":"treatment!J64","v":"2018-11-15T14:48:00"},null,{"$f":"classification!G64","v":1},{"$f":"classification!H64","v":"Engineering"}]
[{"$f":"treatment!A65","v":"https://www.uber.com/careers/list/43694/"},"43694/",{"$f":"treatment!K65","v":"00:00:00"},{"$f":"treatment!L65","v":"00:00:00"},null,"43694",{"$f":"treatment!H65","v":"2018-10-30T07:19:00"},{"$f":"treatment!I65","v":"2019-02-13T19:10:00"},{"$f":"treatment!J65","v":"00:00:00"},null,{"$f":"classification!G65","v":3},{"$f":"classification!H65","v":"Product"}]
[{"$f":"treatment!A66","v":"https://www.uber.com/careers/list/43785/"},"43785/",{"$f":"treatment!K66","v":"00:00:00"},{"$f":"treatment!L66","v":"00:00:00"},null,"43785",{"$f":"treatment!H66","v":"2018-10-30T07:19:00"},{"$f":"treatment!I66","v":"2018-11-12T19:45:00"},{"$f":"treatment!J66","v":"2018-12-04T07:08:00"},null,{"$f":"classification!G66","v":1},{"$f":"classification!H66","v":"GlobalCommunityOperations"}]
[{"$f":"treatment!A67","v":"https://www.uber.com/careers/list/43756/"},"43756/",{"$f":"treatment!K67","v":"00:00:00"},{"$f":"treatment!L67","v":"00:00:00"},null,"43756",{"$f":"treatment!H67","v":"2018-10-30T07:19:00"},{"$f":"treatment!I67","v":"2019-01-08T07:15:00"},{"$f":"treatment!J67","v":"00:00:00"},null,{"$f":"classification!G67","v":1},{"$f":"classification!H67","v":"Engineering"}]
[{"$f":"treatment!A68","v":"https://www.uber.com/careers/list/43749/"},"43749/",{"$f":"treatment!K68","v":"00:00:00"},{"$f":"treatment!L68","v":"00:00:00"},null,"43749",{"$f":"treatment!H68","v":"2018-10-30T07:19:00"},{"$f":"treatment!I68","v":"2019-03-07T13:45:00"},{"$f":"treatment!J68","v":"00:00:00"},null,{"$f":"classification!G68","v":1},{"$f":"classification!H68","v":"Engineering"}]
[{"$f":"treatment!A69","v":"https://www.uber.com/careers/list/43748/"},"43748/",{"$f":"treatment!K69","v":"00:00:00"},{"$f":"treatment!L69","v":"00:00:00"},null,"43748",{"$f":"treatment!H69","v":"2018-10-30T07:19:00"},{"$f":"treatment!I69","v":"2018-12-11T08:50:00"},{"$f":"treatment!J69","v":"00:00:00"},null,{"$f":"classification!G69","v":1},{"$f":"classification!H69","v":"Product"}]
[{"$f":"treatment!A70","v":"https://www.uber.com/careers/list/43522/"},"43522/",{"$f":"treatment!K70","v":"00:00:00"},{"$f":"treatment!L70","v":"00:00:00"},null,"43522",{"$f":"treatment!H70","v":"2018-10-30T07:19:00"},{"$f":"treatment!I70","v":"00:00:00"},{"$f":"treatment!J70","v":"00:00:00"},null,{"$f":"classification!G70","v":3},{"$f":"classification!H70","v":"Engineering"}]
[{"$f":"treatment!A71","v":"https://www.uber.com/careers/list/43641/"},"43641/",{"$f":"treatment!K71","v":"00:00:00"},{"$f":"treatment!L71","v":"00:00:00"},null,"43641",{"$f":"treatment!H71","v":"2018-10-23T06:21:00"},{"$f":"treatment!I71","v":"2019-01-26T07:05:00"},{"$f":"treatment!J71","v":"00:00:00"},null,{"$f":"classification!G71","v":1},{"$f":"classification!H71","v":"Product"}]
[{"$f":"treatment!A72","v":"https://www.uber.com/careers/list/43593/"},"43593/",{"$f":"treatment!K72","v":"00:00:00"},{"$f":"treatment!L72","v":"00:00:00"},null,"43593",{"$f":"treatment!H72","v":"2018-10-23T06:21:00"},{"$f":"treatment!I72","v":"2018-12-19T18:20:00"},{"$f":"treatment!J72","v":"00:00:00"},null,{"$f":"classification!G72","v":3},{"$f":"classification!H72","v":"FinanceAccounting"}]
[{"$f":"treatment!A73","v":"https://www.uber.com/careers/list/43479/"},"43479/",{"$f":"treatment!K73","v":"00:00:00"},{"$f":"treatment!L73","v":"00:00:00"},null,"43479",{"$f":"treatment!H73","v":"2018-10-23T06:21:00"},{"$f":"treatment!I73","v":"2019-01-05T06:20:00"},{"$f":"treatment!J73","v":"00:00:00"},null,{"$f":"classification!G73","v":3},{"$f":"classification!H73","v":"Engineering"}]
[{"$f":"treatment!A74","v":"https://www.uber.com/careers/list/43617/"},"43617/",{"$f":"treatment!K74","v":"00:00:00"},{"$f":"treatment!L74","v":"00:00:00"},null,"43617",{"$f":"treatment!H74","v":"2018-10-23T06:21:00"},{"$f":"treatment!I74","v":"2018-11-09T11:50:00"},{"$f":"treatment!J74","v":"2018-12-04T07:08:00"},null,{"$f":"classification!G74","v":1},{"$f":"classification!H74","v":"OperationsLaunch"}]
[{"$f":"treatment!A75","v":"https://www.uber.com/careers/list/43602/"},"43602/",{"$f":"treatment!K75","v":"00:00:00"},{"$f":"treatment!L75","v":"00:00:00"},null,"43602",{"$f":"treatment!H75","v":"2018-10-23T06:21:00"},{"$f":"treatment!I75","v":"2019-01-16T12:05:00"},{"$f":"treatment!J75","v":"00:00:00"},null,{"$f":"classification!G75","v":3},{"$f":"classification!H75","v":"FinanceAccounting"}]
[{"$f":"treatment!A76","v":"https://www.uber.com/careers/list/43590/"},"43590/",{"$f":"treatment!K76","v":"00:00:00"},{"$f":"treatment!L76","v":"00:00:00"},null,"43590",{"$f":"treatment!H76","v":"2018-10-23T06:21:00"},{"$f":"treatment!I76","v":"2019-01-29T06:50:00"},{"$f":"treatment!J76","v":"00:00:00"},null,{"$f":"classification!G76","v":3},{"$f":"classification!H76","v":"GlobalCommunityOperations"}]
[{"$f":"treatment!A77","v":"https://www.uber.com/careers/list/43586/"},"43586/",{"$f":"treatment!K77","v":"00:00:00"},{"$f":"treatment!L77","v":"00:00:00"},null,"43586",{"$f":"treatment!H77","v":"2018-10-23T06:21:00"},{"$f":"treatment!I77","v":"2018-12-01T11:35:00"},{"$f":"treatment!J77","v":"2018-12-10T08:23:00"},null,{"$f":"classification!G77","v":3},{"$f":"classification!H77","v":"Legal"}]
[{"$f":"treatment!A78","v":"https://www.uber.com/careers/list/43585/"},"43585/",{"$f":"treatment!K78","v":"00:00:00"},{"$f":"treatment!L78","v":"00:00:00"},null,"43585",{"$f":"treatment!H78","v":"2018-10-23T06:21:00"},{"$f":"treatment!I78","v":"2019-02-08T09:12:00"},{"$f":"treatment!J78","v":"00:00:00"},null,{"$f":"classification!G78","v":3},{"$f":"classification!H78","v":"Engineering"}]
[{"$f":"treatment!A79","v":"https://www.uber.com/careers/list/43583/"},"43583/",{"$f":"treatment!K79","v":"00:00:00"},{"$f":"treatment!L79","v":"00:00:00"},null,"43583",{"$f":"treatment!H79","v":"2018-10-23T06:21:00"},{"$f":"treatment!I79","v":"2018-12-12T07:30:00"},{"$f":"treatment!J79","v":"00:00:00"},null,{"$f":"classification!G79","v":3},{"$f":"classification!H79","v":"Engineering"}]
[{"$f":"treatment!A80","v":"https://www.uber.com/careers/list/42380/"},"42380/",{"$f":"treatment!K80","v":"00:00:00"},{"$f":"treatment!L80","v":"00:00:00"},null,"42380",{"$f":"treatment!H80","v":"2018-10-23T06:21:00"},{"$f":"treatment!I80","v":"2018-12-04T07:15:00"},{"$f":"treatment!J80","v":"2018-12-10T08:23:00"},null,{"$f":"classification!G80","v":3},{"$f":"classification!H80","v":"Engineering"}]
[{"$f":"treatment!A81","v":"https://www.uber.com/careers/list/43559/"},"43559/",{"$f":"treatment!K81","v":"00:00:00"},{"$f":"treatment!L81","v":"00:00:00"},null,"43559",{"$f":"treatment!H81","v":"2018-10-23T06:21:00"},{"$f":"treatment!I81","v":"2019-01-08T07:15:00"},{"$f":"treatment!J81","v":"00:00:00"},null,{"$f":"classification!G81","v":3},{"$f":"classification!H81","v":"GlobalCommunityOperations"}]
[{"$f":"treatment!A82","v":"https://www.uber.com/careers/list/43529/"},"43529/",{"$f":"treatment!K82","v":"00:00:00"},{"$f":"treatment!L82","v":"00:00:00"},null,"43529",{"$f":"treatment!H82","v":"2018-10-23T06:21:00"},{"$f":"treatment!I82","v":"2018-11-19T18:40:00"},{"$f":"treatment!J82","v":"2018-12-04T07:08:00"},null,{"$f":"classification!G82","v":1},{"$f":"classification!H82","v":"FinanceAccounting"}]
[{"$f":"treatment!A83","v":"https://www.uber.com/careers/list/43449/"},"43449/",{"$f":"treatment!K83","v":"00:00:00"},{"$f":"treatment!L83","v":"00:00:00"},null,"43449",{"$f":"treatment!H83","v":"2018-10-23T06:21:00"},{"$f":"treatment!I83","v":"2019-02-05T11:16:00"},{"$f":"treatment!J83","v":"00:00:00"},null,{"$f":"classification!G83","v":3},{"$f":"classification!H83","v":"PeopleOperations"}]
[{"$f":"treatment!A84","v":"https://www.uber.com/careers/list/41394/"},"41394/",{"$f":"treatment!K84","v":"00:00:00"},{"$f":"treatment!L84","v":"00:00:00"},null,"41394",{"$f":"treatment!H84","v":"2018-10-23T06:21:00"},{"$f":"treatment!I84","v":"2018-12-19T18:20:00"},{"$f":"treatment!J84","v":"00:00:00"},null,{"$f":"classification!G84","v":3},{"$f":"classification!H84","v":"Engineering"}]
[{"$f":"treatment!A85","v":"https://www.uber.com/careers/list/43554/"},"43554/",{"$f":"treatment!K85","v":"00:00:00"},{"$f":"treatment!L85","v":"00:00:00"},null,"43554",{"$f":"treatment!H85","v":"2018-10-23T06:21:00"},{"$f":"treatment!I85","v":"2018-11-13T20:52:00"},{"$f":"treatment!J85","v":"2018-12-04T07:08:00"},null,{"$f":"classification!G85","v":1},{"$f":"classification!H85","v":"FinanceAccounting"}]
[{"$f":"treatment!A86","v":"https://www.uber.com/careers/list/43513/"},{"$f":"RIGHT(A86, LEN(A86)-34)","v":"43513/"},{"$f":"treatment!K86","v":"00:00:00"},{"$f":"treatment!L86","v":"00:00:00"},null,{"$f":"LEFT(B86, LEN(B86)-1)","v":"43513"},{"$f":"treatment!H86","v":"2018-10-23T06:21:00"},{"$f":"treatment!I86","v":"2018-11-14T12:00:00"},{"$f":"treatment!J86","v":"2018-12-04T07:08:00"},null,{"$f":"classification!G86","v":1},{"$f":"classification!H86","v":"Legal"}]
[{"$f":"treatment!A87","v":"https://www.uber.com/careers/list/43494/"},{"$f":"RIGHT(A87, LEN(A87)-34)","v":"43494/"},{"$f":"treatment!K87","v":"2018-10-26T15:35:00"},{"$f":"treatment!L87","v":"00:00:00"},null,{"$f":"LEFT(B87, LEN(B87)-1)","v":"43494"},{"$f":"treatment!H87","v":"2018-10-16T07:51:00"},{"$f":"treatment!I87","v":"2019-01-18T09:05:00"},{"$f":"treatment!J87","v":"2018-11-07T11:33:00"},"2018-10-25T11:30:00",{"$f":"classification!G87","v":1},{"$f":"classification!H87","v":"FinanceAccounting"}]
[{"$f":"treatment!A88","v":"https://www.uber.com/careers/list/43486/"},"43486/",{"$f":"treatment!K88","v":"00:00:00"},{"$f":"treatment!L88","v":"00:00:00"},null,"43486",{"$f":"treatment!H88","v":"2018-10-16T07:51:00"},{"$f":"treatment!I88","v":"2019-03-27T15:43:00"},{"$f":"treatment!J88","v":"00:00:00"},null,{"$f":"classification!G88","v":1},{"$f":"classification!H88","v":"PeopleOperations"}]
[{"$f":"treatment!A89","v":"https://www.uber.com/careers/list/43477/"},"43477/",{"$f":"treatment!K89","v":"00:00:00"},{"$f":"treatment!L89","v":"00:00:00"},null,"43477",{"$f":"treatment!H89","v":"2018-10-16T07:51:00"},{"$f":"treatment!I89","v":"2019-01-19T20:15:00"},{"$f":"treatment!J89","v":"00:00:00"},null,{"$f":"classification!G89","v":1},{"$f":"classification!H89","v":"BusinessSales"}]
[{"$f":"treatment!A90","v":"https://www.uber.com/careers/list/43443/"},"43443/",{"$f":"treatment!K90","v":"00:00:00"},{"$f":"treatment!L90","v":"00:00:00"},null,"43443",{"$f":"treatment!H90","v":"2018-10-16T07:51:00"},{"$f":"treatment!I90","v":"2019-02-27T08:00:00"},{"$f":"treatment!J90","v":"00:00:00"},null,{"$f":"classification!G90","v":3},{"$f":"classification!H90","v":"GlobalCommunityOperations"}]
[{"$f":"treatment!A91","v":"https://www.uber.com/careers/list/43218/"},"43218/",{"$f":"treatment!K91","v":"00:00:00"},{"$f":"treatment!L91","v":"00:00:00"},null,"43218",{"$f":"treatment!H91","v":"2018-10-16T07:51:00"},{"$f":"treatment!I91","v":"2019-02-13T19:10:00"},{"$f":"treatment!J91","v":"00:00:00"},null,{"$f":"classification!G91","v":3},{"$f":"classification!H91","v":"Product"}]
[{"$f":"treatment!A92","v":"https://www.uber.com/careers/list/26739/"},"26739/",{"$f":"treatment!K92","v":"00:00:00"},{"$f":"treatment!L92","v":"00:00:00"},null,"26739",{"$f":"treatment!H92","v":"2018-10-16T07:51:00"},{"$f":"treatment!I92","v":"2018-12-08T11:30:00"},{"$f":"treatment!J92","v":"00:00:00"},null,{"$f":"classification!G92","v":3},{"$f":"classification!H92","v":"GlobalCommunityOperations"}]
[{"$f":"treatment!A93","v":"https://www.uber.com/careers/list/43399/"},"43399/",{"$f":"treatment!K93","v":"00:00:00"},{"$f":"treatment!L93","v":"00:00:00"},null,"43399",{"$f":"treatment!H93","v":"2018-10-16T07:51:00"},{"$f":"treatment!I93","v":"2018-11-06T11:00:00"},{"$f":"treatment!J93","v":"2018-11-15T14:48:00"},null,{"$f":"classification!G93","v":3},{"$f":"classification!H93","v":"GlobalCommunityOperations"}]
[{"$f":"treatment!A94","v":"https://www.uber.com/careers/list/43445/"},{"$f":"RIGHT(A94, LEN(A94)-34)","v":"43445/"},{"$f":"treatment!K94","v":"00:00:00"},{"$f":"treatment!L94","v":"00:00:00"},null,{"$f":"LEFT(B94, LEN(B94)-1)","v":"43445"},{"$f":"treatment!H94","v":"2018-10-16T07:51:00"},{"$f":"treatment!I94","v":"2018-10-31T11:20:00"},{"$f":"treatment!J94","v":"2018-11-07T11:33:00"},null,{"$f":"classification!G94","v":3},{"$f":"classification!H94","v":"FinanceAccounting"}]
[{"$f":"treatment!A95","v":"https://www.uber.com/careers/list/43440/"},"43440/",{"$f":"treatment!K95","v":"00:00:00"},{"$f":"treatment!L95","v":"00:00:00"},null,"43440",{"$f":"treatment!H95","v":"2018-10-16T07:51:00"},{"$f":"treatment!I95","v":"00:00:00"},{"$f":"treatment!J95","v":"00:00:00"},null,{"$f":"classification!G95","v":1},{"$f":"classification!H95","v":"Engineering"}]
[{"$f":"treatment!A96","v":"https://www.uber.com/careers/list/43430/"},{"$f":"RIGHT(A96, LEN(A96)-34)","v":"43430/"},{"$f":"treatment!K96","v":"00:00:00"},{"$f":"treatment!L96","v":"00:00:00"},null,{"$f":"LEFT(B96, LEN(B96)-1)","v":"43430"},{"$f":"treatment!H96","v":"2018-10-16T07:51:00"},{"$f":"treatment!I96","v":"2019-01-08T07:15:00"},{"$f":"treatment!J96","v":"00:00:00"},null,{"$f":"classification!G96","v":3},{"$f":"classification!H96","v":"BusinessSales"}]
[{"$f":"treatment!A97","v":"https://www.uber.com/careers/list/43425/"},"43425/",{"$f":"treatment!K97","v":"2018-11-16T08:55:00"},{"$f":"treatment!L97","v":"00:00:00"},null,"43425",{"$f":"treatment!H97","v":"2018-10-16T07:51:00"},{"$f":"treatment!I97","v":"2019-01-15T09:20:00"},{"$f":"treatment!J97","v":"2018-12-04T07:08:00"},"2018-11-15T17:00:00",{"$f":"classification!G97","v":1},{"$f":"classification!H97","v":"GlobalCommunityOperations"}]
[{"$f":"treatment!A98","v":"https://www.uber.com/careers/list/43402/"},"43402/",{"$f":"treatment!K98","v":"00:00:00"},{"$f":"treatment!L98","v":"00:00:00"},null,"43402",{"$f":"treatment!H98","v":"2018-10-16T07:51:00"},{"$f":"treatment!I98","v":"2019-02-14T19:10:00"},{"$f":"treatment!J98","v":"00:00:00"},null,{"$f":"classification!G98","v":1},{"$f":"classification!H98","v":"OperationsLaunch"}]
[{"$f":"treatment!A99","v":"https://www.uber.com/careers/list/43391/"},"43391/",{"$f":"treatment!K99","v":"00:00:00"},{"$f":"treatment!L99","v":"00:00:00"},null,"43391",{"$f":"treatment!H99","v":"2018-10-16T07:51:00"},{"$f":"treatment!I99","v":"2018-12-19T18:20:00"},{"$f":"treatment!J99","v":"00:00:00"},null,{"$f":"classification!G99","v":1},{"$f":"classification!H99","v":"Legal"}]
[{"$f":"treatment!A100","v":"https://www.uber.com/careers/list/43407/"},"43407/",{"$f":"treatment!K100","v":"00:00:00"},{"$f":"treatment!L100","v":"00:00:00"},null,"43407",{"$f":"treatment!H100","v":"2018-10-16T07:51:00"},{"$f":"treatment!I100","v":"2018-10-30T11:50:00"},{"$f":"treatment!J100","v":"2018-11-07T11:33:00"},null,{"$f":"classification!G100","v":1},{"$f":"classification!H100","v":"OperationsLaunch"}]
[{"$f":"treatment!A101","v":"https://www.uber.com/careers/list/43396/"},"43396/",{"$f":"treatment!K101","v":"00:00:00"},{"$f":"treatment!L101","v":"00:00:00"},null,"43396",{"$f":"treatment!H101","v":"2018-10-16T07:51:00"},{"$f":"treatment!I101","v":"2019-03-15T10:40:00"},{"$f":"treatment!J101","v":"00:00:00"},null,{"$f":"classification!G101","v":1},{"$f":"classification!H101","v":"PeopleOperations"}]
[{"$f":"treatment!A102","v":"https://www.uber.com/careers/list/43372/"},{"$f":"RIGHT(A102, LEN(A102)-34)","v":"43372/"},{"$f":"treatment!K102","v":"00:00:00"},{"$f":"treatment!L102","v":"00:00:00"},null,{"$f":"LEFT(B102, LEN(B102)-1)","v":"43372"},{"$f":"treatment!H102","v":"2018-10-16T07:51:00"},{"$f":"treatment!I102","v":"2018-11-09T11:50:00"},{"$f":"treatment!J102","v":"2018-12-04T07:08:00"},null,{"$f":"classification!G102","v":1},{"$f":"classification!H102","v":"OperationsLaunch"}]
[{"$f":"treatment!A103","v":"https://www.uber.com/careers/list/43342/"},"43342/",{"$f":"treatment!K103","v":"00:00:00"},{"$f":"treatment!L103","v":"00:00:00"},null,"43342",{"$f":"treatment!H103","v":"2018-10-16T07:51:00"},{"$f":"treatment!I103","v":"2019-05-04T08:40:00"},{"$f":"treatment!J103","v":"00:00:00"},null,{"$f":"classification!G103","v":3},{"$f":"classification!H103","v":"PeopleOperations"}]
[{"$f":"treatment!A104","v":"https://www.uber.com/careers/list/43276/"},{"$f":"RIGHT(A104, LEN(A104)-34)","v":"43276/"},{"$f":"treatment!K104","v":"00:00:00"},{"$f":"treatment!L104","v":"00:00:00"},null,{"$f":"LEFT(B104, LEN(B104)-1)","v":"43276"},{"$f":"treatment!H104","v":"2018-10-16T07:51:00"},{"$f":"treatment!I104","v":"2018-12-18T12:45:00"},{"$f":"treatment!J104","v":"00:00:00"},null,{"$f":"classification!G104","v":3},{"$f":"classification!H104","v":"Engineering"}]
[{"$f":"treatment!A105","v":"https://www.uber.com/careers/list/43275/"},"43275/",{"$f":"treatment!K105","v":"00:00:00"},{"$f":"treatment!L105","v":"00:00:00"},null,"43275",{"$f":"treatment!H105","v":"2018-10-16T07:51:00"},{"$f":"treatment!I105","v":"2019-05-22T16:00:00"},{"$f":"treatment!J105","v":"00:00:00"},null,{"$f":"classification!G105","v":3},{"$f":"classification!H105","v":"Engineering"}]
[{"$f":"treatment!A106","v":"https://www.uber.com/careers/list/32412/"},"32412/",{"$f":"treatment!K106","v":"00:00:00"},{"$f":"treatment!L106","v":"00:00:00"},null,"32412",{"$f":"treatment!H106","v":"2018-10-16T07:51:00"},{"$f":"treatment!I106","v":"2019-01-25T06:50:00"},{"$f":"treatment!J106","v":"00:00:00"},null,{"$f":"classification!G106","v":3},{"$f":"classification!H106","v":"Engineering"}]
[{"$f":"treatment!A107","v":"https://www.uber.com/careers/list/40838/"},{"$f":"RIGHT(A107, LEN(A107)-34)","v":"40838/"},{"$f":"treatment!K107","v":"00:00:00"},{"$f":"treatment!L107","v":"00:00:00"},null,{"$f":"LEFT(B107, LEN(B107)-1)","v":"40838"},{"$f":"treatment!H107","v":"2018-10-08T12:55:00"},{"$f":"treatment!I107","v":"2019-01-10T09:15:00"},{"$f":"treatment!J107","v":"00:00:00"},null,{"$f":"classification!G107","v":3},{"$f":"classification!H107","v":"Engineering"}]
[{"$f":"treatment!A108","v":"https://www.uber.com/careers/list/43294/"},"43294/",{"$f":"treatment!K108","v":"00:00:00"},{"$f":"treatment!L108","v":"00:00:00"},null,"43294",{"$f":"treatment!H108","v":"2018-10-08T12:55:00"},{"$f":"treatment!I108","v":"2018-12-19T18:20:00"},{"$f":"treatment!J108","v":"00:00:00"},null,{"$f":"classification!G108","v":3},{"$f":"classification!H108","v":"Legal"}]
[{"$f":"treatment!A109","v":"https://www.uber.com/careers/list/43293/"},"43293/",{"$f":"treatment!K109","v":"00:00:00"},{"$f":"treatment!L109","v":"00:00:00"},null,"43293",{"$f":"treatment!H109","v":"2018-10-08T12:55:00"},{"$f":"treatment!I109","v":"2019-01-30T07:30:00"},{"$f":"treatment!J109","v":"00:00:00"},null,{"$f":"classification!G109","v":3},{"$f":"classification!H109","v":"Legal"}]
[{"$f":"treatment!A110","v":"https://www.uber.com/careers/list/43260/"},{"$f":"RIGHT(A110, LEN(A110)-34)","v":"43260/"},{"$f":"treatment!K110","v":"00:00:00"},{"$f":"treatment!L110","v":"00:00:00"},null,{"$f":"LEFT(B110, LEN(B110)-1)","v":"43260"},{"$f":"treatment!H110","v":"2018-10-08T12:55:00"},{"$f":"treatment!I110","v":"2019-01-11T17:20:00"},{"$f":"treatment!J110","v":"00:00:00"},null,{"$f":"classification!G110","v":1},{"$f":"classification!H110","v":"FinanceAccounting"}]
[{"$f":"treatment!A111","v":"https://www.uber.com/careers/list/43206/"},"43206/",{"$f":"treatment!K111","v":"00:00:00"},{"$f":"treatment!L111","v":"00:00:00"},null,"43206",{"$f":"treatment!H111","v":"2018-10-08T12:55:00"},{"$f":"treatment!I111","v":"2019-02-15T13:15:00"},{"$f":"treatment!J111","v":"00:00:00"},null,{"$f":"classification!G111","v":1},{"$f":"classification!H111","v":"OperationsLaunch"}]
[{"$f":"treatment!A112","v":"https://www.uber.com/careers/list/43205/"},"43205/",{"$f":"treatment!K112","v":"00:00:00"},{"$f":"treatment!L112","v":"00:00:00"},null,"43205",{"$f":"treatment!H112","v":"2018-10-08T12:55:00"},{"$f":"treatment!I112","v":"2019-03-10T23:21:00"},{"$f":"treatment!J112","v":"00:00:00"},null,{"$f":"classification!G112","v":1},{"$f":"classification!H112","v":"OperationsLaunch"}]
[{"$f":"treatment!A113","v":"https://www.uber.com/careers/list/43259/"},{"$f":"RIGHT(A113, LEN(A113)-34)","v":"43259/"},{"$f":"treatment!K113","v":"00:00:00"},{"$f":"treatment!L113","v":"00:00:00"},null,{"$f":"LEFT(B113, LEN(B113)-1)","v":"43259"},{"$f":"treatment!H113","v":"2018-10-08T12:55:00"},{"$f":"treatment!I113","v":"2018-10-18T11:25:00"},{"$f":"treatment!J113","v":"2018-10-23T06:21:00"},null,{"$f":"classification!G113","v":3},{"$f":"classification!H113","v":"FinanceAccounting"}]
[{"$f":"treatment!A114","v":"https://www.uber.com/careers/list/43252/"},"43252/",{"$f":"treatment!K114","v":"2018-12-13T07:20:00"},{"$f":"treatment!L114","v":"00:00:00"},null,"43252",{"$f":"treatment!H114","v":"2018-10-08T12:55:00"},{"$f":"treatment!I114","v":"2018-12-11T08:50:00"},{"$f":"treatment!J114","v":"00:00:00"},"2018-12-12T07:30:00",{"$f":"classification!G114","v":3},{"$f":"classification!H114","v":"Legal"}]
[{"$f":"treatment!A115","v":"https://www.uber.com/careers/list/43219/"},"43219/",{"$f":"treatment!K115","v":"2018-10-25T11:30:00"},{"$f":"treatment!L115","v":"00:00:00"},null,"43219",{"$f":"treatment!H115","v":"2018-10-08T12:55:00"},{"$f":"treatment!I115","v":"2018-12-19T18:20:00"},{"$f":"treatment!J115","v":"2018-10-30T07:19:00"},"2018-10-24T11:10:00",{"$f":"classification!G115","v":3},{"$f":"classification!H115","v":"Product"}]
[{"$f":"treatment!A116","v":"https://www.uber.com/careers/list/43215/"},"43215/",{"$f":"treatment!K116","v":"00:00:00"},{"$f":"treatment!L116","v":"00:00:00"},null,"43215",{"$f":"treatment!H116","v":"2018-10-08T12:55:00"},{"$f":"treatment!I116","v":"2018-11-09T11:50:00"},{"$f":"treatment!J116","v":"2018-12-04T07:08:00"},null,{"$f":"classification!G116","v":1},{"$f":"classification!H116","v":"GlobalCommunityOperations"}]
[{"$f":"treatment!A117","v":"https://www.uber.com/careers/list/43211/"},"43211/",{"$f":"treatment!K117","v":"00:00:00"},{"$f":"treatment!L117","v":"00:00:00"},null,"43211",{"$f":"treatment!H117","v":"2018-10-08T12:55:00"},{"$f":"treatment!I117","v":"2018-12-05T07:00:00"},{"$f":"treatment!J117","v":"2018-12-10T08:23:00"},null,{"$f":"classification!G117","v":3},{"$f":"classification!H117","v":"FinanceAccounting"}]
[{"$f":"treatment!A118","v":"https://www.uber.com/careers/list/43201/"},"43201/",{"$f":"treatment!K118","v":"00:00:00"},{"$f":"treatment!L118","v":"00:00:00"},null,"43201",{"$f":"treatment!H118","v":"2018-10-08T12:55:00"},{"$f":"treatment!I118","v":"2018-10-30T11:50:00"},{"$f":"treatment!J118","v":"2018-11-07T11:33:00"},null,{"$f":"classification!G118","v":1},{"$f":"classification!H118","v":"OperationsLaunch"}]
[{"$f":"treatment!A119","v":"https://www.uber.com/careers/list/43200/"},"43200/",{"$f":"treatment!K119","v":"00:00:00"},{"$f":"treatment!L119","v":"00:00:00"},null,"43200",{"$f":"treatment!H119","v":"2018-10-08T12:55:00"},{"$f":"treatment!I119","v":"2019-01-11T17:20:00"},{"$f":"treatment!J119","v":"00:00:00"},null,{"$f":"classification!G119","v":3},{"$f":"classification!H119","v":"PeopleOperations"}]
[{"$f":"treatment!A120","v":"https://www.uber.com/careers/list/43187/"},"43187/",{"$f":"treatment!K120","v":"00:00:00"},{"$f":"treatment!L120","v":"00:00:00"},null,"43187",{"$f":"treatment!H120","v":"2018-10-08T12:55:00"},{"$f":"treatment!I120","v":"2018-11-07T17:30:00"},{"$f":"treatment!J120","v":"2018-11-15T14:48:00"},null,{"$f":"classification!G120","v":3},{"$f":"classification!H120","v":"Engineering"}]
[{"$f":"treatment!A121","v":"https://www.uber.com/careers/list/43137/"},"43137/",{"$f":"treatment!K121","v":"2018-10-11T09:10:00"},{"$f":"treatment!L121","v":"00:00:00"},null,"43137",{"$f":"treatment!H121","v":"2018-10-08T12:55:00"},{"$f":"treatment!I121","v":"2019-03-07T13:45:00"},{"$f":"treatment!J121","v":"2018-10-16T07:51:00"},"2018-10-10T08:30:00",{"$f":"classification!G121","v":3},{"$f":"classification!H121","v":"Engineering"}]
[{"$f":"treatment!A122","v":"https://www.uber.com/careers/list/43183/"},{"$f":"RIGHT(A122, LEN(A122)-34)","v":"43183/"},{"$f":"treatment!K122","v":"00:00:00"},{"$f":"treatment!L122","v":"00:00:00"},null,{"$f":"LEFT(B122, LEN(B122)-1)","v":"43183"},{"$f":"treatment!H122","v":"2018-10-08T12:55:00"},{"$f":"treatment!I122","v":"2018-11-30T15:50:00"},{"$f":"treatment!J122","v":"2018-12-10T08:23:00"},null,{"$f":"classification!G122","v":3},{"$f":"classification!H122","v":"GlobalCommunityOperations"}]
[{"$f":"treatment!A123","v":"https://www.uber.com/careers/list/43131/"},"43131/",{"$f":"treatment!K123","v":"00:00:00"},{"$f":"treatment!L123","v":"00:00:00"},null,"43131",{"$f":"treatment!H123","v":"2018-10-08T12:55:00"},{"$f":"treatment!I123","v":"2018-10-24T11:10:00"},{"$f":"treatment!J123","v":"2018-10-30T07:19:00"},null,{"$f":"classification!G123","v":3},{"$f":"classification!H123","v":"OperationsLaunch"}]
[{"$f":"treatment!A124","v":"https://www.uber.com/careers/list/43150/"},"43150/",{"$f":"treatment!K124","v":"00:00:00"},{"$f":"treatment!L124","v":"00:00:00"},null,"43150",{"$f":"treatment!H124","v":"2018-10-08T12:55:00"},{"$f":"treatment!I124","v":"2018-11-09T11:50:00"},{"$f":"treatment!J124","v":"2018-12-04T07:08:00"},null,{"$f":"classification!G124","v":1},{"$f":"classification!H124","v":"OperationsLaunch"}]
[{"$f":"treatment!A125","v":"https://www.uber.com/careers/list/43074/"},"43074/",{"$f":"treatment!K125","v":"00:00:00"},{"$f":"treatment!L125","v":"00:00:00"},null,"43074",{"$f":"treatment!H125","v":"2018-10-08T12:55:00"},{"$f":"treatment!I125","v":"2018-11-15T17:00:00"},{"$f":"treatment!J125","v":"2018-12-04T07:08:00"},null,{"$f":"classification!G125","v":1},{"$f":"classification!H125","v":"Marketing"}]
[{"$f":"treatment!A126","v":"https://www.uber.com/careers/list/43071/"},"43071/",{"$f":"treatment!K126","v":"00:00:00"},{"$f":"treatment!L126","v":"00:00:00"},null,"43071",{"$f":"treatment!H126","v":"2018-10-08T12:55:00"},{"$f":"treatment!I126","v":"2018-11-15T17:00:00"},{"$f":"treatment!J126","v":"2018-12-04T07:08:00"},null,{"$f":"classification!G126","v":1},{"$f":"classification!H126","v":"Design"}]
[{"$f":"treatment!A127","v":"https://www.uber.com/careers/list/37805/"},"37805/",{"$f":"treatment!K127","v":"00:00:00"},{"$f":"treatment!L127","v":"00:00:00"},null,"37805",{"$f":"treatment!H127","v":"2018-10-08T12:55:00"},{"$f":"treatment!I127","v":"2018-12-25T07:55:00"},{"$f":"treatment!J127","v":"00:00:00"},null,{"$f":"classification!G127","v":1},{"$f":"classification!H127","v":"Engineering"}]
[{"$f":"treatment!A128","v":"https://www.uber.com/careers/list/43077/"},"43077/",{"$f":"treatment!K128","v":"00:00:00"},{"$f":"treatment!L128","v":"00:00:00"},null,{"$f":"LEFT(B128, LEN(B128)-1)","v":"43077"},{"$f":"treatment!H128","v":"2018-10-08T12:55:00"},{"$f":"treatment!I128","v":"2018-10-30T11:50:00"},{"$f":"treatment!J128","v":"2018-11-07T11:33:00"},null,{"$f":"classification!G128","v":1},{"$f":"classification!H128","v":"Legal"}]
[{"$f":"treatment!A129","v":"https://www.uber.com/careers/list/43075/"},"43075/",{"$f":"treatment!K129","v":"2018-10-17T15:00:00"},{"$f":"treatment!L129","v":"00:00:00"},null,"43075",{"$f":"treatment!H129","v":"2018-10-08T12:55:00"},{"$f":"treatment!I129","v":"2019-01-17T08:50:00"},{"$f":"treatment!J129","v":"2018-10-23T06:21:00"},"2018-10-16T13:00:00",{"$f":"classification!G129","v":3},{"$f":"classification!H129","v":"GlobalCommunityOperations"}]
[{"$f":"treatment!A130","v":"https://www.uber.com/careers/list/43070/"},"43070/",{"$f":"treatment!K130","v":"00:00:00"},{"$f":"treatment!L130","v":"00:00:00"},null,"43070",{"$f":"treatment!H130","v":"2018-10-08T12:55:00"},{"$f":"treatment!I130","v":"2018-11-27T15:30:00"},{"$f":"treatment!J130","v":"2018-12-10T08:23:00"},null,{"$f":"classification!G130","v":3},{"$f":"classification!H130","v":"BusinessSales"}]
[{"$f":"treatment!A131","v":"https://www.uber.com/careers/list/43036/"},"43036/",{"$f":"treatment!K131","v":"2018-10-17T15:00:00"},{"$f":"treatment!L131","v":"00:00:00"},null,{"$f":"LEFT(B131, LEN(B131)-1)","v":"43036"},{"$f":"treatment!H131","v":"2018-10-01T16:49:00"},{"$f":"treatment!I131","v":"2018-11-29T16:10:00"},{"$f":"treatment!J131","v":"2018-10-23T06:21:00"},"2018-10-16T13:00:00",{"$f":"classification!G131","v":3},{"$f":"classification!H131","v":"SafetySecurity"}]
[{"$f":"treatment!A132","v":"https://www.uber.com/careers/list/43030/"},"43030/",{"$f":"treatment!K132","v":"00:00:00"},{"$f":"treatment!L132","v":"00:00:00"},null,"43030",{"$f":"treatment!H132","v":"2018-10-01T16:49:00"},{"$f":"treatment!I132","v":"2018-11-07T17:30:00"},{"$f":"treatment!J132","v":"2018-11-15T14:48:00"},null,{"$f":"classification!G132","v":1},{"$f":"classification!H132","v":"Legal"}]
[{"$f":"treatment!A133","v":"https://www.uber.com/careers/list/43010/"},"43010/",{"$f":"treatment!K133","v":"00:00:00"},{"$f":"treatment!L133","v":"00:00:00"},null,"43010",{"$f":"treatment!H133","v":"2018-10-01T16:49:00"},{"$f":"treatment!I133","v":"2018-12-20T17:15:00"},{"$f":"treatment!J133","v":"00:00:00"},null,{"$f":"classification!G133","v":3},{"$f":"classification!H133","v":"GlobalCommunityOperations"}]
[{"$f":"treatment!A134","v":"https://www.uber.com/careers/list/38463/"},"38463/",{"$f":"treatment!K134","v":"00:00:00"},{"$f":"treatment!L134","v":"00:00:00"},null,"38463",{"$f":"treatment!H134","v":"2018-10-01T16:49:00"},{"$f":"treatment!I134","v":"2019-05-28T08:55:00"},{"$f":"treatment!J134","v":"00:00:00"},null,{"$f":"classification!G134","v":3},{"$f":"classification!H134","v":"AdvancedTechnologiesGroup"}]
[{"$f":"treatment!A135","v":"https://www.uber.com/careers/list/42733/"},"42733/",{"$f":"treatment!K135","v":"00:00:00"},{"$f":"treatment!L135","v":"00:00:00"},null,"42733",{"$f":"treatment!H135","v":"2018-10-01T16:49:00"},{"$f":"treatment!I135","v":"2019-02-14T19:10:00"},{"$f":"treatment!J135","v":"00:00:00"},null,{"$f":"classification!G135","v":3},{"$f":"classification!H135","v":"Engineering"}]
[{"$f":"treatment!A136","v":"https://www.uber.com/careers/list/38335/"},"38335/",{"$f":"treatment!K136","v":"00:00:00"},{"$f":"treatment!L136","v":"00:00:00"},null,"38335",{"$f":"treatment!H136","v":"2018-10-01T16:49:00"},{"$f":"treatment!I136","v":"2018-12-05T07:00:00"},{"$f":"treatment!J136","v":"2018-12-10T08:23:00"},null,{"$f":"classification!G136","v":3},{"$f":"classification!H136","v":"AdvancedTechnologiesGroup"}]
[{"$f":"treatment!A137","v":"https://www.uber.com/careers/list/43009/"},"43009/",{"$f":"treatment!K137","v":"00:00:00"},{"$f":"treatment!L137","v":"00:00:00"},null,"43009",{"$f":"treatment!H137","v":"2018-10-01T16:49:00"},{"$f":"treatment!I137","v":"2018-12-20T17:15:00"},{"$f":"treatment!J137","v":"00:00:00"},null,{"$f":"classification!G137","v":3},{"$f":"classification!H137","v":"GlobalCommunityOperations"}]
[{"$f":"treatment!A138","v":"https://www.uber.com/careers/list/42985/"},"42985/",{"$f":"treatment!K138","v":"00:00:00"},{"$f":"treatment!L138","v":"00:00:00"},null,"42985",{"$f":"treatment!H138","v":"2018-10-01T16:49:00"},{"$f":"treatment!I138","v":"2018-11-15T17:00:00"},{"$f":"treatment!J138","v":"2018-12-04T07:08:00"},null,{"$f":"classification!G138","v":3},{"$f":"classification!H138","v":"Legal"}]
[{"$f":"treatment!A139","v":"https://www.uber.com/careers/list/42961/"},"42961/",{"$f":"treatment!K139","v":"00:00:00"},{"$f":"treatment!L139","v":"00:00:00"},null,{"$f":"LEFT(B139, LEN(B139)-1)","v":"42961"},{"$f":"treatment!H139","v":"2018-10-01T16:49:00"},{"$f":"treatment!I139","v":"2018-11-29T16:10:00"},{"$f":"treatment!J139","v":"2018-12-10T08:23:00"},null,{"$f":"classification!G139","v":3},{"$f":"classification!H139","v":"SafetySecurity"}]
[{"$f":"treatment!A140","v":"https://www.uber.com/careers/list/42956/"},"42956/",{"$f":"treatment!K140","v":"00:00:00"},{"$f":"treatment!L140","v":"00:00:00"},null,"42956",{"$f":"treatment!H140","v":"2018-10-01T16:49:00"},{"$f":"treatment!I140","v":"2019-04-19T20:05:00"},{"$f":"treatment!J140","v":"00:00:00"},null,{"$f":"classification!G140","v":1},{"$f":"classification!H140","v":"SafetySecurity"}]
[{"$f":"treatment!A141","v":"https://www.uber.com/careers/list/42919/"},"42919/",{"$f":"treatment!K141","v":"00:00:00"},{"$f":"treatment!L141","v":"00:00:00"},null,"42919",{"$f":"treatment!H141","v":"2018-10-01T16:49:00"},{"$f":"treatment!I141","v":"2018-11-27T15:30:00"},{"$f":"treatment!J141","v":"2018-12-10T08:23:00"},null,{"$f":"classification!G141","v":3},{"$f":"classification!H141","v":"PeopleOperations"}]
[{"$f":"treatment!A142","v":"https://www.uber.com/careers/list/36548/"},"36548/",{"$f":"treatment!K142","v":"00:00:00"},{"$f":"treatment!L142","v":"00:00:00"},null,"36548",{"$f":"treatment!H142","v":"2018-10-01T16:49:00"},{"$f":"treatment!I142","v":"2018-10-12T07:15:00"},{"$f":"treatment!J142","v":"2018-10-23T06:21:00"},null,{"$f":"classification!G142","v":3},{"$f":"classification!H142","v":"Engineering"}]
[{"$f":"treatment!A143","v":"https://www.uber.com/careers/list/42866/"},"42866/",{"$f":"treatment!K143","v":"2018-10-31T11:20:00"},{"$f":"treatment!L143","v":"00:00:00"},null,"42866",{"$f":"treatment!H143","v":"2018-10-01T16:49:00"},{"$f":"treatment!I143","v":"2019-02-19T08:50:00"},{"$f":"treatment!J143","v":"2018-11-07T11:33:00"},"2018-10-30T11:50:00",{"$f":"classification!G143","v":3},{"$f":"classification!H143","v":"BusinessSales"}]
[{"$f":"treatment!A144","v":"https://www.uber.com/careers/list/42941/"},"42941/",{"$f":"treatment!K144","v":"2018-10-05T11:55:00"},{"$f":"treatment!L144","v":"00:00:00"},null,"42941",{"$f":"treatment!H144","v":"2018-10-01T16:49:00"},{"$f":"treatment!I144","v":"2019-03-07T13:45:00"},{"$f":"treatment!J144","v":"2018-10-08T12:55:00"},"2018-10-04T11:25:00",{"$f":"classification!G144","v":1},{"$f":"classification!H144","v":"Engineering"}]
[{"$f":"treatment!A145","v":"https://www.uber.com/careers/list/42921/"},"42921/",{"$f":"treatment!K145","v":"00:00:00"},{"$f":"treatment!L145","v":"00:00:00"},null,"42921",{"$f":"treatment!H145","v":"2018-10-01T16:49:00"},{"$f":"treatment!I145","v":"2019-04-11T14:00:00"},{"$f":"treatment!J145","v":"00:00:00"},null,{"$f":"classification!G145","v":1},{"$f":"classification!H145","v":"Marketing"}]
[{"$f":"treatment!A146","v":"https://www.uber.com/careers/list/42903/"},"42903/",{"$f":"treatment!K146","v":"00:00:00"},{"$f":"treatment!L146","v":"2018-10-02T10:15:00"},null,"42903",{"$f":"treatment!H146","v":"2018-10-01T16:49:00"},{"$f":"treatment!I146","v":"2018-11-30T15:50:00"},{"$f":"treatment!J146","v":"2018-10-08T12:55:00"},null,{"$f":"classification!G146","v":1},{"$f":"classification!H146","v":"OperationsLaunch"}]
[{"$f":"treatment!A147","v":"https://www.uber.com/careers/list/42897/"},"42897/",{"$f":"treatment!K147","v":"00:00:00"},{"$f":"treatment!L147","v":"00:00:00"},null,"42897",{"$f":"treatment!H147","v":"2018-10-01T16:49:00"},{"$f":"treatment!I147","v":"2018-11-09T11:50:00"},{"$f":"treatment!J147","v":"2018-12-04T07:08:00"},null,{"$f":"classification!G147","v":1},{"$f":"classification!H147","v":"BusinessSales"}]
[{"$f":"treatment!A148","v":"https://www.uber.com/careers/list/42833/"},"42833/",{"$f":"treatment!K148","v":"00:00:00"},{"$f":"treatment!L148","v":"00:00:00"},null,{"$f":"LEFT(B148, LEN(B148)-1)","v":"42833"},{"$f":"treatment!H148","v":"2018-10-01T16:49:00"},{"$f":"treatment!I148","v":"2018-12-12T07:30:00"},{"$f":"treatment!J148","v":"00:00:00"},null,{"$f":"classification!G148","v":1},{"$f":"classification!H148","v":"Marketing"}]
[{"$f":"treatment!A149","v":"https://www.uber.com/careers/list/42746/"},"42746/",{"$f":"treatment!K149","v":"00:00:00"},{"$f":"treatment!L149","v":"00:00:00"},null,"42746",{"$f":"treatment!H149","v":"2018-10-01T16:49:00"},{"$f":"treatment!I149","v":"00:00:00"},{"$f":"treatment!J149","v":"00:00:00"},null,{"$f":"classification!G149","v":3},{"$f":"classification!H149","v":"SafetySecurity"}]
[{"$f":"treatment!A150","v":"https://www.uber.com/careers/list/39596/"},"39596/",{"$f":"treatment!K150","v":"00:00:00"},{"$f":"treatment!L150","v":"00:00:00"},null,"39596",{"$f":"treatment!H150","v":"2018-10-01T16:49:00"},{"$f":"treatment!I150","v":"2018-12-12T07:30:00"},{"$f":"treatment!J150","v":"00:00:00"},null,{"$f":"classification!G150","v":3},{"$f":"classification!H150","v":"OperationsLaunch"}]
[{"$f":"treatment!A151","v":"https://www.uber.com/careers/list/42810/"},"42810/",{"$f":"treatment!K151","v":"00:00:00"},{"$f":"treatment!L151","v":"00:00:00"},null,"42810",{"$f":"treatment!H151","v":"2018-10-01T16:49:00"},{"$f":"treatment!I151","v":"2018-11-12T19:45:00"},{"$f":"treatment!J151","v":"2018-12-04T07:08:00"},null,{"$f":"classification!G151","v":3},{"$f":"classification!H151","v":"PeopleOperations"}]
[{"$f":"treatment!A152","v":"https://www.uber.com/careers/list/33635/"},"33635/",{"$f":"treatment!K152","v":"00:00:00"},{"$f":"treatment!L152","v":"00:00:00"},null,"33635",{"$f":"treatment!H152","v":"2018-10-01T16:49:00"},{"$f":"treatment!I152","v":"00:00:00"},{"$f":"treatment!J152","v":"00:00:00"},null,{"$f":"classification!G152","v":3},{"$f":"classification!H152","v":"AdvancedTechnologiesGroup"}]
[{"$f":"treatment!A153","v":"https://www.uber.com/careers/list/31176/"},"31176/",{"$f":"treatment!K153","v":"00:00:00"},{"$f":"treatment!L153","v":"00:00:00"},null,"31176",{"$f":"treatment!H153","v":"2018-10-01T16:49:00"},{"$f":"treatment!I153","v":"2019-03-07T13:45:00"},{"$f":"treatment!J153","v":"00:00:00"},null,{"$f":"classification!G153","v":3},{"$f":"classification!H153","v":"AdvancedTechnologiesGroup"}]
[{"$f":"treatment!A154","v":"https://www.uber.com/careers/list/42792/"},"42792/",{"$f":"treatment!K154","v":"2018-10-22T14:46:00"},{"$f":"treatment!L154","v":"00:00:00"},null,{"$f":"LEFT(B154, LEN(B154)-1)","v":"42792"},{"$f":"treatment!H154","v":"2018-10-01T16:49:00"},{"$f":"treatment!I154","v":"2019-02-07T08:45:00"},{"$f":"treatment!J154","v":"2018-10-30T07:19:00"},"2018-10-21T11:16:00",{"$f":"classification!G154","v":3},{"$f":"classification!H154","v":"Product"}]
[{"$f":"treatment!A155","v":"https://www.uber.com/careers/list/42781/"},"42781/",{"$f":"treatment!K155","v":"00:00:00"},{"$f":"treatment!L155","v":"00:00:00"},null,"42781",{"$f":"treatment!H155","v":"2018-10-01T16:49:00"},{"$f":"treatment!I155","v":"2018-10-23T10:10:00"},{"$f":"treatment!J155","v":"2018-11-15T14:48:00"},null,{"$f":"classification!G155","v":1},{"$f":"classification!H155","v":"GlobalCommunityOperations"}]
[{"$f":"treatment!A156","v":"https://www.uber.com/careers/list/42777/"},"42777/",{"$f":"treatment!K156","v":"00:00:00"},{"$f":"treatment!L156","v":"00:00:00"},null,"42777",{"$f":"treatment!H156","v":"2018-10-01T16:49:00"},{"$f":"treatment!I156","v":"2018-12-14T06:45:00"},{"$f":"treatment!J156","v":"00:00:00"},null,{"$f":"classification!G156","v":3},{"$f":"classification!H156","v":"FinanceAccounting"}]
[{"$f":"treatment!A157","v":"https://www.uber.com/careers/list/42749/"},"42749/",{"$f":"treatment!K157","v":"00:00:00"},{"$f":"treatment!L157","v":"00:00:00"},null,"42749",{"$f":"treatment!H157","v":"2018-10-01T16:49:00"},{"$f":"treatment!I157","v":"2018-12-13T07:20:00"},{"$f":"treatment!J157","v":"00:00:00"},null,{"$f":"classification!G157","v":1},{"$f":"classification!H157","v":"FinanceAccounting"}]
[{"$f":"treatment!A158","v":"https://www.uber.com/careers/list/42740/"},"42740/",{"$f":"treatment!K158","v":"00:00:00"},{"$f":"treatment!L158","v":"00:00:00"},null,"42740",{"$f":"treatment!H158","v":"2018-10-01T16:49:00"},{"$f":"treatment!I158","v":"2019-01-31T07:06:00"},{"$f":"treatment!J158","v":"00:00:00"},null,{"$f":"classification!G158","v":3},{"$f":"classification!H158","v":"Engineering"}]
[{"$f":"treatment!A159","v":"https://www.uber.com/careers/list/42576/"},"42576/",{"$f":"treatment!K159","v":"00:00:00"},{"$f":"treatment!L159","v":"00:00:00"},null,"42576",{"$f":"treatment!H159","v":"2018-10-01T16:49:00"},{"$f":"treatment!I159","v":"2019-01-16T12:05:00"},{"$f":"treatment!J159","v":"00:00:00"},null,{"$f":"classification!G159","v":3},{"$f":"classification!H159","v":"PeopleOperations"}]
[{"$f":"treatment!A160","v":"https://www.uber.com/careers/list/42479/"},"42479/",{"$f":"treatment!K160","v":"00:00:00"},{"$f":"treatment!L160","v":"00:00:00"},null,"42479",{"$f":"treatment!H160","v":"2018-10-01T16:49:00"},{"$f":"treatment!I160","v":"2019-03-08T18:45:00"},{"$f":"treatment!J160","v":"00:00:00"},null,{"$f":"classification!G160","v":3},{"$f":"classification!H160","v":"GlobalCommunityOperations"}]
[{"$f":"treatment!A161","v":"https://www.uber.com/careers/list/37098/"},"37098/",{"$f":"treatment!K161","v":"00:00:00"},{"$f":"treatment!L161","v":"2018-10-24T11:10:00"},null,"37098",{"$f":"treatment!H161","v":"2018-10-01T16:49:00"},{"$f":"treatment!I161","v":"2019-02-28T08:45:00"},{"$f":"treatment!J161","v":"2018-10-30T07:19:00"},null,{"$f":"classification!G161","v":3},{"$f":"classification!H161","v":"Engineering"}]
[{"$f":"treatment!A162","v":"https://www.uber.com/careers/list/42800/"},"42800/",{"$f":"treatment!K162","v":"00:00:00"},{"$f":"treatment!L162","v":"00:00:00"},null,"42800",{"$f":"treatment!H162","v":"2018-10-01T16:49:00"},{"$f":"treatment!I162","v":"2018-11-27T15:30:00"},{"$f":"treatment!J162","v":"2018-12-10T08:23:00"},null,{"$f":"classification!G162","v":1},{"$f":"classification!H162","v":"BusinessSales"}]
[{"$f":"treatment!A163","v":"https://www.uber.com/careers/list/42799/"},"42799/",{"$f":"treatment!K163","v":"00:00:00"},{"$f":"treatment!L163","v":"00:00:00"},null,"42799",{"$f":"treatment!H163","v":"2018-10-01T16:49:00"},{"$f":"treatment!I163","v":"2018-11-27T15:30:00"},{"$f":"treatment!J163","v":"2018-12-10T08:23:00"},null,{"$f":"classification!G163","v":1},{"$f":"classification!H163","v":"BusinessSales"}]
[{"$f":"treatment!A164","v":"https://www.uber.com/careers/list/42727/"},"42727/",{"$f":"treatment!K164","v":"00:00:00"},{"$f":"treatment!L164","v":"00:00:00"},null,{"$f":"LEFT(B164, LEN(B164)-1)","v":"42727"},{"$f":"treatment!H164","v":"2018-10-01T16:49:00"},{"$f":"treatment!I164","v":"2018-12-15T08:50:00"},{"$f":"treatment!J164","v":"00:00:00"},null,{"$f":"classification!G164","v":3},{"$f":"classification!H164","v":"SafetySecurity"}]
[{"$f":"treatment!A165","v":"https://www.uber.com/careers/list/42701/"},"42701/",{"$f":"treatment!K165","v":"00:00:00"},{"$f":"treatment!L165","v":"00:00:00"},null,{"$f":"LEFT(B165, LEN(B165)-1)","v":"42701"},{"$f":"treatment!H165","v":"2018-10-01T16:49:00"},{"$f":"treatment!I165","v":"2018-10-02T10:15:00"},{"$f":"treatment!J165","v":"2018-10-08T12:55:00"},null,{"$f":"classification!G165","v":3},{"$f":"classification!H165","v":"FinanceAccounting"}]
[{"$f":"treatment!A166","v":"https://www.uber.com/careers/list/42699/"},"42699/",{"$f":"treatment!K166","v":"00:00:00"},{"$f":"treatment!L166","v":"00:00:00"},null,{"$f":"LEFT(B166, LEN(B166)-1)","v":"42699"},{"$f":"treatment!H166","v":"2018-10-01T16:49:00"},{"$f":"treatment!I166","v":"2018-12-04T07:15:00"},{"$f":"treatment!J166","v":"2018-12-10T08:23:00"},null,{"$f":"classification!G166","v":3},{"$f":"classification!H166","v":"FinanceAccounting"}]
[{"$f":"treatment!A167","v":"https://www.uber.com/careers/list/42697/"},"42697/",{"$f":"treatment!K167","v":"00:00:00"},{"$f":"treatment!L167","v":"00:00:00"},null,{"$f":"LEFT(B167, LEN(B167)-1)","v":"42697"},{"$f":"treatment!H167","v":"2018-10-01T16:49:00"},{"$f":"treatment!I167","v":"2019-01-11T17:20:00"},{"$f":"treatment!J167","v":"00:00:00"},null,{"$f":"classification!G167","v":3},{"$f":"classification!H167","v":"FinanceAccounting"}]
[{"$f":"treatment!A168","v":"https://www.uber.com/careers/list/42691/"},"42691/",{"$f":"treatment!K168","v":"00:00:00"},{"$f":"treatment!L168","v":"00:00:00"},null,{"$f":"LEFT(B168, LEN(B168)-1)","v":"42691"},{"$f":"treatment!H168","v":"2018-10-01T16:49:00"},{"$f":"treatment!I168","v":"2018-10-10T08:30:00"},{"$f":"treatment!J168","v":"2018-10-16T07:51:00"},null,{"$f":"classification!G168","v":3},{"$f":"classification!H168","v":"FinanceAccounting"}]
[{"$f":"treatment!A169","v":"https://www.uber.com/careers/list/42687/"},"42687/",{"$f":"treatment!K169","v":"00:00:00"},{"$f":"treatment!L169","v":"00:00:00"},null,{"$f":"LEFT(B169, LEN(B169)-1)","v":"42687"},{"$f":"treatment!H169","v":"2018-10-01T16:49:00"},{"$f":"treatment!I169","v":"2019-03-07T13:45:00"},{"$f":"treatment!J169","v":"00:00:00"},null,{"$f":"classification!G169","v":3},{"$f":"classification!H169","v":"SafetySecurity"}]
[{"$f":"treatment!A170","v":"https://www.uber.com/careers/list/42686/"},"42686/",{"$f":"treatment!K170","v":"00:00:00"},{"$f":"treatment!L170","v":"00:00:00"},null,"42686",{"$f":"treatment!H170","v":"2018-10-01T16:49:00"},{"$f":"treatment!I170","v":"2018-11-10T15:40:00"},{"$f":"treatment!J170","v":"2018-12-04T07:08:00"},null,{"$f":"classification!G170","v":1},{"$f":"classification!H170","v":"OperationsLaunch"}]
[{"$f":"treatment!A171","v":"https://www.uber.com/careers/list/42675/"},"42675/",{"$f":"treatment!K171","v":"00:00:00"},{"$f":"treatment!L171","v":"00:00:00"},null,"42675",{"$f":"treatment!H171","v":"2018-10-01T16:49:00"},{"$f":"treatment!I171","v":"2018-12-13T07:20:00"},{"$f":"treatment!J171","v":"00:00:00"},null,{"$f":"classification!G171","v":1},{"$f":"classification!H171","v":"Engineering"}]
[{"$f":"treatment!A172","v":"https://www.uber.com/careers/list/42673/"},"42673/",{"$f":"treatment!K172","v":"00:00:00"},{"$f":"treatment!L172","v":"00:00:00"},null,"42673",{"$f":"treatment!H172","v":"2018-10-01T16:49:00"},{"$f":"treatment!I172","v":"2019-03-25T20:30:00"},{"$f":"treatment!J172","v":"00:00:00"},null,{"$f":"classification!G172","v":1},{"$f":"classification!H172","v":"Engineering"}]
[{"$f":"treatment!A173","v":"https://www.uber.com/careers/list/42670/"},"42670/",{"$f":"treatment!K173","v":"00:00:00"},{"$f":"treatment!L173","v":"00:00:00"},null,"42670",{"$f":"treatment!H173","v":"2018-10-01T16:49:00"},{"$f":"treatment!I173","v":"2018-10-08T14:30:00"},{"$f":"treatment!J173","v":"2018-10-16T07:51:00"},null,{"$f":"classification!G173","v":1},{"$f":"classification!H173","v":"Engineering"}]
[{"$f":"treatment!A174","v":"https://www.uber.com/careers/list/42668/"},"42668/",{"$f":"treatment!K174","v":"00:00:00"},{"$f":"treatment!L174","v":"00:00:00"},null,"42668",{"$f":"treatment!H174","v":"2018-10-01T16:49:00"},{"$f":"treatment!I174","v":"2018-11-12T19:45:00"},{"$f":"treatment!J174","v":"2018-12-04T07:08:00"},null,{"$f":"classification!G174","v":1},{"$f":"classification!H174","v":"BusinessSales"}]
[{"$f":"treatment!A175","v":"https://www.uber.com/careers/list/42666/"},"42666/",{"$f":"treatment!K175","v":"00:00:00"},{"$f":"treatment!L175","v":"00:00:00"},null,"42666",{"$f":"treatment!H175","v":"2018-10-01T16:49:00"},{"$f":"treatment!I175","v":"2019-03-22T15:05:00"},{"$f":"treatment!J175","v":"00:00:00"},null,{"$f":"classification!G175","v":1},{"$f":"classification!H175","v":"Engineering"}]
[{"$f":"treatment!A176","v":"https://www.uber.com/careers/list/42558/"},"42558/",{"$f":"treatment!K176","v":"00:00:00"},{"$f":"treatment!L176","v":"00:00:00"},null,"42558",{"$f":"treatment!H176","v":"2018-10-01T16:49:00"},{"$f":"treatment!I176","v":"2019-02-14T19:10:00"},{"$f":"treatment!J176","v":"00:00:00"},null,{"$f":"classification!G176","v":3},{"$f":"classification!H176","v":"FinanceAccounting"}]
[{"$f":"treatment!A177","v":"https://www.uber.com/careers/list/38779/"},"38779/",{"$f":"treatment!K177","v":"00:00:00"},{"$f":"treatment!L177","v":"00:00:00"},null,{"$f":"LEFT(B177, LEN(B177)-1)","v":"38779"},{"$f":"treatment!H177","v":"2018-09-23T12:29:00"},{"$f":"treatment!I177","v":"2018-11-22T07:36:00"},{"$f":"treatment!J177","v":"2018-12-10T08:23:00"},null,{"$f":"classification!G177","v":1},{"$f":"classification!H177","v":"GlobalCommunityOperations"}]
[{"$f":"treatment!A178","v":"https://www.uber.com/careers/list/42300/"},"42300/",{"$f":"treatment!K178","v":"00:00:00"},{"$f":"treatment!L178","v":"00:00:00"},null,"42300",{"$f":"treatment!H178","v":"2018-09-23T12:29:00"},{"$f":"treatment!I178","v":"2019-01-17T08:50:00"},{"$f":"treatment!J178","v":"00:00:00"},null,{"$f":"classification!G178","v":3},{"$f":"classification!H178","v":"GlobalCommunityOperations"}]
[{"$f":"treatment!A179","v":"https://www.uber.com/careers/list/42554/"},"42554/",{"$f":"treatment!K179","v":"2018-09-21T10:45:00"},{"$f":"treatment!L179","v":"00:00:00"},null,"42554",{"$f":"treatment!H179","v":"2018-09-23T12:29:00"},{"$f":"treatment!I179","v":"2019-01-24T07:10:00"},{"$f":"treatment!J179","v":"2018-10-01T16:02:00"},"2018-09-20T10:51:00",{"$f":"classification!G179","v":3},{"$f":"classification!H179","v":"FinanceAccounting"}]
[{"$f":"treatment!A180","v":"https://www.uber.com/careers/list/42562/"},"42562/",{"$f":"treatment!K180","v":"2018-10-31T11:20:00"},{"$f":"treatment!L180","v":"00:00:00"},null,"42562",{"$f":"treatment!H180","v":"2018-09-23T12:29:00"},{"$f":"treatment!I180","v":"2018-11-07T17:30:00"},{"$f":"treatment!J180","v":"2018-11-07T11:33:00"},"2018-10-30T11:50:00",{"$f":"classification!G180","v":1},{"$f":"classification!H180","v":"OperationsLaunch"}]
[{"$f":"treatment!A181","v":"https://www.uber.com/careers/list/42604/"},"42604/",{"$f":"treatment!K181","v":"00:00:00"},{"$f":"treatment!L181","v":"00:00:00"},null,"42604",{"$f":"treatment!H181","v":"2018-09-23T12:29:00"},{"$f":"treatment!I181","v":"2019-01-09T13:10:00"},{"$f":"treatment!J181","v":"00:00:00"},null,{"$f":"classification!G181","v":3},{"$f":"classification!H181","v":"PeopleOperations"}]
[{"$f":"treatment!A182","v":"https://www.uber.com/careers/list/42613/"},"42613/",{"$f":"treatment!K182","v":"00:00:00"},{"$f":"treatment!L182","v":"00:00:00"},null,"42613",{"$f":"treatment!H182","v":"2018-09-23T12:29:00"},{"$f":"treatment!I182","v":"2018-10-22T14:46:00"},{"$f":"treatment!J182","v":"2018-10-30T07:19:00"},null,{"$f":"classification!G182","v":3},{"$f":"classification!H182","v":"GlobalCommunityOperations"}]
[{"$f":"treatment!A183","v":"https://www.uber.com/careers/list/42541/"},"42541/",{"$f":"treatment!K183","v":"00:00:00"},{"$f":"treatment!L183","v":"00:00:00"},null,{"$f":"LEFT(B183, LEN(B183)-1)","v":"42541"},{"$f":"treatment!H183","v":"2018-09-23T12:29:00"},{"$f":"treatment!I183","v":"2018-10-31T11:20:00"},{"$f":"treatment!J183","v":"2018-11-07T11:33:00"},null,{"$f":"classification!G183","v":3},{"$f":"classification!H183","v":"OperationsLaunch"}]
[{"$f":"treatment!A184","v":"https://www.uber.com/careers/list/42526/"},{"$f":"RIGHT(A184, LEN(A184)-34)","v":"42526/"},{"$f":"treatment!K184","v":"00:00:00"},{"$f":"treatment!L184","v":"00:00:00"},null,"42526",{"$f":"treatment!H184","v":"2018-09-23T12:29:00"},{"$f":"treatment!I184","v":"2018-10-11T09:10:00"},{"$f":"treatment!J184","v":"2018-10-16T07:51:00"},null,{"$f":"classification!G184","v":1},{"$f":"classification!H184","v":"PeopleOperations"}]
[{"$f":"treatment!A185","v":"https://www.uber.com/careers/list/42525/"},"42525/",{"$f":"treatment!K185","v":"00:00:00"},{"$f":"treatment!L185","v":"00:00:00"},null,"42525",{"$f":"treatment!H185","v":"2018-09-23T12:29:00"},{"$f":"treatment!I185","v":"2018-12-15T08:50:00"},{"$f":"treatment!J185","v":"00:00:00"},null,{"$f":"classification!G185","v":3},{"$f":"classification!H185","v":"SafetySecurity"}]
[{"$f":"treatment!A186","v":"https://www.uber.com/careers/list/42512/"},"42512/",{"$f":"treatment!K186","v":"2018-09-18T11:30:00"},{"$f":"treatment!L186","v":"00:00:00"},null,"42512",{"$f":"treatment!H186","v":"2018-09-23T12:29:00"},{"$f":"treatment!I186","v":"2018-09-25T17:00:00"},{"$f":"treatment!J186","v":"2018-10-04T07:18:00"},"2018-09-17T09:04:00",{"$f":"classification!G186","v":1},{"$f":"classification!H186","v":"BusinessSales"}]
[{"$f":"treatment!A187","v":"https://www.uber.com/careers/list/42511/"},"42511/",{"$f":"treatment!K187","v":"00:00:00"},{"$f":"treatment!L187","v":"00:00:00"},null,"42511",{"$f":"treatment!H187","v":"2018-09-23T12:29:00"},{"$f":"treatment!I187","v":"2018-12-06T07:45:00"},{"$f":"treatment!J187","v":"2018-12-10T08:23:00"},null,{"$f":"classification!G187","v":3},{"$f":"classification!H187","v":"OperationsLaunch"}]
[{"$f":"treatment!A188","v":"https://www.uber.com/careers/list/42459/"},"42459/",{"$f":"treatment!K188","v":"00:00:00"},{"$f":"treatment!L188","v":"00:00:00"},null,"42459",{"$f":"treatment!H188","v":"2018-09-23T12:29:00"},{"$f":"treatment!I188","v":"2018-10-17T15:00:00"},{"$f":"treatment!J188","v":"2018-10-23T06:21:00"},null,{"$f":"classification!G188","v":3},{"$f":"classification!H188","v":"Engineering"}]
[{"$f":"treatment!A189","v":"https://www.uber.com/careers/list/42192/"},"42192/",{"$f":"treatment!K189","v":"00:00:00"},{"$f":"treatment!L189","v":"00:00:00"},null,"42192",{"$f":"treatment!H189","v":"2018-09-23T12:29:00"},{"$f":"treatment!I189","v":"2018-11-29T16:10:00"},{"$f":"treatment!J189","v":"2018-12-10T08:23:00"},null,{"$f":"classification!G189","v":3},{"$f":"classification!H189","v":"Engineering"}]
[{"$f":"treatment!A190","v":"https://www.uber.com/careers/list/42470/"},"42470/",{"$f":"treatment!K190","v":"00:00:00"},{"$f":"treatment!L190","v":"00:00:00"},null,{"$f":"LEFT(B190, LEN(B190)-1)","v":"42470"},{"$f":"treatment!H190","v":"2018-09-23T12:29:00"},{"$f":"treatment!I190","v":"2019-02-12T10:55:00"},{"$f":"treatment!J190","v":"00:00:00"},null,{"$f":"classification!G190","v":3},{"$f":"classification!H190","v":"Product"}]
[{"$f":"treatment!A191","v":"https://www.uber.com/careers/list/42468/"},"42468/",{"$f":"treatment!K191","v":"00:00:00"},{"$f":"treatment!L191","v":"00:00:00"},null,"42468",{"$f":"treatment!H191","v":"2018-09-23T12:29:00"},{"$f":"treatment!I191","v":"2018-11-06T11:00:00"},{"$f":"treatment!J191","v":"2018-11-15T14:48:00"},null,{"$f":"classification!G191","v":1},{"$f":"classification!H191","v":"Engineering"}]
[{"$f":"treatment!A192","v":"https://www.uber.com/careers/list/42443/"},"42443/",{"$f":"treatment!K192","v":"2018-10-09T11:40:00"},{"$f":"treatment!L192","v":"00:00:00"},null,"42443",{"$f":"treatment!H192","v":"2018-09-23T12:29:00"},{"$f":"treatment!I192","v":"2019-01-04T07:40:00"},{"$f":"treatment!J192","v":"2018-10-16T07:51:00"},"2018-10-08T14:30:00",{"$f":"classification!G192","v":1},{"$f":"classification!H192","v":"FinanceAccounting"}]
[{"$f":"treatment!A193","v":"https://www.uber.com/careers/list/39657/"},"39657/",{"$f":"treatment!K193","v":"00:00:00"},{"$f":"treatment!L193","v":"00:00:00"},null,"39657",{"$f":"treatment!H193","v":"2018-09-23T12:29:00"},{"$f":"treatment!I193","v":"2019-05-04T08:40:00"},{"$f":"treatment!J193","v":"00:00:00"},null,{"$f":"classification!G193","v":3},{"$f":"classification!H193","v":"GlobalCommunityOperations"}]
[{"$f":"treatment!A194","v":"https://www.uber.com/careers/list/42405/"},"42405/",{"$f":"treatment!K194","v":"00:00:00"},{"$f":"treatment!L194","v":"00:00:00"},null,"42405",{"$f":"treatment!H194","v":"2018-09-23T12:29:00"},{"$f":"treatment!I194","v":"00:00:00"},{"$f":"treatment!J194","v":"00:00:00"},null,{"$f":"classification!G194","v":1},{"$f":"classification!H194","v":"AdvancedTechnologiesGroup"}]
[{"$f":"treatment!A195","v":"https://www.uber.com/careers/list/42398/"},"42398/",{"$f":"treatment!K195","v":"00:00:00"},{"$f":"treatment!L195","v":"00:00:00"},null,"42398",{"$f":"treatment!H195","v":"2018-09-23T12:29:00"},{"$f":"treatment!I195","v":"2018-10-30T11:50:00"},{"$f":"treatment!J195","v":"2018-11-07T11:33:00"},null,{"$f":"classification!G195","v":1},{"$f":"classification!H195","v":"Engineering"}]
[{"$f":"treatment!A196","v":"https://www.uber.com/careers/list/34981/"},"34981/",{"$f":"treatment!K196","v":"00:00:00"},{"$f":"treatment!L196","v":"00:00:00"},null,"34981",{"$f":"treatment!H196","v":"2018-09-23T12:29:00"},{"$f":"treatment!I196","v":"2018-10-12T07:15:00"},{"$f":"treatment!J196","v":"2018-10-23T06:21:00"},null,{"$f":"classification!G196","v":3},{"$f":"classification!H196","v":"Engineering"}]
[{"$f":"treatment!A197","v":"https://www.uber.com/careers/list/42373/"},"42373/",{"$f":"treatment!K197","v":"00:00:00"},{"$f":"treatment!L197","v":"00:00:00"},null,"42373",{"$f":"treatment!H197","v":"2018-09-23T12:29:00"},{"$f":"treatment!I197","v":"2018-10-26T15:35:00"},{"$f":"treatment!J197","v":"2018-11-07T11:33:00"},null,{"$f":"classification!G197","v":3},{"$f":"classification!H197","v":"Engineering"}]
[{"$f":"treatment!A198","v":"https://www.uber.com/careers/list/42360/"},"42360/",{"$f":"treatment!K198","v":"00:00:00"},{"$f":"treatment!L198","v":"00:00:00"},null,{"$f":"LEFT(B198, LEN(B198)-1)","v":"42360"},{"$f":"treatment!H198","v":"2018-09-11T17:50:00"},{"$f":"treatment!I198","v":"2019-02-12T10:55:00"},{"$f":"treatment!J198","v":"00:00:00"},null,{"$f":"classification!G198","v":3},{"$f":"classification!H198","v":"GlobalCommunityOperations"}]
[{"$f":"treatment!A199","v":"https://www.uber.com/careers/list/42359/"},"42359/",{"$f":"treatment!K199","v":"00:00:00"},{"$f":"treatment!L199","v":"00:00:00"},null,"42359",{"$f":"treatment!H199","v":"2018-09-11T17:50:00"},{"$f":"treatment!I199","v":"2019-03-07T13:45:00"},{"$f":"treatment!J199","v":"00:00:00"},null,{"$f":"classification!G199","v":3},{"$f":"classification!H199","v":"GlobalCommunityOperations"}]
[{"$f":"treatment!A200","v":"https://www.uber.com/careers/list/42355/"},"42355/",{"$f":"treatment!K200","v":"00:00:00"},{"$f":"treatment!L200","v":"00:00:00"},null,"42355",{"$f":"treatment!H200","v":"2018-09-11T17:50:00"},{"$f":"treatment!I200","v":"2019-01-24T07:10:00"},{"$f":"treatment!J200","v":"00:00:00"},null,{"$f":"classification!G200","v":3},{"$f":"classification!H200","v":"GlobalCommunityOperations"}]
[{"$f":"treatment!A201","v":"https://www.uber.com/careers/list/42354/"},"42354/",{"$f":"treatment!K201","v":"00:00:00"},{"$f":"treatment!L201","v":"00:00:00"},null,"42354",{"$f":"treatment!H201","v":"2018-09-11T17:50:00"},{"$f":"treatment!I201","v":"2019-03-07T13:45:00"},{"$f":"treatment!J201","v":"00:00:00"},null,{"$f":"classification!G201","v":3},{"$f":"classification!H201","v":"GlobalCommunityOperations"}]
[{"$f":"treatment!A202","v":"https://www.uber.com/careers/list/42352/"},"42352/",{"$f":"treatment!K202","v":"00:00:00"},{"$f":"treatment!L202","v":"00:00:00"},null,"42352",{"$f":"treatment!H202","v":"2018-09-11T17:50:00"},{"$f":"treatment!I202","v":"2018-09-26T11:33:00"},{"$f":"treatment!J202","v":"2018-10-01T14:50:00"},null,{"$f":"classification!G202","v":3},{"$f":"classification!H202","v":"Engineering"}]
[{"$f":"treatment!A203","v":"https://www.uber.com/careers/list/42206/"},"42206/",{"$f":"treatment!K203","v":"00:00:00"},{"$f":"treatment!L203","v":"00:00:00"},null,"42206",{"$f":"treatment!H203","v":"2018-09-11T17:50:00"},{"$f":"treatment!I203","v":"2019-01-09T13:10:00"},{"$f":"treatment!J203","v":"00:00:00"},null,{"$f":"classification!G203","v":1},{"$f":"classification!H203","v":"Product"}]
[{"$f":"treatment!A204","v":"https://www.uber.com/careers/list/42314/"},"42314/",{"$f":"treatment!K204","v":"00:00:00"},{"$f":"treatment!L204","v":"00:00:00"},null,{"$f":"LEFT(B204, LEN(B204)-1)","v":"42314"},{"$f":"treatment!H204","v":"2018-09-11T17:50:00"},{"$f":"treatment!I204","v":"2018-11-06T11:00:00"},{"$f":"treatment!J204","v":"2018-09-12T08:47:00"},null,{"$f":"classification!G204","v":1},{"$f":"classification!H204","v":"Engineering"}]
[{"$f":"treatment!A205","v":"https://www.uber.com/careers/list/42310/"},"42310/",{"$f":"treatment!K205","v":"00:00:00"},{"$f":"treatment!L205","v":"2018-10-12T07:15:00"},null,"42310",{"$f":"treatment!H205","v":"2018-09-11T17:50:00"},{"$f":"treatment!I205","v":"2019-01-31T07:06:00"},{"$f":"treatment!J205","v":"2018-10-23T06:21:00"},null,{"$f":"classification!G205","v":3},{"$f":"classification!H205","v":"GlobalCommunityOperations"}]
[{"$f":"treatment!A206","v":"https://www.uber.com/careers/list/42245/"},"42245/",{"$f":"treatment!K206","v":"2018-09-12T08:30:00"},{"$f":"treatment!L206","v":"00:00:00"},null,"42245",{"$f":"treatment!H206","v":"2018-09-11T17:50:00"},{"$f":"treatment!I206","v":"2018-11-09T11:50:00"},{"$f":"treatment!J206","v":"2018-10-01T14:50:00"},"2018-09-11T10:21:00",{"$f":"classification!G206","v":1},{"$f":"classification!H206","v":"OperationsLaunch"}]
[{"$f":"treatment!A207","v":"https://www.uber.com/careers/list/42143/"},"42143/",{"$f":"treatment!K207","v":"00:00:00"},{"$f":"treatment!L207","v":"00:00:00"},null,"42143",{"$f":"treatment!H207","v":"2018-09-11T17:50:00"},{"$f":"treatment!I207","v":"2019-01-11T17:20:00"},{"$f":"treatment!J207","v":"00:00:00"},null,{"$f":"classification!G207","v":1},{"$f":"classification!H207","v":"PeopleOperations"}]
[{"$f":"treatment!A208","v":"https://www.uber.com/careers/list/41751/"},"41751/",{"$f":"treatment!K208","v":"00:00:00"},{"$f":"treatment!L208","v":"00:00:00"},null,"41751",{"$f":"treatment!H208","v":"2018-09-11T17:50:00"},{"$f":"treatment!I208","v":"00:00:00"},{"$f":"treatment!J208","v":"00:00:00"},null,{"$f":"classification!G208","v":3},{"$f":"classification!H208","v":"AdvancedTechnologiesGroup"}]
[{"$f":"treatment!A209","v":"https://www.uber.com/careers/list/39868/"},"39868/",{"$f":"treatment!K209","v":"00:00:00"},{"$f":"treatment!L209","v":"00:00:00"},null,"39868",{"$f":"treatment!H209","v":"2018-09-11T17:50:00"},{"$f":"treatment!I209","v":"2018-11-09T11:50:00"},{"$f":"treatment!J209","v":"2018-12-04T07:08:00"},null,{"$f":"classification!G209","v":1},{"$f":"classification!H209","v":"OperationsLaunch"}]
[{"$f":"treatment!A210","v":"https://www.uber.com/careers/list/37306/"},"37306/",{"$f":"treatment!K210","v":"00:00:00"},{"$f":"treatment!L210","v":"00:00:00"},null,"37306",{"$f":"treatment!H210","v":"2018-09-11T17:50:00"},{"$f":"treatment!I210","v":"2019-04-30T09:45:00"},{"$f":"treatment!J210","v":"00:00:00"},null,{"$f":"classification!G210","v":3},{"$f":"classification!H210","v":"Engineering"}]
[{"$f":"treatment!A211","v":"https://www.uber.com/careers/list/42258/"},"42258/",{"$f":"treatment!K211","v":"00:00:00"},{"$f":"treatment!L211","v":"00:00:00"},null,{"$f":"LEFT(B211, LEN(B211)-1)","v":"42258"},{"$f":"treatment!H211","v":"2018-09-11T17:50:00"},{"$f":"treatment!I211","v":"2019-02-01T06:20:00"},{"$f":"treatment!J211","v":"00:00:00"},null,{"$f":"classification!G211","v":3},{"$f":"classification!H211","v":"FinanceAccounting"}]
[{"$f":"treatment!A212","v":"https://www.uber.com/careers/list/42238/"},"42238/",{"$f":"treatment!K212","v":"00:00:00"},{"$f":"treatment!L212","v":"00:00:00"},null,"42238",{"$f":"treatment!H212","v":"2018-09-11T17:50:00"},{"$f":"treatment!I212","v":"2018-09-29T09:21:00"},{"$f":"treatment!J212","v":"2018-10-08T12:55:00"},null,{"$f":"classification!G212","v":3},{"$f":"classification!H212","v":"SafetySecurity"}]
[{"$f":"treatment!A213","v":"https://www.uber.com/careers/list/42204/"},"42204/",{"$f":"treatment!K213","v":"00:00:00"},{"$f":"treatment!L213","v":"00:00:00"},null,"42204",{"$f":"treatment!H213","v":"2018-09-11T17:50:00"},{"$f":"treatment!I213","v":"2019-02-06T08:05:00"},{"$f":"treatment!J213","v":"00:00:00"},null,{"$f":"classification!G213","v":1},{"$f":"classification!H213","v":"FinanceAccounting"}]
[{"$f":"treatment!A214","v":"https://www.uber.com/careers/list/30770/"},"30770/",{"$f":"treatment!K214","v":"00:00:00"},{"$f":"treatment!L214","v":"00:00:00"},null,"30770",{"$f":"treatment!H214","v":"2018-09-11T17:50:00"},{"$f":"treatment!I214","v":"2018-11-07T17:30:00"},{"$f":"treatment!J214","v":"2018-11-15T14:48:00"},null,{"$f":"classification!G214","v":1},{"$f":"classification!H214","v":"AdvancedTechnologiesGroup"}]
[{"$f":"treatment!A215","v":"https://www.uber.com/careers/list/42114/"},"42114/",{"$f":"treatment!K215","v":"00:00:00"},{"$f":"treatment!L215","v":"2018-09-06T21:33:00"},null,"42114",{"$f":"treatment!H215","v":"2018-09-05T15:52:00"},{"$f":"treatment!I215","v":"2018-12-22T16:30:00"},{"$f":"treatment!J215","v":"2018-10-01T14:50:00"},null,{"$f":"classification!G215","v":3},{"$f":"classification!H215","v":"GlobalCommunityOperations"}]
[{"$f":"treatment!A216","v":"https://www.uber.com/careers/list/42119/"},"42119/",{"$f":"treatment!K216","v":"00:00:00"},{"$f":"treatment!L216","v":"00:00:00"},null,"42119",{"$f":"treatment!H216","v":"2018-09-05T15:52:00"},{"$f":"treatment!I216","v":"2018-10-31T11:20:00"},{"$f":"treatment!J216","v":"2018-11-07T11:33:00"},null,{"$f":"classification!G216","v":3},{"$f":"classification!H216","v":"Engineering"}]
[{"$f":"treatment!A217","v":"https://www.uber.com/careers/list/42113/"},"42113/",{"$f":"treatment!K217","v":"2018-09-11T10:21:00"},{"$f":"treatment!L217","v":"00:00:00"},null,"42113",{"$f":"treatment!H217","v":"2018-09-05T15:52:00"},{"$f":"treatment!I217","v":"2019-01-04T07:40:00"},{"$f":"treatment!J217","v":"2018-09-23T12:29:00"},"2018-09-10T09:18:00",{"$f":"classification!G217","v":3},{"$f":"classification!H217","v":"GlobalCommunityOperations"}]
[{"$f":"treatment!A218","v":"https://www.uber.com/careers/list/42111/"},"42111/",{"$f":"treatment!K218","v":"2018-10-11T09:10:00"},{"$f":"treatment!L218","v":"00:00:00"},null,"42111",{"$f":"treatment!H218","v":"2018-09-05T15:52:00"},{"$f":"treatment!I218","v":"2019-01-03T08:06:00"},{"$f":"treatment!J218","v":"2018-10-16T07:51:00"},"2018-10-10T08:30:00",{"$f":"classification!G218","v":3},{"$f":"classification!H218","v":"FinanceAccounting"}]
[{"$f":"treatment!A219","v":"https://www.uber.com/careers/list/42099/"},"42099/",{"$f":"treatment!K219","v":"00:00:00"},{"$f":"treatment!L219","v":"00:00:00"},null,"42099",{"$f":"treatment!H219","v":"2018-09-05T15:52:00"},{"$f":"treatment!I219","v":"2018-11-12T19:45:00"},{"$f":"treatment!J219","v":"2018-12-04T07:08:00"},null,{"$f":"classification!G219","v":3},{"$f":"classification!H219","v":"Marketing"}]
[{"$f":"treatment!A220","v":"https://www.uber.com/careers/list/42059/"},"42059/",{"$f":"treatment!K220","v":"2018-11-07T17:30:00"},{"$f":"treatment!L220","v":"00:00:00"},null,"42059",{"$f":"treatment!H220","v":"2018-09-05T15:52:00"},{"$f":"treatment!I220","v":"2018-11-19T18:40:00"},{"$f":"treatment!J220","v":"2018-11-15T14:48:00"},"2018-11-06T11:00:00",{"$f":"classification!G220","v":3},{"$f":"classification!H220","v":"GlobalCommunityOperations"}]
[{"$f":"treatment!A221","v":"https://www.uber.com/careers/list/42048/"},"42048/",{"$f":"treatment!K221","v":"00:00:00"},{"$f":"treatment!L221","v":"00:00:00"},null,{"$f":"LEFT(B221, LEN(B221)-1)","v":"42048"},{"$f":"treatment!H221","v":"2018-09-05T15:52:00"},{"$f":"treatment!I221","v":"2018-11-15T17:00:00"},{"$f":"treatment!J221","v":"2018-12-04T07:08:00"},null,{"$f":"classification!G221","v":1},{"$f":"classification!H221","v":"PeopleOperations"}]
[{"$f":"treatment!A222","v":"https://www.uber.com/careers/list/42030/"},"42030/",{"$f":"treatment!K222","v":"00:00:00"},{"$f":"treatment!L222","v":"00:00:00"},null,"42030",{"$f":"treatment!H222","v":"2018-09-05T15:52:00"},{"$f":"treatment!I222","v":"2018-10-23T10:10:00"},{"$f":"treatment!J222","v":"2018-10-30T07:19:00"},null,{"$f":"classification!G222","v":1},{"$f":"classification!H222","v":"PeopleOperations"}]
[{"$f":"treatment!A223","v":"https://www.uber.com/careers/list/41973/"},"41973/",{"$f":"treatment!K223","v":"00:00:00"},{"$f":"treatment!L223","v":"00:00:00"},null,"41973",{"$f":"treatment!H223","v":"2018-09-05T15:52:00"},{"$f":"treatment!I223","v":"2018-09-14T20:34:00"},{"$f":"treatment!J223","v":"2018-09-23T12:29:00"},null,{"$f":"classification!G223","v":1},{"$f":"classification!H223","v":"PeopleOperations"}]
[{"$f":"treatment!A224","v":"https://www.uber.com/careers/list/42036/"},"42036/",{"$f":"treatment!K224","v":"00:00:00"},{"$f":"treatment!L224","v":"00:00:00"},null,"42036",{"$f":"treatment!H224","v":"2018-09-05T15:52:00"},{"$f":"treatment!I224","v":"2018-11-28T12:30:00"},{"$f":"treatment!J224","v":"2018-12-10T08:23:00"},null,{"$f":"classification!G224","v":1},{"$f":"classification!H224","v":"OperationsLaunch"}]
[{"$f":"treatment!A225","v":"https://www.uber.com/careers/list/42033/"},"42033/",{"$f":"treatment!K225","v":"00:00:00"},{"$f":"treatment!L225","v":"00:00:00"},null,"42033",{"$f":"treatment!H225","v":"2018-09-05T15:52:00"},{"$f":"treatment!I225","v":"2018-10-11T09:10:00"},{"$f":"treatment!J225","v":"2018-10-16T07:51:00"},null,{"$f":"classification!G225","v":1},{"$f":"classification!H225","v":"OperationsLaunch"}]
[{"$f":"treatment!A226","v":"https://www.uber.com/careers/list/42028/"},"42028/",{"$f":"treatment!K226","v":"00:00:00"},{"$f":"treatment!L226","v":"00:00:00"},null,"42028",{"$f":"treatment!H226","v":"2018-09-05T15:52:00"},{"$f":"treatment!I226","v":"2018-09-13T07:35:00"},{"$f":"treatment!J226","v":"2018-09-23T12:29:00"},null,{"$f":"classification!G226","v":1},{"$f":"classification!H226","v":"OperationsLaunch"}]
[{"$f":"treatment!A227","v":"https://www.uber.com/careers/list/42023/"},"42023/",{"$f":"treatment!K227","v":"00:00:00"},{"$f":"treatment!L227","v":"00:00:00"},null,"42023",{"$f":"treatment!H227","v":"2018-09-05T15:52:00"},{"$f":"treatment!I227","v":"2018-09-07T15:35:00"},{"$f":"treatment!J227","v":"2018-10-01T14:50:00"},null,{"$f":"classification!G227","v":1},{"$f":"classification!H227","v":"OperationsLaunch"}]
[{"$f":"treatment!A228","v":"https://www.uber.com/careers/list/38756/"},"38756/",{"$f":"treatment!K228","v":"00:00:00"},{"$f":"treatment!L228","v":"00:00:00"},null,"38756",{"$f":"treatment!H228","v":"2018-09-05T15:52:00"},{"$f":"treatment!I228","v":"2018-10-26T15:35:00"},{"$f":"treatment!J228","v":"2018-11-07T11:33:00"},null,{"$f":"classification!G228","v":3},{"$f":"classification!H228","v":"Engineering"}]
[{"$f":"treatment!A229","v":"https://www.uber.com/careers/list/20430/"},"20430/",{"$f":"treatment!K229","v":"00:00:00"},{"$f":"treatment!L229","v":"00:00:00"},null,{"$f":"LEFT(B229, LEN(B229)-1)","v":"20430"},{"$f":"treatment!H229","v":"2018-09-05T15:52:00"},{"$f":"treatment!I229","v":"2019-03-07T13:45:00"},{"$f":"treatment!J229","v":"00:00:00"},null,{"$f":"classification!G229","v":3},{"$f":"classification!H229","v":"Engineering"}]
[{"$f":"treatment!A230","v":"https://www.uber.com/careers/list/29328/"},"29328/",{"$f":"treatment!K230","v":"00:00:00"},{"$f":"treatment!L230","v":"00:00:00"},null,"29328",{"$f":"treatment!H230","v":"2018-09-05T15:52:00"},{"$f":"treatment!I230","v":"2018-11-02T14:15:00"},{"$f":"treatment!J230","v":"2018-11-15T14:48:00"},null,{"$f":"classification!G230","v":3},{"$f":"classification!H230","v":"SafetySecurity"}]
[{"$f":"treatment!A231","v":"https://www.uber.com/careers/list/41896/"},"41896/",{"$f":"treatment!K231","v":"2018-09-18T11:30:00"},{"$f":"treatment!L231","v":"00:00:00"},null,"41896",{"$f":"treatment!H231","v":"2018-09-05T15:52:00"},{"$f":"treatment!I231","v":"2019-01-09T13:10:00"},{"$f":"treatment!J231","v":"2018-10-01T14:50:00"},"2018-09-17T09:04:00",{"$f":"classification!G231","v":3},{"$f":"classification!H231","v":"Engineering"}]
[{"$f":"treatment!A232","v":"https://www.uber.com/careers/list/41941/"},"41941/",{"$f":"treatment!K232","v":"00:00:00"},{"$f":"treatment!L232","v":"00:00:00"},null,"41941",{"$f":"treatment!H232","v":"2018-09-05T15:52:00"},{"$f":"treatment!I232","v":"2018-10-25T11:30:00"},{"$f":"treatment!J232","v":"2018-10-30T07:19:00"},null,{"$f":"classification!G232","v":1},{"$f":"classification!H232","v":"Legal"}]
[{"$f":"treatment!A233","v":"https://www.uber.com/careers/list/41948/"},"41948/",{"$f":"treatment!K233","v":"00:00:00"},{"$f":"treatment!L233","v":"00:00:00"},null,"41948",{"$f":"treatment!H233","v":"2018-09-05T15:52:00"},{"$f":"treatment!I233","v":"2019-02-25T06:22:00"},{"$f":"treatment!J233","v":"00:00:00"},null,{"$f":"classification!G233","v":3},{"$f":"classification!H233","v":"GlobalCommunityOperations"}]
[{"$f":"treatment!A234","v":"https://www.uber.com/careers/list/41967/"},"41967/",{"$f":"treatment!K234","v":"00:00:00"},{"$f":"treatment!L234","v":"00:00:00"},null,"41967",{"$f":"treatment!H234","v":"2018-09-05T15:52:00"},{"$f":"treatment!I234","v":"2019-02-06T08:05:00"},{"$f":"treatment!J234","v":"00:00:00"},null,{"$f":"classification!G234","v":3},{"$f":"classification!H234","v":"Product"}]
[{"$f":"treatment!A235","v":"https://www.uber.com/careers/list/41930/"},"41930/",{"$f":"treatment!K235","v":"00:00:00"},{"$f":"treatment!L235","v":"00:00:00"},null,{"$f":"LEFT(B235, LEN(B235)-1)","v":"41930"},{"$f":"treatment!H235","v":"2018-09-05T15:52:00"},{"$f":"treatment!I235","v":"2018-10-31T11:20:00"},{"$f":"treatment!J235","v":"2018-11-07T11:33:00"},null,{"$f":"classification!G235","v":3},{"$f":"classification!H235","v":"Engineering"}]
[{"$f":"treatment!A236","v":"https://www.uber.com/careers/list/41892/"},"41892/",{"$f":"treatment!K236","v":"00:00:00"},{"$f":"treatment!L236","v":"00:00:00"},null,{"$f":"LEFT(B236, LEN(B236)-1)","v":"41892"},{"$f":"treatment!H236","v":"2018-09-05T15:52:00"},{"$f":"treatment!I236","v":"2018-12-27T19:55:00"},{"$f":"treatment!J236","v":"00:00:00"},null,{"$f":"classification!G236","v":1},{"$f":"classification!H236","v":"PeopleOperations"}]
[{"$f":"treatment!A237","v":"https://www.uber.com/careers/list/41800/"},"41800/",{"$f":"treatment!K237","v":"00:00:00"},{"$f":"treatment!L237","v":"00:00:00"},null,{"$f":"LEFT(B237, LEN(B237)-1)","v":"41800"},{"$f":"treatment!H237","v":"2018-09-05T15:52:00"},{"$f":"treatment!I237","v":"2019-02-14T19:10:00"},{"$f":"treatment!J237","v":"00:00:00"},null,{"$f":"classification!G237","v":3},{"$f":"classification!H237","v":"Product"}]
[{"$f":"treatment!A238","v":"https://www.uber.com/careers/list/29840/"},"29840/",{"$f":"treatment!K238","v":"00:00:00"},{"$f":"treatment!L238","v":"00:00:00"},null,{"$f":"LEFT(B238, LEN(B238)-1)","v":"29840"},{"$f":"treatment!H238","v":"2018-08-29T16:02:00"},{"$f":"treatment!I238","v":"2019-02-11T08:20:00"},{"$f":"treatment!J238","v":"00:00:00"},null,{"$f":"classification!G238","v":3},{"$f":"classification!H238","v":"Engineering"}]
[{"$f":"treatment!A239","v":"https://www.uber.com/careers/list/12480/"},"12480/",{"$f":"treatment!K239","v":"00:00:00"},{"$f":"treatment!L239","v":"00:00:00"},null,{"$f":"LEFT(B239, LEN(B239)-1)","v":"12480"},{"$f":"treatment!H239","v":"2018-08-29T16:02:00"},{"$f":"treatment!I239","v":"2019-02-11T08:20:00"},{"$f":"treatment!J239","v":"00:00:00"},null,{"$f":"classification!G239","v":3},{"$f":"classification!H239","v":"AdvancedTechnologiesGroup"}]
[{"$f":"treatment!A240","v":"https://www.uber.com/careers/list/41720/"},"41720/",{"$f":"treatment!K240","v":"00:00:00"},{"$f":"treatment!L240","v":"00:00:00"},null,{"$f":"LEFT(B240, LEN(B240)-1)","v":"41720"},{"$f":"treatment!H240","v":"2018-08-29T16:02:00"},{"$f":"treatment!I240","v":"2019-04-12T19:40:00"},{"$f":"treatment!J240","v":"00:00:00"},null,{"$f":"classification!G240","v":1},{"$f":"classification!H240","v":"Engineering"}]
[{"$f":"treatment!A241","v":"https://www.uber.com/careers/list/41811/"},"41811/",{"$f":"treatment!K241","v":"00:00:00"},{"$f":"treatment!L241","v":"00:00:00"},null,"41811",{"$f":"treatment!H241","v":"2018-08-29T16:02:00"},{"$f":"treatment!I241","v":"2018-12-18T12:45:00"},{"$f":"treatment!J241","v":"00:00:00"},null,{"$f":"classification!G241","v":1},{"$f":"classification!H241","v":"BusinessSales"}]
[{"$f":"treatment!A242","v":"https://www.uber.com/careers/list/41891/"},"41891/",{"$f":"treatment!K242","v":"00:00:00"},{"$f":"treatment!L242","v":"00:00:00"},null,"41891",{"$f":"treatment!H242","v":"2018-08-29T16:02:00"},{"$f":"treatment!I242","v":"00:00:00"},{"$f":"treatment!J242","v":"00:00:00"},null,{"$f":"classification!G242","v":3},{"$f":"classification!H242","v":"BusinessSales"}]
[{"$f":"treatment!A243","v":"https://www.uber.com/careers/list/41894/"},"41894/",{"$f":"treatment!K243","v":"2018-09-25T17:00:00"},{"$f":"treatment!L243","v":"00:00:00"},null,"41894",{"$f":"treatment!H243","v":"2018-08-29T16:02:00"},{"$f":"treatment!I243","v":"2018-11-06T11:00:00"},{"$f":"treatment!J243","v":"2018-10-01T14:50:00"},"2018-09-24T09:36:00",{"$f":"classification!G243","v":3},{"$f":"classification!H243","v":"GlobalCommunityOperations"}]
[{"$f":"treatment!A244","v":"https://www.uber.com/careers/list/41895/"},"41895/",{"$f":"treatment!K244","v":"2018-09-04T17:24:00"},{"$f":"treatment!L244","v":"00:00:00"},null,"41895",{"$f":"treatment!H244","v":"2018-08-29T16:02:00"},{"$f":"treatment!I244","v":"2018-10-16T13:00:00"},{"$f":"treatment!J244","v":"2018-10-01T14:50:00"},"2018-09-03T19:22:00",{"$f":"classification!G244","v":1},{"$f":"classification!H244","v":"Legal"}]
[{"$f":"treatment!A245","v":"https://www.uber.com/careers/list/41900/"},"41900/",{"$f":"treatment!K245","v":"00:00:00"},{"$f":"treatment!L245","v":"00:00:00"},null,"41900",{"$f":"treatment!H245","v":"2018-08-29T16:02:00"},{"$f":"treatment!I245","v":"2018-11-15T17:00:00"},{"$f":"treatment!J245","v":"2018-12-04T07:08:00"},null,{"$f":"classification!G245","v":3},{"$f":"classification!H245","v":"FinanceAccounting"}]
[{"$f":"treatment!A246","v":"https://www.uber.com/careers/list/41025/"},"41025/",{"$f":"treatment!K246","v":"00:00:00"},{"$f":"treatment!L246","v":"00:00:00"},null,{"$f":"LEFT(B246, LEN(B246)-1)","v":"41025"},{"$f":"treatment!H246","v":"2018-08-29T16:02:00"},{"$f":"treatment!I246","v":"2018-09-06T21:33:00"},{"$f":"treatment!J246","v":"2018-10-01T14:50:00"},null,{"$f":"classification!G246","v":3},{"$f":"classification!H246","v":"Engineering"}]
[{"$f":"treatment!A247","v":"https://www.uber.com/careers/list/41789/"},"41789/",{"$f":"treatment!K247","v":"00:00:00"},{"$f":"treatment!L247","v":"00:00:00"},null,{"$f":"LEFT(B247, LEN(B247)-1)","v":"41789"},{"$f":"treatment!H247","v":"2018-08-29T16:02:00"},{"$f":"treatment!I247","v":"2018-10-17T15:00:00"},{"$f":"treatment!J247","v":"2018-10-23T06:21:00"},null,{"$f":"classification!G247","v":1},{"$f":"classification!H247","v":"Marketing"}]
[{"$f":"treatment!A248","v":"https://www.uber.com/careers/list/41761/"},{"$f":"RIGHT(A248, LEN(A248)-34)","v":"41761/"},{"$f":"treatment!K248","v":"00:00:00"},{"$f":"treatment!L248","v":"00:00:00"},null,{"$f":"LEFT(B248, LEN(B248)-1)","v":"41761"},{"$f":"treatment!H248","v":"2018-08-29T16:02:00"},{"$f":"treatment!I248","v":"2019-01-29T06:50:00"},{"$f":"treatment!J248","v":"00:00:00"},null,{"$f":"classification!G248","v":1},{"$f":"classification!H248","v":"FinanceAccounting"}]
[{"$f":"treatment!A249","v":"https://www.uber.com/careers/list/28620/"},"28620/",{"$f":"treatment!K249","v":"00:00:00"},{"$f":"treatment!L249","v":"00:00:00"},null,{"$f":"LEFT(B249, LEN(B249)-1)","v":"28620"},{"$f":"treatment!H249","v":"2018-08-29T16:02:00"},{"$f":"treatment!I249","v":"2019-01-15T09:20:00"},{"$f":"treatment!J249","v":"2018-11-15T14:48:00"},null,{"$f":"classification!G249","v":3},{"$f":"classification!H249","v":"AdvancedTechnologiesGroup"}]
[{"$f":"treatment!A250","v":"https://www.uber.com/careers/list/41750/"},"41750/",{"$f":"treatment!K250","v":"00:00:00"},{"$f":"treatment!L250","v":"00:00:00"},null,{"$f":"LEFT(B250, LEN(B250)-1)","v":"41750"},{"$f":"treatment!H250","v":"2018-08-29T16:02:00"},{"$f":"treatment!I250","v":"2019-03-25T20:30:00"},{"$f":"treatment!J250","v":"00:00:00"},null,{"$f":"classification!G250","v":3},{"$f":"classification!H250","v":"Engineering"}]
[{"$f":"treatment!A251","v":"https://www.uber.com/careers/list/41695/"},"41695/",{"$f":"treatment!K251","v":"00:00:00"},{"$f":"treatment!L251","v":"00:00:00"},null,"41695",{"$f":"treatment!H251","v":"2018-08-29T16:02:00"},{"$f":"treatment!I251","v":"2018-12-12T07:30:00"},{"$f":"treatment!J251","v":"00:00:00"},null,{"$f":"classification!G251","v":3},{"$f":"classification!H251","v":"FinanceAccounting"}]
[{"$f":"treatment!A252","v":"https://www.uber.com/careers/list/41691/"},"41691/",{"$f":"treatment!K252","v":"00:00:00"},{"$f":"treatment!L252","v":"00:00:00"},null,"41691",{"$f":"treatment!H252","v":"2018-08-29T16:02:00"},{"$f":"treatment!I252","v":"2019-03-02T10:45:00"},{"$f":"treatment!J252","v":"00:00:00"},null,{"$f":"classification!G252","v":1},{"$f":"classification!H252","v":"BusinessSales"}]
[{"$f":"treatment!A253","v":"https://www.uber.com/careers/list/41689/"},"41689/",{"$f":"treatment!K253","v":"00:00:00"},{"$f":"treatment!L253","v":"00:00:00"},null,"41689",{"$f":"treatment!H253","v":"2018-08-29T16:02:00"},{"$f":"treatment!I253","v":"2019-01-11T17:20:00"},{"$f":"treatment!J253","v":"00:00:00"},null,{"$f":"classification!G253","v":1},{"$f":"classification!H253","v":"BusinessSales"}]
[{"$f":"treatment!A254","v":"https://www.uber.com/careers/list/41677/"},"41677/",{"$f":"treatment!K254","v":"00:00:00"},{"$f":"treatment!L254","v":"00:00:00"},null,"41677",{"$f":"treatment!H254","v":"2018-08-29T16:02:00"},{"$f":"treatment!I254","v":"2019-04-26T11:55:00"},{"$f":"treatment!J254","v":"00:00:00"},null,{"$f":"classification!G254","v":3},{"$f":"classification!H254","v":"Engineering"}]
[{"$f":"treatment!A255","v":"https://www.uber.com/careers/list/41673/"},"41673/",{"$f":"treatment!K255","v":"00:00:00"},{"$f":"treatment!L255","v":"00:00:00"},null,"41673",{"$f":"treatment!H255","v":"2018-08-29T16:02:00"},{"$f":"treatment!I255","v":"2018-12-01T11:35:00"},{"$f":"treatment!J255","v":"2018-12-10T08:23:00"},null,{"$f":"classification!G255","v":3},{"$f":"classification!H255","v":"OperationsLaunch"}]
[{"$f":"treatment!A256","v":"https://www.uber.com/careers/list/41682/"},"41682/",{"$f":"treatment!K256","v":"00:00:00"},{"$f":"treatment!L256","v":"00:00:00"},null,"41682",{"$f":"treatment!H256","v":"2018-08-29T16:02:00"},{"$f":"treatment!I256","v":"2018-09-22T15:44:00"},{"$f":"treatment!J256","v":"2018-10-01T14:50:00"},null,{"$f":"classification!G256","v":1},{"$f":"classification!H256","v":"GlobalCommunityOperations"}]
[{"$f":"treatment!A257","v":"https://www.uber.com/careers/list/41510/"},"41510/",{"$f":"treatment!K257","v":"2018-09-20T10:51:00"},{"$f":"treatment!L257","v":"00:00:00"},null,{"$f":"LEFT(B257, LEN(B257)-1)","v":"41510"},{"$f":"treatment!H257","v":"2018-08-22T14:44:00"},{"$f":"treatment!I257","v":"2018-11-13T20:52:00"},{"$f":"treatment!J257","v":"2018-10-01T14:50:00"},"2018-09-19T12:20:00",{"$f":"classification!G257","v":3},{"$f":"classification!H257","v":"Engineering"}]
[{"$f":"treatment!A258","v":"https://www.uber.com/careers/list/41633/"},"41633/",{"$f":"treatment!K258","v":"00:00:00"},{"$f":"treatment!L258","v":"00:00:00"},null,"41633",{"$f":"treatment!H258","v":"2018-08-22T14:44:00"},{"$f":"treatment!I258","v":"2018-09-14T20:34:00"},{"$f":"treatment!J258","v":"2018-09-23T12:29:00"},null,{"$f":"classification!G258","v":3},{"$f":"classification!H258","v":"Product"}]
[{"$f":"treatment!A259","v":"https://www.uber.com/careers/list/41635/"},"41635/",{"$f":"treatment!K259","v":"2018-10-02T10:15:00"},{"$f":"treatment!L259","v":"00:00:00"},null,"41635",{"$f":"treatment!H259","v":"2018-08-22T14:44:00"},{"$f":"treatment!I259","v":"2019-03-07T13:45:00"},{"$f":"treatment!J259","v":"2018-10-08T12:55:00"},"2018-10-01T08:26:00",{"$f":"classification!G259","v":3},{"$f":"classification!H259","v":"Engineering"}]
[{"$f":"treatment!A260","v":"https://www.uber.com/careers/list/41541/"},"41541/",{"$f":"treatment!K260","v":"00:00:00"},{"$f":"treatment!L260","v":"00:00:00"},null,"41541",{"$f":"treatment!H260","v":"2018-08-22T14:44:00"},{"$f":"treatment!I260","v":"2018-12-06T07:45:00"},{"$f":"treatment!J260","v":"2018-12-10T08:23:00"},null,{"$f":"classification!G260","v":3},{"$f":"classification!H260","v":"OperationsLaunch"}]
[{"$f":"treatment!A261","v":"https://www.uber.com/careers/list/41540/"},"41540/",{"$f":"treatment!K261","v":"00:00:00"},{"$f":"treatment!L261","v":"00:00:00"},null,"41540",{"$f":"treatment!H261","v":"2018-08-22T14:44:00"},{"$f":"treatment!I261","v":"2018-10-02T10:15:00"},{"$f":"treatment!J261","v":"2018-10-08T12:55:00"},null,{"$f":"classification!G261","v":3},{"$f":"classification!H261","v":"OperationsLaunch"}]
[{"$f":"treatment!A262","v":"https://www.uber.com/careers/list/41581/"},"41581/",{"$f":"treatment!K262","v":"00:00:00"},{"$f":"treatment!L262","v":"00:00:00"},null,"41581",{"$f":"treatment!H262","v":"2018-08-22T14:44:00"},{"$f":"treatment!I262","v":"2018-10-30T11:50:00"},{"$f":"treatment!J262","v":"2018-11-07T11:33:00"},null,{"$f":"classification!G262","v":3},{"$f":"classification!H262","v":"GlobalCommunityOperations"}]
[{"$f":"treatment!A263","v":"https://www.uber.com/careers/list/41538/"},"41538/",{"$f":"treatment!K263","v":"00:00:00"},{"$f":"treatment!L263","v":"00:00:00"},null,"41538",{"$f":"treatment!H263","v":"2018-08-22T14:44:00"},{"$f":"treatment!I263","v":"2018-10-02T10:15:00"},{"$f":"treatment!J263","v":"2018-10-08T12:55:00"},null,{"$f":"classification!G263","v":3},{"$f":"classification!H263","v":"OperationsLaunch"}]
[{"$f":"treatment!A264","v":"https://www.uber.com/careers/list/41490/"},"41490/",{"$f":"treatment!K264","v":"00:00:00"},{"$f":"treatment!L264","v":"00:00:00"},null,"41490",{"$f":"treatment!H264","v":"2018-08-22T14:44:00"},{"$f":"treatment!I264","v":"2019-02-02T07:40:00"},{"$f":"treatment!J264","v":"00:00:00"},null,{"$f":"classification!G264","v":3},{"$f":"classification!H264","v":"Engineering"}]
[{"$f":"treatment!A265","v":"https://www.uber.com/careers/list/41447/"},"41447/",{"$f":"treatment!K265","v":"00:00:00"},{"$f":"treatment!L265","v":"00:00:00"},null,"41447",{"$f":"treatment!H265","v":"2018-08-22T14:44:00"},{"$f":"treatment!I265","v":"2018-10-11T09:10:00"},{"$f":"treatment!J265","v":"2018-10-16T07:51:00"},null,{"$f":"classification!G265","v":3},{"$f":"classification!H265","v":"GlobalCommunityOperations"}]
[{"$f":"treatment!A266","v":"https://www.uber.com/careers/list/41486/"},"41486/",{"$f":"treatment!K266","v":"00:00:00"},{"$f":"treatment!L266","v":"00:00:00"},null,{"$f":"LEFT(B266, LEN(B266)-1)","v":"41486"},{"$f":"treatment!H266","v":"2018-08-22T14:44:00"},{"$f":"treatment!I266","v":"2019-01-04T07:40:00"},{"$f":"treatment!J266","v":"00:00:00"},null,{"$f":"classification!G266","v":3},{"$f":"classification!H266","v":"Product"}]
[{"$f":"treatment!A267","v":"https://www.uber.com/careers/list/41479/"},"41479/",{"$f":"treatment!K267","v":"00:00:00"},{"$f":"treatment!L267","v":"00:00:00"},null,"41479",{"$f":"treatment!H267","v":"2018-08-22T14:44:00"},{"$f":"treatment!I267","v":"2018-09-17T17:50:00"},{"$f":"treatment!J267","v":"2018-10-01T14:50:00"},null,{"$f":"classification!G267","v":3},{"$f":"classification!H267","v":"Legal"}]
[{"$f":"treatment!A268","v":"https://www.uber.com/careers/list/41449/"},"41449/",{"$f":"treatment!K268","v":"00:00:00"},{"$f":"treatment!L268","v":"00:00:00"},null,"41449",{"$f":"treatment!H268","v":"2018-08-22T14:44:00"},{"$f":"treatment!I268","v":"2019-01-08T07:15:00"},{"$f":"treatment!J268","v":"00:00:00"},null,{"$f":"classification!G268","v":3},{"$f":"classification!H268","v":"Engineering"}]
[{"$f":"treatment!A269","v":"https://www.uber.com/careers/list/41446/"},"41446/",{"$f":"treatment!K269","v":"00:00:00"},{"$f":"treatment!L269","v":"00:00:00"},null,"41446",{"$f":"treatment!H269","v":"2018-08-22T14:44:00"},{"$f":"treatment!I269","v":"2018-12-04T07:15:00"},{"$f":"treatment!J269","v":"2018-12-10T08:23:00"},null,{"$f":"classification!G269","v":3},{"$f":"classification!H269","v":"SafetySecurity"}]
[{"$f":"treatment!A270","v":"https://www.uber.com/careers/list/41230/"},"41230/",{"$f":"treatment!K270","v":"00:00:00"},{"$f":"treatment!L270","v":"00:00:00"},null,"41230",{"$f":"treatment!H270","v":"2018-08-22T14:44:00"},{"$f":"treatment!I270","v":"2019-03-06T08:05:00"},{"$f":"treatment!J270","v":"00:00:00"},null,{"$f":"classification!G270","v":3},{"$f":"classification!H270","v":"Engineering"}]
[{"$f":"treatment!A271","v":"https://www.uber.com/careers/list/36843/"},"36843/",{"$f":"treatment!K271","v":"00:00:00"},{"$f":"treatment!L271","v":"00:00:00"},null,"36843",{"$f":"treatment!H271","v":"2018-08-22T14:44:00"},{"$f":"treatment!I271","v":"00:00:00"},{"$f":"treatment!J271","v":"00:00:00"},null,{"$f":"classification!G271","v":3},{"$f":"classification!H271","v":"AdvancedTechnologiesGroup"}]
[{"$f":"treatment!A272","v":"https://www.uber.com/careers/list/34593/"},"34593/",{"$f":"treatment!K272","v":"00:00:00"},{"$f":"treatment!L272","v":"00:00:00"},null,"34593",{"$f":"treatment!H272","v":"2018-08-22T14:44:00"},{"$f":"treatment!I272","v":"2019-02-12T10:55:00"},{"$f":"treatment!J272","v":"00:00:00"},null,{"$f":"classification!G272","v":3},{"$f":"classification!H272","v":"AdvancedTechnologiesGroup"}]
[{"$f":"treatment!A273","v":"https://www.uber.com/careers/list/41359/"},"41359/",{"$f":"treatment!K273","v":"00:00:00"},{"$f":"treatment!L273","v":"00:00:00"},null,"41359",{"$f":"treatment!H273","v":"2018-08-22T14:44:00"},{"$f":"treatment!I273","v":"2019-04-22T11:51:00"},{"$f":"treatment!J273","v":"00:00:00"},null,{"$f":"classification!G273","v":3},{"$f":"classification!H273","v":"GlobalCommunityOperations"}]
[{"$f":"treatment!A274","v":"https://www.uber.com/careers/list/41476/"},"41476/",{"$f":"treatment!K274","v":"00:00:00"},{"$f":"treatment!L274","v":"00:00:00"},null,"41476",{"$f":"treatment!H274","v":"2018-08-22T14:44:00"},{"$f":"treatment!I274","v":"2018-12-18T12:45:00"},{"$f":"treatment!J274","v":"00:00:00"},null,{"$f":"classification!G274","v":3},{"$f":"classification!H274","v":"Engineering"}]
[{"$f":"treatment!A275","v":"https://www.uber.com/careers/list/41448/"},"41448/",{"$f":"treatment!K275","v":"00:00:00"},{"$f":"treatment!L275","v":"00:00:00"},null,{"$f":"LEFT(B275, LEN(B275)-1)","v":"41448"},{"$f":"treatment!H275","v":"2018-08-22T14:44:00"},{"$f":"treatment!I275","v":"2019-02-22T15:37:00"},{"$f":"treatment!J275","v":"00:00:00"},null,{"$f":"classification!G275","v":3},{"$f":"classification!H275","v":"GlobalCommunityOperations"}]
[{"$f":"treatment!A276","v":"https://www.uber.com/careers/list/41440/"},"41440/",{"$f":"treatment!K276","v":"00:00:00"},{"$f":"treatment!L276","v":"00:00:00"},null,"41440",{"$f":"treatment!H276","v":"2018-08-22T14:44:00"},{"$f":"treatment!I276","v":"2018-09-25T17:00:00"},{"$f":"treatment!J276","v":"2018-10-01T14:50:00"},null,{"$f":"classification!G276","v":3},{"$f":"classification!H276","v":"SafetySecurity"}]
[{"$f":"treatment!A277","v":"https://www.uber.com/careers/list/41420/"},"41420/",{"$f":"treatment!K277","v":"00:00:00"},{"$f":"treatment!L277","v":"00:00:00"},null,"41420",{"$f":"treatment!H277","v":"2018-08-22T14:44:00"},{"$f":"treatment!I277","v":"2018-09-18T11:21:00"},{"$f":"treatment!J277","v":"2018-10-01T14:50:00"},null,{"$f":"classification!G277","v":3},{"$f":"classification!H277","v":"FinanceAccounting"}]
[{"$f":"treatment!A278","v":"https://www.uber.com/careers/list/41370/"},"41370/",{"$f":"treatment!K278","v":"2018-09-21T10:45:00"},{"$f":"treatment!L278","v":"00:00:00"},null,"41370",{"$f":"treatment!H278","v":"2018-08-22T14:44:00"},{"$f":"treatment!I278","v":"2018-10-06T14:00:00"},{"$f":"treatment!J278","v":"2018-10-01T14:50:00"},"2018-09-20T10:51:00",{"$f":"classification!G278","v":1},{"$f":"classification!H278","v":"GlobalCommunityOperations"}]
[{"$f":"treatment!A279","v":"https://www.uber.com/careers/list/40312/"},"40312/",{"$f":"treatment!K279","v":"00:00:00"},{"$f":"treatment!L279","v":"00:00:00"},null,"40312",{"$f":"treatment!H279","v":"2018-08-22T14:44:00"},{"$f":"treatment!I279","v":"2018-09-19T22:00:00"},{"$f":"treatment!J279","v":"00:00:00"},null,{"$f":"classification!G279","v":3},{"$f":"classification!H279","v":"SafetySecurity"}]
[{"$f":"treatment!A280","v":"https://www.uber.com/careers/list/39546/"},"39546/",{"$f":"treatment!K280","v":"00:00:00"},{"$f":"treatment!L280","v":"00:00:00"},null,"39546",{"$f":"treatment!H280","v":"2018-08-22T14:44:00"},{"$f":"treatment!I280","v":"2018-11-07T17:30:00"},{"$f":"treatment!J280","v":"2018-11-15T14:48:00"},null,{"$f":"classification!G280","v":3},{"$f":"classification!H280","v":"GlobalCommunityOperations"}]
[{"$f":"treatment!A281","v":"https://www.uber.com/careers/list/37501/"},"37501/",{"$f":"treatment!K281","v":"00:00:00"},{"$f":"treatment!L281","v":"00:00:00"},null,"37501",{"$f":"treatment!H281","v":"2018-08-22T14:44:00"},{"$f":"treatment!I281","v":"2018-10-03T12:22:00"},{"$f":"treatment!J281","v":"2018-10-08T12:55:00"},null,{"$f":"classification!G281","v":3},{"$f":"classification!H281","v":"Product"}]
[{"$f":"treatment!A282","v":"https://www.uber.com/careers/list/30121/"},"30121/",{"$f":"treatment!K282","v":"00:00:00"},{"$f":"treatment!L282","v":"00:00:00"},null,"30121",{"$f":"treatment!H282","v":"2018-08-22T14:44:00"},{"$f":"treatment!I282","v":"00:00:00"},{"$f":"treatment!J282","v":"00:00:00"},null,{"$f":"classification!G282","v":3},{"$f":"classification!H282","v":"AdvancedTechnologiesGroup"}]
[{"$f":"treatment!A283","v":"https://www.uber.com/careers/list/41406/"},"41406/",{"$f":"treatment!K283","v":"00:00:00"},{"$f":"treatment!L283","v":"00:00:00"},null,{"$f":"LEFT(B283, LEN(B283)-1)","v":"41406"},{"$f":"treatment!H283","v":"2018-08-16T14:15:00"},{"$f":"treatment!I283","v":"2018-11-09T11:50:00"},{"$f":"treatment!J283","v":"2018-12-04T07:08:00"},null,{"$f":"classification!G283","v":1},{"$f":"classification!H283","v":"OperationsLaunch"}]
[{"$f":"treatment!A284","v":"https://www.uber.com/careers/list/41354/"},"41354/",{"$f":"treatment!K284","v":"00:00:00"},{"$f":"treatment!L284","v":"00:00:00"},null,"41354",{"$f":"treatment!H284","v":"2018-08-16T14:15:00"},{"$f":"treatment!I284","v":"2018-08-29T16:30:00"},{"$f":"treatment!J284","v":"2018-09-05T15:52:00"},null,{"$f":"classification!G284","v":3},{"$f":"classification!H284","v":"OperationsLaunch"}]
[{"$f":"treatment!A285","v":"https://www.uber.com/careers/list/41347/"},"41347/",{"$f":"treatment!K285","v":"2018-09-15T09:30:00"},{"$f":"treatment!L285","v":"00:00:00"},null,"41347",{"$f":"treatment!H285","v":"2018-08-16T14:15:00"},{"$f":"treatment!I285","v":"00:00:00"},{"$f":"treatment!J285","v":"2018-09-23T12:29:00"},"2018-09-14T11:50:00",{"$f":"classification!G285","v":3},{"$f":"classification!H285","v":"BusinessSales"}]
[{"$f":"treatment!A286","v":"https://www.uber.com/careers/list/41346/"},"41346/",{"$f":"treatment!K286","v":"00:00:00"},{"$f":"treatment!L286","v":"00:00:00"},null,"41346",{"$f":"treatment!H286","v":"2018-08-16T14:15:00"},{"$f":"treatment!I286","v":"00:00:00"},{"$f":"treatment!J286","v":"00:00:00"},null,{"$f":"classification!G286","v":3},{"$f":"classification!H286","v":"Engineering"}]
[{"$f":"treatment!A287","v":"https://www.uber.com/careers/list/41333/"},"41333/",{"$f":"treatment!K287","v":"00:00:00"},{"$f":"treatment!L287","v":"00:00:00"},null,"41333",{"$f":"treatment!H287","v":"2018-08-16T14:15:00"},{"$f":"treatment!I287","v":"2018-12-05T07:00:00"},{"$f":"treatment!J287","v":"2018-12-10T08:23:00"},null,{"$f":"classification!G287","v":1},{"$f":"classification!H287","v":"PeopleOperations"}]
[{"$f":"treatment!A288","v":"https://www.uber.com/careers/list/41286/"},"41286/",{"$f":"treatment!K288","v":"00:00:00"},{"$f":"treatment!L288","v":"00:00:00"},null,"41286",{"$f":"treatment!H288","v":"2018-08-16T14:15:00"},{"$f":"treatment!I288","v":"2018-11-30T15:50:00"},{"$f":"treatment!J288","v":"2018-12-10T08:23:00"},null,{"$f":"classification!G288","v":3},{"$f":"classification!H288","v":"FinanceAccounting"}]
[{"$f":"treatment!A289","v":"https://www.uber.com/careers/list/41285/"},"41285/",{"$f":"treatment!K289","v":"00:00:00"},{"$f":"treatment!L289","v":"00:00:00"},null,"41285",{"$f":"treatment!H289","v":"2018-08-16T14:15:00"},{"$f":"treatment!I289","v":"2018-12-03T09:10:00"},{"$f":"treatment!J289","v":"2018-12-10T08:23:00"},null,{"$f":"classification!G289","v":1},{"$f":"classification!H289","v":"OperationsLaunch"}]
[{"$f":"treatment!A290","v":"https://www.uber.com/careers/list/41213/"},"41213/",{"$f":"treatment!K290","v":"00:00:00"},{"$f":"treatment!L290","v":"00:00:00"},null,"41213",{"$f":"treatment!H290","v":"2018-08-16T14:15:00"},{"$f":"treatment!I290","v":"2019-01-08T07:15:00"},{"$f":"treatment!J290","v":"00:00:00"},null,{"$f":"classification!G290","v":3},{"$f":"classification!H290","v":"AdvancedTechnologiesGroup"}]
[{"$f":"treatment!A291","v":"https://www.uber.com/careers/list/41135/"},"41135/",{"$f":"treatment!K291","v":"2018-10-09T11:40:00"},{"$f":"treatment!L291","v":"2018-10-09T11:40:00"},null,"41135",{"$f":"treatment!H291","v":"2018-08-16T14:15:00"},{"$f":"treatment!I291","v":"2018-12-05T07:00:00"},{"$f":"treatment!J291","v":"2018-10-16T07:51:00"},"2018-10-08T14:30:00",{"$f":"classification!G291","v":3},{"$f":"classification!H291","v":"Legal"}]
[{"$f":"treatment!A292","v":"https://www.uber.com/careers/list/41091/"},"41091/",{"$f":"treatment!K292","v":"2018-08-14T17:00:00"},{"$f":"treatment!L292","v":"00:00:00"},null,"41091",{"$f":"treatment!H292","v":"2018-08-16T14:15:00"},{"$f":"treatment!I292","v":"2018-09-19T22:00:00"},{"$f":"treatment!J292","v":"2018-08-17T11:16:00"},"2018-08-13T17:00:00",{"$f":"classification!G292","v":1},{"$f":"classification!H292","v":"Legal"}]
[{"$f":"treatment!A293","v":"https://www.uber.com/careers/list/40726/"},"40726/",{"$f":"treatment!K293","v":"00:00:00"},{"$f":"treatment!L293","v":"00:00:00"},null,"40726",{"$f":"treatment!H293","v":"2018-08-16T14:15:00"},{"$f":"treatment!I293","v":"2018-11-27T15:30:00"},{"$f":"treatment!J293","v":"2018-12-10T08:23:00"},null,{"$f":"classification!G293","v":3},{"$f":"classification!H293","v":"FinanceAccounting"}]
[{"$f":"treatment!A294","v":"https://www.uber.com/careers/list/40463/"},"40463/",{"$f":"treatment!K294","v":"00:00:00"},{"$f":"treatment!L294","v":"00:00:00"},null,"40463",{"$f":"treatment!H294","v":"2018-08-16T14:15:00"},{"$f":"treatment!I294","v":"2018-10-11T09:10:00"},{"$f":"treatment!J294","v":"2018-10-16T07:51:00"},null,{"$f":"classification!G294","v":3},{"$f":"classification!H294","v":"Engineering"}]
[{"$f":"treatment!A295","v":"https://www.uber.com/careers/list/41171/"},"41171/",{"$f":"treatment!K295","v":"00:00:00"},{"$f":"treatment!L295","v":"00:00:00"},null,{"$f":"LEFT(B295, LEN(B295)-1)","v":"41171"},{"$f":"treatment!H295","v":"2018-08-13T13:59:00"},{"$f":"treatment!I295","v":"2018-10-25T11:30:00"},{"$f":"treatment!J295","v":"2018-10-30T07:19:00"},null,{"$f":"classification!G295","v":3},{"$f":"classification!H295","v":"FinanceAccounting"}]
[{"$f":"treatment!A296","v":"https://www.uber.com/careers/list/41143/"},"41143/",{"$f":"treatment!K296","v":"00:00:00"},{"$f":"treatment!L296","v":"00:00:00"},null,"41143",{"$f":"treatment!H296","v":"2018-08-13T13:59:00"},{"$f":"treatment!I296","v":"2018-08-29T16:30:00"},{"$f":"treatment!J296","v":"2018-09-05T15:52:00"},null,{"$f":"classification!G296","v":3},{"$f":"classification!H296","v":"PeopleOperations"}]
[{"$f":"treatment!A297","v":"https://www.uber.com/careers/list/41142/"},"41142/",{"$f":"treatment!K297","v":"00:00:00"},{"$f":"treatment!L297","v":"00:00:00"},null,"41142",{"$f":"treatment!H297","v":"2018-08-13T13:59:00"},{"$f":"treatment!I297","v":"2018-09-19T22:00:00"},{"$f":"treatment!J297","v":"2018-10-01T14:50:00"},null,{"$f":"classification!G297","v":3},{"$f":"classification!H297","v":"PeopleOperations"}]
[{"$f":"treatment!A298","v":"https://www.uber.com/careers/list/41141/"},"41141/",{"$f":"treatment!K298","v":"00:00:00"},{"$f":"treatment!L298","v":"00:00:00"},null,"41141",{"$f":"treatment!H298","v":"2018-08-13T13:59:00"},{"$f":"treatment!I298","v":"2018-10-16T13:00:00"},{"$f":"treatment!J298","v":"2018-10-23T06:21:00"},null,{"$f":"classification!G298","v":3},{"$f":"classification!H298","v":"PeopleOperations"}]
[{"$f":"treatment!A299","v":"https://www.uber.com/careers/list/41126/"},"41126/",{"$f":"treatment!K299","v":"00:00:00"},{"$f":"treatment!L299","v":"00:00:00"},null,"41126",{"$f":"treatment!H299","v":"2018-08-13T13:59:00"},{"$f":"treatment!I299","v":"2018-10-13T09:40:00"},{"$f":"treatment!J299","v":"2018-10-23T06:21:00"},null,{"$f":"classification!G299","v":3},{"$f":"classification!H299","v":"PeopleOperations"}]
[{"$f":"treatment!A300","v":"https://www.uber.com/careers/list/41124/"},"41124/",{"$f":"treatment!K300","v":"00:00:00"},{"$f":"treatment!L300","v":"00:00:00"},null,"41124",{"$f":"treatment!H300","v":"2018-08-13T13:59:00"},{"$f":"treatment!I300","v":"2018-09-21T10:42:00"},{"$f":"treatment!J300","v":"2018-10-01T14:50:00"},null,{"$f":"classification!G300","v":1},{"$f":"classification!H300","v":"OperationsLaunch"}]
[{"$f":"treatment!A301","v":"https://www.uber.com/careers/list/41097/"},"41097/",{"$f":"treatment!K301","v":"00:00:00"},{"$f":"treatment!L301","v":"00:00:00"},null,"41097",{"$f":"treatment!H301","v":"2018-08-13T13:59:00"},{"$f":"treatment!I301","v":"2019-04-04T20:15:00"},{"$f":"treatment!J301","v":"00:00:00"},null,{"$f":"classification!G301","v":1},{"$f":"classification!H301","v":"PeopleOperations"}]
[{"$f":"treatment!A302","v":"https://www.uber.com/careers/list/41067/"},"41067/",{"$f":"treatment!K302","v":"00:00:00"},{"$f":"treatment!L302","v":"00:00:00"},null,"41067",{"$f":"treatment!H302","v":"2018-08-13T13:59:00"},{"$f":"treatment!I302","v":"2018-12-12T07:30:00"},{"$f":"treatment!J302","v":"00:00:00"},null,{"$f":"classification!G302","v":3},{"$f":"classification!H302","v":"Product"}]
[{"$f":"treatment!A303","v":"https://www.uber.com/careers/list/41060/"},"41060/",{"$f":"treatment!K303","v":"00:00:00"},{"$f":"treatment!L303","v":"00:00:00"},null,"41060",{"$f":"treatment!H303","v":"2018-08-13T13:59:00"},{"$f":"treatment!I303","v":"2018-08-16T07:30:00"},{"$f":"treatment!J303","v":"2018-08-22T14:44:00"},null,{"$f":"classification!G303","v":3},{"$f":"classification!H303","v":"Engineering"}]
[{"$f":"treatment!A304","v":"https://www.uber.com/careers/list/41042/"},"41042/",{"$f":"treatment!K304","v":"00:00:00"},{"$f":"treatment!L304","v":"00:00:00"},null,"41042",{"$f":"treatment!H304","v":"2018-08-13T13:59:00"},{"$f":"treatment!I304","v":"2019-02-02T07:40:00"},{"$f":"treatment!J304","v":"00:00:00"},null,{"$f":"classification!G304","v":3},{"$f":"classification!H304","v":"Engineering"}]
[{"$f":"treatment!A305","v":"https://www.uber.com/careers/list/41038/"},"41038/",{"$f":"treatment!K305","v":"00:00:00"},{"$f":"treatment!L305","v":"00:00:00"},null,"41038",{"$f":"treatment!H305","v":"2018-08-13T13:59:00"},{"$f":"treatment!I305","v":"2018-11-25T07:45:00"},{"$f":"treatment!J305","v":"2018-12-10T08:23:00"},null,{"$f":"classification!G305","v":1},{"$f":"classification!H305","v":"Product"}]
[{"$f":"treatment!A306","v":"https://www.uber.com/careers/list/41013/"},"41013/",{"$f":"treatment!K306","v":"00:00:00"},{"$f":"treatment!L306","v":"00:00:00"},null,"41013",{"$f":"treatment!H306","v":"2018-08-13T13:59:00"},{"$f":"treatment!I306","v":"2018-11-07T17:30:00"},{"$f":"treatment!J306","v":"2018-11-15T14:48:00"},null,{"$f":"classification!G306","v":3},{"$f":"classification!H306","v":"FinanceAccounting"}]
[{"$f":"treatment!A307","v":"https://www.uber.com/careers/list/40996/"},"40996/",{"$f":"treatment!K307","v":"00:00:00"},{"$f":"treatment!L307","v":"00:00:00"},null,"40996",{"$f":"treatment!H307","v":"2018-08-13T13:59:00"},{"$f":"treatment!I307","v":"2019-02-06T08:05:00"},{"$f":"treatment!J307","v":"00:00:00"},null,{"$f":"classification!G307","v":3},{"$f":"classification!H307","v":"SafetySecurity"}]
[{"$f":"treatment!A308","v":"https://www.uber.com/careers/list/40968/"},"40968/",{"$f":"treatment!K308","v":"00:00:00"},{"$f":"treatment!L308","v":"00:00:00"},null,"40968",{"$f":"treatment!H308","v":"2018-08-13T13:59:00"},{"$f":"treatment!I308","v":"2018-10-13T09:40:00"},{"$f":"treatment!J308","v":"2018-10-23T06:21:00"},null,{"$f":"classification!G308","v":3},{"$f":"classification!H308","v":"Design"}]
[{"$f":"treatment!A309","v":"https://www.uber.com/careers/list/40960/"},"40960/",{"$f":"treatment!K309","v":"00:00:00"},{"$f":"treatment!L309","v":"00:00:00"},null,"40960",{"$f":"treatment!H309","v":"2018-08-13T13:59:00"},{"$f":"treatment!I309","v":"2018-11-09T11:50:00"},{"$f":"treatment!J309","v":"2018-12-04T07:08:00"},null,{"$f":"classification!G309","v":1},{"$f":"classification!H309","v":"OperationsLaunch"}]
[{"$f":"treatment!A310","v":"https://www.uber.com/careers/list/40953/"},"40953/",{"$f":"treatment!K310","v":"00:00:00"},{"$f":"treatment!L310","v":"00:00:00"},null,"40953",{"$f":"treatment!H310","v":"2018-08-13T13:59:00"},{"$f":"treatment!I310","v":"2018-11-09T11:50:00"},{"$f":"treatment!J310","v":"2018-12-04T07:08:00"},null,{"$f":"classification!G310","v":3},{"$f":"classification!H310","v":"BusinessSales"}]
[{"$f":"treatment!A311","v":"https://www.uber.com/careers/list/40949/"},"40949/",{"$f":"treatment!K311","v":"00:00:00"},{"$f":"treatment!L311","v":"00:00:00"},null,"40949",{"$f":"treatment!H311","v":"2018-08-13T13:59:00"},{"$f":"treatment!I311","v":"2019-01-11T17:20:00"},{"$f":"treatment!J311","v":"00:00:00"},null,{"$f":"classification!G311","v":3},{"$f":"classification!H311","v":"FinanceAccounting"}]
[{"$f":"treatment!A312","v":"https://www.uber.com/careers/list/40944/"},{"$f":"RIGHT(A312, LEN(A312)-34)","v":"40944/"},{"$f":"treatment!K312","v":"00:00:00"},{"$f":"treatment!L312","v":"00:00:00"},null,"40944",{"$f":"treatment!H312","v":"2018-08-13T13:59:00"},{"$f":"treatment!I312","v":"00:00:00"},{"$f":"treatment!J312","v":"00:00:00"},null,{"$f":"classification!G312","v":3},{"$f":"classification!H312","v":"FinanceAccounting"}]
[{"$f":"treatment!A313","v":"https://www.uber.com/careers/list/40935/"},"40935/",{"$f":"treatment!K313","v":"00:00:00"},{"$f":"treatment!L313","v":"00:00:00"},null,"40935",{"$f":"treatment!H313","v":"2018-08-13T13:59:00"},{"$f":"treatment!I313","v":"2018-08-21T09:00:00"},{"$f":"treatment!J313","v":"2018-08-29T16:02:00"},null,{"$f":"classification!G313","v":3},{"$f":"classification!H313","v":"FinanceAccounting"}]
[{"$f":"treatment!A314","v":"https://www.uber.com/careers/list/40934/"},"40934/",{"$f":"treatment!K314","v":"00:00:00"},{"$f":"treatment!L314","v":"00:00:00"},null,"40934",{"$f":"treatment!H314","v":"2018-08-13T13:59:00"},{"$f":"treatment!I314","v":"2018-12-15T08:50:00"},{"$f":"treatment!J314","v":"00:00:00"},null,{"$f":"classification!G314","v":3},{"$f":"classification!H314","v":"FinanceAccounting"}]
[{"$f":"treatment!A315","v":"https://www.uber.com/careers/list/40933/"},"40933/",{"$f":"treatment!K315","v":"00:00:00"},{"$f":"treatment!L315","v":"00:00:00"},null,"40933",{"$f":"treatment!H315","v":"2018-08-13T13:59:00"},{"$f":"treatment!I315","v":"2018-08-22T14:00:00"},{"$f":"treatment!J315","v":"2018-08-29T16:02:00"},null,{"$f":"classification!G315","v":3},{"$f":"classification!H315","v":"AdvancedTechnologiesGroup"}]
[{"$f":"treatment!A316","v":"https://www.uber.com/careers/list/40906/"},"40906/",{"$f":"treatment!K316","v":"00:00:00"},{"$f":"treatment!L316","v":"00:00:00"},null,"40906",{"$f":"treatment!H316","v":"2018-08-13T13:59:00"},{"$f":"treatment!I316","v":"2018-08-27T15:30:00"},{"$f":"treatment!J316","v":"2018-09-05T15:52:00"},null,{"$f":"classification!G316","v":1},{"$f":"classification!H316","v":"Product"}]
[{"$f":"treatment!A317","v":"https://www.uber.com/careers/list/40905/"},"40905/",{"$f":"treatment!K317","v":"00:00:00"},{"$f":"treatment!L317","v":"00:00:00"},null,"40905",{"$f":"treatment!H317","v":"2018-08-13T13:59:00"},{"$f":"treatment!I317","v":"2018-08-22T14:00:00"},{"$f":"treatment!J317","v":"2018-08-29T16:02:00"},null,{"$f":"classification!G317","v":3},{"$f":"classification!H317","v":"GlobalCommunityOperations"}]
[{"$f":"treatment!A318","v":"https://www.uber.com/careers/list/40904/"},"40904/",{"$f":"treatment!K318","v":"00:00:00"},{"$f":"treatment!L318","v":"00:00:00"},null,"40904",{"$f":"treatment!H318","v":"2018-08-13T13:59:00"},{"$f":"treatment!I318","v":"2018-08-31T21:50:00"},{"$f":"treatment!J318","v":"2018-09-05T15:52:00"},null,{"$f":"classification!G318","v":3},{"$f":"classification!H318","v":"GlobalCommunityOperations"}]
[{"$f":"treatment!A319","v":"https://www.uber.com/careers/list/40902/"},"40902/",{"$f":"treatment!K319","v":"00:00:00"},{"$f":"treatment!L319","v":"00:00:00"},null,"40902",{"$f":"treatment!H319","v":"2018-08-13T13:59:00"},{"$f":"treatment!I319","v":"2018-08-22T14:00:00"},{"$f":"treatment!J319","v":"2018-08-29T16:02:00"},null,{"$f":"classification!G319","v":3},{"$f":"classification!H319","v":"GlobalCommunityOperations"}]
[{"$f":"treatment!A320","v":"https://www.uber.com/careers/list/40901/"},"40901/",{"$f":"treatment!K320","v":"2018-09-05T20:00:00"},{"$f":"treatment!L320","v":"00:00:00"},null,"40901",{"$f":"treatment!H320","v":"2018-08-13T13:59:00"},{"$f":"treatment!I320","v":"2018-11-14T12:00:00"},{"$f":"treatment!J320","v":"2018-10-01T14:50:00"},"2018-09-04T17:24:00",{"$f":"classification!G320","v":1},{"$f":"classification!H320","v":"Legal"}]
[{"$f":"treatment!A321","v":"https://www.uber.com/careers/list/40899/"},"40899/",{"$f":"treatment!K321","v":"00:00:00"},{"$f":"treatment!L321","v":"00:00:00"},null,"40899",{"$f":"treatment!H321","v":"2018-08-13T13:59:00"},{"$f":"treatment!I321","v":"2019-03-05T08:00:00"},{"$f":"treatment!J321","v":"00:00:00"},null,{"$f":"classification!G321","v":3},{"$f":"classification!H321","v":"Engineering"}]
[{"$f":"treatment!A322","v":"https://www.uber.com/careers/list/40893/"},"40893/",{"$f":"treatment!K322","v":"00:00:00"},{"$f":"treatment!L322","v":"00:00:00"},null,"40893",{"$f":"treatment!H322","v":"2018-08-13T13:59:00"},{"$f":"treatment!I322","v":"2018-08-18T08:00:00"},{"$f":"treatment!J322","v":"2018-08-22T14:44:00"},null,{"$f":"classification!G322","v":3},{"$f":"classification!H322","v":"GlobalCommunityOperations"}]
[{"$f":"treatment!A323","v":"https://www.uber.com/careers/list/40687/"},"40687/",{"$f":"treatment!K323","v":"00:00:00"},{"$f":"treatment!L323","v":"00:00:00"},null,"40687",{"$f":"treatment!H323","v":"2018-08-13T13:59:00"},{"$f":"treatment!I323","v":"2018-09-06T21:33:00"},{"$f":"treatment!J323","v":"2018-10-01T14:50:00"},null,{"$f":"classification!G323","v":3},{"$f":"classification!H323","v":"Design"}]
[{"$f":"treatment!A324","v":"https://www.uber.com/careers/list/40494/"},"40494/",{"$f":"treatment!K324","v":"2018-09-11T10:21:00"},{"$f":"treatment!L324","v":"00:00:00"},null,"40494",{"$f":"treatment!H324","v":"2018-08-13T13:59:00"},{"$f":"treatment!I324","v":"2019-01-15T09:20:00"},{"$f":"treatment!J324","v":"2018-09-23T12:29:00"},"2018-09-10T09:18:00",{"$f":"classification!G324","v":1},{"$f":"classification!H324","v":"FinanceAccounting"}]
[{"$f":"treatment!A325","v":"https://www.uber.com/careers/list/40416/"},"40416/",{"$f":"treatment!K325","v":"2018-08-12T20:00:00"},{"$f":"treatment!L325","v":"00:00:00"},null,"40416",{"$f":"treatment!H325","v":"2018-08-13T13:59:00"},{"$f":"treatment!I325","v":"2018-10-13T09:40:00"},{"$f":"treatment!J325","v":"2018-10-23T06:21:00"},"2018-08-12T20:00:00",{"$f":"classification!G325","v":3},{"$f":"classification!H325","v":"OperationsLaunch"}]
[{"$f":"treatment!A326","v":"https://www.uber.com/careers/list/39074/"},"39074/",{"$f":"treatment!K326","v":"00:00:00"},{"$f":"treatment!L326","v":"00:00:00"},null,"39074",{"$f":"treatment!H326","v":"2018-08-13T13:59:00"},{"$f":"treatment!I326","v":"2019-04-09T21:45:00"},{"$f":"treatment!J326","v":"00:00:00"},null,{"$f":"classification!G326","v":3},{"$f":"classification!H326","v":"AdvancedTechnologiesGroup"}]
[{"$f":"treatment!A327","v":"https://www.uber.com/careers/list/38678/"},"38678/",{"$f":"treatment!K327","v":"00:00:00"},{"$f":"treatment!L327","v":"00:00:00"},null,"38678",{"$f":"treatment!H327","v":"2018-08-13T13:59:00"},{"$f":"treatment!I327","v":"2018-08-16T07:30:00"},{"$f":"treatment!J327","v":"2018-08-22T14:44:00"},null,{"$f":"classification!G327","v":3},{"$f":"classification!H327","v":"GlobalCommunityOperations"}]
[{"$f":"treatment!A328","v":"https://www.uber.com/careers/list/38655/"},"38655/",{"$f":"treatment!K328","v":"00:00:00"},{"$f":"treatment!L328","v":"00:00:00"},null,"38655",{"$f":"treatment!H328","v":"2018-08-13T13:59:00"},{"$f":"treatment!I328","v":"2018-09-07T15:35:00"},{"$f":"treatment!J328","v":"2018-10-01T14:50:00"},null,{"$f":"classification!G328","v":3},{"$f":"classification!H328","v":"GlobalCommunityOperations"}]
[{"$f":"treatment!A329","v":"https://www.uber.com/careers/list/38644/"},"38644/",{"$f":"treatment!K329","v":"00:00:00"},{"$f":"treatment!L329","v":"00:00:00"},null,"38644",{"$f":"treatment!H329","v":"2018-08-13T13:59:00"},{"$f":"treatment!I329","v":"2018-08-22T14:00:00"},{"$f":"treatment!J329","v":"2018-08-29T16:02:00"},null,{"$f":"classification!G329","v":3},{"$f":"classification!H329","v":"GlobalCommunityOperations"}]
[{"$f":"treatment!A330","v":"https://www.uber.com/careers/list/37918/"},"37918/",{"$f":"treatment!K330","v":"00:00:00"},{"$f":"treatment!L330","v":"00:00:00"},null,"37918",{"$f":"treatment!H330","v":"2018-08-13T13:59:00"},{"$f":"treatment!I330","v":"2019-01-18T09:05:00"},{"$f":"treatment!J330","v":"00:00:00"},null,{"$f":"classification!G330","v":3},{"$f":"classification!H330","v":"Product"}]
[{"$f":"treatment!A331","v":"https://www.uber.com/careers/list/33993/"},"33993/",{"$f":"treatment!K331","v":"2018-08-23T19:00:00"},{"$f":"treatment!L331","v":"00:00:00"},null,"33993",{"$f":"treatment!H331","v":"2018-08-13T13:59:00"},{"$f":"treatment!I331","v":"2018-12-15T08:50:00"},{"$f":"treatment!J331","v":"2018-08-29T16:02:00"},"2018-08-22T20:45:00",{"$f":"classification!G331","v":1},{"$f":"classification!H331","v":"Engineering"}]
[{"$f":"treatment!A332","v":"https://www.uber.com/careers/list/30944/"},"30944/",{"$f":"treatment!K332","v":"00:00:00"},{"$f":"treatment!L332","v":"00:00:00"},null,"30944",{"$f":"treatment!H332","v":"2018-08-13T13:59:00"},{"$f":"treatment!I332","v":"2019-03-07T13:45:00"},{"$f":"treatment!J332","v":"00:00:00"},null,{"$f":"classification!G332","v":3},{"$f":"classification!H332","v":"AdvancedTechnologiesGroup"}]
[{"$f":"treatment!A333","v":"https://www.uber.com/careers/list/40876/"},"40876/",{"$f":"treatment!K333","v":"00:00:00"},{"$f":"treatment!L333","v":"00:00:00"},null,{"$f":"LEFT(B333, LEN(B333)-1)","v":"40876"},{"$f":"treatment!H333","v":"2018-08-13T13:59:00"},{"$f":"treatment!I333","v":"2018-08-17T07:00:00"},{"$f":"treatment!J333","v":"2018-08-22T14:44:00"},null,{"$f":"classification!G333","v":3},{"$f":"classification!H333","v":"GlobalCommunityOperations"}]
[{"$f":"treatment!A334","v":"https://www.uber.com/careers/list/40874/"},"40874/",{"$f":"treatment!K334","v":"00:00:00"},{"$f":"treatment!L334","v":"00:00:00"},null,{"$f":"LEFT(B334, LEN(B334)-1)","v":"40874"},{"$f":"treatment!H334","v":"2018-08-13T13:59:00"},{"$f":"treatment!I334","v":"2018-08-14T06:00:00"},{"$f":"treatment!J334","v":"2018-08-22T14:44:00"},null,{"$f":"classification!G334","v":3},{"$f":"classification!H334","v":"GlobalCommunityOperations"}]
[{"$f":"treatment!A335","v":"https://www.uber.com/careers/list/40829/"},"40829/",{"$f":"treatment!K335","v":"00:00:00"},{"$f":"treatment!L335","v":"00:00:00"},null,{"$f":"LEFT(B335, LEN(B335)-1)","v":"40829"},{"$f":"treatment!H335","v":"2018-08-13T13:59:00"},{"$f":"treatment!I335","v":"2018-11-19T18:40:00"},{"$f":"treatment!J335","v":"2018-12-04T07:08:00"},null,{"$f":"classification!G335","v":1},{"$f":"classification!H335","v":"PeopleOperations"}]
[{"$f":"treatment!A336","v":"https://www.uber.com/careers/list/40744/"},"40744/",{"$f":"treatment!K336","v":"00:00:00"},{"$f":"treatment!L336","v":"00:00:00"},null,"40744",{"$f":"treatment!H336","v":"2018-08-13T13:59:00"},{"$f":"treatment!I336","v":"2018-10-17T15:00:00"},{"$f":"treatment!J336","v":"2018-10-23T06:21:00"},null,{"$f":"classification!G336","v":3},{"$f":"classification!H336","v":"Legal"}]
[{"$f":"treatment!A337","v":"https://www.uber.com/careers/list/40734/"},"40734/",{"$f":"treatment!K337","v":"00:00:00"},{"$f":"treatment!L337","v":"00:00:00"},null,"40734",{"$f":"treatment!H337","v":"2018-08-13T13:59:00"},{"$f":"treatment!I337","v":"2018-10-29T08:30:00"},{"$f":"treatment!J337","v":"2018-11-07T11:33:00"},null,{"$f":"classification!G337","v":3},{"$f":"classification!H337","v":"FinanceAccounting"}]
[{"$f":"treatment!A338","v":"https://www.uber.com/careers/list/40731/"},"40731/",{"$f":"treatment!K338","v":"00:00:00"},{"$f":"treatment!L338","v":"00:00:00"},null,"40731",{"$f":"treatment!H338","v":"2018-08-13T13:59:00"},{"$f":"treatment!I338","v":"2018-09-25T17:00:00"},{"$f":"treatment!J338","v":"2018-10-01T14:50:00"},null,{"$f":"classification!G338","v":3},{"$f":"classification!H338","v":"FinanceAccounting"}]
[{"$f":"treatment!A339","v":"https://www.uber.com/careers/list/40724/"},"40724/",{"$f":"treatment!K339","v":"00:00:00"},{"$f":"treatment!L339","v":"00:00:00"},null,"40724",{"$f":"treatment!H339","v":"2018-08-13T13:59:00"},{"$f":"treatment!I339","v":"2018-10-02T10:15:00"},{"$f":"treatment!J339","v":"2018-10-08T12:55:00"},null,{"$f":"classification!G339","v":3},{"$f":"classification!H339","v":"FinanceAccounting"}]
[{"$f":"treatment!A340","v":"https://www.uber.com/careers/list/40723/"},"40723/",{"$f":"treatment!K340","v":"2018-10-22T14:46:00"},{"$f":"treatment!L340","v":"00:00:00"},null,"40723",{"$f":"treatment!H340","v":"2018-08-13T13:59:00"},{"$f":"treatment!I340","v":"2018-12-15T08:50:00"},{"$f":"treatment!J340","v":"2018-10-30T07:19:00"},"2018-10-21T11:16:00",{"$f":"classification!G340","v":3},{"$f":"classification!H340","v":"FinanceAccounting"}]
[{"$f":"treatment!A341","v":"https://www.uber.com/careers/list/40720/"},"40720/",{"$f":"treatment!K341","v":"00:00:00"},{"$f":"treatment!L341","v":"00:00:00"},null,"40720",{"$f":"treatment!H341","v":"2018-08-13T13:59:00"},{"$f":"treatment!I341","v":"2018-10-08T14:30:00"},{"$f":"treatment!J341","v":"2018-10-16T07:51:00"},null,{"$f":"classification!G341","v":1},{"$f":"classification!H341","v":"OperationsLaunch"}]
[{"$f":"treatment!A342","v":"https://www.uber.com/careers/list/40702/"},"40702/",{"$f":"treatment!K342","v":"00:00:00"},{"$f":"treatment!L342","v":"00:00:00"},null,"40702",{"$f":"treatment!H342","v":"2018-08-13T13:59:00"},{"$f":"treatment!I342","v":"2018-08-22T14:00:00"},{"$f":"treatment!J342","v":"2018-08-29T16:02:00"},null,{"$f":"classification!G342","v":1},{"$f":"classification!H342","v":"OperationsLaunch"}]
[{"$f":"treatment!A343","v":"https://www.uber.com/careers/list/40697/"},"40697/",{"$f":"treatment!K343","v":"00:00:00"},{"$f":"treatment!L343","v":"2018-08-29T16:30:00"},null,"40697",{"$f":"treatment!H343","v":"2018-08-13T13:59:00"},{"$f":"treatment!I343","v":"2018-11-21T10:30:00"},{"$f":"treatment!J343","v":"2018-09-05T15:52:00"},null,{"$f":"classification!G343","v":3},{"$f":"classification!H343","v":"OperationsLaunch"}]
[{"$f":"treatment!A344","v":"https://www.uber.com/careers/list/40693/"},"40693/",{"$f":"treatment!K344","v":"00:00:00"},{"$f":"treatment!L344","v":"2018-08-29T16:30:00"},null,"40693",{"$f":"treatment!H344","v":"2018-08-13T13:59:00"},{"$f":"treatment!I344","v":"2019-01-25T06:50:00"},{"$f":"treatment!J344","v":"2018-09-05T15:52:00"},null,{"$f":"classification!G344","v":3},{"$f":"classification!H344","v":"OperationsLaunch"}]
[{"$f":"treatment!A345","v":"https://www.uber.com/careers/list/40689/"},"40689/",{"$f":"treatment!K345","v":"00:00:00"},{"$f":"treatment!L345","v":"00:00:00"},null,"40689",{"$f":"treatment!H345","v":"2018-08-13T13:59:00"},{"$f":"treatment!I345","v":"2019-01-30T07:30:00"},{"$f":"treatment!J345","v":"00:00:00"},null,{"$f":"classification!G345","v":1},{"$f":"classification!H345","v":"OperationsLaunch"}]
[{"$f":"treatment!A346","v":"https://www.uber.com/careers/list/40686/"},"40686/",{"$f":"treatment!K346","v":"00:00:00"},{"$f":"treatment!L346","v":"00:00:00"},null,"40686",{"$f":"treatment!H346","v":"2018-08-13T13:59:00"},{"$f":"treatment!I346","v":"2019-02-01T06:20:00"},{"$f":"treatment!J346","v":"00:00:00"},null,{"$f":"classification!G346","v":3},{"$f":"classification!H346","v":"OperationsLaunch"}]
[{"$f":"treatment!A347","v":"https://www.uber.com/careers/list/40684/"},"40684/",{"$f":"treatment!K347","v":"00:00:00"},{"$f":"treatment!L347","v":"00:00:00"},null,"40684",{"$f":"treatment!H347","v":"2018-08-13T13:59:00"},{"$f":"treatment!I347","v":"2018-11-12T19:45:00"},{"$f":"treatment!J347","v":"2018-12-04T07:08:00"},null,{"$f":"classification!G347","v":3},{"$f":"classification!H347","v":"OperationsLaunch"}]
[{"$f":"treatment!A348","v":"https://www.uber.com/careers/list/40682/"},"40682/",{"$f":"treatment!K348","v":"00:00:00"},{"$f":"treatment!L348","v":"00:00:00"},null,"40682",{"$f":"treatment!H348","v":"2018-08-13T13:59:00"},{"$f":"treatment!I348","v":"2019-01-26T07:05:00"},{"$f":"treatment!J348","v":"00:00:00"},null,{"$f":"classification!G348","v":3},{"$f":"classification!H348","v":"OperationsLaunch"}]
[{"$f":"treatment!A349","v":"https://www.uber.com/careers/list/40681/"},"40681/",{"$f":"treatment!K349","v":"00:00:00"},{"$f":"treatment!L349","v":"00:00:00"},null,"40681",{"$f":"treatment!H349","v":"2018-08-13T13:59:00"},{"$f":"treatment!I349","v":"2019-01-26T07:05:00"},{"$f":"treatment!J349","v":"00:00:00"},null,{"$f":"classification!G349","v":3},{"$f":"classification!H349","v":"OperationsLaunch"}]
[{"$f":"treatment!A350","v":"https://www.uber.com/careers/list/40677/"},"40677/",{"$f":"treatment!K350","v":"00:00:00"},{"$f":"treatment!L350","v":"00:00:00"},null,"40677",{"$f":"treatment!H350","v":"2018-08-13T13:59:00"},{"$f":"treatment!I350","v":"2019-01-30T07:30:00"},{"$f":"treatment!J350","v":"00:00:00"},null,{"$f":"classification!G350","v":3},{"$f":"classification!H350","v":"OperationsLaunch"}]
[{"$f":"treatment!A351","v":"https://www.uber.com/careers/list/40651/"},"40651/",{"$f":"treatment!K351","v":"00:00:00"},{"$f":"treatment!L351","v":"00:00:00"},null,"40651",{"$f":"treatment!H351","v":"2018-08-13T13:59:00"},{"$f":"treatment!I351","v":"2018-09-12T08:22:00"},{"$f":"treatment!J351","v":"2018-09-23T12:29:00"},null,{"$f":"classification!G351","v":3},{"$f":"classification!H351","v":"Engineering"}]
[{"$f":"treatment!A352","v":"https://www.uber.com/careers/list/40622/"},"40622/",{"$f":"treatment!K352","v":"00:00:00"},{"$f":"treatment!L352","v":"00:00:00"},null,"40622",{"$f":"treatment!H352","v":"2018-08-13T13:59:00"},{"$f":"treatment!I352","v":"2019-01-30T07:30:00"},{"$f":"treatment!J352","v":"00:00:00"},null,{"$f":"classification!G352","v":3},{"$f":"classification!H352","v":"FinanceAccounting"}]
[{"$f":"treatment!A353","v":"https://www.uber.com/careers/list/40603/"},"40603/",{"$f":"treatment!K353","v":"00:00:00"},{"$f":"treatment!L353","v":"00:00:00"},null,"40603",{"$f":"treatment!H353","v":"2018-08-13T13:59:00"},{"$f":"treatment!I353","v":"2018-11-07T17:30:00"},{"$f":"treatment!J353","v":"2018-11-15T14:48:00"},null,{"$f":"classification!G353","v":1},{"$f":"classification!H353","v":"FinanceAccounting"}]
[{"$f":"treatment!A354","v":"https://www.uber.com/careers/list/40515/"},"40515/",{"$f":"treatment!K354","v":"00:00:00"},{"$f":"treatment!L354","v":"00:00:00"},null,"40515",{"$f":"treatment!H354","v":"2018-08-13T13:59:00"},{"$f":"treatment!I354","v":"2018-08-22T14:00:00"},{"$f":"treatment!J354","v":"2018-08-29T16:02:00"},null,{"$f":"classification!G354","v":3},{"$f":"classification!H354","v":"Product"}]
[{"$f":"treatment!A355","v":"https://www.uber.com/careers/list/40837/"},"40837/",{"$f":"treatment!K355","v":"00:00:00"},{"$f":"treatment!L355","v":"00:00:00"},null,"40837",{"$f":"treatment!H355","v":"2018-08-13T13:59:00"},{"$f":"treatment!I355","v":"2018-10-31T11:20:00"},{"$f":"treatment!J355","v":"2018-11-07T11:33:00"},null,{"$f":"classification!G355","v":3},{"$f":"classification!H355","v":"GlobalCommunityOperations"}]
[{"$f":"treatment!A356","v":"https://www.uber.com/careers/list/40790/"},"40790/",{"$f":"treatment!K356","v":"00:00:00"},{"$f":"treatment!L356","v":"00:00:00"},null,"40790",{"$f":"treatment!H356","v":"2018-08-13T13:59:00"},{"$f":"treatment!I356","v":"2018-08-15T08:00:00"},{"$f":"treatment!J356","v":"2018-08-22T14:44:00"},null,{"$f":"classification!G356","v":1},{"$f":"classification!H356","v":"FinanceAccounting"}]
[{"$f":"treatment!A357","v":"https://www.uber.com/careers/list/40690/"},"40690/",{"$f":"treatment!K357","v":"00:00:00"},{"$f":"treatment!L357","v":"00:00:00"},null,"40690",{"$f":"treatment!H357","v":"2018-08-13T13:59:00"},{"$f":"treatment!I357","v":"2018-11-06T11:00:00"},{"$f":"treatment!J357","v":"2018-11-15T14:48:00"},null,{"$f":"classification!G357","v":3},{"$f":"classification!H357","v":"OperationsLaunch"}]
[{"$f":"treatment!A358","v":"https://www.uber.com/careers/list/40683/"},"40683/",{"$f":"treatment!K358","v":"00:00:00"},{"$f":"treatment!L358","v":"00:00:00"},null,"40683",{"$f":"treatment!H358","v":"2018-08-13T13:59:00"},{"$f":"treatment!I358","v":"2019-02-04T09:50:00"},{"$f":"treatment!J358","v":"00:00:00"},null,{"$f":"classification!G358","v":3},{"$f":"classification!H358","v":"OperationsLaunch"}]
[{"$f":"treatment!A359","v":"https://www.uber.com/careers/list/40649/"},"40649/",{"$f":"treatment!K359","v":"2018-08-13T17:00:00"},{"$f":"treatment!L359","v":"00:00:00"},null,{"$f":"LEFT(B359, LEN(B359)-1)","v":"40649"},{"$f":"treatment!H359","v":"2018-08-13T13:59:00"},{"$f":"treatment!I359","v":"2018-10-10T08:30:00"},{"$f":"treatment!J359","v":"2018-08-22T14:44:00"},"2018-08-12T20:00:00",{"$f":"classification!G359","v":3},{"$f":"classification!H359","v":"AdvancedTechnologiesGroup"}]
[{"$f":"treatment!A360","v":"https://www.uber.com/careers/list/40648/"},"40648/",{"$f":"treatment!K360","v":"2018-08-13T17:00:00"},{"$f":"treatment!L360","v":"00:00:00"},null,"40648",{"$f":"treatment!H360","v":"2018-08-13T13:59:00"},{"$f":"treatment!I360","v":"2018-12-19T18:20:00"},{"$f":"treatment!J360","v":"2018-08-22T14:44:00"},"2018-08-12T20:00:00",{"$f":"classification!G360","v":3},{"$f":"classification!H360","v":"AdvancedTechnologiesGroup"}]
[{"$f":"treatment!A361","v":"https://www.uber.com/careers/list/40634/"},"40634/",{"$f":"treatment!K361","v":"00:00:00"},{"$f":"treatment!L361","v":"00:00:00"},null,"40634",{"$f":"treatment!H361","v":"2018-08-13T13:59:00"},{"$f":"treatment!I361","v":"2018-11-27T15:30:00"},{"$f":"treatment!J361","v":"2018-12-10T08:23:00"},null,{"$f":"classification!G361","v":1},{"$f":"classification!H361","v":"FinanceAccounting"}]
[{"$f":"treatment!A362","v":"https://www.uber.com/careers/list/40628/"},"40628/",{"$f":"treatment!K362","v":"2018-09-05T20:00:00"},{"$f":"treatment!L362","v":"00:00:00"},null,"40628",{"$f":"treatment!H362","v":"2018-08-13T13:59:00"},{"$f":"treatment!I362","v":"2018-11-03T19:35:00"},{"$f":"treatment!J362","v":"2018-10-01T14:50:00"},"2018-09-04T17:24:00",{"$f":"classification!G362","v":3},{"$f":"classification!H362","v":"SafetySecurity"}]
[{"$f":"treatment!A363","v":"https://www.uber.com/careers/list/40627/"},"40627/",{"$f":"treatment!K363","v":"00:00:00"},{"$f":"treatment!L363","v":"00:00:00"},null,"40627",{"$f":"treatment!H363","v":"2018-08-13T13:59:00"},{"$f":"treatment!I363","v":"2018-11-09T11:50:00"},{"$f":"treatment!J363","v":"2018-12-04T07:08:00"},null,{"$f":"classification!G363","v":1},{"$f":"classification!H363","v":"OperationsLaunch"}]
[{"$f":"treatment!A364","v":"https://www.uber.com/careers/list/40625/"},"40625/",{"$f":"treatment!K364","v":"00:00:00"},{"$f":"treatment!L364","v":"00:00:00"},null,"40625",{"$f":"treatment!H364","v":"2018-08-13T13:59:00"},{"$f":"treatment!I364","v":"2018-11-17T11:35:00"},{"$f":"treatment!J364","v":"2018-12-04T07:08:00"},null,{"$f":"classification!G364","v":1},{"$f":"classification!H364","v":"FinanceAccounting"}]
[{"$f":"treatment!A365","v":"https://www.uber.com/careers/list/40624/"},"40624/",{"$f":"treatment!K365","v":"00:00:00"},{"$f":"treatment!L365","v":"00:00:00"},null,"40624",{"$f":"treatment!H365","v":"2018-08-13T13:59:00"},{"$f":"treatment!I365","v":"2018-09-12T08:22:00"},{"$f":"treatment!J365","v":"2018-09-23T12:29:00"},null,{"$f":"classification!G365","v":3},{"$f":"classification!H365","v":"PeopleOperations"}]
[{"$f":"treatment!A366","v":"https://www.uber.com/careers/list/40486/"},"40486/",{"$f":"treatment!K366","v":"2018-08-20T15:30:00"},{"$f":"treatment!L366","v":"00:00:00"},null,"40486",{"$f":"treatment!H366","v":"2018-08-13T13:59:00"},{"$f":"treatment!I366","v":"2018-09-18T11:21:00"},{"$f":"treatment!J366","v":"2018-08-29T16:02:00"},"2018-08-19T20:30:00",{"$f":"classification!G366","v":1},{"$f":"classification!H366","v":"OperationsLaunch"}]
[{"$f":"treatment!A367","v":"https://www.uber.com/careers/list/39837/"},"39837/",{"$f":"treatment!K367","v":"00:00:00"},{"$f":"treatment!L367","v":"00:00:00"},null,"39837",{"$f":"treatment!H367","v":"2018-08-13T13:59:00"},{"$f":"treatment!I367","v":"2019-03-11T22:20:00"},{"$f":"treatment!J367","v":"00:00:00"},null,{"$f":"classification!G367","v":3},{"$f":"classification!H367","v":"Engineering"}]
[{"$f":"treatment!A368","v":"https://www.uber.com/careers/list/38681/"},"38681/",{"$f":"treatment!K368","v":"00:00:00"},{"$f":"treatment!L368","v":"00:00:00"},null,"38681",{"$f":"treatment!H368","v":"2018-08-13T13:59:00"},{"$f":"treatment!I368","v":"2018-09-17T17:50:00"},{"$f":"treatment!J368","v":"2018-10-01T14:50:00"},null,{"$f":"classification!G368","v":3},{"$f":"classification!H368","v":"AdvancedTechnologiesGroup"}]
[{"$f":"treatment!A369","v":"https://www.uber.com/careers/list/40375/"},"40375/",{"$f":"treatment!K369","v":"00:00:00"},{"$f":"treatment!L369","v":"00:00:00"},null,{"$f":"LEFT(B369, LEN(B369)-1)","v":"40375"},{"$f":"treatment!H369","v":"2018-08-13T13:59:00"},{"$f":"treatment!I369","v":"2019-02-14T19:10:00"},{"$f":"treatment!J369","v":"00:00:00"},null,{"$f":"classification!G369","v":3},{"$f":"classification!H369","v":"Engineering"}]
[{"$f":"treatment!A370","v":"https://www.uber.com/careers/list/38629/"},"38629/",{"$f":"treatment!K370","v":"2018-08-14T17:00:00"},{"$f":"treatment!L370","v":"00:00:00"},null,"38629",{"$f":"treatment!H370","v":"2018-08-13T13:59:00"},{"$f":"treatment!I370","v":"2019-03-12T20:22:00"},{"$f":"treatment!J370","v":"2018-08-22T14:44:00"},"2018-08-13T17:00:00",{"$f":"classification!G370","v":3},{"$f":"classification!H370","v":"GlobalCommunityOperations"}]
[{"$f":"treatment!A371","v":"https://www.uber.com/careers/list/35393/"},"35393/",{"$f":"treatment!K371","v":"00:00:00"},{"$f":"treatment!L371","v":"00:00:00"},null,"35393",{"$f":"treatment!H371","v":"2018-08-13T13:59:00"},{"$f":"treatment!I371","v":"2018-08-22T14:00:00"},{"$f":"treatment!J371","v":"2018-08-29T16:02:00"},null,{"$f":"classification!G371","v":3},{"$f":"classification!H371","v":"GlobalCommunityOperations"}]
[{"$f":"treatment!A372","v":"https://www.uber.com/careers/list/40544/"},"40544/",{"$f":"treatment!K372","v":"00:00:00"},{"$f":"treatment!L372","v":"00:00:00"},null,"40544",{"$f":"treatment!H372","v":"2018-08-13T13:59:00"},{"$f":"treatment!I372","v":"2018-09-14T20:34:00"},{"$f":"treatment!J372","v":"2018-09-23T12:29:00"},null,{"$f":"classification!G372","v":1},{"$f":"classification!H372","v":"BusinessSales"}]
[{"$f":"treatment!A373","v":"https://www.uber.com/careers/list/40490/"},"40490/",{"$f":"treatment!K373","v":"00:00:00"},{"$f":"treatment!L373","v":"00:00:00"},null,"40490",{"$f":"treatment!H373","v":"2018-08-13T13:59:00"},{"$f":"treatment!I373","v":"2018-10-26T15:35:00"},{"$f":"treatment!J373","v":"2018-11-07T11:33:00"},null,{"$f":"classification!G373","v":1},{"$f":"classification!H373","v":"Marketing"}]
[{"$f":"treatment!A374","v":"https://www.uber.com/careers/list/40501/"},"40501/",{"$f":"treatment!K374","v":"00:00:00"},{"$f":"treatment!L374","v":"00:00:00"},null,"40501",{"$f":"treatment!H374","v":"2018-08-13T13:59:00"},{"$f":"treatment!I374","v":"2018-10-03T12:22:00"},{"$f":"treatment!J374","v":"2018-10-08T12:55:00"},null,{"$f":"classification!G374","v":3},{"$f":"classification!H374","v":"FinanceAccounting"}]
[{"$f":"treatment!A375","v":"https://www.uber.com/careers/list/40484/"},"40484/",{"$f":"treatment!K375","v":"00:00:00"},{"$f":"treatment!L375","v":"00:00:00"},null,{"$f":"LEFT(B375, LEN(B375)-1)","v":"40484"},{"$f":"treatment!H375","v":"2018-08-13T13:59:00"},{"$f":"treatment!I375","v":"2018-09-11T08:20:00"},{"$f":"treatment!J375","v":"2018-09-23T12:29:00"},null,{"$f":"classification!G375","v":1},{"$f":"classification!H375","v":"PeopleOperations"}]
[{"$f":"treatment!A376","v":"https://www.uber.com/careers/list/40482/"},{"$f":"RIGHT(A376, LEN(A376)-34)","v":"40482/"},{"$f":"treatment!K376","v":"00:00:00"},{"$f":"treatment!L376","v":"00:00:00"},null,"40482",{"$f":"treatment!H376","v":"2018-08-13T13:59:00"},{"$f":"treatment!I376","v":"2019-01-17T08:50:00"},{"$f":"treatment!J376","v":"00:00:00"},null,{"$f":"classification!G376","v":1},{"$f":"classification!H376","v":"BusinessSales"}]
[{"$f":"treatment!A377","v":"https://www.uber.com/careers/list/40444/"},"40444/",{"$f":"treatment!K377","v":"00:00:00"},{"$f":"treatment!L377","v":"00:00:00"},null,"40444",{"$f":"treatment!H377","v":"2018-08-13T13:59:00"},{"$f":"treatment!I377","v":"2018-09-06T21:33:00"},{"$f":"treatment!J377","v":"2018-10-01T14:50:00"},null,{"$f":"classification!G377","v":3},{"$f":"classification!H377","v":"FinanceAccounting"}]
[{"$f":"treatment!A378","v":"https://www.uber.com/careers/list/40442/"},"40442/",{"$f":"treatment!K378","v":"00:00:00"},{"$f":"treatment!L378","v":"00:00:00"},null,"40442",{"$f":"treatment!H378","v":"2018-08-13T13:59:00"},{"$f":"treatment!I378","v":"2018-08-23T17:00:00"},{"$f":"treatment!J378","v":"2018-08-29T16:02:00"},null,{"$f":"classification!G378","v":3},{"$f":"classification!H378","v":"FinanceAccounting"}]
[{"$f":"treatment!A379","v":"https://www.uber.com/careers/list/40440/"},"40440/",{"$f":"treatment!K379","v":"2018-08-17T15:30:00"},{"$f":"treatment!L379","v":"00:00:00"},null,"40440",{"$f":"treatment!H379","v":"2018-08-13T13:59:00"},{"$f":"treatment!I379","v":"2019-01-11T17:20:00"},{"$f":"treatment!J379","v":"2018-08-22T14:44:00"},"2018-08-16T17:30:00",{"$f":"classification!G379","v":1},{"$f":"classification!H379","v":"Engineering"}]
[{"$f":"treatment!A380","v":"https://www.uber.com/careers/list/40437/"},"40437/",{"$f":"treatment!K380","v":"00:00:00"},{"$f":"treatment!L380","v":"00:00:00"},null,"40437",{"$f":"treatment!H380","v":"2018-08-13T13:59:00"},{"$f":"treatment!I380","v":"2018-08-31T21:50:00"},{"$f":"treatment!J380","v":"2018-09-05T15:52:00"},null,{"$f":"classification!G380","v":3},{"$f":"classification!H380","v":"FinanceAccounting"}]
[{"$f":"treatment!A381","v":"https://www.uber.com/careers/list/40427/"},"40427/",{"$f":"treatment!K381","v":"00:00:00"},{"$f":"treatment!L381","v":"00:00:00"},null,"40427",{"$f":"treatment!H381","v":"2018-08-13T13:59:00"},{"$f":"treatment!I381","v":"2018-10-30T11:50:00"},{"$f":"treatment!J381","v":"2018-11-07T11:33:00"},null,{"$f":"classification!G381","v":1},{"$f":"classification!H381","v":"FinanceAccounting"}]
[{"$f":"treatment!A382","v":"https://www.uber.com/careers/list/40411/"},"40411/",{"$f":"treatment!K382","v":"00:00:00"},{"$f":"treatment!L382","v":"00:00:00"},null,"40411",{"$f":"treatment!H382","v":"2018-08-13T13:59:00"},{"$f":"treatment!I382","v":"2019-02-14T19:10:00"},{"$f":"treatment!J382","v":"00:00:00"},null,{"$f":"classification!G382","v":3},{"$f":"classification!H382","v":"Design"}]
[{"$f":"treatment!A383","v":"https://www.uber.com/careers/list/40393/"},"40393/",{"$f":"treatment!K383","v":"00:00:00"},{"$f":"treatment!L383","v":"00:00:00"},null,"40393",{"$f":"treatment!H383","v":"2018-08-13T13:59:00"},{"$f":"treatment!I383","v":"2018-12-04T07:15:00"},{"$f":"treatment!J383","v":"2018-12-10T08:23:00"},null,{"$f":"classification!G383","v":3},{"$f":"classification!H383","v":"GlobalCommunityOperations"}]
[{"$f":"treatment!A384","v":"https://www.uber.com/careers/list/40392/"},"40392/",{"$f":"treatment!K384","v":"00:00:00"},{"$f":"treatment!L384","v":"00:00:00"},null,"40392",{"$f":"treatment!H384","v":"2018-08-13T13:59:00"},{"$f":"treatment!I384","v":"2018-08-16T07:30:00"},{"$f":"treatment!J384","v":"2018-08-22T14:44:00"},null,{"$f":"classification!G384","v":3},{"$f":"classification!H384","v":"GlobalCommunityOperations"}]
[{"$f":"treatment!A385","v":"https://www.uber.com/careers/list/40369/"},"40369/",{"$f":"treatment!K385","v":"00:00:00"},{"$f":"treatment!L385","v":"00:00:00"},null,"40369",{"$f":"treatment!H385","v":"2018-08-13T13:59:00"},{"$f":"treatment!I385","v":"2018-10-23T10:10:00"},{"$f":"treatment!J385","v":"2018-10-30T07:19:00"},null,{"$f":"classification!G385","v":1},{"$f":"classification!H385","v":"PeopleOperations"}]
[{"$f":"treatment!A386","v":"https://www.uber.com/careers/list/40351/"},"40351/",{"$f":"treatment!K386","v":"00:00:00"},{"$f":"treatment!L386","v":"00:00:00"},null,"40351",{"$f":"treatment!H386","v":"2018-08-13T13:59:00"},{"$f":"treatment!I386","v":"2019-02-06T08:05:00"},{"$f":"treatment!J386","v":"00:00:00"},null,{"$f":"classification!G386","v":3},{"$f":"classification!H386","v":"Engineering"}]
[{"$f":"treatment!A387","v":"https://www.uber.com/careers/list/40314/"},"40314/",{"$f":"treatment!K387","v":"00:00:00"},{"$f":"treatment!L387","v":"00:00:00"},null,"40314",{"$f":"treatment!H387","v":"2018-08-13T13:59:00"},{"$f":"treatment!I387","v":"2019-03-06T08:05:00"},{"$f":"treatment!J387","v":"00:00:00"},null,{"$f":"classification!G387","v":3},{"$f":"classification!H387","v":"SafetySecurity"}]
[{"$f":"treatment!A388","v":"https://www.uber.com/careers/list/40307/"},"40307/",{"$f":"treatment!K388","v":"00:00:00"},{"$f":"treatment!L388","v":"00:00:00"},null,"40307",{"$f":"treatment!H388","v":"2018-08-13T13:59:00"},{"$f":"treatment!I388","v":"2018-08-31T21:50:00"},{"$f":"treatment!J388","v":"2018-09-05T15:52:00"},null,{"$f":"classification!G388","v":3},{"$f":"classification!H388","v":"Product"}]
[{"$f":"treatment!A389","v":"https://www.uber.com/careers/list/40306/"},"40306/",{"$f":"treatment!K389","v":"2018-11-15T17:00:00"},{"$f":"treatment!L389","v":"00:00:00"},null,"40306",{"$f":"treatment!H389","v":"2018-08-13T13:59:00"},{"$f":"treatment!I389","v":"2019-02-09T08:25:00"},{"$f":"treatment!J389","v":"2018-12-04T07:08:00"},"2018-11-14T12:00:00",{"$f":"classification!G389","v":3},{"$f":"classification!H389","v":"Product"}]
[{"$f":"treatment!A390","v":"https://www.uber.com/careers/list/40257/"},"40257/",{"$f":"treatment!K390","v":"00:00:00"},{"$f":"treatment!L390","v":"00:00:00"},null,"40257",{"$f":"treatment!H390","v":"2018-08-13T13:59:00"},{"$f":"treatment!I390","v":"2018-09-25T17:00:00"},{"$f":"treatment!J390","v":"2018-10-01T14:50:00"},null,{"$f":"classification!G390","v":3},{"$f":"classification!H390","v":"Legal"}]
[{"$f":"treatment!A391","v":"https://www.uber.com/careers/list/40251/"},"40251/",{"$f":"treatment!K391","v":"00:00:00"},{"$f":"treatment!L391","v":"00:00:00"},null,"40251",{"$f":"treatment!H391","v":"2018-08-13T13:59:00"},{"$f":"treatment!I391","v":"2018-09-29T09:21:00"},{"$f":"treatment!J391","v":"2018-10-08T12:55:00"},null,{"$f":"classification!G391","v":3},{"$f":"classification!H391","v":"BusinessSales"}]
[{"$f":"treatment!A392","v":"https://www.uber.com/careers/list/40212/"},"40212/",{"$f":"treatment!K392","v":"00:00:00"},{"$f":"treatment!L392","v":"00:00:00"},null,"40212",{"$f":"treatment!H392","v":"2018-08-13T13:59:00"},{"$f":"treatment!I392","v":"2018-09-19T22:00:00"},{"$f":"treatment!J392","v":"2018-10-01T14:50:00"},null,{"$f":"classification!G392","v":3},{"$f":"classification!H392","v":"Engineering"}]
[{"$f":"treatment!A393","v":"https://www.uber.com/careers/list/40175/"},"40175/",{"$f":"treatment!K393","v":"00:00:00"},{"$f":"treatment!L393","v":"00:00:00"},null,"40175",{"$f":"treatment!H393","v":"2018-08-13T13:59:00"},{"$f":"treatment!I393","v":"2019-01-16T12:05:00"},{"$f":"treatment!J393","v":"00:00:00"},null,{"$f":"classification!G393","v":3},{"$f":"classification!H393","v":"SafetySecurity"}]
[{"$f":"treatment!A394","v":"https://www.uber.com/careers/list/39836/"},"39836/",{"$f":"treatment!K394","v":"00:00:00"},{"$f":"treatment!L394","v":"00:00:00"},null,"39836",{"$f":"treatment!H394","v":"2018-08-13T13:59:00"},{"$f":"treatment!I394","v":"2019-03-08T18:45:00"},{"$f":"treatment!J394","v":"00:00:00"},null,{"$f":"classification!G394","v":1},{"$f":"classification!H394","v":"Engineering"}]
[{"$f":"treatment!A395","v":"https://www.uber.com/careers/list/40110/"},"40110/",{"$f":"treatment!K395","v":"00:00:00"},{"$f":"treatment!L395","v":"00:00:00"},null,{"$f":"LEFT(B395, LEN(B395)-1)","v":"40110"},{"$f":"treatment!H395","v":"2018-08-13T13:59:00"},{"$f":"treatment!I395","v":"2018-12-13T07:20:00"},{"$f":"treatment!J395","v":"00:00:00"},null,{"$f":"classification!G395","v":1},{"$f":"classification!H395","v":"FinanceAccounting"}]
[{"$f":"treatment!A396","v":"https://www.uber.com/careers/list/40249/"},"40249/",{"$f":"treatment!K396","v":"2018-09-14T11:50:00"},{"$f":"treatment!L396","v":"00:00:00"},null,"40249",{"$f":"treatment!H396","v":"2018-08-13T13:59:00"},{"$f":"treatment!I396","v":"2018-10-03T12:22:00"},{"$f":"treatment!J396","v":"2018-09-23T12:29:00"},"2018-09-13T08:05:00",{"$f":"classification!G396","v":3},{"$f":"classification!H396","v":"Engineering"}]
[{"$f":"treatment!A397","v":"https://www.uber.com/careers/list/40261/"},"40261/",{"$f":"treatment!K397","v":"00:00:00"},{"$f":"treatment!L397","v":"00:00:00"},null,"40261",{"$f":"treatment!H397","v":"2018-08-13T13:59:00"},{"$f":"treatment!I397","v":"2018-09-18T11:21:00"},{"$f":"treatment!J397","v":"2018-10-01T14:50:00"},null,{"$f":"classification!G397","v":3},{"$f":"classification!H397","v":"Engineering"}]
[{"$f":"treatment!A398","v":"https://www.uber.com/careers/list/40285/"},"40285/",{"$f":"treatment!K398","v":"00:00:00"},{"$f":"treatment!L398","v":"00:00:00"},null,"40285",{"$f":"treatment!H398","v":"2018-08-13T13:59:00"},{"$f":"treatment!I398","v":"2018-08-21T09:00:00"},{"$f":"treatment!J398","v":"2018-08-29T16:02:00"},null,{"$f":"classification!G398","v":1},{"$f":"classification!H398","v":"OperationsLaunch"}]
[{"$f":"treatment!A399","v":"https://www.uber.com/careers/list/40338/"},"40338/",{"$f":"treatment!K399","v":"00:00:00"},{"$f":"treatment!L399","v":"2018-08-24T20:00:00"},null,"40338",{"$f":"treatment!H399","v":"2018-08-13T13:59:00"},{"$f":"treatment!I399","v":"2018-09-18T11:21:00"},{"$f":"treatment!J399","v":"2018-08-29T16:02:00"},null,{"$f":"classification!G399","v":1},{"$f":"classification!H399","v":"Marketing"}]
[{"$f":"treatment!A400","v":"https://www.uber.com/careers/list/40217/"},"40217/",{"$f":"treatment!K400","v":"00:00:00"},{"$f":"treatment!L400","v":"00:00:00"},null,"40217",{"$f":"treatment!H400","v":"2018-08-13T13:59:00"},{"$f":"treatment!I400","v":"2018-10-02T10:15:00"},{"$f":"treatment!J400","v":"2018-10-08T12:55:00"},null,{"$f":"classification!G400","v":3},{"$f":"classification!H400","v":"Legal"}]
[{"$f":"treatment!A401","v":"https://www.uber.com/careers/list/40213/"},"40213/",{"$f":"treatment!K401","v":"00:00:00"},{"$f":"treatment!L401","v":"00:00:00"},null,"40213",{"$f":"treatment!H401","v":"2018-08-13T13:59:00"},{"$f":"treatment!I401","v":"2018-09-28T12:00:00"},{"$f":"treatment!J401","v":"2018-10-01T14:50:00"},null,{"$f":"classification!G401","v":3},{"$f":"classification!H401","v":"AdvancedTechnologiesGroup"}]
[{"$f":"treatment!A402","v":"https://www.uber.com/careers/list/40211/"},"40211/",{"$f":"treatment!K402","v":"00:00:00"},{"$f":"treatment!L402","v":"00:00:00"},null,"40211",{"$f":"treatment!H402","v":"2018-08-13T13:59:00"},{"$f":"treatment!I402","v":"2018-12-08T11:30:00"},{"$f":"treatment!J402","v":"00:00:00"},null,{"$f":"classification!G402","v":3},{"$f":"classification!H402","v":"AdvancedTechnologiesGroup"}]
[{"$f":"treatment!A403","v":"https://www.uber.com/careers/list/40210/"},"40210/",{"$f":"treatment!K403","v":"00:00:00"},{"$f":"treatment!L403","v":"00:00:00"},null,"40210",{"$f":"treatment!H403","v":"2018-08-13T13:59:00"},{"$f":"treatment!I403","v":"2018-11-15T17:00:00"},{"$f":"treatment!J403","v":"2018-12-04T07:08:00"},null,{"$f":"classification!G403","v":3},{"$f":"classification!H403","v":"AdvancedTechnologiesGroup"}]
[{"$f":"treatment!A404","v":"https://www.uber.com/careers/list/40190/"},"40190/",{"$f":"treatment!K404","v":"00:00:00"},{"$f":"treatment!L404","v":"00:00:00"},null,"40190",{"$f":"treatment!H404","v":"2018-08-13T13:59:00"},{"$f":"treatment!I404","v":"2019-02-14T19:10:00"},{"$f":"treatment!J404","v":"00:00:00"},null,{"$f":"classification!G404","v":3},{"$f":"classification!H404","v":"Product"}]
[{"$f":"treatment!A405","v":"https://www.uber.com/careers/list/40185/"},"40185/",{"$f":"treatment!K405","v":"2018-08-22T20:45:00"},{"$f":"treatment!L405","v":"00:00:00"},null,"40185",{"$f":"treatment!H405","v":"2018-08-13T13:59:00"},{"$f":"treatment!I405","v":"2018-11-27T15:30:00"},{"$f":"treatment!J405","v":"2018-08-29T16:02:00"},"2018-08-21T16:00:00",{"$f":"classification!G405","v":1},{"$f":"classification!H405","v":"SafetySecurity"}]
[{"$f":"treatment!A406","v":"https://www.uber.com/careers/list/40181/"},"40181/",{"$f":"treatment!K406","v":"00:00:00"},{"$f":"treatment!L406","v":"00:00:00"},null,"40181",{"$f":"treatment!H406","v":"2018-08-13T13:59:00"},{"$f":"treatment!I406","v":"2019-01-16T12:05:00"},{"$f":"treatment!J406","v":"00:00:00"},null,{"$f":"classification!G406","v":1},{"$f":"classification!H406","v":"BusinessSales"}]
[{"$f":"treatment!A407","v":"https://www.uber.com/careers/list/40179/"},"40179/",{"$f":"treatment!K407","v":"2018-09-13T08:05:00"},{"$f":"treatment!L407","v":"00:00:00"},null,"40179",{"$f":"treatment!H407","v":"2018-08-13T13:59:00"},{"$f":"treatment!I407","v":"2018-10-17T15:00:00"},{"$f":"treatment!J407","v":"2018-09-23T12:29:00"},"2018-09-12T08:30:00",{"$f":"classification!G407","v":1},{"$f":"classification!H407","v":"GlobalCommunityOperations"}]
[{"$f":"treatment!A408","v":"https://www.uber.com/careers/list/40158/"},"40158/",{"$f":"treatment!K408","v":"00:00:00"},{"$f":"treatment!L408","v":"00:00:00"},null,"40158",{"$f":"treatment!H408","v":"2018-08-13T13:59:00"},{"$f":"treatment!I408","v":"2018-10-02T10:15:00"},{"$f":"treatment!J408","v":"2018-10-08T12:55:00"},null,{"$f":"classification!G408","v":3},{"$f":"classification!H408","v":"AdvancedTechnologiesGroup"}]
[{"$f":"treatment!A409","v":"https://www.uber.com/careers/list/40151/"},"40151/",{"$f":"treatment!K409","v":"00:00:00"},{"$f":"treatment!L409","v":"00:00:00"},null,"40151",{"$f":"treatment!H409","v":"2018-08-13T13:59:00"},{"$f":"treatment!I409","v":"2019-05-01T22:25:00"},{"$f":"treatment!J409","v":"00:00:00"},null,{"$f":"classification!G409","v":3},{"$f":"classification!H409","v":"SafetySecurity"}]
[{"$f":"treatment!A410","v":"https://www.uber.com/careers/list/40140/"},"40140/",{"$f":"treatment!K410","v":"00:00:00"},{"$f":"treatment!L410","v":"00:00:00"},null,"40140",{"$f":"treatment!H410","v":"2018-08-13T13:59:00"},{"$f":"treatment!I410","v":"2019-02-14T19:10:00"},{"$f":"treatment!J410","v":"00:00:00"},null,{"$f":"classification!G410","v":1},{"$f":"classification!H410","v":"Product"}]
[{"$f":"treatment!A411","v":"https://www.uber.com/careers/list/40119/"},"40119/",{"$f":"treatment!K411","v":"00:00:00"},{"$f":"treatment!L411","v":"00:00:00"},null,"40119",{"$f":"treatment!H411","v":"2018-08-13T13:59:00"},{"$f":"treatment!I411","v":"2018-12-12T07:30:00"},{"$f":"treatment!J411","v":"00:00:00"},null,{"$f":"classification!G411","v":3},{"$f":"classification!H411","v":"Product"}]
[{"$f":"treatment!A412","v":"https://www.uber.com/careers/list/40117/"},"40117/",{"$f":"treatment!K412","v":"00:00:00"},{"$f":"treatment!L412","v":"8/22/2018  2:00:00 PM; 10/3/2018  12:22:00 PM"},null,"40117",{"$f":"treatment!H412","v":"2018-08-13T13:59:00"},{"$f":"treatment!I412","v":"2018-12-12T07:30:00"},{"$f":"treatment!J412","v":"2018-08-29T16:02:00"},null,{"$f":"classification!G412","v":3},{"$f":"classification!H412","v":"GlobalCommunityOperations"}]
[{"$f":"treatment!A413","v":"https://www.uber.com/careers/list/40114/"},"40114/",{"$f":"treatment!K413","v":"00:00:00"},{"$f":"treatment!L413","v":"00:00:00"},null,"40114",{"$f":"treatment!H413","v":"2018-08-13T13:59:00"},{"$f":"treatment!I413","v":"2018-08-30T21:38:00"},{"$f":"treatment!J413","v":"2018-09-05T15:52:00"},null,{"$f":"classification!G413","v":1},{"$f":"classification!H413","v":"GlobalCommunityOperations"}]
[{"$f":"treatment!A414","v":"https://www.uber.com/careers/list/40108/"},"40108/",{"$f":"treatment!K414","v":"00:00:00"},{"$f":"treatment!L414","v":"00:00:00"},null,"40108",{"$f":"treatment!H414","v":"2018-08-13T13:59:00"},{"$f":"treatment!I414","v":"2018-11-17T11:35:00"},{"$f":"treatment!J414","v":"2018-12-04T07:08:00"},null,{"$f":"classification!G414","v":1},{"$f":"classification!H414","v":"FinanceAccounting"}]
[{"$f":"treatment!A415","v":"https://www.uber.com/careers/list/40095/"},"40095/",{"$f":"treatment!K415","v":"00:00:00"},{"$f":"treatment!L415","v":"00:00:00"},null,"40095",{"$f":"treatment!H415","v":"2018-08-13T13:59:00"},{"$f":"treatment!I415","v":"2018-09-05T19:29:00"},{"$f":"treatment!J415","v":"2018-10-01T14:50:00"},null,{"$f":"classification!G415","v":1},{"$f":"classification!H415","v":"OperationsLaunch"}]
[{"$f":"treatment!A416","v":"https://www.uber.com/careers/list/40090/"},"40090/",{"$f":"treatment!K416","v":"00:00:00"},{"$f":"treatment!L416","v":"00:00:00"},null,"40090",{"$f":"treatment!H416","v":"2018-08-13T13:59:00"},{"$f":"treatment!I416","v":"2018-08-18T08:00:00"},{"$f":"treatment!J416","v":"2018-08-22T14:44:00"},null,{"$f":"classification!G416","v":1},{"$f":"classification!H416","v":"FinanceAccounting"}]
[{"$f":"treatment!A417","v":"https://www.uber.com/careers/list/40085/"},"40085/",{"$f":"treatment!K417","v":"00:00:00"},{"$f":"treatment!L417","v":"00:00:00"},null,"40085",{"$f":"treatment!H417","v":"2018-08-13T13:59:00"},{"$f":"treatment!I417","v":"2019-01-29T06:50:00"},{"$f":"treatment!J417","v":"00:00:00"},null,{"$f":"classification!G417","v":3},{"$f":"classification!H417","v":"Engineering"}]
[{"$f":"treatment!A418","v":"https://www.uber.com/careers/list/40084/"},"40084/",{"$f":"treatment!K418","v":"00:00:00"},{"$f":"treatment!L418","v":"00:00:00"},null,"40084",{"$f":"treatment!H418","v":"2018-08-13T13:59:00"},{"$f":"treatment!I418","v":"2018-08-30T21:38:00"},{"$f":"treatment!J418","v":"2018-09-05T15:52:00"},null,{"$f":"classification!G418","v":1},{"$f":"classification!H418","v":"Engineering"}]
[{"$f":"treatment!A419","v":"https://www.uber.com/careers/list/40082/"},"40082/",{"$f":"treatment!K419","v":"00:00:00"},{"$f":"treatment!L419","v":"00:00:00"},null,"40082",{"$f":"treatment!H419","v":"2018-08-13T13:59:00"},{"$f":"treatment!I419","v":"2019-01-29T06:50:00"},{"$f":"treatment!J419","v":"00:00:00"},null,{"$f":"classification!G419","v":1},{"$f":"classification!H419","v":"Engineering"}]
[{"$f":"treatment!A420","v":"https://www.uber.com/careers/list/40081/"},"40081/",{"$f":"treatment!K420","v":"00:00:00"},{"$f":"treatment!L420","v":"00:00:00"},null,"40081",{"$f":"treatment!H420","v":"2018-08-13T13:59:00"},{"$f":"treatment!I420","v":"2018-09-04T16:43:00"},{"$f":"treatment!J420","v":"2018-10-01T14:50:00"},null,{"$f":"classification!G420","v":1},{"$f":"classification!H420","v":"FinanceAccounting"}]
[{"$f":"treatment!A421","v":"https://www.uber.com/careers/list/40080/"},"40080/",{"$f":"treatment!K421","v":"00:00:00"},{"$f":"treatment!L421","v":"00:00:00"},null,"40080",{"$f":"treatment!H421","v":"2018-08-13T13:59:00"},{"$f":"treatment!I421","v":"2018-10-03T12:22:00"},{"$f":"treatment!J421","v":"2018-10-08T12:55:00"},null,{"$f":"classification!G421","v":3},{"$f":"classification!H421","v":"FinanceAccounting"}]
[{"$f":"treatment!A422","v":"https://www.uber.com/careers/list/40073/"},"40073/",{"$f":"treatment!K422","v":"00:00:00"},{"$f":"treatment!L422","v":"00:00:00"},null,"40073",{"$f":"treatment!H422","v":"2018-08-13T13:59:00"},{"$f":"treatment!I422","v":"2018-08-16T07:30:00"},{"$f":"treatment!J422","v":"2018-08-22T14:44:00"},null,{"$f":"classification!G422","v":3},{"$f":"classification!H422","v":"Product"}]
[{"$f":"treatment!A423","v":"https://www.uber.com/careers/list/40067/"},"40067/",{"$f":"treatment!K423","v":"00:00:00"},{"$f":"treatment!L423","v":"00:00:00"},null,"40067",{"$f":"treatment!H423","v":"2018-08-13T13:59:00"},{"$f":"treatment!I423","v":"2018-10-10T08:30:00"},{"$f":"treatment!J423","v":"2018-10-16T07:51:00"},null,{"$f":"classification!G423","v":3},{"$f":"classification!H423","v":"OperationsLaunch"}]
[{"$f":"treatment!A424","v":"https://www.uber.com/careers/list/40066/"},"40066/",{"$f":"treatment!K424","v":"00:00:00"},{"$f":"treatment!L424","v":"00:00:00"},null,"40066",{"$f":"treatment!H424","v":"2018-08-13T13:59:00"},{"$f":"treatment!I424","v":"2018-11-05T08:30:00"},{"$f":"treatment!J424","v":"2018-11-15T14:48:00"},null,{"$f":"classification!G424","v":3},{"$f":"classification!H424","v":"OperationsLaunch"}]
[{"$f":"treatment!A425","v":"https://www.uber.com/careers/list/40061/"},"40061/",{"$f":"treatment!K425","v":"00:00:00"},{"$f":"treatment!L425","v":"00:00:00"},null,"40061",{"$f":"treatment!H425","v":"2018-08-13T13:59:00"},{"$f":"treatment!I425","v":"2018-10-19T08:50:00"},{"$f":"treatment!J425","v":"2018-10-30T07:19:00"},null,{"$f":"classification!G425","v":1},{"$f":"classification!H425","v":"Design"}]
[{"$f":"treatment!A426","v":"https://www.uber.com/careers/list/40054/"},"40054/",{"$f":"treatment!K426","v":"00:00:00"},{"$f":"treatment!L426","v":"00:00:00"},null,"40054",{"$f":"treatment!H426","v":"2018-08-13T13:59:00"},{"$f":"treatment!I426","v":"2018-09-13T07:35:00"},{"$f":"treatment!J426","v":"2018-09-23T12:29:00"},null,{"$f":"classification!G426","v":1},{"$f":"classification!H426","v":"PublicPolicy"}]
[{"$f":"treatment!A427","v":"https://www.uber.com/careers/list/40048/"},"40048/",{"$f":"treatment!K427","v":"00:00:00"},{"$f":"treatment!L427","v":"00:00:00"},null,"40048",{"$f":"treatment!H427","v":"2018-08-13T13:59:00"},{"$f":"treatment!I427","v":"2018-09-25T17:00:00"},{"$f":"treatment!J427","v":"2018-10-01T14:50:00"},null,{"$f":"classification!G427","v":3},{"$f":"classification!H427","v":"OperationsLaunch"}]
[{"$f":"treatment!A428","v":"https://www.uber.com/careers/list/40027/"},"40027/",{"$f":"treatment!K428","v":"00:00:00"},{"$f":"treatment!L428","v":"00:00:00"},null,"40027",{"$f":"treatment!H428","v":"2018-08-13T13:59:00"},{"$f":"treatment!I428","v":"2019-02-07T08:45:00"},{"$f":"treatment!J428","v":"00:00:00"},null,{"$f":"classification!G428","v":3},{"$f":"classification!H428","v":"GlobalCommunityOperations"}]
[{"$f":"treatment!A429","v":"https://www.uber.com/careers/list/40020/"},"40020/",{"$f":"treatment!K429","v":"00:00:00"},{"$f":"treatment!L429","v":"00:00:00"},null,"40020",{"$f":"treatment!H429","v":"2018-08-13T13:59:00"},{"$f":"treatment!I429","v":"2018-08-17T07:00:00"},{"$f":"treatment!J429","v":"2018-08-22T14:44:00"},null,{"$f":"classification!G429","v":1},{"$f":"classification!H429","v":"AdvancedTechnologiesGroup"}]
[{"$f":"treatment!A430","v":"https://www.uber.com/careers/list/40018/"},"40018/",{"$f":"treatment!K430","v":"00:00:00"},{"$f":"treatment!L430","v":"00:00:00"},null,"40018",{"$f":"treatment!H430","v":"2018-08-13T13:59:00"},{"$f":"treatment!I430","v":"2019-03-07T13:45:00"},{"$f":"treatment!J430","v":"00:00:00"},null,{"$f":"classification!G430","v":1},{"$f":"classification!H430","v":"Engineering"}]
[{"$f":"treatment!A431","v":"https://www.uber.com/careers/list/40001/"},"40001/",{"$f":"treatment!K431","v":"00:00:00"},{"$f":"treatment!L431","v":"00:00:00"},null,"40001",{"$f":"treatment!H431","v":"2018-08-13T13:59:00"},{"$f":"treatment!I431","v":"2018-11-07T17:30:00"},{"$f":"treatment!J431","v":"2018-11-15T14:48:00"},null,{"$f":"classification!G431","v":3},{"$f":"classification!H431","v":"GlobalCommunityOperations"}]
[{"$f":"treatment!A432","v":"https://www.uber.com/careers/list/39999/"},"39999/",{"$f":"treatment!K432","v":"00:00:00"},{"$f":"treatment!L432","v":"00:00:00"},null,"39999",{"$f":"treatment!H432","v":"2018-08-13T13:59:00"},{"$f":"treatment!I432","v":"2019-01-30T07:30:00"},{"$f":"treatment!J432","v":"00:00:00"},null,{"$f":"classification!G432","v":1},{"$f":"classification!H432","v":"Engineering"}]
[{"$f":"treatment!A433","v":"https://www.uber.com/careers/list/39997/"},"39997/",{"$f":"treatment!K433","v":"00:00:00"},{"$f":"treatment!L433","v":"00:00:00"},null,"39997",{"$f":"treatment!H433","v":"2018-08-13T13:59:00"},{"$f":"treatment!I433","v":"2018-09-22T15:44:00"},{"$f":"treatment!J433","v":"2018-10-01T14:50:00"},null,{"$f":"classification!G433","v":1},{"$f":"classification!H433","v":"FinanceAccounting"}]
[{"$f":"treatment!A434","v":"https://www.uber.com/careers/list/39974/"},"39974/",{"$f":"treatment!K434","v":"2018-08-17T15:30:00"},{"$f":"treatment!L434","v":"00:00:00"},null,"39974",{"$f":"treatment!H434","v":"2018-08-13T13:59:00"},{"$f":"treatment!I434","v":"2019-01-29T06:50:00"},{"$f":"treatment!J434","v":"2018-08-22T14:44:00"},"2018-08-16T17:30:00",{"$f":"classification!G434","v":3},{"$f":"classification!H434","v":"Design"}]
[{"$f":"treatment!A435","v":"https://www.uber.com/careers/list/39968/"},"39968/",{"$f":"treatment!K435","v":"00:00:00"},{"$f":"treatment!L435","v":"00:00:00"},null,"39968",{"$f":"treatment!H435","v":"2018-08-13T13:59:00"},{"$f":"treatment!I435","v":"00:00:00"},{"$f":"treatment!J435","v":"00:00:00"},null,{"$f":"classification!G435","v":3},{"$f":"classification!H435","v":"FinanceAccounting"}]
[{"$f":"treatment!A436","v":"https://www.uber.com/careers/list/39960/"},"39960/",{"$f":"treatment!K436","v":"00:00:00"},{"$f":"treatment!L436","v":"00:00:00"},null,"39960",{"$f":"treatment!H436","v":"2018-08-13T13:59:00"},{"$f":"treatment!I436","v":"2019-04-22T11:51:00"},{"$f":"treatment!J436","v":"00:00:00"},null,{"$f":"classification!G436","v":1},{"$f":"classification!H436","v":"Marketing"}]
[{"$f":"treatment!A437","v":"https://www.uber.com/careers/list/39959/"},"39959/",{"$f":"treatment!K437","v":"00:00:00"},{"$f":"treatment!L437","v":"00:00:00"},null,"39959",{"$f":"treatment!H437","v":"2018-08-13T13:59:00"},{"$f":"treatment!I437","v":"2018-10-18T11:25:00"},{"$f":"treatment!J437","v":"2018-10-23T06:21:00"},null,{"$f":"classification!G437","v":1},{"$f":"classification!H437","v":"OperationsLaunch"}]
[{"$f":"treatment!A438","v":"https://www.uber.com/careers/list/39957/"},"39957/",{"$f":"treatment!K438","v":"00:00:00"},{"$f":"treatment!L438","v":"00:00:00"},null,"39957",{"$f":"treatment!H438","v":"2018-08-13T13:59:00"},{"$f":"treatment!I438","v":"2018-10-25T11:30:00"},{"$f":"treatment!J438","v":"2018-10-30T07:19:00"},null,{"$f":"classification!G438","v":3},{"$f":"classification!H438","v":"FinanceAccounting"}]
[{"$f":"treatment!A439","v":"https://www.uber.com/careers/list/39955/"},"39955/",{"$f":"treatment!K439","v":"00:00:00"},{"$f":"treatment!L439","v":"00:00:00"},null,"39955",{"$f":"treatment!H439","v":"2018-08-13T13:59:00"},{"$f":"treatment!I439","v":"2019-01-15T09:20:00"},{"$f":"treatment!J439","v":"00:00:00"},null,{"$f":"classification!G439","v":1},{"$f":"classification!H439","v":"Marketing"}]
[{"$f":"treatment!A440","v":"https://www.uber.com/careers/list/39917/"},{"$f":"RIGHT(A440, LEN(A440)-34)","v":"39917/"},{"$f":"treatment!K440","v":"00:00:00"},{"$f":"treatment!L440","v":"00:00:00"},null,"39917",{"$f":"treatment!H440","v":"2018-08-13T13:59:00"},{"$f":"treatment!I440","v":"2018-08-27T15:30:00"},{"$f":"treatment!J440","v":"2018-09-05T15:52:00"},null,{"$f":"classification!G440","v":1},{"$f":"classification!H440","v":"Engineering"}]
[{"$f":"treatment!A441","v":"https://www.uber.com/careers/list/39899/"},"39899/",{"$f":"treatment!K441","v":"00:00:00"},{"$f":"treatment!L441","v":"00:00:00"},null,"39899",{"$f":"treatment!H441","v":"2018-08-13T13:59:00"},{"$f":"treatment!I441","v":"2018-08-16T07:30:00"},{"$f":"treatment!J441","v":"2018-08-22T14:44:00"},null,{"$f":"classification!G441","v":3},{"$f":"classification!H441","v":"GlobalCommunityOperations"}]
[{"$f":"treatment!A442","v":"https://www.uber.com/careers/list/39585/"},"39585/",{"$f":"treatment!K442","v":"00:00:00"},{"$f":"treatment!L442","v":"00:00:00"},null,"39585",{"$f":"treatment!H442","v":"2018-08-13T13:59:00"},{"$f":"treatment!I442","v":"2018-08-22T14:00:00"},{"$f":"treatment!J442","v":"2018-08-29T16:02:00"},null,{"$f":"classification!G442","v":1},{"$f":"classification!H442","v":"OperationsLaunch"}]
[{"$f":"treatment!A443","v":"https://www.uber.com/careers/list/39551/"},"39551/",{"$f":"treatment!K443","v":"00:00:00"},{"$f":"treatment!L443","v":"2018-09-19T22:00:00"},null,"39551",{"$f":"treatment!H443","v":"2018-08-13T13:59:00"},{"$f":"treatment!I443","v":"2018-11-19T18:40:00"},{"$f":"treatment!J443","v":"2018-10-01T14:50:00"},null,{"$f":"classification!G443","v":1},{"$f":"classification!H443","v":"OperationsLaunch"}]
[{"$f":"treatment!A444","v":"https://www.uber.com/careers/list/39460/"},"39460/",{"$f":"treatment!K444","v":"00:00:00"},{"$f":"treatment!L444","v":"00:00:00"},null,"39460",{"$f":"treatment!H444","v":"2018-08-13T13:59:00"},{"$f":"treatment!I444","v":"2018-10-10T08:30:00"},{"$f":"treatment!J444","v":"2018-10-16T07:51:00"},null,{"$f":"classification!G444","v":1},{"$f":"classification!H444","v":"Legal"}]
[{"$f":"treatment!A445","v":"https://www.uber.com/careers/list/39452/"},"39452/",{"$f":"treatment!K445","v":"00:00:00"},{"$f":"treatment!L445","v":"00:00:00"},null,"39452",{"$f":"treatment!H445","v":"2018-08-13T13:59:00"},{"$f":"treatment!I445","v":"2018-10-06T14:00:00"},{"$f":"treatment!J445","v":"2018-10-16T07:51:00"},null,{"$f":"classification!G445","v":1},{"$f":"classification!H445","v":"OperationsLaunch"}]
[{"$f":"treatment!A446","v":"https://www.uber.com/careers/list/39195/"},"39195/",{"$f":"treatment!K446","v":"00:00:00"},{"$f":"treatment!L446","v":"00:00:00"},null,"39195",{"$f":"treatment!H446","v":"2018-08-13T13:59:00"},{"$f":"treatment!I446","v":"2018-11-06T11:00:00"},{"$f":"treatment!J446","v":"2018-11-15T14:48:00"},null,{"$f":"classification!G446","v":1},{"$f":"classification!H446","v":"OperationsLaunch"}]
[{"$f":"treatment!A447","v":"https://www.uber.com/careers/list/39194/"},"39194/",{"$f":"treatment!K447","v":"00:00:00"},{"$f":"treatment!L447","v":"00:00:00"},null,"39194",{"$f":"treatment!H447","v":"2018-08-13T13:59:00"},{"$f":"treatment!I447","v":"2018-09-21T10:42:00"},{"$f":"treatment!J447","v":"2018-10-01T14:50:00"},null,{"$f":"classification!G447","v":1},{"$f":"classification!H447","v":"OperationsLaunch"}]
[{"$f":"treatment!A448","v":"https://www.uber.com/careers/list/33636/"},"33636/",{"$f":"treatment!K448","v":"00:00:00"},{"$f":"treatment!L448","v":"00:00:00"},null,{"$f":"LEFT(B448, LEN(B448)-1)","v":"33636"},{"$f":"treatment!H448","v":"2018-08-13T13:59:00"},{"$f":"treatment!I448","v":"2018-09-20T10:20:00"},{"$f":"treatment!J448","v":"2018-10-01T14:50:00"},null,{"$f":"classification!G448","v":3},{"$f":"classification!H448","v":"AdvancedTechnologiesGroup"}]
[{"$f":"treatment!A449","v":"https://www.uber.com/careers/list/31794/"},"31794/",{"$f":"treatment!K449","v":"00:00:00"},{"$f":"treatment!L449","v":"00:00:00"},null,"31794",{"$f":"treatment!H449","v":"2018-08-13T13:59:00"},{"$f":"treatment!I449","v":"00:00:00"},{"$f":"treatment!J449","v":"00:00:00"},null,{"$f":"classification!G449","v":3},{"$f":"classification!H449","v":"AdvancedTechnologiesGroup"}]
[{"$f":"treatment!A450","v":"https://www.uber.com/careers/list/31514/"},"31514/",{"$f":"treatment!K450","v":"00:00:00"},{"$f":"treatment!L450","v":"00:00:00"},null,"31514",{"$f":"treatment!H450","v":"2018-08-13T13:59:00"},{"$f":"treatment!I450","v":"00:00:00"},{"$f":"treatment!J450","v":"00:00:00"},null,{"$f":"classification!G450","v":3},{"$f":"classification!H450","v":"AdvancedTechnologiesGroup"}]
[{"$f":"treatment!A451","v":"https://www.uber.com/careers/list/30269/"},"30269/",{"$f":"treatment!K451","v":"00:00:00"},{"$f":"treatment!L451","v":"00:00:00"},null,"30269",{"$f":"treatment!H451","v":"2018-08-13T13:59:00"},{"$f":"treatment!I451","v":"00:00:00"},{"$f":"treatment!J451","v":"00:00:00"},null,{"$f":"classification!G451","v":3},{"$f":"classification!H451","v":"Engineering"}]
[{"$f":"treatment!A452","v":"https://www.uber.com/careers/list/30087/"},"30087/",{"$f":"treatment!K452","v":"2018-09-24T09:36:00"},{"$f":"treatment!L452","v":"00:00:00"},null,"30087",{"$f":"treatment!H452","v":"2018-08-13T13:59:00"},{"$f":"treatment!I452","v":"2019-05-24T20:30:00"},{"$f":"treatment!J452","v":"2018-10-01T14:50:00"},"2018-09-23T11:20:00",{"$f":"classification!G452","v":1},{"$f":"classification!H452","v":"AdvancedTechnologiesGroup"}]
[{"$f":"treatment!A453","v":"https://www.uber.com/careers/list/29652/"},"29652/",{"$f":"treatment!K453","v":"00:00:00"},{"$f":"treatment!L453","v":"00:00:00"},null,"29652",{"$f":"treatment!H453","v":"2018-08-13T13:59:00"},{"$f":"treatment!I453","v":"00:00:00"},{"$f":"treatment!J453","v":"00:00:00"},null,{"$f":"classification!G453","v":1},{"$f":"classification!H453","v":"AdvancedTechnologiesGroup"}]
[{"$f":"treatment!A454","v":"https://www.uber.com/careers/list/29094/"},"29094/",{"$f":"treatment!K454","v":"2018-08-22T20:45:00"},{"$f":"treatment!L454","v":"00:00:00"},null,"29094",{"$f":"treatment!H454","v":"2018-08-13T13:59:00"},{"$f":"treatment!I454","v":"2018-11-30T15:50:00"},{"$f":"treatment!J454","v":"2018-08-29T16:02:00"},"2018-08-21T16:00:00",{"$f":"classification!G454","v":1},{"$f":"classification!H454","v":"Product"}]
[{"$f":"treatment!A455","v":"https://www.uber.com/careers/list/27843/"},"27843/",{"$f":"treatment!K455","v":"00:00:00"},{"$f":"treatment!L455","v":"00:00:00"},null,"27843",{"$f":"treatment!H455","v":"2018-08-13T13:59:00"},{"$f":"treatment!I455","v":"2018-10-12T07:15:00"},{"$f":"treatment!J455","v":"2018-10-23T06:21:00"},null,{"$f":"classification!G455","v":1},{"$f":"classification!H455","v":"Product"}]
[{"$f":"treatment!A456","v":"https://www.uber.com/careers/list/38204/"},"38204/",{"$f":"treatment!K456","v":"00:00:00"},{"$f":"treatment!L456","v":"00:00:00"},null,"38204",{"$f":"treatment!H456","v":"2018-08-13T13:59:00"},{"$f":"treatment!I456","v":"2019-01-11T17:20:00"},{"$f":"treatment!J456","v":"00:00:00"},null,{"$f":"classification!G456","v":3},{"$f":"classification!H456","v":"PeopleOperations"}]
[{"$f":"treatment!A457","v":"https://www.uber.com/careers/list/39905/"},"39905/",{"$f":"treatment!K457","v":"00:00:00"},{"$f":"treatment!L457","v":"00:00:00"},null,"39905",{"$f":"treatment!H457","v":"2018-08-13T13:59:00"},{"$f":"treatment!I457","v":"2018-09-14T20:34:00"},{"$f":"treatment!J457","v":"2018-09-23T12:29:00"},null,{"$f":"classification!G457","v":3},{"$f":"classification!H457","v":"FinanceAccounting"}]
[{"$f":"treatment!A458","v":"https://www.uber.com/careers/list/39924/"},"39924/",{"$f":"treatment!K458","v":"00:00:00"},{"$f":"treatment!L458","v":"00:00:00"},null,"39924",{"$f":"treatment!H458","v":"2018-08-13T13:59:00"},{"$f":"treatment!I458","v":"2018-10-05T11:55:00"},{"$f":"treatment!J458","v":"2018-10-08T12:55:00"},null,{"$f":"classification!G458","v":1},{"$f":"classification!H458","v":"BusinessSales"}]
[{"$f":"treatment!A459","v":"https://www.uber.com/careers/list/39926/"},"39926/",{"$f":"treatment!K459","v":"00:00:00"},{"$f":"treatment!L459","v":"00:00:00"},null,"39926",{"$f":"treatment!H459","v":"2018-08-13T13:59:00"},{"$f":"treatment!I459","v":"2018-08-22T14:00:00"},{"$f":"treatment!J459","v":"2018-08-29T16:02:00"},null,{"$f":"classification!G459","v":3},{"$f":"classification!H459","v":"Product"}]
[{"$f":"treatment!A460","v":"https://www.uber.com/careers/list/34168/"},"34168/",{"$f":"treatment!K460","v":"00:00:00"},{"$f":"treatment!L460","v":"00:00:00"},null,"34168",{"$f":"treatment!H460","v":"2018-08-13T13:59:00"},{"$f":"treatment!I460","v":"2018-09-07T15:35:00"},{"$f":"treatment!J460","v":"2018-10-01T14:50:00"},null,{"$f":"classification!G460","v":3},{"$f":"classification!H460","v":"AdvancedTechnologiesGroup"}]
[{"$f":"treatment!A461","v":"https://www.uber.com/careers/list/39852/"},"39852/",{"$f":"treatment!K461","v":"00:00:00"},{"$f":"treatment!L461","v":"00:00:00"},null,"39852",{"$f":"treatment!H461","v":"2018-08-13T13:59:00"},{"$f":"treatment!I461","v":"2018-10-03T12:22:00"},{"$f":"treatment!J461","v":"2018-10-08T12:55:00"},null,{"$f":"classification!G461","v":3},{"$f":"classification!H461","v":"FinanceAccounting"}]
[{"$f":"treatment!A462","v":"https://www.uber.com/careers/list/39867/"},"39867/",{"$f":"treatment!K462","v":"00:00:00"},{"$f":"treatment!L462","v":"00:00:00"},null,"39867",{"$f":"treatment!H462","v":"2018-08-13T13:59:00"},{"$f":"treatment!I462","v":"2018-10-26T15:35:00"},{"$f":"treatment!J462","v":"2018-11-07T11:33:00"},null,{"$f":"classification!G462","v":1},{"$f":"classification!H462","v":"BusinessSales"}]
[{"$f":"treatment!A463","v":"https://www.uber.com/careers/list/37673/"},"37673/",{"$f":"treatment!K463","v":"00:00:00"},{"$f":"treatment!L463","v":"00:00:00"},null,"37673",{"$f":"treatment!H463","v":"2018-08-13T13:59:00"},{"$f":"treatment!I463","v":"2018-09-25T17:00:00"},{"$f":"treatment!J463","v":"2018-10-01T14:50:00"},null,{"$f":"classification!G463","v":1},{"$f":"classification!H463","v":"Legal"}]
[{"$f":"treatment!A464","v":"https://www.uber.com/careers/list/39804/"},"39804/",{"$f":"treatment!K464","v":"00:00:00"},{"$f":"treatment!L464","v":"00:00:00"},null,"39804",{"$f":"treatment!H464","v":"2018-08-13T13:59:00"},{"$f":"treatment!I464","v":"2019-03-02T10:45:00"},{"$f":"treatment!J464","v":"00:00:00"},null,{"$f":"classification!G464","v":1},{"$f":"classification!H464","v":"PeopleOperations"}]
[{"$f":"treatment!A465","v":"https://www.uber.com/careers/list/37128/"},"37128/",{"$f":"treatment!K465","v":"00:00:00"},{"$f":"treatment!L465","v":"00:00:00"},null,"37128",{"$f":"treatment!H465","v":"2018-08-13T13:59:00"},{"$f":"treatment!I465","v":"2018-09-14T20:34:00"},{"$f":"treatment!J465","v":"2018-09-23T12:29:00"},null,{"$f":"classification!G465","v":1},{"$f":"classification!H465","v":"PeopleOperations"}]
[{"$f":"treatment!A466","v":"https://www.uber.com/careers/list/39798/"},"39798/",{"$f":"treatment!K466","v":"00:00:00"},{"$f":"treatment!L466","v":"00:00:00"},null,"39798",{"$f":"treatment!H466","v":"2018-08-13T13:59:00"},{"$f":"treatment!I466","v":"2018-10-02T10:15:00"},{"$f":"treatment!J466","v":"2018-10-08T12:55:00"},null,{"$f":"classification!G466","v":3},{"$f":"classification!H466","v":"PeopleOperations"}]
[{"$f":"treatment!A467","v":"https://www.uber.com/careers/list/39729/"},"39729/",{"$f":"treatment!K467","v":"00:00:00"},{"$f":"treatment!L467","v":"00:00:00"},null,"39729",{"$f":"treatment!H467","v":"2018-08-13T13:59:00"},{"$f":"treatment!I467","v":"2018-10-31T11:20:00"},{"$f":"treatment!J467","v":"2018-11-07T11:33:00"},null,{"$f":"classification!G467","v":3},{"$f":"classification!H467","v":"FinanceAccounting"}]
[{"$f":"treatment!A468","v":"https://www.uber.com/careers/list/39463/"},"39463/",{"$f":"treatment!K468","v":"00:00:00"},{"$f":"treatment!L468","v":"00:00:00"},null,"39463",{"$f":"treatment!H468","v":"2018-08-13T13:59:00"},{"$f":"treatment!I468","v":"2018-08-14T06:00:00"},{"$f":"treatment!J468","v":"2018-08-22T14:44:00"},null,{"$f":"classification!G468","v":3},{"$f":"classification!H468","v":"Product"}]
[{"$f":"treatment!A469","v":"https://www.uber.com/careers/list/39618/"},"39618/",{"$f":"treatment!K469","v":"00:00:00"},{"$f":"treatment!L469","v":"00:00:00"},null,"39618",{"$f":"treatment!H469","v":"2018-08-13T13:59:00"},{"$f":"treatment!I469","v":"2018-09-17T17:50:00"},{"$f":"treatment!J469","v":"2018-10-01T14:50:00"},null,{"$f":"classification!G469","v":3},{"$f":"classification!H469","v":"AdvancedTechnologiesGroup"}]
[{"$f":"treatment!A470","v":"https://www.uber.com/careers/list/39795/"},"39795/",{"$f":"treatment!K470","v":"00:00:00"},{"$f":"treatment!L470","v":"00:00:00"},null,"39795",{"$f":"treatment!H470","v":"2018-08-13T13:59:00"},{"$f":"treatment!I470","v":"2018-10-27T09:55:00"},{"$f":"treatment!J470","v":"2018-11-07T11:33:00"},null,{"$f":"classification!G470","v":3},{"$f":"classification!H470","v":"Engineering"}]
[{"$f":"treatment!A471","v":"https://www.uber.com/careers/list/39796/"},"39796/",{"$f":"treatment!K471","v":"00:00:00"},{"$f":"treatment!L471","v":"00:00:00"},null,"39796",{"$f":"treatment!H471","v":"2018-08-13T13:59:00"},{"$f":"treatment!I471","v":"2019-01-24T07:10:00"},{"$f":"treatment!J471","v":"00:00:00"},null,{"$f":"classification!G471","v":3},{"$f":"classification!H471","v":"Engineering"}]
[{"$f":"treatment!A472","v":"https://www.uber.com/careers/list/39367/"},"39367/",{"$f":"treatment!K472","v":"00:00:00"},{"$f":"treatment!L472","v":"00:00:00"},null,"39367",{"$f":"treatment!H472","v":"2018-08-13T13:59:00"},{"$f":"treatment!I472","v":"2018-10-11T09:10:00"},{"$f":"treatment!J472","v":"2018-10-16T07:51:00"},null,{"$f":"classification!G472","v":1},{"$f":"classification!H472","v":"PeopleOperations"}]
[{"$f":"treatment!A473","v":"https://www.uber.com/careers/list/36733/"},"36733/",{"$f":"treatment!K473","v":"2018-08-15T15:45:00"},{"$f":"treatment!L473","v":"2018-10-01T08:20:00"},null,"36733",{"$f":"treatment!H473","v":"2018-08-13T13:59:00"},{"$f":"treatment!I473","v":"2019-02-14T19:10:00"},{"$f":"treatment!J473","v":"2018-08-22T14:44:00"},"2018-08-14T17:00:00",{"$f":"classification!G473","v":3},{"$f":"classification!H473","v":"Engineering"}]
[{"$f":"treatment!A474","v":"https://www.uber.com/careers/list/39676/"},"39676/",{"$f":"treatment!K474","v":"00:00:00"},{"$f":"treatment!L474","v":"00:00:00"},null,"39676",{"$f":"treatment!H474","v":"2018-08-13T13:59:00"},{"$f":"treatment!I474","v":"2018-10-31T11:20:00"},{"$f":"treatment!J474","v":"2018-11-07T11:33:00"},null,{"$f":"classification!G474","v":3},{"$f":"classification!H474","v":"Engineering"}]
[{"$f":"treatment!A475","v":"https://www.uber.com/careers/list/39647/"},"39647/",{"$f":"treatment!K475","v":"00:00:00"},{"$f":"treatment!L475","v":"00:00:00"},null,"39647",{"$f":"treatment!H475","v":"2018-08-13T13:59:00"},{"$f":"treatment!I475","v":"00:00:00"},{"$f":"treatment!J475","v":"00:00:00"},null,{"$f":"classification!G475","v":1},{"$f":"classification!H475","v":"GlobalCommunityOperations"}]
[{"$f":"treatment!A476","v":"https://www.uber.com/careers/list/39656/"},"39656/",{"$f":"treatment!K476","v":"00:00:00"},{"$f":"treatment!L476","v":"00:00:00"},null,"39656",{"$f":"treatment!H476","v":"2018-08-13T13:59:00"},{"$f":"treatment!I476","v":"2018-08-15T08:00:00"},{"$f":"treatment!J476","v":"2018-08-22T14:44:00"},null,{"$f":"classification!G476","v":1},{"$f":"classification!H476","v":"GlobalCommunityOperations"}]
[{"$f":"treatment!A477","v":"https://www.uber.com/careers/list/39689/"},"39689/",{"$f":"treatment!K477","v":"00:00:00"},{"$f":"treatment!L477","v":"00:00:00"},null,"39689",{"$f":"treatment!H477","v":"2018-08-13T13:59:00"},{"$f":"treatment!I477","v":"2019-01-19T20:15:00"},{"$f":"treatment!J477","v":"00:00:00"},null,{"$f":"classification!G477","v":3},{"$f":"classification!H477","v":"OperationsLaunch"}]
[{"$f":"treatment!A478","v":"https://www.uber.com/careers/list/39646/"},"39646/",{"$f":"treatment!K478","v":"00:00:00"},{"$f":"treatment!L478","v":"00:00:00"},null,"39646",{"$f":"treatment!H478","v":"2018-08-13T13:59:00"},{"$f":"treatment!I478","v":"00:00:00"},{"$f":"treatment!J478","v":"00:00:00"},null,{"$f":"classification!G478","v":3},{"$f":"classification!H478","v":"GlobalCommunityOperations"}]
[{"$f":"treatment!A479","v":"https://www.uber.com/careers/list/39678/"},"39678/",{"$f":"treatment!K479","v":"00:00:00"},{"$f":"treatment!L479","v":"00:00:00"},null,"39678",{"$f":"treatment!H479","v":"2018-08-13T13:59:00"},{"$f":"treatment!I479","v":"2018-10-30T11:50:00"},{"$f":"treatment!J479","v":"2018-11-07T11:33:00"},null,{"$f":"classification!G479","v":1},{"$f":"classification!H479","v":"GlobalCommunityOperations"}]
[{"$f":"treatment!A480","v":"https://www.uber.com/careers/list/39679/"},"39679/",{"$f":"treatment!K480","v":"00:00:00"},{"$f":"treatment!L480","v":"00:00:00"},null,"39679",{"$f":"treatment!H480","v":"2018-08-13T13:59:00"},{"$f":"treatment!I480","v":"2018-12-05T07:00:00"},{"$f":"treatment!J480","v":"2018-12-10T08:23:00"},null,{"$f":"classification!G480","v":3},{"$f":"classification!H480","v":"Product"}]
[{"$f":"treatment!A481","v":"https://www.uber.com/careers/list/39648/"},"39648/",{"$f":"treatment!K481","v":"00:00:00"},{"$f":"treatment!L481","v":"00:00:00"},null,"39648",{"$f":"treatment!H481","v":"2018-08-13T13:59:00"},{"$f":"treatment!I481","v":"2018-12-06T07:45:00"},{"$f":"treatment!J481","v":"2018-12-10T08:23:00"},null,{"$f":"classification!G481","v":1},{"$f":"classification!H481","v":"GlobalCommunityOperations"}]
[{"$f":"treatment!A482","v":"https://www.uber.com/careers/list/39595/"},"39595/",{"$f":"treatment!K482","v":"00:00:00"},{"$f":"treatment!L482","v":"00:00:00"},null,"39595",{"$f":"treatment!H482","v":"2018-08-13T13:59:00"},{"$f":"treatment!I482","v":"2018-12-06T07:45:00"},{"$f":"treatment!J482","v":"2018-12-10T08:23:00"},null,{"$f":"classification!G482","v":1},{"$f":"classification!H482","v":"Marketing"}]
[{"$f":"treatment!A483","v":"https://www.uber.com/careers/list/31067/"},"31067/",{"$f":"treatment!K483","v":"00:00:00"},{"$f":"treatment!L483","v":"00:00:00"},null,"31067",{"$f":"treatment!H483","v":"2018-08-13T13:59:00"},{"$f":"treatment!I483","v":"00:00:00"},{"$f":"treatment!J483","v":"00:00:00"},null,{"$f":"classification!G483","v":1},{"$f":"classification!H483","v":"Engineering"}]
[{"$f":"treatment!A484","v":"https://www.uber.com/careers/list/35600/"},"35600/",{"$f":"treatment!K484","v":"00:00:00"},{"$f":"treatment!L484","v":"00:00:00"},null,"35600",{"$f":"treatment!H484","v":"2018-08-13T13:59:00"},{"$f":"treatment!I484","v":"2018-08-30T21:38:00"},{"$f":"treatment!J484","v":"2018-09-05T15:52:00"},null,{"$f":"classification!G484","v":3},{"$f":"classification!H484","v":"AdvancedTechnologiesGroup"}]
[{"$f":"treatment!A485","v":"https://www.uber.com/careers/list/39625/"},"39625/",{"$f":"treatment!K485","v":"00:00:00"},{"$f":"treatment!L485","v":"00:00:00"},null,"39625",{"$f":"treatment!H485","v":"2018-08-13T13:59:00"},{"$f":"treatment!I485","v":"2018-10-04T11:25:00"},{"$f":"treatment!J485","v":"2018-10-08T12:55:00"},null,{"$f":"classification!G485","v":3},{"$f":"classification!H485","v":"GlobalCommunityOperations"}]
[{"$f":"treatment!A486","v":"https://www.uber.com/careers/list/39589/"},"39589/",{"$f":"treatment!K486","v":"00:00:00"},{"$f":"treatment!L486","v":"00:00:00"},null,"39589",{"$f":"treatment!H486","v":"2018-08-13T13:59:00"},{"$f":"treatment!I486","v":"2019-04-01T21:10:00"},{"$f":"treatment!J486","v":"00:00:00"},null,{"$f":"classification!G486","v":1},{"$f":"classification!H486","v":"BusinessSales"}]
[{"$f":"treatment!A487","v":"https://www.uber.com/careers/list/39651/"},"39651/",{"$f":"treatment!K487","v":"00:00:00"},{"$f":"treatment!L487","v":"00:00:00"},null,"39651",{"$f":"treatment!H487","v":"2018-08-13T13:59:00"},{"$f":"treatment!I487","v":"2018-10-03T12:22:00"},{"$f":"treatment!J487","v":"2018-10-08T12:55:00"},null,{"$f":"classification!G487","v":3},{"$f":"classification!H487","v":"FinanceAccounting"}]
[{"$f":"treatment!A488","v":"https://www.uber.com/careers/list/39652/"},"39652/",{"$f":"treatment!K488","v":"00:00:00"},{"$f":"treatment!L488","v":"00:00:00"},null,"39652",{"$f":"treatment!H488","v":"2018-08-13T13:59:00"},{"$f":"treatment!I488","v":"2018-09-25T17:00:00"},{"$f":"treatment!J488","v":"2018-10-01T14:50:00"},null,{"$f":"classification!G488","v":3},{"$f":"classification!H488","v":"Engineering"}]
[{"$f":"treatment!A489","v":"https://www.uber.com/careers/list/39549/"},"39549/",{"$f":"treatment!K489","v":"2018-08-28T16:15:00"},{"$f":"treatment!L489","v":"00:00:00"},null,"39549",{"$f":"treatment!H489","v":"2018-08-13T13:59:00"},{"$f":"treatment!I489","v":"2018-12-13T07:20:00"},{"$f":"treatment!J489","v":"2018-09-05T15:52:00"},"2018-08-27T16:00:00",{"$f":"classification!G489","v":3},{"$f":"classification!H489","v":"Legal"}]
[{"$f":"treatment!A490","v":"https://www.uber.com/careers/list/39550/"},"39550/",{"$f":"treatment!K490","v":"00:00:00"},{"$f":"treatment!L490","v":"00:00:00"},null,"39550",{"$f":"treatment!H490","v":"2018-08-13T13:59:00"},{"$f":"treatment!I490","v":"2018-09-04T16:43:00"},{"$f":"treatment!J490","v":"2018-10-01T14:50:00"},null,{"$f":"classification!G490","v":3},{"$f":"classification!H490","v":"Legal"}]
[{"$f":"treatment!A491","v":"https://www.uber.com/careers/list/39525/"},"39525/",{"$f":"treatment!K491","v":"00:00:00"},{"$f":"treatment!L491","v":"00:00:00"},null,"39525",{"$f":"treatment!H491","v":"2018-08-13T13:59:00"},{"$f":"treatment!I491","v":"2018-09-19T22:00:00"},{"$f":"treatment!J491","v":"2018-10-01T14:50:00"},null,{"$f":"classification!G491","v":3},{"$f":"classification!H491","v":"GlobalCommunityOperations"}]
[{"$f":"treatment!A492","v":"https://www.uber.com/careers/list/39590/"},"39590/",{"$f":"treatment!K492","v":"00:00:00"},{"$f":"treatment!L492","v":"00:00:00"},null,"39590",{"$f":"treatment!H492","v":"2018-08-13T13:59:00"},{"$f":"treatment!I492","v":"2018-10-26T15:35:00"},{"$f":"treatment!J492","v":"2018-11-07T11:33:00"},null,{"$f":"classification!G492","v":1},{"$f":"classification!H492","v":"BusinessSales"}]
[{"$f":"treatment!A493","v":"https://www.uber.com/careers/list/39626/"},"39626/",{"$f":"treatment!K493","v":"00:00:00"},{"$f":"treatment!L493","v":"00:00:00"},null,"39626",{"$f":"treatment!H493","v":"2018-08-13T13:59:00"},{"$f":"treatment!I493","v":"2018-09-21T10:42:00"},{"$f":"treatment!J493","v":"2018-10-01T14:50:00"},null,{"$f":"classification!G493","v":3},{"$f":"classification!H493","v":"Marketing"}]
[{"$f":"treatment!A494","v":"https://www.uber.com/careers/list/39649/"},"39649/",{"$f":"treatment!K494","v":"00:00:00"},{"$f":"treatment!L494","v":"00:00:00"},null,{"$f":"LEFT(B494, LEN(B494)-1)","v":"39649"},{"$f":"treatment!H494","v":"2018-08-13T13:59:00"},{"$f":"treatment!I494","v":"2018-09-14T20:34:00"},{"$f":"treatment!J494","v":"2018-09-23T12:29:00"},null,{"$f":"classification!G494","v":1},{"$f":"classification!H494","v":"Legal"}]
[{"$f":"treatment!A495","v":"https://www.uber.com/careers/list/39490/"},"39490/",{"$f":"treatment!K495","v":"00:00:00"},{"$f":"treatment!L495","v":"00:00:00"},null,"39490",{"$f":"treatment!H495","v":"2018-08-13T13:59:00"},{"$f":"treatment!I495","v":"2018-08-15T08:00:00"},{"$f":"treatment!J495","v":"2018-08-22T14:44:00"},null,{"$f":"classification!G495","v":1},{"$f":"classification!H495","v":"FinanceAccounting"}]
[{"$f":"treatment!A496","v":"https://www.uber.com/careers/list/39288/"},"39288/",{"$f":"treatment!K496","v":"00:00:00"},{"$f":"treatment!L496","v":"00:00:00"},null,"39288",{"$f":"treatment!H496","v":"2018-08-13T13:59:00"},{"$f":"treatment!I496","v":"2018-10-02T10:15:00"},{"$f":"treatment!J496","v":"2018-10-08T12:55:00"},null,{"$f":"classification!G496","v":3},{"$f":"classification!H496","v":"GlobalCommunityOperations"}]
[{"$f":"treatment!A497","v":"https://www.uber.com/careers/list/39478/"},"39478/",{"$f":"treatment!K497","v":"00:00:00"},{"$f":"treatment!L497","v":"00:00:00"},null,"39478",{"$f":"treatment!H497","v":"2018-08-13T13:59:00"},{"$f":"treatment!I497","v":"2018-10-24T11:10:00"},{"$f":"treatment!J497","v":"2018-10-30T07:19:00"},null,{"$f":"classification!G497","v":3},{"$f":"classification!H497","v":"PeopleOperations"}]
[{"$f":"treatment!A498","v":"https://www.uber.com/careers/list/39524/"},"39524/",{"$f":"treatment!K498","v":"00:00:00"},{"$f":"treatment!L498","v":"00:00:00"},null,"39524",{"$f":"treatment!H498","v":"2018-08-13T13:59:00"},{"$f":"treatment!I498","v":"2018-09-18T11:21:00"},{"$f":"treatment!J498","v":"2018-10-01T14:50:00"},null,{"$f":"classification!G498","v":3},{"$f":"classification!H498","v":"FinanceAccounting"}]
[{"$f":"treatment!A499","v":"https://www.uber.com/careers/list/39493/"},"39493/",{"$f":"treatment!K499","v":"00:00:00"},{"$f":"treatment!L499","v":"00:00:00"},null,"39493",{"$f":"treatment!H499","v":"2018-08-13T13:59:00"},{"$f":"treatment!I499","v":"2018-11-02T14:15:00"},{"$f":"treatment!J499","v":"2018-11-15T14:48:00"},null,{"$f":"classification!G499","v":3},{"$f":"classification!H499","v":"GlobalCommunityOperations"}]
[{"$f":"treatment!A500","v":"https://www.uber.com/careers/list/39461/"},"39461/",{"$f":"treatment!K500","v":"00:00:00"},{"$f":"treatment!L500","v":"00:00:00"},null,"39461",{"$f":"treatment!H500","v":"2018-08-13T13:59:00"},{"$f":"treatment!I500","v":"2018-08-21T09:00:00"},{"$f":"treatment!J500","v":"2018-08-29T16:02:00"},null,{"$f":"classification!G500","v":1},{"$f":"classification!H500","v":"FinanceAccounting"}]
[{"$f":"treatment!A501","v":"https://www.uber.com/careers/list/39459/"},"39459/",{"$f":"treatment!K501","v":"00:00:00"},{"$f":"treatment!L501","v":"00:00:00"},null,"39459",{"$f":"treatment!H501","v":"2018-08-13T13:59:00"},{"$f":"treatment!I501","v":"2018-11-22T07:36:00"},{"$f":"treatment!J501","v":"2018-12-10T08:23:00"},null,{"$f":"classification!G501","v":3},{"$f":"classification!H501","v":"Product"}]
[{"$f":"treatment!A502","v":"https://www.uber.com/careers/list/39415/"},"39415/",{"$f":"treatment!K502","v":"00:00:00"},{"$f":"treatment!L502","v":"00:00:00"},null,"39415",{"$f":"treatment!H502","v":"2018-08-13T13:59:00"},{"$f":"treatment!I502","v":"2018-10-18T11:25:00"},{"$f":"treatment!J502","v":"2018-10-23T06:21:00"},null,{"$f":"classification!G502","v":3},{"$f":"classification!H502","v":"SafetySecurity"}]
[{"$f":"treatment!A503","v":"https://www.uber.com/careers/list/35756/"},"35756/",{"$f":"treatment!K503","v":"00:00:00"},{"$f":"treatment!L503","v":"00:00:00"},null,"35756",{"$f":"treatment!H503","v":"2018-08-13T13:59:00"},{"$f":"treatment!I503","v":"2018-09-08T16:43:00"},{"$f":"treatment!J503","v":"2018-10-01T14:50:00"},null,{"$f":"classification!G503","v":1},{"$f":"classification!H503","v":"Engineering"}]
[{"$f":"treatment!A504","v":"https://www.uber.com/careers/list/36730/"},{"$f":"RIGHT(A504, LEN(A504)-34)","v":"36730/"},{"$f":"treatment!K504","v":"00:00:00"},{"$f":"treatment!L504","v":"00:00:00"},null,"36730",{"$f":"treatment!H504","v":"2018-08-13T13:59:00"},{"$f":"treatment!I504","v":"2018-11-19T18:40:00"},{"$f":"treatment!J504","v":"2018-12-04T07:08:00"},null,{"$f":"classification!G504","v":1},{"$f":"classification!H504","v":"Engineering"}]
[{"$f":"treatment!A505","v":"https://www.uber.com/careers/list/39373/"},"39373/",{"$f":"treatment!K505","v":"00:00:00"},{"$f":"treatment!L505","v":"00:00:00"},null,"39373",{"$f":"treatment!H505","v":"2018-08-13T13:59:00"},{"$f":"treatment!I505","v":"2018-10-03T12:22:00"},{"$f":"treatment!J505","v":"2018-10-08T12:55:00"},null,{"$f":"classification!G505","v":1},{"$f":"classification!H505","v":"PeopleOperations"}]
[{"$f":"treatment!A506","v":"https://www.uber.com/careers/list/39382/"},"39382/",{"$f":"treatment!K506","v":"00:00:00"},{"$f":"treatment!L506","v":"00:00:00"},null,"39382",{"$f":"treatment!H506","v":"2018-08-13T13:59:00"},{"$f":"treatment!I506","v":"2018-09-03T18:58:00"},{"$f":"treatment!J506","v":"2018-09-05T15:52:00"},null,{"$f":"classification!G506","v":3},{"$f":"classification!H506","v":"FinanceAccounting"}]
[{"$f":"treatment!A507","v":"https://www.uber.com/careers/list/39369/"},"39369/",{"$f":"treatment!K507","v":"00:00:00"},{"$f":"treatment!L507","v":"00:00:00"},null,"39369",{"$f":"treatment!H507","v":"2018-08-13T13:59:00"},{"$f":"treatment!I507","v":"2018-11-07T17:30:00"},{"$f":"treatment!J507","v":"2018-11-15T14:48:00"},null,{"$f":"classification!G507","v":3},{"$f":"classification!H507","v":"OperationsLaunch"}]
[{"$f":"treatment!A508","v":"https://www.uber.com/careers/list/39331/"},"39331/",{"$f":"treatment!K508","v":"00:00:00"},{"$f":"treatment!L508","v":"00:00:00"},null,"39331",{"$f":"treatment!H508","v":"2018-08-13T13:59:00"},{"$f":"treatment!I508","v":"2018-10-15T08:45:00"},{"$f":"treatment!J508","v":"2018-10-23T06:21:00"},null,{"$f":"classification!G508","v":1},{"$f":"classification!H508","v":"Engineering"}]
[{"$f":"treatment!A509","v":"https://www.uber.com/careers/list/39305/"},"39305/",{"$f":"treatment!K509","v":"00:00:00"},{"$f":"treatment!L509","v":"00:00:00"},null,"39305",{"$f":"treatment!H509","v":"2018-08-13T13:59:00"},{"$f":"treatment!I509","v":"2018-08-30T21:38:00"},{"$f":"treatment!J509","v":"2018-09-05T15:52:00"},null,{"$f":"classification!G509","v":1},{"$f":"classification!H509","v":"Marketing"}]
[{"$f":"treatment!A510","v":"https://www.uber.com/careers/list/32523/"},"32523/",{"$f":"treatment!K510","v":"00:00:00"},{"$f":"treatment!L510","v":"00:00:00"},null,"32523",{"$f":"treatment!H510","v":"2018-08-13T13:59:00"},{"$f":"treatment!I510","v":"2019-02-02T07:40:00"},{"$f":"treatment!J510","v":"00:00:00"},null,{"$f":"classification!G510","v":3},{"$f":"classification!H510","v":"Engineering"}]
[{"$f":"treatment!A511","v":"https://www.uber.com/careers/list/38791/"},"38791/",{"$f":"treatment!K511","v":"00:00:00"},{"$f":"treatment!L511","v":"00:00:00"},null,"38791",{"$f":"treatment!H511","v":"2018-08-13T13:59:00"},{"$f":"treatment!I511","v":"00:00:00"},{"$f":"treatment!J511","v":"00:00:00"},null,{"$f":"classification!G511","v":3},{"$f":"classification!H511","v":"AdvancedTechnologiesGroup"}]
[{"$f":"treatment!A512","v":"https://www.uber.com/careers/list/39294/"},"39294/",{"$f":"treatment!K512","v":"00:00:00"},{"$f":"treatment!L512","v":"00:00:00"},null,"39294",{"$f":"treatment!H512","v":"2018-08-13T13:59:00"},{"$f":"treatment!I512","v":"2018-09-05T19:29:00"},{"$f":"treatment!J512","v":"2018-10-01T14:50:00"},null,{"$f":"classification!G512","v":3},{"$f":"classification!H512","v":"FinanceAccounting"}]
[{"$f":"treatment!A513","v":"https://www.uber.com/careers/list/39292/"},"39292/",{"$f":"treatment!K513","v":"00:00:00"},{"$f":"treatment!L513","v":"00:00:00"},null,"39292",{"$f":"treatment!H513","v":"2018-08-13T13:59:00"},{"$f":"treatment!I513","v":"2018-10-03T12:22:00"},{"$f":"treatment!J513","v":"2018-10-08T12:55:00"},null,{"$f":"classification!G513","v":1},{"$f":"classification!H513","v":"SafetySecurity"}]
[{"$f":"treatment!A514","v":"https://www.uber.com/careers/list/39282/"},"39282/",{"$f":"treatment!K514","v":"00:00:00"},{"$f":"treatment!L514","v":"00:00:00"},null,"39282",{"$f":"treatment!H514","v":"2018-08-13T13:59:00"},{"$f":"treatment!I514","v":"2018-08-14T06:00:00"},{"$f":"treatment!J514","v":"2018-08-22T14:44:00"},null,{"$f":"classification!G514","v":3},{"$f":"classification!H514","v":"OperationsLaunch"}]
[{"$f":"treatment!A515","v":"https://www.uber.com/careers/list/39072/"},"39072/",{"$f":"treatment!K515","v":"00:00:00"},{"$f":"treatment!L515","v":"00:00:00"},null,"39072",{"$f":"treatment!H515","v":"2018-08-13T13:59:00"},{"$f":"treatment!I515","v":"00:00:00"},{"$f":"treatment!J515","v":"00:00:00"},null,{"$f":"classification!G515","v":3},{"$f":"classification!H515","v":"AdvancedTechnologiesGroup"}]
[{"$f":"treatment!A516","v":"https://www.uber.com/careers/list/39138/"},"39138/",{"$f":"treatment!K516","v":"00:00:00"},{"$f":"treatment!L516","v":"00:00:00"},null,"39138",{"$f":"treatment!H516","v":"2018-08-13T13:59:00"},{"$f":"treatment!I516","v":"2019-04-12T19:40:00"},{"$f":"treatment!J516","v":"00:00:00"},null,{"$f":"classification!G516","v":1},{"$f":"classification!H516","v":"Legal"}]
[{"$f":"treatment!A517","v":"https://www.uber.com/careers/list/39182/"},"39182/",{"$f":"treatment!K517","v":"00:00:00"},{"$f":"treatment!L517","v":"00:00:00"},null,"39182",{"$f":"treatment!H517","v":"2018-08-13T13:59:00"},{"$f":"treatment!I517","v":"2018-11-30T15:50:00"},{"$f":"treatment!J517","v":"2018-12-10T08:23:00"},null,{"$f":"classification!G517","v":1},{"$f":"classification!H517","v":"FinanceAccounting"}]
[{"$f":"treatment!A518","v":"https://www.uber.com/careers/list/39142/"},"39142/",{"$f":"treatment!K518","v":"00:00:00"},{"$f":"treatment!L518","v":"00:00:00"},null,"39142",{"$f":"treatment!H518","v":"2018-08-13T13:59:00"},{"$f":"treatment!I518","v":"2019-01-02T13:20:00"},{"$f":"treatment!J518","v":"00:00:00"},null,{"$f":"classification!G518","v":1},{"$f":"classification!H518","v":"BusinessSales"}]
[{"$f":"treatment!A519","v":"https://www.uber.com/careers/list/39165/"},"39165/",{"$f":"treatment!K519","v":"00:00:00"},{"$f":"treatment!L519","v":"00:00:00"},null,"39165",{"$f":"treatment!H519","v":"2018-08-13T13:59:00"},{"$f":"treatment!I519","v":"2018-09-05T19:29:00"},{"$f":"treatment!J519","v":"2018-10-01T14:50:00"},null,{"$f":"classification!G519","v":1},{"$f":"classification!H519","v":"PeopleOperations"}]
[{"$f":"treatment!A520","v":"https://www.uber.com/careers/list/39052/"},"39052/",{"$f":"treatment!K520","v":"00:00:00"},{"$f":"treatment!L520","v":"00:00:00"},null,"39052",{"$f":"treatment!H520","v":"2018-08-13T13:59:00"},{"$f":"treatment!I520","v":"2019-01-18T09:05:00"},{"$f":"treatment!J520","v":"00:00:00"},null,{"$f":"classification!G520","v":3},{"$f":"classification!H520","v":"Engineering"}]
[{"$f":"treatment!A521","v":"https://www.uber.com/careers/list/38936/"},"38936/",{"$f":"treatment!K521","v":"00:00:00"},{"$f":"treatment!L521","v":"00:00:00"},null,"38936",{"$f":"treatment!H521","v":"2018-08-13T13:59:00"},{"$f":"treatment!I521","v":"2018-11-13T20:52:00"},{"$f":"treatment!J521","v":"00:00:00"},null,{"$f":"classification!G521","v":3},{"$f":"classification!H521","v":"OperationsLaunch"}]
[{"$f":"treatment!A522","v":"https://www.uber.com/careers/list/39096/"},"39096/",{"$f":"treatment!K522","v":"00:00:00"},{"$f":"treatment!L522","v":"00:00:00"},null,"39096",{"$f":"treatment!H522","v":"2018-08-13T13:59:00"},{"$f":"treatment!I522","v":"2018-09-04T16:43:00"},{"$f":"treatment!J522","v":"2018-10-01T14:50:00"},null,{"$f":"classification!G522","v":1},{"$f":"classification!H522","v":"BusinessSales"}]
[{"$f":"treatment!A523","v":"https://www.uber.com/careers/list/39097/"},"39097/",{"$f":"treatment!K523","v":"00:00:00"},{"$f":"treatment!L523","v":"00:00:00"},null,"39097",{"$f":"treatment!H523","v":"2018-08-13T13:59:00"},{"$f":"treatment!I523","v":"2018-09-19T22:00:00"},{"$f":"treatment!J523","v":"2018-10-01T14:50:00"},null,{"$f":"classification!G523","v":1},{"$f":"classification!H523","v":"BusinessSales"}]
[{"$f":"treatment!A524","v":"https://www.uber.com/careers/list/39095/"},"39095/",{"$f":"treatment!K524","v":"2018-08-29T17:00:00"},{"$f":"treatment!L524","v":"00:00:00"},null,"39095",{"$f":"treatment!H524","v":"2018-08-13T13:59:00"},{"$f":"treatment!I524","v":"2018-12-20T17:15:00"},{"$f":"treatment!J524","v":"2018-09-05T15:52:00"},"2018-08-28T16:15:00",{"$f":"classification!G524","v":1},{"$f":"classification!H524","v":"BusinessSales"}]
[{"$f":"treatment!A525","v":"https://www.uber.com/careers/list/38662/"},"38662/",{"$f":"treatment!K525","v":"00:00:00"},{"$f":"treatment!L525","v":"00:00:00"},null,"38662",{"$f":"treatment!H525","v":"2018-08-13T13:59:00"},{"$f":"treatment!I525","v":"2018-10-19T08:50:00"},{"$f":"treatment!J525","v":"2018-10-30T07:19:00"},null,{"$f":"classification!G525","v":3},{"$f":"classification!H525","v":"Design"}]
[{"$f":"treatment!A526","v":"https://www.uber.com/careers/list/39050/"},"39050/",{"$f":"treatment!K526","v":"00:00:00"},{"$f":"treatment!L526","v":"00:00:00"},null,"39050",{"$f":"treatment!H526","v":"2018-08-13T13:59:00"},{"$f":"treatment!I526","v":"2019-01-18T09:05:00"},{"$f":"treatment!J526","v":"00:00:00"},null,{"$f":"classification!G526","v":3},{"$f":"classification!H526","v":"Engineering"}]
[{"$f":"treatment!A527","v":"https://www.uber.com/careers/list/39094/"},"39094/",{"$f":"treatment!K527","v":"2018-10-26T15:35:00"},{"$f":"treatment!L527","v":"00:00:00"},null,"39094",{"$f":"treatment!H527","v":"2018-08-13T13:59:00"},{"$f":"treatment!I527","v":"2019-02-13T19:10:00"},{"$f":"treatment!J527","v":"2018-11-07T11:33:00"},"2018-10-25T11:30:00",{"$f":"classification!G527","v":3},{"$f":"classification!H527","v":"Engineering"}]
[{"$f":"treatment!A528","v":"https://www.uber.com/careers/list/39063/"},"39063/",{"$f":"treatment!K528","v":"00:00:00"},{"$f":"treatment!L528","v":"00:00:00"},null,"39063",{"$f":"treatment!H528","v":"2018-08-13T13:59:00"},{"$f":"treatment!I528","v":"2018-12-08T11:30:00"},{"$f":"treatment!J528","v":"00:00:00"},null,{"$f":"classification!G528","v":3},{"$f":"classification!H528","v":"Product"}]
[{"$f":"treatment!A529","v":"https://www.uber.com/careers/list/39035/"},"39035/",{"$f":"treatment!K529","v":"00:00:00"},{"$f":"treatment!L529","v":"00:00:00"},null,{"$f":"LEFT(B529, LEN(B529)-1)","v":"39035"},{"$f":"treatment!H529","v":"2018-08-13T13:59:00"},{"$f":"treatment!I529","v":"2018-09-06T21:33:00"},{"$f":"treatment!J529","v":"2018-10-01T14:50:00"},null,{"$f":"classification!G529","v":3},{"$f":"classification!H529","v":"GlobalCommunityOperations"}]
[{"$f":"treatment!A530","v":"https://www.uber.com/careers/list/39062/"},"39062/",{"$f":"treatment!K530","v":"00:00:00"},{"$f":"treatment!L530","v":"00:00:00"},null,"39062",{"$f":"treatment!H530","v":"2018-08-13T13:59:00"},{"$f":"treatment!I530","v":"2019-03-07T13:45:00"},{"$f":"treatment!J530","v":"00:00:00"},null,{"$f":"classification!G530","v":3},{"$f":"classification!H530","v":"Product"}]
[{"$f":"treatment!A531","v":"https://www.uber.com/careers/list/39034/"},"39034/",{"$f":"treatment!K531","v":"00:00:00"},{"$f":"treatment!L531","v":"00:00:00"},null,"39034",{"$f":"treatment!H531","v":"2018-08-13T13:59:00"},{"$f":"treatment!I531","v":"2018-10-18T11:25:00"},{"$f":"treatment!J531","v":"2018-10-23T06:21:00"},null,{"$f":"classification!G531","v":3},{"$f":"classification!H531","v":"Engineering"}]
[{"$f":"treatment!A532","v":"https://www.uber.com/careers/list/38505/"},"38505/",{"$f":"treatment!K532","v":"00:00:00"},{"$f":"treatment!L532","v":"00:00:00"},null,"38505",{"$f":"treatment!H532","v":"2018-08-13T13:59:00"},{"$f":"treatment!I532","v":"2018-09-12T08:22:00"},{"$f":"treatment!J532","v":"2018-09-23T12:29:00"},null,{"$f":"classification!G532","v":3},{"$f":"classification!H532","v":"OperationsLaunch"}]
[{"$f":"treatment!A533","v":"https://www.uber.com/careers/list/39019/"},"39019/",{"$f":"treatment!K533","v":"00:00:00"},{"$f":"treatment!L533","v":"00:00:00"},null,"39019",{"$f":"treatment!H533","v":"2018-08-13T13:59:00"},{"$f":"treatment!I533","v":"2018-08-23T17:00:00"},{"$f":"treatment!J533","v":"2018-08-29T16:02:00"},null,{"$f":"classification!G533","v":3},{"$f":"classification!H533","v":"FinanceAccounting"}]
[{"$f":"treatment!A534","v":"https://www.uber.com/careers/list/39069/"},"39069/",{"$f":"treatment!K534","v":"00:00:00"},{"$f":"treatment!L534","v":"00:00:00"},null,"39069",{"$f":"treatment!H534","v":"2018-08-13T13:59:00"},{"$f":"treatment!I534","v":"2018-09-21T10:42:00"},{"$f":"treatment!J534","v":"2018-10-01T14:50:00"},null,{"$f":"classification!G534","v":3},{"$f":"classification!H534","v":"SafetySecurity"}]
[{"$f":"treatment!A535","v":"https://www.uber.com/careers/list/39075/"},"39075/",{"$f":"treatment!K535","v":"00:00:00"},{"$f":"treatment!L535","v":"00:00:00"},null,"39075",{"$f":"treatment!H535","v":"2018-08-13T13:59:00"},{"$f":"treatment!I535","v":"2018-10-26T15:35:00"},{"$f":"treatment!J535","v":"2018-11-07T11:33:00"},null,{"$f":"classification!G535","v":1},{"$f":"classification!H535","v":"BusinessSales"}]
[{"$f":"treatment!A536","v":"https://www.uber.com/careers/list/39037/"},"39037/",{"$f":"treatment!K536","v":"2018-08-23T19:00:00"},{"$f":"treatment!L536","v":"00:00:00"},null,"39037",{"$f":"treatment!H536","v":"2018-08-13T13:59:00"},{"$f":"treatment!I536","v":"2018-09-28T12:00:00"},{"$f":"treatment!J536","v":"2018-08-29T16:02:00"},"2018-08-22T20:45:00",{"$f":"classification!G536","v":3},{"$f":"classification!H536","v":"GlobalCommunityOperations"}]
[{"$f":"treatment!A537","v":"https://www.uber.com/careers/list/39048/"},"39048/",{"$f":"treatment!K537","v":"00:00:00"},{"$f":"treatment!L537","v":"00:00:00"},null,"39048",{"$f":"treatment!H537","v":"2018-08-13T13:59:00"},{"$f":"treatment!I537","v":"2018-11-09T11:50:00"},{"$f":"treatment!J537","v":"2018-12-04T07:08:00"},null,{"$f":"classification!G537","v":3},{"$f":"classification!H537","v":"OperationsLaunch"}]
[{"$f":"treatment!A538","v":"https://www.uber.com/careers/list/39003/"},"39003/",{"$f":"treatment!K538","v":"00:00:00"},{"$f":"treatment!L538","v":"00:00:00"},null,"39003",{"$f":"treatment!H538","v":"2018-08-13T13:59:00"},{"$f":"treatment!I538","v":"2018-09-13T07:35:00"},{"$f":"treatment!J538","v":"2018-09-23T12:29:00"},null,{"$f":"classification!G538","v":1},{"$f":"classification!H538","v":"BusinessSales"}]
[{"$f":"treatment!A539","v":"https://www.uber.com/careers/list/38991/"},"38991/",{"$f":"treatment!K539","v":"00:00:00"},{"$f":"treatment!L539","v":"00:00:00"},null,"38991",{"$f":"treatment!H539","v":"2018-08-13T13:59:00"},{"$f":"treatment!I539","v":"2018-10-30T11:50:00"},{"$f":"treatment!J539","v":"2018-11-07T11:33:00"},null,{"$f":"classification!G539","v":3},{"$f":"classification!H539","v":"FinanceAccounting"}]
[{"$f":"treatment!A540","v":"https://www.uber.com/careers/list/38955/"},"38955/",{"$f":"treatment!K540","v":"00:00:00"},{"$f":"treatment!L540","v":"00:00:00"},null,"38955",{"$f":"treatment!H540","v":"2018-08-13T13:59:00"},{"$f":"treatment!I540","v":"2018-10-02T10:15:00"},{"$f":"treatment!J540","v":"2018-10-08T12:55:00"},null,{"$f":"classification!G540","v":3},{"$f":"classification!H540","v":"FinanceAccounting"}]
[{"$f":"treatment!A541","v":"https://www.uber.com/careers/list/38959/"},"38959/",{"$f":"treatment!K541","v":"00:00:00"},{"$f":"treatment!L541","v":"00:00:00"},null,"38959",{"$f":"treatment!H541","v":"2018-08-13T13:59:00"},{"$f":"treatment!I541","v":"2018-10-26T15:35:00"},{"$f":"treatment!J541","v":"2018-11-07T11:33:00"},null,{"$f":"classification!G541","v":1},{"$f":"classification!H541","v":"BusinessSales"}]
[{"$f":"treatment!A542","v":"https://www.uber.com/careers/list/38957/"},"38957/",{"$f":"treatment!K542","v":"00:00:00"},{"$f":"treatment!L542","v":"00:00:00"},null,"38957",{"$f":"treatment!H542","v":"2018-08-13T13:59:00"},{"$f":"treatment!I542","v":"2019-02-12T10:55:00"},{"$f":"treatment!J542","v":"00:00:00"},null,{"$f":"classification!G542","v":3},{"$f":"classification!H542","v":"FinanceAccounting"}]
[{"$f":"treatment!A543","v":"https://www.uber.com/careers/list/38956/"},"38956/",{"$f":"treatment!K543","v":"00:00:00"},{"$f":"treatment!L543","v":"00:00:00"},null,"38956",{"$f":"treatment!H543","v":"2018-08-13T13:59:00"},{"$f":"treatment!I543","v":"2019-01-17T08:50:00"},{"$f":"treatment!J543","v":"00:00:00"},null,{"$f":"classification!G543","v":1},{"$f":"classification!H543","v":"BusinessSales"}]
[{"$f":"treatment!A544","v":"https://www.uber.com/careers/list/38935/"},"38935/",{"$f":"treatment!K544","v":"00:00:00"},{"$f":"treatment!L544","v":"00:00:00"},null,"38935",{"$f":"treatment!H544","v":"2018-08-13T13:59:00"},{"$f":"treatment!I544","v":"2018-12-03T09:10:00"},{"$f":"treatment!J544","v":"2018-12-10T08:23:00"},null,{"$f":"classification!G544","v":3},{"$f":"classification!H544","v":"OperationsLaunch"}]
[{"$f":"treatment!A545","v":"https://www.uber.com/careers/list/38927/"},"38927/",{"$f":"treatment!K545","v":"00:00:00"},{"$f":"treatment!L545","v":"00:00:00"},null,"38927",{"$f":"treatment!H545","v":"2018-08-13T13:59:00"},{"$f":"treatment!I545","v":"2018-10-10T08:30:00"},{"$f":"treatment!J545","v":"2018-10-16T07:51:00"},null,{"$f":"classification!G545","v":3},{"$f":"classification!H545","v":"FinanceAccounting"}]
[{"$f":"treatment!A546","v":"https://www.uber.com/careers/list/38915/"},"38915/",{"$f":"treatment!K546","v":"00:00:00"},{"$f":"treatment!L546","v":"00:00:00"},null,"38915",{"$f":"treatment!H546","v":"2018-08-13T13:59:00"},{"$f":"treatment!I546","v":"2019-02-15T13:15:00"},{"$f":"treatment!J546","v":"00:00:00"},null,{"$f":"classification!G546","v":3},{"$f":"classification!H546","v":"GlobalCommunityOperations"}]
[{"$f":"treatment!A547","v":"https://www.uber.com/careers/list/38877/"},"38877/",{"$f":"treatment!K547","v":"2018-08-28T16:15:00"},{"$f":"treatment!L547","v":"2018-08-28T15:47:00"},null,"38877",{"$f":"treatment!H547","v":"2018-08-13T13:59:00"},{"$f":"treatment!I547","v":"2018-12-14T06:45:00"},{"$f":"treatment!J547","v":"2018-09-05T15:52:00"},"2018-08-27T16:00:00",{"$f":"classification!G547","v":3},{"$f":"classification!H547","v":"SafetySecurity"}]
[{"$f":"treatment!A548","v":"https://www.uber.com/careers/list/38875/"},"38875/",{"$f":"treatment!K548","v":"2018-08-23T19:00:00"},{"$f":"treatment!L548","v":"00:00:00"},null,"38875",{"$f":"treatment!H548","v":"2018-08-13T13:59:00"},{"$f":"treatment!I548","v":"2018-09-27T09:35:00"},{"$f":"treatment!J548","v":"2018-08-29T16:02:00"},"2018-08-22T20:45:00",{"$f":"classification!G548","v":3},{"$f":"classification!H548","v":"GlobalCommunityOperations"}]
[{"$f":"treatment!A549","v":"https://www.uber.com/careers/list/38851/"},"38851/",{"$f":"treatment!K549","v":"00:00:00"},{"$f":"treatment!L549","v":"00:00:00"},null,"38851",{"$f":"treatment!H549","v":"2018-08-13T13:59:00"},{"$f":"treatment!I549","v":"2018-08-24T20:00:00"},{"$f":"treatment!J549","v":"2018-08-29T16:02:00"},null,{"$f":"classification!G549","v":1},{"$f":"classification!H549","v":"Marketing"}]
[{"$f":"treatment!A550","v":"https://www.uber.com/careers/list/38842/"},"38842/",{"$f":"treatment!K550","v":"00:00:00"},{"$f":"treatment!L550","v":"2018-11-01T11:55:00"},null,"38842",{"$f":"treatment!H550","v":"2018-08-13T13:59:00"},{"$f":"treatment!I550","v":"2018-11-12T19:45:00"},{"$f":"treatment!J550","v":"2018-11-07T11:33:00"},null,{"$f":"classification!G550","v":3},{"$f":"classification!H550","v":"GlobalCommunityOperations"}]
[{"$f":"treatment!A551","v":"https://www.uber.com/careers/list/38841/"},"38841/",{"$f":"treatment!K551","v":"00:00:00"},{"$f":"treatment!L551","v":"00:00:00"},null,"38841",{"$f":"treatment!H551","v":"2018-08-13T13:59:00"},{"$f":"treatment!I551","v":"2018-11-19T18:40:00"},{"$f":"treatment!J551","v":"2018-12-04T07:08:00"},null,{"$f":"classification!G551","v":3},{"$f":"classification!H551","v":"PeopleOperations"}]
[{"$f":"treatment!A552","v":"https://www.uber.com/careers/list/38807/"},"38807/",{"$f":"treatment!K552","v":"00:00:00"},{"$f":"treatment!L552","v":"00:00:00"},null,"38807",{"$f":"treatment!H552","v":"2018-08-13T13:59:00"},{"$f":"treatment!I552","v":"2018-09-04T16:43:00"},{"$f":"treatment!J552","v":"2018-10-01T14:50:00"},null,{"$f":"classification!G552","v":3},{"$f":"classification!H552","v":"FinanceAccounting"}]
[{"$f":"treatment!A553","v":"https://www.uber.com/careers/list/38804/"},"38804/",{"$f":"treatment!K553","v":"00:00:00"},{"$f":"treatment!L553","v":"00:00:00"},null,"38804",{"$f":"treatment!H553","v":"2018-08-13T13:59:00"},{"$f":"treatment!I553","v":"2019-05-01T22:25:00"},{"$f":"treatment!J553","v":"00:00:00"},null,{"$f":"classification!G553","v":3},{"$f":"classification!H553","v":"Engineering"}]
[{"$f":"treatment!A554","v":"https://www.uber.com/careers/list/38781/"},"38781/",{"$f":"treatment!K554","v":"00:00:00"},{"$f":"treatment!L554","v":"00:00:00"},null,"38781",{"$f":"treatment!H554","v":"2018-08-13T13:59:00"},{"$f":"treatment!I554","v":"2019-02-12T10:55:00"},{"$f":"treatment!J554","v":"00:00:00"},null,{"$f":"classification!G554","v":1},{"$f":"classification!H554","v":"Product"}]
[{"$f":"treatment!A555","v":"https://www.uber.com/careers/list/38780/"},"38780/",{"$f":"treatment!K555","v":"00:00:00"},{"$f":"treatment!L555","v":"00:00:00"},null,"38780",{"$f":"treatment!H555","v":"2018-08-13T13:59:00"},{"$f":"treatment!I555","v":"2018-08-27T15:30:00"},{"$f":"treatment!J555","v":"2018-09-05T15:52:00"},null,{"$f":"classification!G555","v":1},{"$f":"classification!H555","v":"PeopleOperations"}]
[{"$f":"treatment!A556","v":"https://www.uber.com/careers/list/38774/"},"38774/",{"$f":"treatment!K556","v":"00:00:00"},{"$f":"treatment!L556","v":"00:00:00"},null,"38774",{"$f":"treatment!H556","v":"2018-08-13T13:59:00"},{"$f":"treatment!I556","v":"2018-09-06T21:33:00"},{"$f":"treatment!J556","v":"2018-10-01T14:50:00"},null,{"$f":"classification!G556","v":1},{"$f":"classification!H556","v":"GlobalCommunityOperations"}]
[{"$f":"treatment!A557","v":"https://www.uber.com/careers/list/38769/"},"38769/",{"$f":"treatment!K557","v":"00:00:00"},{"$f":"treatment!L557","v":"00:00:00"},null,"38769",{"$f":"treatment!H557","v":"2018-08-13T13:59:00"},{"$f":"treatment!I557","v":"2018-10-31T11:20:00"},{"$f":"treatment!J557","v":"2018-11-07T11:33:00"},null,{"$f":"classification!G557","v":3},{"$f":"classification!H557","v":"FinanceAccounting"}]
[{"$f":"treatment!A558","v":"https://www.uber.com/careers/list/38757/"},"38757/",{"$f":"treatment!K558","v":"00:00:00"},{"$f":"treatment!L558","v":"00:00:00"},null,"38757",{"$f":"treatment!H558","v":"2018-08-13T13:59:00"},{"$f":"treatment!I558","v":"2018-10-26T15:35:00"},{"$f":"treatment!J558","v":"2018-11-07T11:33:00"},null,{"$f":"classification!G558","v":3},{"$f":"classification!H558","v":"Engineering"}]
[{"$f":"treatment!A559","v":"https://www.uber.com/careers/list/38751/"},"38751/",{"$f":"treatment!K559","v":"00:00:00"},{"$f":"treatment!L559","v":"00:00:00"},null,"38751",{"$f":"treatment!H559","v":"2018-08-13T13:59:00"},{"$f":"treatment!I559","v":"2018-09-27T09:35:00"},{"$f":"treatment!J559","v":"2018-10-01T14:50:00"},null,{"$f":"classification!G559","v":3},{"$f":"classification!H559","v":"Engineering"}]
[{"$f":"treatment!A560","v":"https://www.uber.com/careers/list/38744/"},"38744/",{"$f":"treatment!K560","v":"00:00:00"},{"$f":"treatment!L560","v":"00:00:00"},null,"38744",{"$f":"treatment!H560","v":"2018-08-13T13:59:00"},{"$f":"treatment!I560","v":"2019-03-07T13:45:00"},{"$f":"treatment!J560","v":"00:00:00"},null,{"$f":"classification!G560","v":3},{"$f":"classification!H560","v":"Engineering"}]
[{"$f":"treatment!A561","v":"https://www.uber.com/careers/list/38691/"},"38691/",{"$f":"treatment!K561","v":"00:00:00"},{"$f":"treatment!L561","v":"00:00:00"},null,"38691",{"$f":"treatment!H561","v":"2018-08-13T13:59:00"},{"$f":"treatment!I561","v":"2018-09-18T11:21:00"},{"$f":"treatment!J561","v":"2018-10-01T14:50:00"},null,{"$f":"classification!G561","v":3},{"$f":"classification!H561","v":"FinanceAccounting"}]
[{"$f":"treatment!A562","v":"https://www.uber.com/careers/list/38689/"},"38689/",{"$f":"treatment!K562","v":"00:00:00"},{"$f":"treatment!L562","v":"00:00:00"},null,"38689",{"$f":"treatment!H562","v":"2018-08-13T13:59:00"},{"$f":"treatment!I562","v":"2018-10-29T08:30:00"},{"$f":"treatment!J562","v":"2018-11-07T11:33:00"},null,{"$f":"classification!G562","v":3},{"$f":"classification!H562","v":"FinanceAccounting"}]
[{"$f":"treatment!A563","v":"https://www.uber.com/careers/list/38685/"},"38685/",{"$f":"treatment!K563","v":"00:00:00"},{"$f":"treatment!L563","v":"00:00:00"},null,"38685",{"$f":"treatment!H563","v":"2018-08-13T13:59:00"},{"$f":"treatment!I563","v":"2018-08-15T08:00:00"},{"$f":"treatment!J563","v":"2018-08-22T14:44:00"},null,{"$f":"classification!G563","v":3},{"$f":"classification!H563","v":"Design"}]
[{"$f":"treatment!A564","v":"https://www.uber.com/careers/list/38679/"},"38679/",{"$f":"treatment!K564","v":"00:00:00"},{"$f":"treatment!L564","v":"00:00:00"},null,"38679",{"$f":"treatment!H564","v":"2018-08-13T13:59:00"},{"$f":"treatment!I564","v":"2018-09-14T20:34:00"},{"$f":"treatment!J564","v":"2018-09-23T12:29:00"},null,{"$f":"classification!G564","v":3},{"$f":"classification!H564","v":"GlobalCommunityOperations"}]
[{"$f":"treatment!A565","v":"https://www.uber.com/careers/list/38661/"},"38661/",{"$f":"treatment!K565","v":"00:00:00"},{"$f":"treatment!L565","v":"00:00:00"},null,"38661",{"$f":"treatment!H565","v":"2018-08-13T13:59:00"},{"$f":"treatment!I565","v":"2018-12-15T08:50:00"},{"$f":"treatment!J565","v":"00:00:00"},null,{"$f":"classification!G565","v":1},{"$f":"classification!H565","v":"Product"}]
[{"$f":"treatment!A566","v":"https://www.uber.com/careers/list/38657/"},"38657/",{"$f":"treatment!K566","v":"00:00:00"},{"$f":"treatment!L566","v":"00:00:00"},null,"38657",{"$f":"treatment!H566","v":"2018-08-13T13:59:00"},{"$f":"treatment!I566","v":"2018-08-17T07:00:00"},{"$f":"treatment!J566","v":"2018-08-22T14:44:00"},null,{"$f":"classification!G566","v":3},{"$f":"classification!H566","v":"PeopleOperations"}]
[{"$f":"treatment!A567","v":"https://www.uber.com/careers/list/38649/"},"38649/",{"$f":"treatment!K567","v":"00:00:00"},{"$f":"treatment!L567","v":"00:00:00"},null,"38649",{"$f":"treatment!H567","v":"2018-08-13T13:59:00"},{"$f":"treatment!I567","v":"2018-08-18T08:00:00"},{"$f":"treatment!J567","v":"2018-08-22T14:44:00"},null,{"$f":"classification!G567","v":3},{"$f":"classification!H567","v":"FinanceAccounting"}]
[{"$f":"treatment!A568","v":"https://www.uber.com/careers/list/38642/"},{"$f":"RIGHT(A568, LEN(A568)-34)","v":"38642/"},{"$f":"treatment!K568","v":"2018-09-25T17:00:00"},{"$f":"treatment!L568","v":"00:00:00"},null,"38642",{"$f":"treatment!H568","v":"2018-08-13T13:59:00"},{"$f":"treatment!I568","v":"2019-03-29T08:55:00"},{"$f":"treatment!J568","v":"2018-10-01T14:50:00"},"2018-09-24T09:36:00",{"$f":"classification!G568","v":1},{"$f":"classification!H568","v":"BusinessSales"}]
[{"$f":"treatment!A569","v":"https://www.uber.com/careers/list/38628/"},"38628/",{"$f":"treatment!K569","v":"2018-11-30T15:50:00"},{"$f":"treatment!L569","v":"00:00:00"},null,"38628",{"$f":"treatment!H569","v":"2018-08-13T13:59:00"},{"$f":"treatment!I569","v":"2019-03-07T13:45:00"},{"$f":"treatment!J569","v":"2018-12-10T08:23:00"},"2018-11-29T16:10:00",{"$f":"classification!G569","v":3},{"$f":"classification!H569","v":"AdvancedTechnologiesGroup"}]
[{"$f":"treatment!A570","v":"https://www.uber.com/careers/list/38542/"},"38542/",{"$f":"treatment!K570","v":"00:00:00"},{"$f":"treatment!L570","v":"00:00:00"},null,{"$f":"LEFT(B570, LEN(B570)-1)","v":"38542"},{"$f":"treatment!H570","v":"2018-08-13T13:59:00"},{"$f":"treatment!I570","v":"2018-09-17T17:50:00"},{"$f":"treatment!J570","v":"2018-10-01T14:50:00"},null,{"$f":"classification!G570","v":3},{"$f":"classification!H570","v":"AdvancedTechnologiesGroup"}]
[{"$f":"treatment!A571","v":"https://www.uber.com/careers/list/38533/"},"38533/",{"$f":"treatment!K571","v":"00:00:00"},{"$f":"treatment!L571","v":"00:00:00"},null,"38533",{"$f":"treatment!H571","v":"2018-08-13T13:59:00"},{"$f":"treatment!I571","v":"2019-01-15T09:20:00"},{"$f":"treatment!J571","v":"00:00:00"},null,{"$f":"classification!G571","v":3},{"$f":"classification!H571","v":"FinanceAccounting"}]
[{"$f":"treatment!A572","v":"https://www.uber.com/careers/list/38526/"},"38526/",{"$f":"treatment!K572","v":"00:00:00"},{"$f":"treatment!L572","v":"00:00:00"},null,"38526",{"$f":"treatment!H572","v":"2018-08-13T13:59:00"},{"$f":"treatment!I572","v":"2018-08-21T09:00:00"},{"$f":"treatment!J572","v":"2018-08-29T16:02:00"},null,{"$f":"classification!G572","v":1},{"$f":"classification!H572","v":"OperationsLaunch"}]
[{"$f":"treatment!A573","v":"https://www.uber.com/careers/list/38506/"},"38506/",{"$f":"treatment!K573","v":"00:00:00"},{"$f":"treatment!L573","v":"00:00:00"},null,"38506",{"$f":"treatment!H573","v":"2018-08-13T13:59:00"},{"$f":"treatment!I573","v":"2019-02-22T15:37:00"},{"$f":"treatment!J573","v":"00:00:00"},null,{"$f":"classification!G573","v":3},{"$f":"classification!H573","v":"Product"}]
[{"$f":"treatment!A574","v":"https://www.uber.com/careers/list/38493/"},"38493/",{"$f":"treatment!K574","v":"00:00:00"},{"$f":"treatment!L574","v":"00:00:00"},null,"38493",{"$f":"treatment!H574","v":"2018-08-13T13:59:00"},{"$f":"treatment!I574","v":"2018-08-22T14:00:00"},{"$f":"treatment!J574","v":"2018-08-29T16:02:00"},null,{"$f":"classification!G574","v":1},{"$f":"classification!H574","v":"BusinessSales"}]
[{"$f":"treatment!A575","v":"https://www.uber.com/careers/list/38488/"},"38488/",{"$f":"treatment!K575","v":"00:00:00"},{"$f":"treatment!L575","v":"00:00:00"},null,"38488",{"$f":"treatment!H575","v":"2018-08-13T13:59:00"},{"$f":"treatment!I575","v":"2018-08-23T17:00:00"},{"$f":"treatment!J575","v":"2018-08-29T16:02:00"},null,{"$f":"classification!G575","v":3},{"$f":"classification!H575","v":"Legal"}]
[{"$f":"treatment!A576","v":"https://www.uber.com/careers/list/38473/"},"38473/",{"$f":"treatment!K576","v":"00:00:00"},{"$f":"treatment!L576","v":"00:00:00"},null,"38473",{"$f":"treatment!H576","v":"2018-08-13T13:59:00"},{"$f":"treatment!I576","v":"2018-10-16T13:00:00"},{"$f":"treatment!J576","v":"2018-10-23T06:21:00"},null,{"$f":"classification!G576","v":3},{"$f":"classification!H576","v":"FinanceAccounting"}]
[{"$f":"treatment!A577","v":"https://www.uber.com/careers/list/38468/"},"38468/",{"$f":"treatment!K577","v":"2018-11-10T15:40:00"},{"$f":"treatment!L577","v":"00:00:00"},null,"38468",{"$f":"treatment!H577","v":"2018-08-13T13:59:00"},{"$f":"treatment!I577","v":"2019-02-12T10:55:00"},{"$f":"treatment!J577","v":"2018-12-04T07:08:00"},"2018-11-09T11:50:00",{"$f":"classification!G577","v":1},{"$f":"classification!H577","v":"Product"}]
[{"$f":"treatment!A578","v":"https://www.uber.com/careers/list/38462/"},"38462/",{"$f":"treatment!K578","v":"00:00:00"},{"$f":"treatment!L578","v":"00:00:00"},null,"38462",{"$f":"treatment!H578","v":"2018-08-13T13:59:00"},{"$f":"treatment!I578","v":"2018-10-03T12:22:00"},{"$f":"treatment!J578","v":"2018-10-08T12:55:00"},null,{"$f":"classification!G578","v":1},{"$f":"classification!H578","v":"OperationsLaunch"}]
[{"$f":"treatment!A579","v":"https://www.uber.com/careers/list/38440/"},"38440/",{"$f":"treatment!K579","v":"00:00:00"},{"$f":"treatment!L579","v":"00:00:00"},null,"38440",{"$f":"treatment!H579","v":"2018-08-13T13:59:00"},{"$f":"treatment!I579","v":"2018-08-14T06:00:00"},{"$f":"treatment!J579","v":"2018-08-22T14:44:00"},null,{"$f":"classification!G579","v":1},{"$f":"classification!H579","v":"GlobalCommunityOperations"}]
[{"$f":"treatment!A580","v":"https://www.uber.com/careers/list/38436/"},"38436/",{"$f":"treatment!K580","v":"00:00:00"},{"$f":"treatment!L580","v":"00:00:00"},null,"38436",{"$f":"treatment!H580","v":"2018-08-13T13:59:00"},{"$f":"treatment!I580","v":"2019-01-14T09:10:00"},{"$f":"treatment!J580","v":"00:00:00"},null,{"$f":"classification!G580","v":3},{"$f":"classification!H580","v":"Legal"}]
[{"$f":"treatment!A581","v":"https://www.uber.com/careers/list/38424/"},"38424/",{"$f":"treatment!K581","v":"00:00:00"},{"$f":"treatment!L581","v":"00:00:00"},null,"38424",{"$f":"treatment!H581","v":"2018-08-13T13:59:00"},{"$f":"treatment!I581","v":"2019-03-21T13:50:00"},{"$f":"treatment!J581","v":"00:00:00"},null,{"$f":"classification!G581","v":3},{"$f":"classification!H581","v":"Legal"}]
[{"$f":"treatment!A582","v":"https://www.uber.com/careers/list/38408/"},"38408/",{"$f":"treatment!K582","v":"00:00:00"},{"$f":"treatment!L582","v":"00:00:00"},null,"38408",{"$f":"treatment!H582","v":"2018-08-13T13:59:00"},{"$f":"treatment!I582","v":"2018-08-18T08:00:00"},{"$f":"treatment!J582","v":"2018-08-22T14:44:00"},null,{"$f":"classification!G582","v":3},{"$f":"classification!H582","v":"FinanceAccounting"}]
[{"$f":"treatment!A583","v":"https://www.uber.com/careers/list/38385/"},"38385/",{"$f":"treatment!K583","v":"00:00:00"},{"$f":"treatment!L583","v":"00:00:00"},null,"38385",{"$f":"treatment!H583","v":"2018-08-13T13:59:00"},{"$f":"treatment!I583","v":"2019-02-13T19:10:00"},{"$f":"treatment!J583","v":"00:00:00"},null,{"$f":"classification!G583","v":3},{"$f":"classification!H583","v":"Product"}]
[{"$f":"treatment!A584","v":"https://www.uber.com/careers/list/38383/"},"38383/",{"$f":"treatment!K584","v":"00:00:00"},{"$f":"treatment!L584","v":"00:00:00"},null,"38383",{"$f":"treatment!H584","v":"2018-08-13T13:59:00"},{"$f":"treatment!I584","v":"2019-02-08T09:12:00"},{"$f":"treatment!J584","v":"00:00:00"},null,{"$f":"classification!G584","v":1},{"$f":"classification!H584","v":"Product"}]
[{"$f":"treatment!A585","v":"https://www.uber.com/careers/list/38379/"},"38379/",{"$f":"treatment!K585","v":"00:00:00"},{"$f":"treatment!L585","v":"00:00:00"},null,"38379",{"$f":"treatment!H585","v":"2018-08-13T13:59:00"},{"$f":"treatment!I585","v":"2018-09-10T15:52:00"},{"$f":"treatment!J585","v":"2018-09-23T12:29:00"},null,{"$f":"classification!G585","v":3},{"$f":"classification!H585","v":"Engineering"}]
[{"$f":"treatment!A586","v":"https://www.uber.com/careers/list/38374/"},"38374/",{"$f":"treatment!K586","v":"00:00:00"},{"$f":"treatment!L586","v":"00:00:00"},null,"38374",{"$f":"treatment!H586","v":"2018-08-13T13:59:00"},{"$f":"treatment!I586","v":"2018-09-04T16:43:00"},{"$f":"treatment!J586","v":"2018-10-01T14:50:00"},null,{"$f":"classification!G586","v":3},{"$f":"classification!H586","v":"Engineering"}]
[{"$f":"treatment!A587","v":"https://www.uber.com/careers/list/38369/"},"38369/",{"$f":"treatment!K587","v":"00:00:00"},{"$f":"treatment!L587","v":"00:00:00"},null,"38369",{"$f":"treatment!H587","v":"2018-08-13T13:59:00"},{"$f":"treatment!I587","v":"2018-09-19T22:00:00"},{"$f":"treatment!J587","v":"2018-10-01T14:50:00"},null,{"$f":"classification!G587","v":1},{"$f":"classification!H587","v":"OperationsLaunch"}]
[{"$f":"treatment!A588","v":"https://www.uber.com/careers/list/38351/"},"38351/",{"$f":"treatment!K588","v":"00:00:00"},{"$f":"treatment!L588","v":"2018-10-01T08:20:00"},null,"38351",{"$f":"treatment!H588","v":"2018-08-13T13:59:00"},{"$f":"treatment!I588","v":"2019-02-14T19:10:00"},{"$f":"treatment!J588","v":"2018-10-08T12:55:00"},null,{"$f":"classification!G588","v":3},{"$f":"classification!H588","v":"Engineering"}]
[{"$f":"treatment!A589","v":"https://www.uber.com/careers/list/38346/"},"38346/",{"$f":"treatment!K589","v":"00:00:00"},{"$f":"treatment!L589","v":"00:00:00"},null,"38346",{"$f":"treatment!H589","v":"2018-08-13T13:59:00"},{"$f":"treatment!I589","v":"2018-09-19T22:00:00"},{"$f":"treatment!J589","v":"2018-10-01T14:50:00"},null,{"$f":"classification!G589","v":3},{"$f":"classification!H589","v":"BusinessSales"}]
[{"$f":"treatment!A590","v":"https://www.uber.com/careers/list/38345/"},"38345/",{"$f":"treatment!K590","v":"00:00:00"},{"$f":"treatment!L590","v":"2018-08-21T09:00:00"},null,"38345",{"$f":"treatment!H590","v":"2018-08-13T13:59:00"},{"$f":"treatment!I590","v":"00:00:00"},{"$f":"treatment!J590","v":"2018-08-29T16:02:00"},null,{"$f":"classification!G590","v":3},{"$f":"classification!H590","v":"AdvancedTechnologiesGroup"}]
[{"$f":"treatment!A591","v":"https://www.uber.com/careers/list/38332/"},"38332/",{"$f":"treatment!K591","v":"00:00:00"},{"$f":"treatment!L591","v":"00:00:00"},null,"38332",{"$f":"treatment!H591","v":"2018-08-13T13:59:00"},{"$f":"treatment!I591","v":"2018-09-13T07:35:00"},{"$f":"treatment!J591","v":"2018-09-23T12:29:00"},null,{"$f":"classification!G591","v":3},{"$f":"classification!H591","v":"FinanceAccounting"}]
[{"$f":"treatment!A592","v":"https://www.uber.com/careers/list/38330/"},"38330/",{"$f":"treatment!K592","v":"2018-09-19T12:20:00"},{"$f":"treatment!L592","v":"00:00:00"},null,"38330",{"$f":"treatment!H592","v":"2018-08-13T13:59:00"},{"$f":"treatment!I592","v":"00:00:00"},{"$f":"treatment!J592","v":"2018-10-01T14:50:00"},"2018-09-18T11:30:00",{"$f":"classification!G592","v":3},{"$f":"classification!H592","v":"Engineering"}]
[{"$f":"treatment!A593","v":"https://www.uber.com/careers/list/38313/"},"38313/",{"$f":"treatment!K593","v":"00:00:00"},{"$f":"treatment!L593","v":"2018-11-12T19:45:00"},null,"38313",{"$f":"treatment!H593","v":"2018-08-13T13:59:00"},{"$f":"treatment!I593","v":"2019-01-11T17:20:00"},{"$f":"treatment!J593","v":"2018-12-04T07:08:00"},null,{"$f":"classification!G593","v":3},{"$f":"classification!H593","v":"GlobalCommunityOperations"}]
[{"$f":"treatment!A594","v":"https://www.uber.com/careers/list/38312/"},"38312/",{"$f":"treatment!K594","v":"00:00:00"},{"$f":"treatment!L594","v":"00:00:00"},null,"38312",{"$f":"treatment!H594","v":"2018-08-13T13:59:00"},{"$f":"treatment!I594","v":"2018-09-12T08:22:00"},{"$f":"treatment!J594","v":"2018-09-23T12:29:00"},null,{"$f":"classification!G594","v":3},{"$f":"classification!H594","v":"PeopleOperations"}]
[{"$f":"treatment!A595","v":"https://www.uber.com/careers/list/38304/"},"38304/",{"$f":"treatment!K595","v":"00:00:00"},{"$f":"treatment!L595","v":"00:00:00"},null,"38304",{"$f":"treatment!H595","v":"2018-08-13T13:59:00"},{"$f":"treatment!I595","v":"2018-11-09T11:50:00"},{"$f":"treatment!J595","v":"2018-12-04T07:08:00"},null,{"$f":"classification!G595","v":1},{"$f":"classification!H595","v":"Engineering"}]
[{"$f":"treatment!A596","v":"https://www.uber.com/careers/list/38257/"},"38257/",{"$f":"treatment!K596","v":"00:00:00"},{"$f":"treatment!L596","v":"00:00:00"},null,"38257",{"$f":"treatment!H596","v":"2018-08-13T13:59:00"},{"$f":"treatment!I596","v":"2019-03-15T10:40:00"},{"$f":"treatment!J596","v":"00:00:00"},null,{"$f":"classification!G596","v":1},{"$f":"classification!H596","v":"Engineering"}]
[{"$f":"treatment!A597","v":"https://www.uber.com/careers/list/38248/"},"38248/",{"$f":"treatment!K597","v":"00:00:00"},{"$f":"treatment!L597","v":"2018-12-12T07:30:00"},null,"38248",{"$f":"treatment!H597","v":"2018-08-13T13:59:00"},{"$f":"treatment!I597","v":"2019-02-06T08:05:00"},{"$f":"treatment!J597","v":"00:00:00"},null,{"$f":"classification!G597","v":1},{"$f":"classification!H597","v":"Marketing"}]
[{"$f":"treatment!A598","v":"https://www.uber.com/careers/list/38221/"},"38221/",{"$f":"treatment!K598","v":"00:00:00"},{"$f":"treatment!L598","v":"00:00:00"},null,"38221",{"$f":"treatment!H598","v":"2018-08-13T13:59:00"},{"$f":"treatment!I598","v":"2018-08-24T20:00:00"},{"$f":"treatment!J598","v":"2018-08-29T16:02:00"},null,{"$f":"classification!G598","v":3},{"$f":"classification!H598","v":"Legal"}]
[{"$f":"treatment!A599","v":"https://www.uber.com/careers/list/38191/"},"38191/",{"$f":"treatment!K599","v":"00:00:00"},{"$f":"treatment!L599","v":"00:00:00"},null,"38191",{"$f":"treatment!H599","v":"2018-08-13T13:59:00"},{"$f":"treatment!I599","v":"2018-11-22T07:36:00"},{"$f":"treatment!J599","v":"2018-12-10T08:23:00"},null,{"$f":"classification!G599","v":3},{"$f":"classification!H599","v":"Product"}]
[{"$f":"treatment!A600","v":"https://www.uber.com/careers/list/38168/"},"38168/",{"$f":"treatment!K600","v":"00:00:00"},{"$f":"treatment!L600","v":"00:00:00"},null,"38168",{"$f":"treatment!H600","v":"2018-08-13T13:59:00"},{"$f":"treatment!I600","v":"2018-10-17T15:00:00"},{"$f":"treatment!J600","v":"2018-10-23T06:21:00"},null,{"$f":"classification!G600","v":3},{"$f":"classification!H600","v":"Engineering"}]
[{"$f":"treatment!A601","v":"https://www.uber.com/careers/list/38160/"},"38160/",{"$f":"treatment!K601","v":"00:00:00"},{"$f":"treatment!L601","v":"00:00:00"},null,"38160",{"$f":"treatment!H601","v":"2018-08-13T13:59:00"},{"$f":"treatment!I601","v":"2018-08-30T21:38:00"},{"$f":"treatment!J601","v":"2018-09-05T15:52:00"},null,{"$f":"classification!G601","v":1},{"$f":"classification!H601","v":"FinanceAccounting"}]
[{"$f":"treatment!A602","v":"https://www.uber.com/careers/list/38119/"},"38119/",{"$f":"treatment!K602","v":"00:00:00"},{"$f":"treatment!L602","v":"00:00:00"},null,"38119",{"$f":"treatment!H602","v":"2018-08-13T13:59:00"},{"$f":"treatment!I602","v":"2018-11-13T20:52:00"},{"$f":"treatment!J602","v":"2018-12-04T07:08:00"},null,{"$f":"classification!G602","v":1},{"$f":"classification!H602","v":"GlobalCommunityOperations"}]
[{"$f":"treatment!A603","v":"https://www.uber.com/careers/list/38082/"},"38082/",{"$f":"treatment!K603","v":"00:00:00"},{"$f":"treatment!L603","v":"00:00:00"},null,"38082",{"$f":"treatment!H603","v":"2018-08-13T13:59:00"},{"$f":"treatment!I603","v":"2018-10-19T08:50:00"},{"$f":"treatment!J603","v":"2018-10-30T07:19:00"},null,{"$f":"classification!G603","v":3},{"$f":"classification!H603","v":"Product"}]
[{"$f":"treatment!A604","v":"https://www.uber.com/careers/list/38060/"},"38060/",{"$f":"treatment!K604","v":"00:00:00"},{"$f":"treatment!L604","v":"00:00:00"},null,"38060",{"$f":"treatment!H604","v":"2018-08-13T13:59:00"},{"$f":"treatment!I604","v":"2018-08-18T08:00:00"},{"$f":"treatment!J604","v":"2018-08-22T14:44:00"},null,{"$f":"classification!G604","v":1},{"$f":"classification!H604","v":"Design"}]
[{"$f":"treatment!A605","v":"https://www.uber.com/careers/list/38040/"},"38040/",{"$f":"treatment!K605","v":"00:00:00"},{"$f":"treatment!L605","v":"00:00:00"},null,{"$f":"LEFT(B605, LEN(B605)-1)","v":"38040"},{"$f":"treatment!H605","v":"2018-08-13T13:59:00"},{"$f":"treatment!I605","v":"2018-09-04T16:43:00"},{"$f":"treatment!J605","v":"2018-10-01T14:50:00"},null,{"$f":"classification!G605","v":3},{"$f":"classification!H605","v":"Engineering"}]
[{"$f":"treatment!A606","v":"https://www.uber.com/careers/list/38039/"},{"$f":"RIGHT(A606, LEN(A606)-34)","v":"38039/"},{"$f":"treatment!K606","v":"2018-10-23T10:10:00"},{"$f":"treatment!L606","v":"00:00:00"},null,"38039",{"$f":"treatment!H606","v":"2018-08-13T13:59:00"},{"$f":"treatment!I606","v":"2019-01-15T09:20:00"},{"$f":"treatment!J606","v":"2018-10-30T07:19:00"},"2018-10-22T14:46:00",{"$f":"classification!G606","v":1},{"$f":"classification!H606","v":"Legal"}]
[{"$f":"treatment!A607","v":"https://www.uber.com/careers/list/38002/"},"38002/",{"$f":"treatment!K607","v":"00:00:00"},{"$f":"treatment!L607","v":"00:00:00"},null,"38002",{"$f":"treatment!H607","v":"2018-08-13T13:59:00"},{"$f":"treatment!I607","v":"2018-08-15T08:00:00"},{"$f":"treatment!J607","v":"2018-08-22T14:44:00"},null,{"$f":"classification!G607","v":1},{"$f":"classification!H607","v":"Product"}]
[{"$f":"treatment!A608","v":"https://www.uber.com/careers/list/38001/"},"38001/",{"$f":"treatment!K608","v":"00:00:00"},{"$f":"treatment!L608","v":"00:00:00"},null,"38001",{"$f":"treatment!H608","v":"2018-08-13T13:59:00"},{"$f":"treatment!I608","v":"2018-08-22T14:00:00"},{"$f":"treatment!J608","v":"2018-08-29T16:02:00"},null,{"$f":"classification!G608","v":1},{"$f":"classification!H608","v":"Product"}]
[{"$f":"treatment!A609","v":"https://www.uber.com/careers/list/37916/"},"37916/",{"$f":"treatment!K609","v":"00:00:00"},{"$f":"treatment!L609","v":"00:00:00"},null,"37916",{"$f":"treatment!H609","v":"2018-08-13T13:59:00"},{"$f":"treatment!I609","v":"2018-08-28T15:47:00"},{"$f":"treatment!J609","v":"2018-09-05T15:52:00"},null,{"$f":"classification!G609","v":1},{"$f":"classification!H609","v":"BusinessSales"}]
[{"$f":"treatment!A610","v":"https://www.uber.com/careers/list/37890/"},"37890/",{"$f":"treatment!K610","v":"00:00:00"},{"$f":"treatment!L610","v":"00:00:00"},null,"37890",{"$f":"treatment!H610","v":"2018-08-13T13:59:00"},{"$f":"treatment!I610","v":"2019-03-07T13:45:00"},{"$f":"treatment!J610","v":"00:00:00"},null,{"$f":"classification!G610","v":3},{"$f":"classification!H610","v":"FinanceAccounting"}]
[{"$f":"treatment!A611","v":"https://www.uber.com/careers/list/37876/"},"37876/",{"$f":"treatment!K611","v":"00:00:00"},{"$f":"treatment!L611","v":"00:00:00"},null,"37876",{"$f":"treatment!H611","v":"2018-08-13T13:59:00"},{"$f":"treatment!I611","v":"2018-09-07T15:35:00"},{"$f":"treatment!J611","v":"2018-10-01T14:50:00"},null,{"$f":"classification!G611","v":3},{"$f":"classification!H611","v":"GlobalCommunityOperations"}]
[{"$f":"treatment!A612","v":"https://www.uber.com/careers/list/37852/"},"37852/",{"$f":"treatment!K612","v":"00:00:00"},{"$f":"treatment!L612","v":"00:00:00"},null,"37852",{"$f":"treatment!H612","v":"2018-08-13T13:59:00"},{"$f":"treatment!I612","v":"2019-01-24T07:10:00"},{"$f":"treatment!J612","v":"00:00:00"},null,{"$f":"classification!G612","v":3},{"$f":"classification!H612","v":"Engineering"}]
[{"$f":"treatment!A613","v":"https://www.uber.com/careers/list/37802/"},"37802/",{"$f":"treatment!K613","v":"00:00:00"},{"$f":"treatment!L613","v":"00:00:00"},null,"37802",{"$f":"treatment!H613","v":"2018-08-13T13:59:00"},{"$f":"treatment!I613","v":"2019-04-23T16:03:00"},{"$f":"treatment!J613","v":"00:00:00"},null,{"$f":"classification!G613","v":3},{"$f":"classification!H613","v":"FinanceAccounting"}]
[{"$f":"treatment!A614","v":"https://www.uber.com/careers/list/37792/"},"37792/",{"$f":"treatment!K614","v":"00:00:00"},{"$f":"treatment!L614","v":"00:00:00"},null,"37792",{"$f":"treatment!H614","v":"2018-08-13T13:59:00"},{"$f":"treatment!I614","v":"2018-08-27T15:30:00"},{"$f":"treatment!J614","v":"2018-09-05T15:52:00"},null,{"$f":"classification!G614","v":3},{"$f":"classification!H614","v":"Engineering"}]
[{"$f":"treatment!A615","v":"https://www.uber.com/careers/list/37756/"},"37756/",{"$f":"treatment!K615","v":"00:00:00"},{"$f":"treatment!L615","v":"00:00:00"},null,"37756",{"$f":"treatment!H615","v":"2018-08-13T13:59:00"},{"$f":"treatment!I615","v":"2019-03-07T13:45:00"},{"$f":"treatment!J615","v":"00:00:00"},null,{"$f":"classification!G615","v":1},{"$f":"classification!H615","v":"Product"}]
[{"$f":"treatment!A616","v":"https://www.uber.com/careers/list/37744/"},"37744/",{"$f":"treatment!K616","v":"00:00:00"},{"$f":"treatment!L616","v":"00:00:00"},null,"37744",{"$f":"treatment!H616","v":"2018-08-13T13:59:00"},{"$f":"treatment!I616","v":"00:00:00"},{"$f":"treatment!J616","v":"00:00:00"},null,{"$f":"classification!G616","v":3},{"$f":"classification!H616","v":"AdvancedTechnologiesGroup"}]
[{"$f":"treatment!A617","v":"https://www.uber.com/careers/list/37739/"},"37739/",{"$f":"treatment!K617","v":"00:00:00"},{"$f":"treatment!L617","v":"00:00:00"},null,"37739",{"$f":"treatment!H617","v":"2018-08-13T13:59:00"},{"$f":"treatment!I617","v":"2018-12-11T08:50:00"},{"$f":"treatment!J617","v":"00:00:00"},null,{"$f":"classification!G617","v":1},{"$f":"classification!H617","v":"Product"}]
[{"$f":"treatment!A618","v":"https://www.uber.com/careers/list/37624/"},"37624/",{"$f":"treatment!K618","v":"00:00:00"},{"$f":"treatment!L618","v":"00:00:00"},null,"37624",{"$f":"treatment!H618","v":"2018-08-13T13:59:00"},{"$f":"treatment!I618","v":"2019-04-04T20:15:00"},{"$f":"treatment!J618","v":"00:00:00"},null,{"$f":"classification!G618","v":3},{"$f":"classification!H618","v":"Engineering"}]
[{"$f":"treatment!A619","v":"https://www.uber.com/careers/list/37619/"},"37619/",{"$f":"treatment!K619","v":"00:00:00"},{"$f":"treatment!L619","v":"00:00:00"},null,"37619",{"$f":"treatment!H619","v":"2018-08-13T13:59:00"},{"$f":"treatment!I619","v":"2018-09-27T09:35:00"},{"$f":"treatment!J619","v":"2018-10-01T14:50:00"},null,{"$f":"classification!G619","v":1},{"$f":"classification!H619","v":"Product"}]
[{"$f":"treatment!A620","v":"https://www.uber.com/careers/list/37591/"},"37591/",{"$f":"treatment!K620","v":"00:00:00"},{"$f":"treatment!L620","v":"00:00:00"},null,"37591",{"$f":"treatment!H620","v":"2018-08-13T13:59:00"},{"$f":"treatment!I620","v":"2019-03-07T13:45:00"},{"$f":"treatment!J620","v":"00:00:00"},null,{"$f":"classification!G620","v":3},{"$f":"classification!H620","v":"Product"}]
[{"$f":"treatment!A621","v":"https://www.uber.com/careers/list/37590/"},"37590/",{"$f":"treatment!K621","v":"00:00:00"},{"$f":"treatment!L621","v":"00:00:00"},null,"37590",{"$f":"treatment!H621","v":"2018-08-13T13:59:00"},{"$f":"treatment!I621","v":"2018-09-14T20:34:00"},{"$f":"treatment!J621","v":"2018-09-23T12:29:00"},null,{"$f":"classification!G621","v":3},{"$f":"classification!H621","v":"Product"}]
[{"$f":"treatment!A622","v":"https://www.uber.com/careers/list/37589/"},"37589/",{"$f":"treatment!K622","v":"00:00:00"},{"$f":"treatment!L622","v":"00:00:00"},null,"37589",{"$f":"treatment!H622","v":"2018-08-13T13:59:00"},{"$f":"treatment!I622","v":"2018-09-10T15:52:00"},{"$f":"treatment!J622","v":"2018-09-23T12:29:00"},null,{"$f":"classification!G622","v":3},{"$f":"classification!H622","v":"Product"}]
[{"$f":"treatment!A623","v":"https://www.uber.com/careers/list/37571/"},"37571/",{"$f":"treatment!K623","v":"00:00:00"},{"$f":"treatment!L623","v":"00:00:00"},null,"37571",{"$f":"treatment!H623","v":"2018-08-13T13:59:00"},{"$f":"treatment!I623","v":"2018-10-04T11:25:00"},{"$f":"treatment!J623","v":"2018-10-08T12:55:00"},null,{"$f":"classification!G623","v":3},{"$f":"classification!H623","v":"FinanceAccounting"}]
[{"$f":"treatment!A624","v":"https://www.uber.com/careers/list/37563/"},"37563/",{"$f":"treatment!K624","v":"00:00:00"},{"$f":"treatment!L624","v":"00:00:00"},null,"37563",{"$f":"treatment!H624","v":"2018-08-13T13:59:00"},{"$f":"treatment!I624","v":"2018-11-15T17:00:00"},{"$f":"treatment!J624","v":"2018-12-04T07:08:00"},null,{"$f":"classification!G624","v":3},{"$f":"classification!H624","v":"OperationsLaunch"}]
[{"$f":"treatment!A625","v":"https://www.uber.com/careers/list/37562/"},"37562/",{"$f":"treatment!K625","v":"2018-08-15T15:45:00"},{"$f":"treatment!L625","v":"00:00:00"},null,"37562",{"$f":"treatment!H625","v":"2018-08-13T13:59:00"},{"$f":"treatment!I625","v":"2019-03-15T10:40:00"},{"$f":"treatment!J625","v":"2018-08-22T14:44:00"},"2018-08-14T17:00:00",{"$f":"classification!G625","v":3},{"$f":"classification!H625","v":"Engineering"}]