Workbook

Sheet Cover
H1: PAGE | I1: 1
A2: Uganda Agriculture
A4: HOUSEHOLD QUESTIONNAIRE
A5: Good (morning/afternoon/evening), My name is __________ and we are conducting a survey for the Makarere University and the Centro Studi Luca d'Agliano in Milan- Italy . The purpose of this study is to assess the level of agricultural development and well-being in a number of Ugandan districts. The information you give us will be kept striclty confidential. You and your household members will not be identified by name or address in any of the reports we plan to write.
A9: COVER
A11: NAME AND CODE OF THE SUB-COUNTY | H11: Cod
A13: NAME AND CODE OF THE COMMUNITY: | H13: Cod
A15: NAME and CODE OF THE FARMER GROUP | H15: Cod
A17: CONTROL SHEET
A18: TO BE FILLED BY THE INTERVIEWER:
F19: DATE OF THE INTERVIEW:
A20: TIME OF INTERVIEW: | C20: Start:
C21: Finish: | F21: Day
F22: Month
A23: NAME OF INTERVIEWER: | F23: Year | G23: 2015
D24: Cod
A26: 1ST VISIT | B26: 1=completed | D26: 2=partially done | F26: 3= not done
A28: 2ND VISIT | B28: 1=completed | D28: 2=partially done | F28: 3= not done
A30: If not done, give reasons (circle appropriate code)
A31: Refused | C31: 1 | E31: Group member not known/ found | H31: 3
A32: No competent respondent | C32: 2 | E32: Moved or shifted elsewhere | H32: 4
A34: COMMENTS:
A37: GPS COORDINATES | C37: LAT
C38: LONG
A40: HOUSEHOLD IDENTIFICATION: | D40: Cod
A42: NAME OF HOUSEHOLD HEAD:
A44: NAME OF HOUSEHOLD RESPONDENT:
A46: PHONE CONTACT
A49: TO BE FILLED BY THE SUPERVISOR:
F50: QUESTIONNAIRE REVIEWED:
A51: NAME OF THE SUPERVISOR:
G52: Yes=1
G53: No=2
A54: SIGNATURE:
A56: IN THE OFFICE:
A57: Data Entry by:

Sheet P1
H1: PAGE | I1: 2
A3: DEFINITION OF THE HOUSEHOLD
A4: ALL MEMBERS LIVING AND EATING THEIR MEALS TOGETHER IN THE SAME DWELLING.
B6: =1 -> 1 | C6: IS THE RESPONDENT THE ONE INDICATED IN THE PREVIOUS PAGE? (circle which applies)
B9: Yes >>SKIP MODULE I | D9: 1
B10: No | D10: 2
B11: If no, why?:
A13: MODULE I: RESPONDENT INFORMATION
A14: SECTION A: RESPONDENT GENERAL
A15: Instruction for the enumerator:
A16: PERSON INTERVIEWED: PREFERABLY A MEMBER OF THE HOUSEHOLD BELONGING TO THE SAME FARMER GROUP. IF HE/SHE IS NOT AVAILABLE, TRY A SECOND VISIT. IF STILL NOT AVAILABLE FIND A “PRINCIPAL RESPONDENT” TO ANSWER THE QUESTIONS IN HIS/HER PLACE. The person selected must ultimately be a member of the SAME household of the respondent indicated in the previous page who is able to give information on the other hh members and on farming activities carried out in the hh.
A20: COULD YOU PLEASE ANSWER A FEW QUESTIONS ABOUT YOURSELVES BEFORE WE BEGIN THE INTERVIEW?
A22: =B6+1 -> 2 | B22: ARE YOU A MEMBER OF THE FARMER GROUP/ASSOCIATION [name of group]? (circle which applies) | F22: =A35+1 -> 5 | G22: WHAT IS YOUR RELATIONSHIP WITH THE HEAD?
A25: Yes | C25: 1 | F25: (circle which applies)
A26: No | C26: 2 | F26: HH head | I26: 1
F27: Spouse | I27: 3
A28: =A22+1 -> 3 | B28: Do other members of your household participate in the farmer group? (circle which applies) | F28: Father/ mother of the HH head | I28: 4
F29: Son | I29: 5
F30: Daughter | I30: 6
A31: Yes (same group) | C31: 1 | F31: Other, specify | I31: 7
A32: Yes (different group) | C32: 2
A33: No | C33: 3
A35: =A28+1 -> 4 | B35: ARE YOU INFORMED ABOUT AGRICULTURE AND PRODUCTION WITHIN YOUR HOUSEHOLD? (circle which applies) | F35: =F22+1 -> 6 | G35: ARE YOU RESPONSIBLE FOR DECISIONS REGARDING AGRICULTURE AND PRODUCTION? (circle which applies)
A36: Yes | B36: 1
A37: No | B37: 2 | C37: Interrupt the survey and ask to talk to a member kwowledgeable about agriculture | F37: Yes | H37: 1
F38: No | H38: 2
A40: =F35+1 -> 7 | B40: Can you read? (circle which applies) | F40: =A45+1 -> 9 | G40: How many years of schooling did you attend?
A41: Yes | D41: 1 | G41: (if none put '0')
A42: NO | D42: 2 | F42: years | H42: ___________________________
A43: NS/NR | D43: 99 | F43: NS/NR | H43: 99
A45: =A40+1 -> 8 | B45: Can you write? (circle which applies)
A46: Yes | D46: 1
A47: NO | D47: 2
A48: NS/NR | D48: 99

Sheet Sheet1
I1: PAGE | L1: 3
A2: MODULE II: HOUSEHOLD LEVEL _roster
A3: The interviewer say: Now I would like to ask you some information about your whole family.
A5: SECTION A: DEMOGRAPHICS
A7: 9 | B7: How many people live in your household (including yourself)? | G7: =A7+1 -> 10 | H7: Is the household head female or male? (circle what applies)
A8: enter number of hh members _____________________________ | G8: Male | L8: 1
G9: Female | L9: 2
A10: =G7+1 -> 11 | B10: How many members are in the following age range
A11: (enter number of hh members) | G11: =A10+1 -> 12 | H11: How many members belong to the following categories:
A12: Below 5 years old | G12: (enter number of hh members)
A13: Between 6 and 15 years old | G13: Currently enrolled in school
A14: Between 16 and 55 years old | G14: Can read
A15: Over 55 years old | G15: Can write
G16: No formal education or less than primary
A17: =G11+1 -> 13 | B17: Did any of your household member migrate in the last 2 years? | G17: Has completed primary education (7 years education)
A18: Yes | D18: 1 | G18: Has some secondary educ. (more than 7 years of schooling)
A19: No | D19: 2 | G19: Has completed secondary educ. (13years of schooling)
A21: =A17+1 -> 14 | B21: What is the highest level of education in your hh?
A22: (circle what applies)
A23: No formal education
A24: Primary school
A25: Secondary School
A26: Technical/Training college
A27: University
A28: NS/NR | F28: 99
A30: MODULE III: GROUP LEVEL
A31: The interviewer say: Now I would like to ask you some information about your farmer group.
A33: SECTION A: DEMOGRAPHICS
A35: =A21+1 -> 15 | B35: Are you a member of a farmer group? | G35: =A35+1 -> 16 | H35: Did your group take part in the VODP2 program? (circle what applies)
A36: Yes | D36: 1 | G36: Yes | L36: 1
A37: No | D37: 2 | G37: No | L37: 2
A39: =G35+1 -> 17 | B39: Since when you are member
A40: enter year(s) of membership _____________________________ | G40: =A42+1 -> 19 | H40: Does your group perform any of the following activity?:
G41: CODE 1=yes; 2=no
A42: =A39+1 -> 18 | B42: How long the group has been active for | G42: a. Bulk purchase of seeds and inputs
A43: enter year(s) of group's activity _____________________________ | G43: b. Collective marketing
G44: c. Renting/purchase of processing facilities/machineries
G45: d. Purchase of produce from non-member
G46: e. Rent storing facilities
G47: f. Pool resources to transport produce to market
...

Sheet income_expenditure
J1: PAGE | K1: 4
A2: MODULE IV: HOUSEHOLD INCOME
A4: SECTION A: Labor Income
A5: 20 | B5: Did you or any household member carry out (both formally or informally) any of the following activities in the last 12 months? | G5: =+A5+1 -> 21 | H5: How much does your family earn/receive from this activity in 1 month? (in Ushs)
C6: YES = 1
C7: NO = 2
A8: Working on farm | F8: →
A9: Hunting animals | F9: →
A10: Fishing | F10: →
A11: Working off-farm (e.g. own business) | F11: →
A12: Work as farm laborer | F12: →
A13: Work off-farm as laborer | F13: →
A14: Other (specify________________) | F14: →
A16: SECTION B: Other Income Flows
A17: =+G5+1 -> 22 | B17: Did any member of your family receive any of the following income flows in the last 12 month? | G17: =+A17+1 -> 23 | H17: Approximately, how much income did you receive for this activity? (in Ushs, in the last 12 months)
D18: YES = 1
D19: NO = 2
A20: Pension | F20: →
A21: Inheritance | F21: →
A22: Lottery/ Gift(s) | F22: →
A23: Loan | F23: →
A24: Transfers from others (family or kinship) | F24: →
A25: Other (specify) | F25: →
A27: SECTION C: HOUSEHOLD CONSUMPTION
A28: =+G17+1 -> 24 | B28: Has your famliy spent money on the following food items, in the last 30 days? | G28: =+A28+1 -> 25 | H28: Approximately, how much did you spend on this? (in Ushs)
A29: YES = 1 | D29: code
A30: NO = 2
A31: Maize/cassava/rice/potato | F31: →
A32: Beans/ legumes | F32: →
A33: Oil and other fats | F33: →
A34: Groundnuts (seeds or derivatives) | F34: →
A35: Sunflower (seeds or derivatives) | F35: →
A36: Sesame (seeds or derivatives) | F36: →
A37: Soya beans (seeds or derivatives) | F37: →
A38: Dairy products (milk, cheese, etc) | F38: →
A39: Meat/fish | F39: →
A40: Eggs | F40: →
A41: Vegetables | F41: →
A42: Fruits | F42: →
J43: PAGE | K43: 5
...

Sheet AGR_plot
X1: PAGE | AA1: 7
A2: MODULE V: Land and agriculture
A3: Now we would like to ask you some questions about the land you (and your household) cultivate (both land owned and rented), including grazing and fallow land during the two last completed seasons [1st season: Jan – June 2015; 2nd Season: July. – Dec. 2015].
B5: 30 | D5: During the two last completed cropping seasons, has any member of your household owned any agricultural land including woodlots, forest land and land rented or lent out to others? | V5: YES | Z5: 1
V6: NO (>> PART B) | Z6: 2
B8: =B5+1 -> 31 | D8: Total area of farm: | N8: Unit code: 1. Acres 2. Hectares 3. Squared Metres
B11: =B8+1 -> 32 | D11: Did the size of farm change in the last two years? | I11: YES | M11: 1 | P11: =B11+1 -> 33 | R11: If yes, does the size of farm increased or decreased? | V11: INCREASED | Z11: 1
I12: NO (>> 35) | M12: 2 | V12: DECREASED | Z12: 2
B14: SECTION A: PLOTS
A15: PLOT ID CODE | B15: Plot idenifier | F15: 34 | J15: =F15+1 -> 35 | O15: =J15+1 -> 36 | S15: =O15+1 -> 37 | U15: =S15+1 -> 38 | W15: =U15+1 -> 39
F16: Total area of plot planted | J16: How many minutes does it take to travel from your dwelling to this plot? | O16: Tenure System | S16: Who has the ownership/ use right to this plot? Record Ids of up 2 persons | U16: Does this plot have a title certificate or a custumary certificate of owneship/occupancy issued by and registered at government authorities? | W16: "Who manages/ controls the output from this parcel among household members Record Ids of up 3 persons"
J27: 1 | L27: Less than 15 mins | O27: 1 | P27: Freehold | S27: 1 | T27: HH head | W27: 1 | X27: HH head
F28: Size | H28: Unit code | J28: 2 | L28: 15-30 mins | O28: 2 | P28: Leasehold | S28: 2 | T28: Spouse | U28: 1 | V28: Certificate of title | W28: 2 | X28: Spouse
J29: 3 | L29: 30-60 mins | O29: 3 | P29: Mailo | S29: 3 | T29: Son of HH head | U29: 2 | V29: Certificate of customary ownership | W29: 3 | X29: Son of HH head
H30: 1. Acres | J30: 4 | L30: 1 -2 hours | O30: 4 | P30: Customary | S30: 4 | T30: Daughter of HH head | U30: 3 | V30: Certificate of occupancy | W30: 4 | X30: Daughter of HH head
H31: 2. Hectares | J31: 5 | L31: over 2 hours | O31: 5 | P31: Other (specify) | S31: 5 | T31: Other (specify) | U31: 4 | V31: No document | W31: 5 | X31: Other (specify)
H32: 3. Sq. Meters | J32: 9 | L32: Do not know | O32: 9 | P32: Do not know | S32: 9 | T32: Do not know | U32: 9 | V32: Do not know | W32: 9 | X32: Do not know
A34: 1
A35: 2
A36: 3
A37: 4
A38: 5
A39: 6
A40: 7
A41: 8
A42: 9

Sheet AGR_parcel_1_s1
W1: PAGE | Y1: 8
A2: 1st Agricultural season (DATES)
D3: 40 | E3: =D3+1 -> 41 | G3: =E3+1 -> 42 | I3: =G3+1 -> 43 | K3: =I3+1 -> 44 | M3: =K3+1 -> 45 | O3: =M3+1 -> 46 | Q3: =O3+1 -> 47 | S3: =Q3+1 -> 48 | U3: =S3+1 -> 49 | W3: =U3+1 -> 50 | X3: =W3+1 -> 51
A4: PLOT ID CODE | B4: PARCEL ID | C4: Crop Code | D4: Cultivated Crop | E4: Cropping system | G4: Total area of parcel planted | I4: If intercropped, what percentage of intercropped area was under this crop? | K4: Did you buy any seeds for this crop? | M4: How much did you pay for all purchased seeds used in this parcel? (Ushs) | O4: Where did you buy most of ths seed? | Q4: What type of seeds did you purchase? | S4: How much did you harvest? | U4: How much did you sell? | W4: How much did you earn (revenues) from sale? | X4: Who bought the largest part?
O16: 1 | P16: Government | X16: 1 | Y16: Government
O17: 2 | P17: Private trader in local market | X17: 2 | Y17: Private trader in local market
G18: Size | H18: Unit code | O18: 3 | P18: Private trader in district market | X18: 3 | Y18: Private trader in district market
H19: 1. Acres | O19: 4 | P19: Fellow farmer | Q19: 1 | R19: Traditional | S19: Quantity | T19: Unit code | U19: Quantity | V19: Unit code | X19: 4 | Y19: Consumer at market
H20: 2. Hectares | O20: 5 | P20: Relative / Neighbouur | Q20: 2 | R20: Improved (certified) | T20: 1. Kg | V20: 1. Kg | X20: 5 | Y20: Neighbour/ Relative
E21: 1 | F21: Pure stand | H21: 3. Sq. Meters | I21: 9 | J21: Do not know | K21: 1 | L21: Yes | O21: 6 | P21: Other (specify) | Q21: 3 | R21: Improved (general) | T21: 2. Quintals | V21: 2. Quintals | X21: 6 | Y21: Other (specify)
E22: 2 | F22: Inter-crop. | K22: 2 | L22: No >> Q. 68 | M22: 9 | N22: Do not know | O22: 9 | P22: Do not know | Q22: 9 | R22: Do not know | T22: 3. Other (see list) | V22: 3. Other (see list) | W22: Ushs | X22: 9 | Y22: Do not know

Sheet AGR_parcel_2_s1
Z1: PAGE | AA1: 9
D2: 1st Agricultural season (DATES), inputs
D3: =AGR_parcel_1_s1!X3+1 -> 52 | F3: =D3+1 -> 53 | H3: =F3+1 -> 54 | J3: =H3+1 -> 55 | K3: =J3+1 -> 56 | M3: =K3+1 -> 57 | O3: =M3+1 -> 58 | Q3: =O3+1 -> 59 | R3: =Q3+1 -> 60 | X3: =R3+1 -> 61
A4: PLOT ID CODE | B4: PARCEL ID | C4: Crop Code | D4: Did you use any fertilizer on the parcel? | F4: Quantity used | H4: Was any of that purchased? | J4: How much did you spend for fertilizer? | K4: Did you use any pesticide on the parcel? | M4: Quantity used | O4: Was any of this purchased? | Q4: How much did you spend for pesticide? | R4: Family labour for all tasks during the season (e.g. land preparation, sowing, input application, weeding, pruning and harvesting). | X4: Hired labour for any task during the season
R15: Who usually works on this parcel? (report code of at least 3 persons from the ID grid below) | X15: Did you hire any labour to work on this parcel? | Z15: For this parcel, how many days in tot. did you hire in? | AA15: How much did you pay, including the value of in-kind payments?
W16: ID
R17: HH head | W17: 1
R18: Spouse _1 | W18: 2
R19: Spouse _2 | W19: 3
R20: Father/ mother of the HH head | W20: 4
R21: Son _1 | W21: 5
D22: 1 | E22: None >>76 | R22: Son _2 | W22: 6
D23: 2 | E23: Organic | R23: Daughter _1 | W23: 7
D24: 3 | E24: Inorganic, nitrate | R24: Daughter _2 | W24: 8
D25: 4 | E25: Inorganic, phosphate | R25: Other (specify) | W25: 9
D26: 5 | E26: Inorganic, Potash | H26: 1 | I26: Yes | K26: 1 | L26: Yes | N26: Unit | O26: 1 | P26: Yes | R26: How many days did he/she work during the season?
D27: 6 | E27: Inorganic, mixed | F27: Kg | H27: 2 | I27: No >>55 | J27: Ushs | K27: 2 | L27: No>>59 | M27: Quantity | N27: 1= Kg 2= Lts | O27: 2 | P27: No >>59 | Q27: Ushs | X27: 1 | Y27: Yes
D28: 7 | E28: Other (specify) | H28: 9 | I28: Do not know | K28: 9 | L28: Do not know | O28: 9 | P28: Do not know | R28: ID1 | S28: days | T28: ID2 | U28: days | V28: ID3 | W28: days | X28: 2 | Y28: No >> | Z28: Person day | AA28: Ushs

Sheet AGR_parcel_1_s2
W1: PAGE | Y1: 10
A2: 2ND Agricultural season (DATES)
D3: =AGR_parcel_2_s1!X3+1 -> 62 | E3: =D3+1 -> 63 | G3: =E3+1 -> 64 | I3: =G3+1 -> 65 | K3: =I3+1 -> 66 | M3: =K3+1 -> 67 | O3: =M3+1 -> 68 | Q3: =O3+1 -> 69 | S3: =Q3+1 -> 70 | U3: =S3+1 -> 71 | W3: =U3+1 -> 72 | X3: =W3+1 -> 73
A4: PLOT ID CODE | B4: PARCEL ID | C4: Crop Code | D4: Cultivated Crop | E4: Cropping system | G4: Total area of parcel planted | I4: If intercropped, what percentage of intercropped area was under this crop? | K4: Did you buy any seeds for this crop? | M4: How much did you pay for all purchased seeds used in this parcel? (Ushs) | O4: Where did you buy most of ths seed? | Q4: What type of seeds did you purchase? | S4: How much did you harvest? | U4: How much did you sell? | W4: How much did you earn (revenues) from sale? | X4: Who bought the largest part?
O16: 1 | P16: Government | X16: 1 | Y16: Government
O17: 2 | P17: Private trader in local market | X17: 2 | Y17: Private trader in local market
G18: Size | H18: Unit code | O18: 3 | P18: Private trader in district market | X18: 3 | Y18: Private trader in district market
H19: 1. Acres | O19: 4 | P19: Fellow farmer | Q19: 1 | R19: Traditional | S19: Quantity | T19: Unit code | U19: Quantity | V19: Unit code | X19: 4 | Y19: Consumer at market
H20: 2. Hectares | O20: 5 | P20: Relative / Neighbouur | Q20: 2 | R20: Improved (certified) | T20: 1. Kg | V20: 1. Kg | X20: 5 | Y20: Neighbour/ Relative
E21: 1 | F21: Pure stand | H21: 3. Sq. Meters | I21: 9 | J21: Do not know | K21: 1 | L21: Yes | O21: 6 | P21: Other (specify) | Q21: 3 | R21: Improved (general) | T21: 2. Quintals | V21: 2. Quintals | X21: 6 | Y21: Other (specify)
E22: 2 | F22: Inter-crop. | K22: 2 | L22: No >> Q. 68 | M22: 9 | N22: Do not know | O22: 9 | P22: Do not know | Q22: 9 | R22: Do not know | T22: 3. Other (see list) | V22: 3. Other (see list) | W22: Ushs | X22: 9 | Y22: Do not know

Sheet AGR_parcel_2_s2
Z1: PAGE | AA1: 11
D2: 2nd Agricultural season (DATES), inputs
D3: =AGR_parcel_1_s2!X3+1 -> 74 | F3: =D3+1 -> 75 | H3: =F3+1 -> 76 | J3: =H3+1 -> 77 | K3: =J3+1 -> 78 | M3: =K3+1 -> 79 | O3: =M3+1 -> 80 | Q3: =O3+1 -> 81 | R3: =Q3+1 -> 82 | X3: =R3+1 -> 83
A4: PLOT ID CODE | B4: PARCEL ID | C4: Crop Code | D4: Did you use any fertilizer on the parcel? | F4: Quantity used | H4: Was any of that purchased? | J4: How much did you spend for fertilizer? | K4: Did you use any pesticide on the parcel? | M4: Quantity used | O4: Was any of this purchased? | Q4: How much did you spend for pesticide? | R4: Family labour for all tasks during the season (e.g. land preparation, sowing, input application, weeding, pruning and harvesting). | X4: Hired labour for any task during the season
R15: Who usually works on this parcel? (report code of at least 3 persons from the ID grid below) | X15: Did you hire any labour to work on this parcel? | Z15: For this parcel, how many days in tot. did you hire in? | AA15: How much did you pay, including the value of in-kind payments?
R17: HH head | W17: 1
R18: Spouse _1 | W18: 2
R19: Spouse _2 | W19: 3
R20: Father/ mother of the HH head | W20: 4
R21: Son _1 | W21: 5
D22: 1 | E22: None >>76 | R22: Son _2 | W22: 6
D23: 2 | E23: Organic | R23: Daughter _1 | W23: 7
D24: 3 | E24: Inorganic, nitrate | R24: Daughter _2 | W24: 8
D25: 4 | E25: Inorganic, phosphate | R25: Other (specify) | W25: 9
D26: 5 | E26: Inorganic, Potash | H26: 1 | I26: Yes | K26: 1 | L26: Yes | N26: Unit | O26: 1 | P26: Yes | R26: How many days did he/she work during the season?
D27: 6 | E27: Inorganic, mixed | F27: Kg | H27: 2 | I27: No >>76 | J27: Ushs | K27: 2 | L27: No>>80 | M27: Quantity | N27: 1= Kg 2= Lts | O27: 2 | P27: No >>80 | Q27: Ushs | X27: 1 | Y27: Yes
D28: 7 | E28: Other (specify) | H28: 9 | I28: Do not know | K28: 9 | L28: Do not know | O28: 9 | P28: Do not know | R28: ID1 | S28: days | T28: ID2 | U28: days | V28: ID3 | W28: days | X28: 2 | Y28: No >> | Z28: Person day | AA28: Ushs

Sheet Vodp_project
J1: PAGE | K1: 12
A2: MODULE VI: Monitoring and Evaluating VODP2 Project
A3: 74 | B3: Did you receive any training about oilseed within the VODP2 project? (circle which applies) | I3: =A18+1 -> 78 | J3: During the learning platform phase, which was the size of the plot? (circle which applies)
A4: Yes | C4: 1 | I4: Extension | J4: Unit code
A5: No | C5: 2 | J5: 1 | K5: Acres
J6: 2 | K6: Hectares
A7: =A3+1 -> 75 | B7: If yes, which activities have been carried out? | D7: yes | E7: no | J7: 3 | K7: Sq. Meters
A8: Learning platform
A9: Farm as business training | I9: =I3+1 -> 79 | J9: was the oilseed used in the learning platform phase choosen or imposed?
A10: Value chain activities
I11: Choosen | K11: 1
A12: =A7+1 -> 76 | B12: On average, how useful was the advice/information received? | D12: useless | E12: not very useful | F12: useful | G12: very useful
I13: Imposed | K13: 2
A14: Learning platform
A15: Farm as business training
A16: Value chain activities | I16: =I9+1 -> 80 | J16: Which was the frequency of VODP2 members visits? (circle which applies)
A18: =A12+1 -> 77 | B18: During the learning platform phase, which oilseed was used? (circle which applies) | I18: Weekly | J18: 1
I19: Monthly | J19: 2
A20: Soyabean | B20: 1 | I20: Bimonthly | J20: 3
A21: Sunflower | B21: 2 | I21: > Bimonthly | J21: 4
A22: Sesame | B22: 3
A23: Groundnuts | B23: 4
A25: =I16+1 -> 81 | B25: When did the activities start?
A26: Month | C26: Year
A27: ______________ | C27: ______________

Sheet extension service
K1: PAGE | L1: 12
A2: MODULE VII: ACCESS TO EXTENSION SERVICES
A3: SECTION A
A4: 82 | B4: During the agricultural seasons XX did you receive (for free) any inputs, within extension service campaings? | H4: =A8+1 -> 84 | I4: During seasons XXX, which of the following techniques did you apply to your plots?
B5: Yes | C5: 1 | I5: (circle what applies)
B6: No >> next | C6: 2 | H6: Water conservation | K6: 1
H7: Moisture retention | K7: 2
A8: =A4+1 -> 83 | B8: If yes, which one? | D8: Insert codes (see list of crops) | H8: Zero tillage | K8: 3
D9: code1 | E9: code2 | F9: code3 | H9: Compost making | K9: 4
B10: Standard seeds | H10: Post-harvest handling | K10: 5
B11: Improved seeds
A13: SECTION B
C14: =H4+1 -> 85 | D14: =C14+1 -> 86 | E14: =D14+1 -> 87 | G14: =E14+1 -> 88 | I14: =G14+1 -> 89
A15: CODE | B15: TOPIC | C15: During seasons XXX, did you or anyone in your hh receive advice on [TOPIC]? | D15: What was the main source of the advice on [TOPIC]? | E15: How much time has been dedidcated to participate in training activities from [SOURCE] on [TOPIC] in the last 12 months? | G15: Did you or any member of your household pay anything in order to receive any type of advice / information from [SOURCE] during the last 12 months? | I15: On average, how useful was the advice / information received from [SOURCE]?READ RESPONSES
C16: 1.YES 2.NO | D16: SOURCE | E16: hours | G16: 1.YES 2.NO | I16: 1. Useless 2.Not very useful 3. Useful 4. Very useful | J16: CODES FOR SOURCE:
J17: 1. Gov. Agricultural Extension Service
A18: 1 | B18: New Seed Varieties | J18: 2. Private Agricultural Extension Service
A19: 2 | B19: Oilseed production | J19: 3. NGO
A20: 3 | B20: Pest Control | J20: 4. Agricultural Coop/Farmers' Assoc
A21: 4 | B21: Fertilizer Use | J21: 5. Farmer Field Days/Field School
A22: 5 | B22: Pit Planting | J22: 6. Village Agricultural Extension Meeting
A23: 6 | B23: Irrigation | J23: 7. Agricultural Extension Course
A24: 7 | B24: Soil fertility management | J24: 8. Lead Farmer
A25: 8 | B25: Composting | J25: 9. Other Farmer (Neighbor/Relative)
A26: 9 | B26: Post-harvest practices | J26: 10. Other member of the farmer group
A27: 10 | B27: Marketing/Crop Sales | J27: 11. Electronic Media (TV, Radio, Etc…)
A28: 11 | B28: Food processing and quality control | J28: 12. Paper Media (Handouts / Flyers)
A29: 12 | B29: Access to Credit | J29: 13. Other (Specify)
A30: 15 | B30: Other (Specify)

Sheet oilseeds
K1: PAGE | L1: 13
A2: MODULE VIII: OILSEEDS (adopters)
B3: ='extension service'!I14+1 -> 90 | C3: =B3+1 -> 91 | D3: =C3+1 -> 92 | E3: =D3+1 -> 93 | F3: =E3+1 -> 94 | G3: =F3+1 -> 95 | H3: =G3+1 -> 96 | I3: =H3+1 -> 97 | J3: =I3+1 -> 98
A4: CROP | B4: Did you ever plant [CROP]? 1=yes; 2= no >>Q.99 | C4: When did you first plant [CROP] insert the year | D4: What is the main source of seeds you planted? 1. Saved from previous harvest 2. Agro-dealers 3.Private trader 4. Local market 5. Government 6. Seeds companies 7. Research institutions 8. Neighbour or friend 9. Relative 10. NGO 11. Other (specify) | E4: If bought, at what price did you buy seeds? Ushs/Kg | F4: What type of seeds did you buy? See codes | G4: Who did you sell your harvest of [CROP] to? 1. Traders at local market 2. Traders at other market 3. Miller 4.Other farmers 5. Do not know | H4: Relation with the buyer 1. Next of kin 2. Friend 3. Preferred customer 4. Other, specify…… 5. None | I4: Is this the first time you sell to this buyer? 1. Yes 2. No | J4: Did you sell your output 1. Individually 2. In bulk with other farmers 3. Through your farmer group | L4: Codes for Q115: Soyabean: 1. Maksoy 2N 2. Maksoy 3N 3. Maksoy 4N 4. Maksoy 5N Sunflower 5. Sunfola OPV 4. PAN Hybrid 5. EASAF 6. SESUN 7. AGUSUN 8. DK 40-40 Groundnuts: 9. Serenut 10. Red Beauty Sesame 11. Simsim1 12. Simsim2 13. Other, specify
A5: Soyabean
A6: Sunflower
A7: Sesame
A8: Groundnuts
B10: =J3+1 -> 99 | C10: =B10+1 -> 100 | D10: =C10+1 -> 101 | F10: =D10+1 -> 102
B11: Will you plant [CROP] next season? | C11: Why not? | D11: Do you have any contact with oilseed value chain actors, at individual or farmer group level? | F11: Have you established any contract with traders and/or millers for the production of [CROP]?
B12: 1.Yes>>102 2.No | C12: 1. Risk of low prices 2. Not rentable crop 3. Difficulty in getting seeds 4. Difficult to sell this crop 5. Do not know how to grow the crop 6.Other (specify) | D12: 1. Seed buyers 2. Oilseed processors 3. Millers 4. Local traders | F12: 1.Yes 2.No
A13: Soyabean
A14: Sunflower
A15: Sesame
A16: Groundnuts

Sheet expectations_yiel
G1: PAGE | H1: 14
B2: MODULE IX: EXPECTATIONS
B3: Section A: YIELD EXPECTATIONS
B4: Instructions for the interviewer: Here we ask about people's expectations. This is done both 'in general' (Q.1 nd 2) and with respect to some 'thresholds' or intervals (Q.3). Note that 1 bean means that it is very unlikely that something happens, whilst 10 beans mean that the event will happen for sure. You can also explain beans as they were people/farmers (e.g. how many farmers out of 10 will end up being in that particular interval?)
C5: 103 | E5: =C5+1 -> 104
C6: Consider a typical farmer growing [CROP]. How much do you think the AVERAGE yield (Kg/Acre) of [CROP] can be in each season? | E6: Condider the hyphotetical situation where you grow [CROP]. Look ahead after the harvest, how much do you think the AVERAGE yield (Kg/Acre) of [CROP] will be for you in each season?
C9: Major season | D9: Minor season | E9: Major season | G9: Minor season
B10: Soyabean
B11: Sunflower
B12: Sesame
B13: Groundnuts
B15: CROP YIELD- Major Season
A16: =E5+1 -> 105 | B16: (interviewer uses beans and the sample sheets with ranges ) How many beans have been assigned to each yield interval (expressed in Kg/acre)?
A17: Soyabean
B18: 150 or less | C18: 150-300 | D18: 300-450 | E18: 450-600 | F18: 600-750 | G18: 750-900 | H18: 900 or more
A19: Sunflower
B20: 300 or less | C20: 300-450 | D20: 450-600 | E20: 600-750 | F20: 750-900 | G20: 900-1050 | H20: 1050 or more
A21: Sesame
B22: 150 or less | C22: 150-300 | D22: 300-450 | E22: 450-600 | F22: 600-750 | G22: 750-900 | H22: 900 or more
A23: Groundnuts
B24: 200 or less | C24: 200-350 | D24: 350-500 | E24: 500-650 | F24: 650-800 | G24: 800-950 | H24: 950 or more
A26: =A16+1 -> 106 | B26: CROP YIELD- Minor Season
A27: Soyabean
B28: 500 or less | C28: 500-600 | D28: 600-700 | E28: 700-800 | F28: 800-900 | G28: 900-1000 | H28: 1000 or more
A29: Sunflower
B30: 800 or less | C30: 800-900 | D30: 900-1000 | E30: 1000-1100 | F30: 1100-1200 | G30: 1200-1300 | H30: 1300 or more
A31: Sesame
B32: 400 or less | C32: 400-500 | D32: 500-600 | E32: 600-700 | F32: 700-800 | G32: 800-900 | H32: 900 or more
A33: Groundnuts
B34: 500 or less | C34: 500-600 | D34: 600-700 | E34: 700-800 | F34: 800-900 | G34: 900-1000 | H34: 1000 or more

Sheet expectations_price
G1: PAGE | H1: 15
B2: Section A: PRICE EXPECTATIONS
B3: Instructions for the interviewer: same as above.
C4: 105 | E4: =C4+1 -> 106
C5: Condider a typical farmer growing [CROP]. How much do you think the end-of-season price (Ush/Kg) of [CROP] can be? | E5: Condider the hyphotetical situation where you grow [CROP]. Look ahead after the harvest, How much do you think the AVERAGE price (Ush/Kg) of [CROP] will be at the end of each season?
C8: Major season | D8: Minor season | E8: Major season | G8: Minor season
B9: Soyabean
B10: Sunflower
B11: Sesame
B12: Groundnuts
B14: CROP PRICE- MAJOR SEASON
A15: =E4+1 -> 107 | B15: (interviewer uses beans and the sample sheets with ranges ) How many beans have been assigned to each price interval?
A16: Soyabean
B17: 1600-1700 Ush/kg | C17: 1700-1800 Ush/kg | D17: 1800-1900 Ush/kg | E17: 1900-2000 Ush/kg | F17: 2000-2100Ush/kg | G17: 2200-2300 Ush/kg | H17: 2300-2400 Ush/kg
A18: Sunflower
B19: 600-700 Ush/kg | C19: 700-800 Ush/kg | D19: 800-900 Ush/kg | E19: 900-1000 Ush/kg | F19: 1000-1100Ush/kg | G19: 1100-1200 Ush/kg | H19: 1200-1300 Ush/kg
A20: Sesame
B21: 3000-3200 Ush/kg | C21: 3200-3400 Ush/kg | D21: 3400-3600 Ush/kg | E21: 3600-3800 Ush/kg | F21: 3800-4000Ush/kg | G21: 4200-4400 Ush/kg | H21: 4400-4600 Ush/kg
A22: Groundnuts
B23: 3400-3600 Ush/kg | C23: 3600-3800 Ush/kg | D23: 3800-4000Ush/kg | E23: 4200-4400 Ush/kg | F23: 4400-4600 Ush/kg | G23: 400-4800 Ush/kg | H23: 4800-5000 Ush/kg
A25: =A15+1 -> 108 | B25: CROP PRICE- MINOR SEASON
A26: Soyabean
B27: 1600-1700 Ush/kg | C27: 1700-1800 Ush/kg | D27: 1800-1900 Ush/kg | E27: 1900-2000 Ush/kg | F27: 2000-2100Ush/kg | G27: 2200-2300 Ush/kg | H27: 2300-2400 Ush/kg
A28: Sunflower
B29: 600-700 Ush/kg | C29: 700-800 Ush/kg | D29: 800-900 Ush/kg | E29: 900-1000 Ush/kg | F29: 1000-1100Ush/kg | G29: 1100-1200 Ush/kg | H29: 1200-1300 Ush/kg
A30: Sesame
B31: 3000-3200 Ush/kg | C31: 3200-3400 Ush/kg | D31: 3400-3600 Ush/kg | E31: 3600-3800 Ush/kg | F31: 3800-4000Ush/kg | G31: 4200-4400 Ush/kg | H31: 4400-4600 Ush/kg
A32: Groundnuts
B33: 3400-3600 Ush/kg | C33: 3600-3800 Ush/kg | D33: 3800-4000Ush/kg | E33: 4200-4400 Ush/kg | F33: 4400-4600 Ush/kg | G33: 400-4800 Ush/kg | H33: 4800-5000 Ush/kg

Sheet HH_level_2
K1: PAGE | L1: 16
A2: MODULE X: HOUSEHOLD CONTROLS
A3: The interviewer say: Now I would like to ask you some information about you and your whole family.
A5: SECTION A: VSLA MEMBERSHIP
A7: 106 | B7: Do you participate in a Village Saving and Loan Association (VSLA) through your farmer group?
A8: Yes | E8: 1
A9: No | E9: 2
A12: SECTION B: HOUSEHOLD SHOCKS
A14: =A7+1 -> 107 | B14: In the last year, have your family suffered any of the following events? | I14: =+A14+1 -> 108 | J14: How did your family face the economic costs of this event?
F16: 1=Yes | I16: Insert code from the list below
F17: 2=No
A18: 1 | B18: Death of a member of the family (specify which member) ______________ | I18: →
A20: 2 | B20: Illness of one (or more) household member | I20: →
A21: 3 | B21: Harvest loss | I21: →
A22: 4 | B22: Loss of family business | I22: →
A23: 5 | B23: Fire | I23: →
A24: 6 | B24: Flood | I24: →
A25: 7 | B25: Drought | I25: →
A26: 8 | B26: Displacement | I26: →
A27: 9 | B27: Violence (specify) _______________________ | I27: →
H28: Reduce consumption expenditure | L28: 1
H29: Reduce/draw on savings | L29: 2
H30: Sell property/assets | L30: 3
H31: Receive help from relatives | L31: 4
H32: Receive help from friends/ community members | L32: 5
H33: Send a family member to work abroad | L33: 6
H34: Borrowing | L34: 7

Sheet House
L1: PAGE | M1: 17
B2: SECTION C: HOUSE CHARACTERISTICS AND ASSETS
B4: =HH_level_2!I14+1 -> 109 | C4: What type of house do you live in? (walls) | H4: =+B4+1 -> 110 | I4: What is the main material of your house's roof?
B5: (Circle one answer) | H5: (Circle one answer)
B6: Mud house | E6: 1 | H6: Thatch, straw | L6: 1
B7: Brick house | E7: 2 | H7: Mud | L7: 2
B8: Thatch, straw house | E8: 3 | H8: Wood, planks | L8: 3
B9: Concrete house | E9: 4 | H9: Iron sheets | L9: 4
B10: Other | E10: 5 | H10: Concrete/ cement | L10: 5
B11: NS/NR | E11: 99 | H11: Other (specify____________________) | L11: 6
H12: NS/NR | L12: 99
B14: =+H4+1 -> 111 | C14: Where do you collect the water you use for cooking from? | H14: =B14+1 -> 112 | I14: Does your dwelling have the following services:
B15: (Circle one answer) | H15: YES = 1 | L15: Code
B16: Public Tap | E16: 1 | H16: NO = 2
B17: Water Truck | E17: 2 | H17: Electricity inside
B18: Spring or well | E18: 3 | H18: Running water inside the dwelling
B19: River,Lake, Pond or similar | E19: 4 | H19: WC inside the house
B20: Rainfall water | E20: 5 | H20: WC outside, with piping
B21: Other | E21: 6 | H21: Outside pit latrine
B23: =+H14+1 -> 113 | C23: How many of the following animals/ livestock do you own any ? | H23: =B23+1 -> 114 | I23: How many of the following items your family own??
B24: Goats | H24: Fridge
B25: Sheep | H25: Sewing Machine
B26: Duck/ Turkeys | H26: TV
B27: Chicken | H27: Mobile Phone
B28: Donkeys | H28: Radio
B29: Pigs | H29: Water Pot
B30: Cattle and pack animals | H30: Wooden or metal bed
H31: Mattresses
H32: Bicycle
H33: Motorcycle
H34: Batteries
